{"text_format":"3","workbook":"xlsx","n_sheets":13,"sheets":["leame","VER datos de entrada","datos de entrada","GRAFIC VTAS","ventas","inver y financ","inversion af","cost var","cost fijos","TEXTOS IMP","VISUAL","textos","ayuda"],"not_rendered":{"charts":23,"images":7,"macros":1,"defined_names":20,"comments":2},"read":"whole","date_system":"1900"}

{"sheet":"leame","index":0,"n_rows":420,"n_cols":15,"rows_kept":420}
["Haz click aquí antes de iniciar"]
[]
[]
[null,""]
[]
[null,"","",""]
[null,"2",1]
[]
[]
[" "]
[]
[]
[]
["chorizo con arepa"]
["gaseosa"]
[""]
[""]
[""]
[""]
[""]
[""]
[""]
[""]
[""]
[""]
[]
[]
[]
[]
[]
["",{"v":0,"d":"0%"}]
["",{"v":0,"d":"0%"}]
["",{"v":0,"d":"0%"}]
["",{"v":0,"d":"0%"}]
["",{"v":0,"d":"0%"}]
["",{"v":0,"d":"0%"}]
["",{"v":0,"d":"0%"}]
["",{"v":0,"d":"0%"}]
["",{"v":0,"d":"0%"}]
["",{"v":0,"d":"0%"}]
["",{"v":0,"d":"0%"}]
["",{"v":0,"d":"0%"}]
{"$rows_empty":21}
[""]
[""]
[""]
[""]
[""]
[""]
[""]
[""]
[""]
[""]
[""]
[""]
[]
[null,"FEB"]
[null,2008]
[]
[]
[""]
[""]
[""]
[""]
[""]
[""]
[""]
[""]
[""]
[""]
[""]
[""]
{"$rows_empty":218}
[{"$nulls":10},{"v":0,"d":"0%"}]
[{"$nulls":10},{"v":0,"d":"0%"}]
[{"$nulls":10},{"v":0,"d":"0%"}]
[{"$nulls":10},{"v":0,"d":"0%"}]
[{"$nulls":10},{"v":0,"d":"0%"}]
[{"$nulls":10},{"v":0,"d":"0%"}]
[{"$nulls":10},{"v":0,"d":"0%"}]
[{"$nulls":10},{"v":0,"d":"0%"}]
[{"$nulls":10},{"v":0,"d":"0%"}]
[{"$nulls":10},{"v":0,"d":"0%"}]
[{"$nulls":10},{"v":0,"d":"0%"}]
[{"$nulls":10},{"v":0,"d":"0%"}]
{"$rows_empty":45}
["GERENTE",{"$nulls":13},5000000]
["secretaria"]
{"$rows_empty":38}
[4,null,10]
[]
[]
[]
[{"$nulls":4},0.5]
[]
[{"$nulls":4},1]
[]
[{"$nulls":4},0.5]
[]
[]
[]
[{"$nulls":4},1]

{"sheet":"VER datos de entrada","index":1,"n_rows":500,"n_cols":45,"rows_kept":500,"hidden":true,"merged":[[0,1,0,8],[1,3,1,4],[6,1,6,3],[10,0,13,0],[10,1,13,1],[10,2,11,7],[12,2,13,2],[12,3,13,3],[12,4,13,4],[12,5,13,5],[12,6,13,6],[12,7,13,7],[27,0,28,1],[29,0,30,0],[29,1,30,1],[44,0,45,0],[44,1,45,1],[61,0,62,3],[77,0,79,0],[95,0,95,2],[95,5,96,6],[97,0,98,0],[97,1,98,1],[97,2,98,2],[115,0,116,0],[115,1,116,1],[136,4,136,5],[191,0,192,0],[191,1,191,5],[191,6,192,6],[191,7,192,7],[191,8,192,8],[193,0,195,0],[247,7,248,7],[247,15,248,15],[257,7,258,7],[257,15,258,15],[268,7,269,7],[268,15,269,15],[278,7,279,7],[278,15,279,15],[288,7,289,7],[288,15,289,15],[298,7,299,7],[298,15,299,15],[309,1,309,9],[309,10,310,10],[335,2,336,2],[335,3,336,3],[335,4,336,4],[335,5,336,5],[335,6,336,6],[335,7,336,7],[335,8,336,8],[335,9,336,9],[335,10,336,10],[335,11,336,11],[335,12,336,12],[335,13,336,13],[335,14,336,14],[335,15,336,15],[335,16,336,16],[335,17,336,17],[335,18,336,18],[335,19,336,19],[335,20,336,20],[335,21,336,21],[335,22,336,22],[335,23,336,23],[335,24,336,24],[335,25,336,25],[335,26,336,26],[335,27,336,27],[335,28,336,28],[335,29,336,29],[335,30,336,30],[335,31,336,31],[335,32,336,32],[335,33,336,33],[335,34,336,34],[335,35,336,35],[335,36,336,36],[335,37,336,37],[350,2,350,4],[350,7,350,9],[366,2,367,2],[366,3,367,3],[366,4,367,4],[366,5,367,5],[366,6,367,6],[366,7,367,7],[366,8,367,8],[366,9,367,9],[366,10,367,10],[366,11,367,11],[366,12,367,12],[366,13,367,13],[366,14,367,14],[366,15,367,15],[366,16,367,16],[366,17,367,17],[366,18,367,18],[408,6,408,7]]}
[null,"VERIFICACION DE DATOS INTRODUCIDOS (NO MODIFICABLE)"]
["DATOS DE ENTRADA"]
[]
["PROYECTO",{"$f":"+'datos de entrada'!B4","v":{"v":0,"d":"0 "}}]
["SOCIOS:",{"$f":"+'datos de entrada'!B5","v":" /  / "}]
[]
["ACTIVIDAD ECONOMICA",{"$f":"+'datos de entrada'!A6","v":""}]
["PLAN DE MERCADEO",{"$f":"+'datos de entrada'!B7","v":{"v":0,"d":"0 "}},3]
["PRECIOS DE VENTA Y CONDICIONES COMERCIALES"]
[]
["PRODUCTOS","PRECIO DE VENTA"," % DE DIAS DE COBRO ",{"$nulls":6},"PRECIO DE "]
[{"$nulls":9},"VENTA"]
[null,null,"CONTADO"," 30 DÍAS"," 60 DÍAS"," 90 DÍAS"," 120 DÍAS"," 150 DÍAS",null,"AJUSTADO"]
[]
[{"$f":"+'datos de entrada'!A14","v":{"v":0,"d":"0 "}},{"$f":"+'datos de entrada'!B14","v":0},{"$f":"+'datos de entrada'!C14","v":{"v":0,"d":"0.00%"}},{"$f":"+'datos de entrada'!D14","v":{"v":0,"d":"0.00%"}},{"$f":"+'datos de entrada'!E14","v":{"v":0,"d":"0.00%"}},{"$f":"+'datos de entrada'!F14","v":{"v":0,"d":"0.00%"}},{"$f":"+'datos de entrada'!G14","v":{"v":0,"d":"0.00%"}},{"$f":"+'datos de entrada'!H14","v":{"v":0,"d":"0.00%"}},{"$f":"SUM(C15:H15)","v":{"v":0,"d":"0.00%"}},{"$f":"+B15","v":{"v":0,"d":"0 "}}]
[{"$f":"+'datos de entrada'!A15","v":{"v":0,"d":"0 "}},{"$f":"+'datos de entrada'!B15","v":0},{"$f":"+'datos de entrada'!C15","v":{"v":0,"d":"0.00%"}},{"$f":"+'datos de entrada'!D15","v":{"v":0,"d":"0.00%"}},{"$f":"+'datos de entrada'!E15","v":{"v":0,"d":"0.00%"}},{"$f":"+'datos de entrada'!F15","v":{"v":0,"d":"0.00%"}},{"$f":"+'datos de entrada'!G15","v":{"v":0,"d":"0.00%"}},{"$f":"+'datos de entrada'!H15","v":{"v":0,"d":"0.00%"}},{"v":0,"d":"0.00%"},{"v":0,"d":"0 "}]
[{"$f":"+'datos de entrada'!A16","v":{"v":0,"d":"0 "}},{"$f":"+'datos de entrada'!B16","v":0},{"$f":"+'datos de entrada'!C16","v":{"v":0,"d":"0.00%"}},{"$f":"+'datos de entrada'!D16","v":{"v":0,"d":"0.00%"}},{"$f":"+'datos de entrada'!E16","v":{"v":0,"d":"0.00%"}},{"$f":"+'datos de entrada'!F16","v":{"v":0,"d":"0.00%"}},{"$f":"+'datos de entrada'!G16","v":{"v":0,"d":"0.00%"}},{"$f":"+'datos de entrada'!H16","v":{"v":0,"d":"0.00%"}},{"v":0,"d":"0.00%"},{"v":0,"d":"0 "}]
[{"$f":"+'datos de entrada'!A17","v":{"v":0,"d":"0 "}},{"$f":"+'datos de entrada'!B17","v":0},{"$f":"+'datos de entrada'!C17","v":{"v":0,"d":"0.00%"}},{"$f":"+'datos de entrada'!D17","v":{"v":0,"d":"0.00%"}},{"$f":"+'datos de entrada'!E17","v":{"v":0,"d":"0.00%"}},{"$f":"+'datos de entrada'!F17","v":{"v":0,"d":"0.00%"}},{"$f":"+'datos de entrada'!G17","v":{"v":0,"d":"0.00%"}},{"$f":"+'datos de entrada'!H17","v":{"v":0,"d":"0.00%"}},{"v":0,"d":"0.00%"},{"v":0,"d":"0 "}]
[{"$f":"+'datos de entrada'!A18","v":{"v":0,"d":"0 "}},{"$f":"+'datos de entrada'!B18","v":0},{"$f":"+'datos de entrada'!C18","v":{"v":0,"d":"0.00%"}},{"$f":"+'datos de entrada'!D18","v":{"v":0,"d":"0.00%"}},{"$f":"+'datos de entrada'!E18","v":{"v":0,"d":"0.00%"}},{"$f":"+'datos de entrada'!F18","v":{"v":0,"d":"0.00%"}},{"$f":"+'datos de entrada'!G18","v":{"v":0,"d":"0.00%"}},{"$f":"+'datos de entrada'!H18","v":{"v":0,"d":"0.00%"}},{"v":0,"d":"0.00%"},{"v":0,"d":"0 "}]
[{"$f":"+'datos de entrada'!A19","v":{"v":0,"d":"0 "}},{"$f":"+'datos de entrada'!B19","v":0},{"$f":"+'datos de entrada'!C19","v":{"v":0,"d":"0.00%"}},{"$f":"+'datos de entrada'!D19","v":{"v":0,"d":"0.00%"}},{"$f":"+'datos de entrada'!E19","v":{"v":0,"d":"0.00%"}},{"$f":"+'datos de entrada'!F19","v":{"v":0,"d":"0.00%"}},{"$f":"+'datos de entrada'!G19","v":{"v":0,"d":"0.00%"}},{"$f":"+'datos de entrada'!H19","v":{"v":0,"d":"0.00%"}},{"v":0,"d":"0.00%"},{"v":0,"d":"0 "}]
[{"$f":"+'datos de entrada'!A20","v":{"v":0,"d":"0 "}},{"$f":"+'datos de entrada'!B20","v":0},{"$f":"+'datos de entrada'!C20","v":{"v":0,"d":"0.00%"}},{"$f":"+'datos de entrada'!D20","v":{"v":0,"d":"0.00%"}},{"$f":"+'datos de entrada'!E20","v":{"v":0,"d":"0.00%"}},{"$f":"+'datos de entrada'!F20","v":{"v":0,"d":"0.00%"}},{"$f":"+'datos de entrada'!G20","v":{"v":0,"d":"0.00%"}},{"$f":"+'datos de entrada'!H20","v":{"v":0,"d":"0.00%"}},{"v":0,"d":"0.00%"},{"v":0,"d":"0 "}]
[{"$f":"+'datos de entrada'!A21","v":{"v":0,"d":"0 "}},{"$f":"+'datos de entrada'!B21","v":0},{"$f":"+'datos de entrada'!C21","v":{"v":0,"d":"0.00%"}},{"$f":"+'datos de entrada'!D21","v":{"v":0,"d":"0.00%"}},{"$f":"+'datos de entrada'!E21","v":{"v":0,"d":"0.00%"}},{"$f":"+'datos de entrada'!F21","v":{"v":0,"d":"0.00%"}},{"$f":"+'datos de entrada'!G21","v":{"v":0,"d":"0.00%"}},{"$f":"+'datos de entrada'!H21","v":{"v":0,"d":"0.00%"}},{"v":0,"d":"0.00%"},{"v":0,"d":"0 "}]
[{"$f":"+'datos de entrada'!A22","v":{"v":0,"d":"0 "}},{"$f":"+'datos de entrada'!B22","v":0},{"$f":"+'datos de entrada'!C22","v":{"v":0,"d":"0.00%"}},{"$f":"+'datos de entrada'!D22","v":{"v":0,"d":"0.00%"}},{"$f":"+'datos de entrada'!E22","v":{"v":0,"d":"0.00%"}},{"$f":"+'datos de entrada'!F22","v":{"v":0,"d":"0.00%"}},{"$f":"+'datos de entrada'!G22","v":{"v":0,"d":"0.00%"}},{"$f":"+'datos de entrada'!H22","v":{"v":0,"d":"0.00%"}},{"v":0,"d":"0.00%"},{"v":0,"d":"0 "}]
[{"$f":"+'datos de entrada'!A23","v":{"v":0,"d":"0 "}},{"$f":"+'datos de entrada'!B23","v":0},{"$f":"+'datos de entrada'!C23","v":{"v":0,"d":"0.00%"}},{"$f":"+'datos de entrada'!D23","v":{"v":0,"d":"0.00%"}},{"$f":"+'datos de entrada'!E23","v":{"v":0,"d":"0.00%"}},{"$f":"+'datos de entrada'!F23","v":{"v":0,"d":"0.00%"}},{"$f":"+'datos de entrada'!G23","v":{"v":0,"d":"0.00%"}},{"$f":"+'datos de entrada'!H23","v":{"v":0,"d":"0.00%"}},{"v":0,"d":"0.00%"},{"v":0,"d":"0 "}]
[{"$f":"+'datos de entrada'!A24","v":{"v":0,"d":"0 "}},{"$f":"+'datos de entrada'!B24","v":0},{"$f":"+'datos de entrada'!C24","v":{"v":0,"d":"0.00%"}},{"$f":"+'datos de entrada'!D24","v":{"v":0,"d":"0.00%"}},{"$f":"+'datos de entrada'!E24","v":{"v":0,"d":"0.00%"}},{"$f":"+'datos de entrada'!F24","v":{"v":0,"d":"0.00%"}},{"$f":"+'datos de entrada'!G24","v":{"v":0,"d":"0.00%"}},{"$f":"+'datos de entrada'!H24","v":{"v":0,"d":"0.00%"}},{"v":0,"d":"0.00%"},{"v":0,"d":"0 "}]
[{"$f":"+'datos de entrada'!A25","v":{"v":0,"d":"0 "}},{"$f":"+'datos de entrada'!B25","v":0},{"$f":"+'datos de entrada'!C25","v":{"v":0,"d":"0.00%"}},{"$f":"+'datos de entrada'!D25","v":{"v":0,"d":"0.00%"}},{"$f":"+'datos de entrada'!E25","v":{"v":0,"d":"0.00%"}},{"$f":"+'datos de entrada'!F25","v":{"v":0,"d":"0.00%"}},{"$f":"+'datos de entrada'!G25","v":{"v":0,"d":"0.00%"}},{"$f":"+'datos de entrada'!H25","v":{"v":0,"d":"0.00%"}},{"v":0,"d":"0.00%"},{"v":0,"d":"0 "}]
[]
["GASTOS DE DISTRIBUCION, COMISIONES POR VENTA Y GASTOS DE COMUNICACIÓN. "]
[]
["PRODUCTOS","COMISIONES POR VENTA "]
[]
[{"$f":"+'datos de entrada'!A31","v":{"v":0,"d":"0 "}},{"$f":"+'datos de entrada'!B31","v":{"v":0,"d":"0.00%"}}]
[{"$f":"+'datos de entrada'!A32","v":{"v":0,"d":"0 "}},{"$f":"+'datos de entrada'!B32","v":{"v":0,"d":"0.00%"}}]
[{"$f":"+'datos de entrada'!A33","v":{"v":0,"d":"0 "}},{"$f":"+'datos de entrada'!B33","v":{"v":0,"d":"0.00%"}}]
[{"$f":"+'datos de entrada'!A34","v":{"v":0,"d":"0 "}},{"$f":"+'datos de entrada'!B34","v":{"v":0,"d":"0.00%"}}]
[{"$f":"+'datos de entrada'!A35","v":{"v":0,"d":"0 "}},{"$f":"+'datos de entrada'!B35","v":{"v":0,"d":"0.00%"}}]
[{"$f":"+'datos de entrada'!A36","v":{"v":0,"d":"0 "}},{"$f":"+'datos de entrada'!B36","v":{"v":0,"d":"0.00%"}}]
[{"$f":"+'datos de entrada'!A37","v":{"v":0,"d":"0 "}},{"$f":"+'datos de entrada'!B37","v":{"v":0,"d":"0.00%"}}]
[{"$f":"+'datos de entrada'!A38","v":{"v":0,"d":"0 "}},{"$f":"+'datos de entrada'!B38","v":{"v":0,"d":"0.00%"}}]
[{"$f":"+'datos de entrada'!A39","v":{"v":0,"d":"0 "}},{"$f":"+'datos de entrada'!B39","v":{"v":0,"d":"0.00%"}}]
[{"$f":"+'datos de entrada'!A40","v":{"v":0,"d":"0 "}},{"$f":"+'datos de entrada'!B40","v":{"v":0,"d":"0.00%"}}]
[{"$f":"+'datos de entrada'!A41","v":{"v":0,"d":"0 "}},{"$f":"+'datos de entrada'!B41","v":{"v":0,"d":"0.00%"}}]
[{"$f":"+'datos de entrada'!A42","v":{"v":0,"d":"0 "}},{"$f":"+'datos de entrada'!B42","v":{"v":0,"d":"0.00%"}}]
[]
["MEDIOS DE COMUNICACIÓN ","PRESUPUESTO ANUAL "]
[]
[{"$f":"+'datos de entrada'!A46","v":{"v":0,"d":"0 "}},{"$f":"+'datos de entrada'!B46","v":0}]
[{"$f":"+'datos de entrada'!A47","v":{"v":0,"d":"0 "}},{"$f":"+'datos de entrada'!B47","v":0}]
[{"$f":"+'datos de entrada'!A48","v":{"v":0,"d":"0 "}},{"$f":"+'datos de entrada'!B48","v":0}]
[{"$f":"+'datos de entrada'!A49","v":{"v":0,"d":"0 "}},{"$f":"+'datos de entrada'!B49","v":0}]
[{"$f":"+'datos de entrada'!A50","v":{"v":0,"d":"0 "}},{"$f":"+'datos de entrada'!B50","v":0}]
[{"$f":"+'datos de entrada'!A51","v":{"v":0,"d":"0 "}},{"$f":"+'datos de entrada'!B51","v":0}]
[{"$f":"+'datos de entrada'!A52","v":{"v":0,"d":"0 "}},{"$f":"+'datos de entrada'!B52","v":0}]
[{"$f":"+'datos de entrada'!A53","v":{"v":0,"d":"0 "}},{"$f":"+'datos de entrada'!B53","v":0}]
[{"$f":"+'datos de entrada'!A54","v":{"v":0,"d":"0 "}},{"$f":"+'datos de entrada'!B54","v":0}]
[{"$f":"+'datos de entrada'!A55","v":{"v":0,"d":"0 "}},{"$f":"+'datos de entrada'!B55","v":0}]
[{"$f":"+'datos de entrada'!A56","v":{"v":0,"d":"0 "}},{"$f":"+'datos de entrada'!B56","v":0}]
[{"$f":"+'datos de entrada'!A57","v":{"v":0,"d":"0 "}},{"$f":"+'datos de entrada'!B57","v":0}]
[]
["PORCENTAJE DE LOS INGRESOS DESTINADOS PARA COMUNICACIÓN "]
[]
["PROYECCIONES DE VENTA"]
[]
["PRODUCTO ","AÑO 1","AÑO 2","AÑO 3"]
[{"$f":"+'datos de entrada'!A64","v":{"v":0,"d":"0 "}},{"$f":"+'datos de entrada'!B64","v":0},{"$f":"+'datos de entrada'!C64","v":0},{"$f":"+'datos de entrada'!D64","v":0}]
[{"$f":"+'datos de entrada'!A65","v":{"v":0,"d":"0 "}},{"$f":"+'datos de entrada'!B65","v":0},{"$f":"+'datos de entrada'!C65","v":0},{"$f":"+'datos de entrada'!D65","v":0}]
[{"$f":"+'datos de entrada'!A66","v":{"v":0,"d":"0 "}},{"$f":"+'datos de entrada'!B66","v":0},{"$f":"+'datos de entrada'!C66","v":0},{"$f":"+'datos de entrada'!D66","v":0}]
[{"$f":"+'datos de entrada'!A67","v":{"v":0,"d":"0 "}},{"$f":"+'datos de entrada'!B67","v":0},{"$f":"+'datos de entrada'!C67","v":0},{"$f":"+'datos de entrada'!D67","v":0}]
[{"$f":"+'datos de entrada'!A68","v":{"v":0,"d":"0 "}},{"$f":"+'datos de entrada'!B68","v":0},{"$f":"+'datos de entrada'!C68","v":0},{"$f":"+'datos de entrada'!D68","v":0}]
[{"$f":"+'datos de entrada'!A69","v":{"v":0,"d":"0 "}},{"$f":"+'datos de entrada'!B69","v":0},{"$f":"+'datos de entrada'!C69","v":0},{"$f":"+'datos de entrada'!D69","v":0}]
[{"$f":"+'datos de entrada'!A70","v":{"v":0,"d":"0 "}},{"$f":"+'datos de entrada'!B70","v":0},{"$f":"+'datos de entrada'!C70","v":0},{"$f":"+'datos de entrada'!D70","v":0}]
[{"$f":"+'datos de entrada'!A71","v":{"v":0,"d":"0 "}},{"$f":"+'datos de entrada'!B71","v":0},{"$f":"+'datos de entrada'!C71","v":0},{"$f":"+'datos de entrada'!D71","v":0}]
[{"$f":"+'datos de entrada'!A72","v":{"v":0,"d":"0 "}},{"$f":"+'datos de entrada'!B72","v":0},{"$f":"+'datos de entrada'!C72","v":0},{"$f":"+'datos de entrada'!D72","v":0}]
[{"$f":"+'datos de entrada'!A73","v":{"v":0,"d":"0 "}},{"$f":"+'datos de entrada'!B73","v":0},{"$f":"+'datos de entrada'!C73","v":0},{"$f":"+'datos de entrada'!D73","v":0}]
[{"$f":"+'datos de entrada'!A74","v":{"v":0,"d":"0 "}},{"$f":"+'datos de entrada'!B74","v":0},{"$f":"+'datos de entrada'!C74","v":0},{"$f":"+'datos de entrada'!D74","v":0}]
[{"$f":"+'datos de entrada'!A75","v":{"v":0,"d":"0 "}},{"$f":"+'datos de entrada'!B75","v":{"v":0,"d":"0 "}},{"$f":"+'datos de entrada'!C75","v":{"v":0,"d":"0 "}},{"$f":"+'datos de entrada'!D75","v":{"v":0,"d":"0 "}}]
[]
["VENTAS EN UNIDADES",{"$f":"+'datos de entrada'!B77","v":{"v":0,"d":"0 "}}]
[null,{"$f":"+'datos de entrada'!B78","v":{"v":0,"d":"0 "}}]
[null,{"$f":"+'datos de entrada'!B79","v":{"$error":"#N/A"}},{"$f":"+'datos de entrada'!C79","v":{"$error":"#N/A"}},{"$f":"+'datos de entrada'!D79","v":{"$error":"#N/A"}},{"$f":"+'datos de entrada'!E79","v":{"$error":"#N/A"}},{"$f":"+'datos de entrada'!F79","v":{"$error":"#N/A"}},{"$f":"+'datos de entrada'!G79","v":{"$error":"#N/A"}},{"$f":"+'datos de entrada'!H79","v":{"$error":"#N/A"}},{"$f":"+'datos de entrada'!I79","v":{"$error":"#N/A"}},{"$f":"+'datos de entrada'!J79","v":{"$error":"#N/A"}},{"$f":"+'datos de entrada'!K79","v":{"$error":"#N/A"}},{"$f":"+'datos de entrada'!L79","v":{"$error":"#N/A"}},{"$f":"+'datos de entrada'!M79","v":{"$error":"#N/A"}},{"$f":"+M80+31","v":{"$error":"#N/A"}},{"$f":"+N80+31","v":{"$error":"#N/A"}},{"$error":"#N/A"},{"$error":"#N/A"},{"$error":"#N/A"},{"$error":"#N/A"},{"$error":"#N/A"},{"$error":"#N/A"},{"$error":"#N/A"},{"$error":"#N/A"},{"$error":"#N/A"},{"$error":"#N/A"},{"$error":"#N/A"},{"$error":"#N/A"},{"$error":"#N/A"},{"$error":"#N/A"},{"$error":"#N/A"},{"$error":"#N/A"},{"$error":"#N/A"},{"$error":"#N/A"},{"$error":"#N/A"},{"$error":"#N/A"},{"$error":"#N/A"},{"$error":"#N/A"}]
[{"v":200,"d":"200 "},{"v":1,"d":"1 "},{"v":2,"d":"2 "},{"v":3,"d":"3 "},{"v":4,"d":"4 "},{"v":5,"d":"5 "},{"v":6,"d":"6 "},{"v":7,"d":"7 "},{"v":8,"d":"8 "},{"v":9,"d":"9 "},{"v":10,"d":"10 "},{"v":11,"d":"11 "},{"v":12,"d":"12 "},{"v":13,"d":"13 "},{"v":14,"d":"14 "},{"v":15,"d":"15 "},{"v":16,"d":"16 "},{"v":17,"d":"17 "},{"v":18,"d":"18 "},{"v":19,"d":"19 "},{"v":20,"d":"20 "},{"v":21,"d":"21 "},{"v":22,"d":"22 "},{"v":23,"d":"23 "},{"v":24,"d":"24 "},{"v":25,"d":"25 "},{"v":26,"d":"26 "},{"v":27,"d":"27 "},{"v":28,"d":"28 "},{"v":29,"d":"29 "},{"v":30,"d":"30 "},{"v":31,"d":"31 "},{"v":32,"d":"32 "},{"v":33,"d":"33 "},{"v":34,"d":"34 "},{"v":35,"d":"35 "},{"v":36,"d":"36 "}]
[{"$f":"+'datos de entrada'!A81","v":{"v":0,"d":"0 "}},{"$f":"+'datos de entrada'!B81","v":0},{"$f":"+'datos de entrada'!C81","v":0},{"$f":"+'datos de entrada'!D81","v":0},{"$f":"+'datos de entrada'!E81","v":0},{"$f":"+'datos de entrada'!F81","v":0},{"$f":"+'datos de entrada'!G81","v":0},{"$f":"+'datos de entrada'!H81","v":0},{"$f":"+'datos de entrada'!I81","v":0},{"$f":"+'datos de entrada'!J81","v":0},{"$f":"+'datos de entrada'!K81","v":0},{"$f":"+'datos de entrada'!L81","v":0},{"$f":"+'datos de entrada'!M81","v":0},{"$f":"+'GRAFIC VTAS'!N1","v":0},{"$f":"+'GRAFIC VTAS'!O1","v":0},{"$f":"+'GRAFIC VTAS'!P1","v":0},{"$f":"+'GRAFIC VTAS'!Q1","v":0},{"$f":"+'GRAFIC VTAS'!R1","v":0},{"$f":"+'GRAFIC VTAS'!S1","v":0},{"$f":"+'GRAFIC VTAS'!T1","v":0},{"$f":"+'GRAFIC VTAS'!U1","v":0},{"$f":"+'GRAFIC VTAS'!V1","v":0},{"$f":"+'GRAFIC VTAS'!W1","v":0},{"$f":"+'GRAFIC VTAS'!X1","v":0},{"$f":"+'GRAFIC VTAS'!Y1","v":0},{"$f":"+'GRAFIC VTAS'!Z1","v":0},{"$f":"+'GRAFIC VTAS'!AA1","v":0},{"$f":"+'GRAFIC VTAS'!AB1","v":0},{"$f":"+'GRAFIC VTAS'!AC1","v":0},{"$f":"+'GRAFIC VTAS'!AD1","v":0},{"$f":"+'GRAFIC VTAS'!AE1","v":0},{"$f":"+'GRAFIC VTAS'!AF1","v":0},{"$f":"+'GRAFIC VTAS'!AG1","v":0},{"$f":"+'GRAFIC VTAS'!AH1","v":0},{"$f":"+'GRAFIC VTAS'!AI1","v":0},{"$f":"+'GRAFIC VTAS'!AJ1","v":0},{"$f":"+'GRAFIC VTAS'!AK1","v":0}]
[{"$f":"+'datos de entrada'!A82","v":{"v":0,"d":"0 "}},{"$f":"+'datos de entrada'!B82","v":0},{"$f":"+'datos de entrada'!C82","v":0},{"$f":"+'datos de entrada'!D82","v":0},{"$f":"+'datos de entrada'!E82","v":0},{"$f":"+'datos de entrada'!F82","v":0},{"$f":"+'datos de entrada'!G82","v":0},{"$f":"+'datos de entrada'!H82","v":0},{"$f":"+'datos de entrada'!I82","v":0},{"$f":"+'datos de entrada'!J82","v":0},{"$f":"+'datos de entrada'!K82","v":0},{"$f":"+'datos de entrada'!L82","v":0},{"$f":"+'datos de entrada'!M82","v":0},{"$f":"+'GRAFIC VTAS'!N2","v":0},{"$f":"+'GRAFIC VTAS'!O2","v":0},{"$f":"+'GRAFIC VTAS'!P2","v":0},{"$f":"+'GRAFIC VTAS'!Q2","v":0},{"$f":"+'GRAFIC VTAS'!R2","v":0},{"$f":"+'GRAFIC VTAS'!S2","v":0},{"$f":"+'GRAFIC VTAS'!T2","v":0},{"$f":"+'GRAFIC VTAS'!U2","v":0},{"$f":"+'GRAFIC VTAS'!V2","v":0},{"$f":"+'GRAFIC VTAS'!W2","v":0},{"$f":"+'GRAFIC VTAS'!X2","v":0},{"$f":"+'GRAFIC VTAS'!Y2","v":0},{"$f":"+'GRAFIC VTAS'!Z2","v":0},{"$f":"+'GRAFIC VTAS'!AA2","v":0},{"$f":"+'GRAFIC VTAS'!AB2","v":0},{"$f":"+'GRAFIC VTAS'!AC2","v":0},{"$f":"+'GRAFIC VTAS'!AD2","v":0},{"$f":"+'GRAFIC VTAS'!AE2","v":0},{"$f":"+'GRAFIC VTAS'!AF2","v":0},{"$f":"+'GRAFIC VTAS'!AG2","v":0},{"$f":"+'GRAFIC VTAS'!AH2","v":0},{"$f":"+'GRAFIC VTAS'!AI2","v":0},{"$f":"+'GRAFIC VTAS'!AJ2","v":0},{"$f":"+'GRAFIC VTAS'!AK2","v":0}]
[{"$f":"+'datos de entrada'!A83","v":{"v":0,"d":"0 "}},{"$f":"+'datos de entrada'!B83","v":0},{"$f":"+'datos de entrada'!C83","v":0},{"$f":"+'datos de entrada'!D83","v":0},{"$f":"+'datos de entrada'!E83","v":0},{"$f":"+'datos de entrada'!F83","v":0},{"$f":"+'datos de entrada'!G83","v":0},{"$f":"+'datos de entrada'!H83","v":0},{"$f":"+'datos de entrada'!I83","v":0},{"$f":"+'datos de entrada'!J83","v":0},{"$f":"+'datos de entrada'!K83","v":0},{"$f":"+'datos de entrada'!L83","v":0},{"$f":"+'datos de entrada'!M83","v":0},{"$f":"+'GRAFIC VTAS'!N3","v":0},{"$f":"+'GRAFIC VTAS'!O3","v":0},{"$f":"+'GRAFIC VTAS'!P3","v":0},{"$f":"+'GRAFIC VTAS'!Q3","v":0},{"$f":"+'GRAFIC VTAS'!R3","v":0},{"$f":"+'GRAFIC VTAS'!S3","v":0},{"$f":"+'GRAFIC VTAS'!T3","v":0},{"$f":"+'GRAFIC VTAS'!U3","v":0},{"$f":"+'GRAFIC VTAS'!V3","v":0},{"$f":"+'GRAFIC VTAS'!W3","v":0},{"$f":"+'GRAFIC VTAS'!X3","v":0},{"$f":"+'GRAFIC VTAS'!Y3","v":0},{"$f":"+'GRAFIC VTAS'!Z3","v":0},{"$f":"+'GRAFIC VTAS'!AA3","v":0},{"$f":"+'GRAFIC VTAS'!AB3","v":0},{"$f":"+'GRAFIC VTAS'!AC3","v":0},{"$f":"+'GRAFIC VTAS'!AD3","v":0},{"$f":"+'GRAFIC VTAS'!AE3","v":0},{"$f":"+'GRAFIC VTAS'!AF3","v":0},{"$f":"+'GRAFIC VTAS'!AG3","v":0},{"$f":"+'GRAFIC VTAS'!AH3","v":0},{"$f":"+'GRAFIC VTAS'!AI3","v":0},{"$f":"+'GRAFIC VTAS'!AJ3","v":0},{"$f":"+'GRAFIC VTAS'!AK3","v":0}]
[{"$f":"+'datos de entrada'!A84","v":{"v":0,"d":"0 "}},{"$f":"+'datos de entrada'!B84","v":0},{"$f":"+'datos de entrada'!C84","v":0},{"$f":"+'datos de entrada'!D84","v":0},{"$f":"+'datos de entrada'!E84","v":0},{"$f":"+'datos de entrada'!F84","v":0},{"$f":"+'datos de entrada'!G84","v":0},{"$f":"+'datos de entrada'!H84","v":0},{"$f":"+'datos de entrada'!I84","v":0},{"$f":"+'datos de entrada'!J84","v":0},{"$f":"+'datos de entrada'!K84","v":0},{"$f":"+'datos de entrada'!L84","v":0},{"$f":"+'datos de entrada'!M84","v":0},{"$f":"+'GRAFIC VTAS'!N4","v":0},{"$f":"+'GRAFIC VTAS'!O4","v":0},{"$f":"+'GRAFIC VTAS'!P4","v":0},{"$f":"+'GRAFIC VTAS'!Q4","v":0},{"$f":"+'GRAFIC VTAS'!R4","v":0},{"$f":"+'GRAFIC VTAS'!S4","v":0},{"$f":"+'GRAFIC VTAS'!T4","v":0},{"$f":"+'GRAFIC VTAS'!U4","v":0},{"$f":"+'GRAFIC VTAS'!V4","v":0},{"$f":"+'GRAFIC VTAS'!W4","v":0},{"$f":"+'GRAFIC VTAS'!X4","v":0},{"$f":"+'GRAFIC VTAS'!Y4","v":0},{"$f":"+'GRAFIC VTAS'!Z4","v":0},{"$f":"+'GRAFIC VTAS'!AA4","v":0},{"$f":"+'GRAFIC VTAS'!AB4","v":0},{"$f":"+'GRAFIC VTAS'!AC4","v":0},{"$f":"+'GRAFIC VTAS'!AD4","v":0},{"$f":"+'GRAFIC VTAS'!AE4","v":0},{"$f":"+'GRAFIC VTAS'!AF4","v":0},{"$f":"+'GRAFIC VTAS'!AG4","v":0},{"$f":"+'GRAFIC VTAS'!AH4","v":0},{"$f":"+'GRAFIC VTAS'!AI4","v":0},{"$f":"+'GRAFIC VTAS'!AJ4","v":0},{"$f":"+'GRAFIC VTAS'!AK4","v":0}]
[{"$f":"+'datos de entrada'!A85","v":{"v":0,"d":"0 "}},{"$f":"+'datos de entrada'!B85","v":0},{"$f":"+'datos de entrada'!C85","v":0},{"$f":"+'datos de entrada'!D85","v":0},{"$f":"+'datos de entrada'!E85","v":0},{"$f":"+'datos de entrada'!F85","v":0},{"$f":"+'datos de entrada'!G85","v":0},{"$f":"+'datos de entrada'!H85","v":0},{"$f":"+'datos de entrada'!I85","v":0},{"$f":"+'datos de entrada'!J85","v":0},{"$f":"+'datos de entrada'!K85","v":0},{"$f":"+'datos de entrada'!L85","v":0},{"$f":"+'datos de entrada'!M85","v":0},{"$f":"+'GRAFIC VTAS'!N5","v":0},{"$f":"+'GRAFIC VTAS'!O5","v":0},{"$f":"+'GRAFIC VTAS'!P5","v":0},{"$f":"+'GRAFIC VTAS'!Q5","v":0},{"$f":"+'GRAFIC VTAS'!R5","v":0},{"$f":"+'GRAFIC VTAS'!S5","v":0},{"$f":"+'GRAFIC VTAS'!T5","v":0},{"$f":"+'GRAFIC VTAS'!U5","v":0},{"$f":"+'GRAFIC VTAS'!V5","v":0},{"$f":"+'GRAFIC VTAS'!W5","v":0},{"$f":"+'GRAFIC VTAS'!X5","v":0},{"$f":"+'GRAFIC VTAS'!Y5","v":0},{"$f":"+'GRAFIC VTAS'!Z5","v":0},{"$f":"+'GRAFIC VTAS'!AA5","v":0},{"$f":"+'GRAFIC VTAS'!AB5","v":0},{"$f":"+'GRAFIC VTAS'!AC5","v":0},{"$f":"+'GRAFIC VTAS'!AD5","v":0},{"$f":"+'GRAFIC VTAS'!AE5","v":0},{"$f":"+'GRAFIC VTAS'!AF5","v":0},{"$f":"+'GRAFIC VTAS'!AG5","v":0},{"$f":"+'GRAFIC VTAS'!AH5","v":0},{"$f":"+'GRAFIC VTAS'!AI5","v":0},{"$f":"+'GRAFIC VTAS'!AJ5","v":0},{"$f":"+'GRAFIC VTAS'!AK5","v":0}]
[{"$f":"+'datos de entrada'!A86","v":{"v":0,"d":"0 "}},{"$f":"+'datos de entrada'!B86","v":0},{"$f":"+'datos de entrada'!C86","v":0},{"$f":"+'datos de entrada'!D86","v":0},{"$f":"+'datos de entrada'!E86","v":0},{"$f":"+'datos de entrada'!F86","v":0},{"$f":"+'datos de entrada'!G86","v":0},{"$f":"+'datos de entrada'!H86","v":0},{"$f":"+'datos de entrada'!I86","v":0},{"$f":"+'datos de entrada'!J86","v":0},{"$f":"+'datos de entrada'!K86","v":0},{"$f":"+'datos de entrada'!L86","v":0},{"$f":"+'datos de entrada'!M86","v":0},{"$f":"+'GRAFIC VTAS'!N6","v":0},{"$f":"+'GRAFIC VTAS'!O6","v":0},{"$f":"+'GRAFIC VTAS'!P6","v":0},{"$f":"+'GRAFIC VTAS'!Q6","v":0},{"$f":"+'GRAFIC VTAS'!R6","v":0},{"$f":"+'GRAFIC VTAS'!S6","v":0},{"$f":"+'GRAFIC VTAS'!T6","v":0},{"$f":"+'GRAFIC VTAS'!U6","v":0},{"$f":"+'GRAFIC VTAS'!V6","v":0},{"$f":"+'GRAFIC VTAS'!W6","v":0},{"$f":"+'GRAFIC VTAS'!X6","v":0},{"$f":"+'GRAFIC VTAS'!Y6","v":0},{"$f":"+'GRAFIC VTAS'!Z6","v":0},{"$f":"+'GRAFIC VTAS'!AA6","v":0},{"$f":"+'GRAFIC VTAS'!AB6","v":0},{"$f":"+'GRAFIC VTAS'!AC6","v":0},{"$f":"+'GRAFIC VTAS'!AD6","v":0},{"$f":"+'GRAFIC VTAS'!AE6","v":0},{"$f":"+'GRAFIC VTAS'!AF6","v":0},{"$f":"+'GRAFIC VTAS'!AG6","v":0},{"$f":"+'GRAFIC VTAS'!AH6","v":0},{"$f":"+'GRAFIC VTAS'!AI6","v":0},{"$f":"+'GRAFIC VTAS'!AJ6","v":0},{"$f":"+'GRAFIC VTAS'!AK6","v":0}]
[{"$f":"+'datos de entrada'!A87","v":{"v":0,"d":"0 "}},{"$f":"+'datos de entrada'!B87","v":0},{"$f":"+'datos de entrada'!C87","v":0},{"$f":"+'datos de entrada'!D87","v":0},{"$f":"+'datos de entrada'!E87","v":0},{"$f":"+'datos de entrada'!F87","v":0},{"$f":"+'datos de entrada'!G87","v":0},{"$f":"+'datos de entrada'!H87","v":0},{"$f":"+'datos de entrada'!I87","v":0},{"$f":"+'datos de entrada'!J87","v":0},{"$f":"+'datos de entrada'!K87","v":0},{"$f":"+'datos de entrada'!L87","v":0},{"$f":"+'datos de entrada'!M87","v":0},{"$f":"+'GRAFIC VTAS'!N7","v":0},{"$f":"+'GRAFIC VTAS'!O7","v":0},{"$f":"+'GRAFIC VTAS'!P7","v":0},{"$f":"+'GRAFIC VTAS'!Q7","v":0},{"$f":"+'GRAFIC VTAS'!R7","v":0},{"$f":"+'GRAFIC VTAS'!S7","v":0},{"$f":"+'GRAFIC VTAS'!T7","v":0},{"$f":"+'GRAFIC VTAS'!U7","v":0},{"$f":"+'GRAFIC VTAS'!V7","v":0},{"$f":"+'GRAFIC VTAS'!W7","v":0},{"$f":"+'GRAFIC VTAS'!X7","v":0},{"$f":"+'GRAFIC VTAS'!Y7","v":0},{"$f":"+'GRAFIC VTAS'!Z7","v":0},{"$f":"+'GRAFIC VTAS'!AA7","v":0},{"$f":"+'GRAFIC VTAS'!AB7","v":0},{"$f":"+'GRAFIC VTAS'!AC7","v":0},{"$f":"+'GRAFIC VTAS'!AD7","v":0},{"$f":"+'GRAFIC VTAS'!AE7","v":0},{"$f":"+'GRAFIC VTAS'!AF7","v":0},{"$f":"+'GRAFIC VTAS'!AG7","v":0},{"$f":"+'GRAFIC VTAS'!AH7","v":0},{"$f":"+'GRAFIC VTAS'!AI7","v":0},{"$f":"+'GRAFIC VTAS'!AJ7","v":0},{"$f":"+'GRAFIC VTAS'!AK7","v":0}]
[{"$f":"+'datos de entrada'!A88","v":{"v":0,"d":"0 "}},{"$f":"+'datos de entrada'!B88","v":0},{"$f":"+'datos de entrada'!C88","v":0},{"$f":"+'datos de entrada'!D88","v":0},{"$f":"+'datos de entrada'!E88","v":0},{"$f":"+'datos de entrada'!F88","v":0},{"$f":"+'datos de entrada'!G88","v":0},{"$f":"+'datos de entrada'!H88","v":0},{"$f":"+'datos de entrada'!I88","v":0},{"$f":"+'datos de entrada'!J88","v":0},{"$f":"+'datos de entrada'!K88","v":0},{"$f":"+'datos de entrada'!L88","v":0},{"$f":"+'datos de entrada'!M88","v":0},{"$f":"+'GRAFIC VTAS'!N8","v":0},{"$f":"+'GRAFIC VTAS'!O8","v":0},{"$f":"+'GRAFIC VTAS'!P8","v":0},{"$f":"+'GRAFIC VTAS'!Q8","v":0},{"$f":"+'GRAFIC VTAS'!R8","v":0},{"$f":"+'GRAFIC VTAS'!S8","v":0},{"$f":"+'GRAFIC VTAS'!T8","v":0},{"$f":"+'GRAFIC VTAS'!U8","v":0},{"$f":"+'GRAFIC VTAS'!V8","v":0},{"$f":"+'GRAFIC VTAS'!W8","v":0},{"$f":"+'GRAFIC VTAS'!X8","v":0},{"$f":"+'GRAFIC VTAS'!Y8","v":0},{"$f":"+'GRAFIC VTAS'!Z8","v":0},{"$f":"+'GRAFIC VTAS'!AA8","v":0},{"$f":"+'GRAFIC VTAS'!AB8","v":0},{"$f":"+'GRAFIC VTAS'!AC8","v":0},{"$f":"+'GRAFIC VTAS'!AD8","v":0},{"$f":"+'GRAFIC VTAS'!AE8","v":0},{"$f":"+'GRAFIC VTAS'!AF8","v":0},{"$f":"+'GRAFIC VTAS'!AG8","v":0},{"$f":"+'GRAFIC VTAS'!AH8","v":0},{"$f":"+'GRAFIC VTAS'!AI8","v":0},{"$f":"+'GRAFIC VTAS'!AJ8","v":0},{"$f":"+'GRAFIC VTAS'!AK8","v":0}]
[{"$f":"+'datos de entrada'!A89","v":{"v":0,"d":"0 "}},{"$f":"+'datos de entrada'!B89","v":0},{"$f":"+'datos de entrada'!C89","v":0},{"$f":"+'datos de entrada'!D89","v":0},{"$f":"+'datos de entrada'!E89","v":0},{"$f":"+'datos de entrada'!F89","v":0},{"$f":"+'datos de entrada'!G89","v":0},{"$f":"+'datos de entrada'!H89","v":0},{"$f":"+'datos de entrada'!I89","v":0},{"$f":"+'datos de entrada'!J89","v":0},{"$f":"+'datos de entrada'!K89","v":0},{"$f":"+'datos de entrada'!L89","v":0},{"$f":"+'datos de entrada'!M89","v":0},{"$f":"+'GRAFIC VTAS'!N9","v":0},{"$f":"+'GRAFIC VTAS'!O9","v":0},{"$f":"+'GRAFIC VTAS'!P9","v":0},{"$f":"+'GRAFIC VTAS'!Q9","v":0},{"$f":"+'GRAFIC VTAS'!R9","v":0},{"$f":"+'GRAFIC VTAS'!S9","v":0},{"$f":"+'GRAFIC VTAS'!T9","v":0},{"$f":"+'GRAFIC VTAS'!U9","v":0},{"$f":"+'GRAFIC VTAS'!V9","v":0},{"$f":"+'GRAFIC VTAS'!W9","v":0},{"$f":"+'GRAFIC VTAS'!X9","v":0},{"$f":"+'GRAFIC VTAS'!Y9","v":0},{"$f":"+'GRAFIC VTAS'!Z9","v":0},{"$f":"+'GRAFIC VTAS'!AA9","v":0},{"$f":"+'GRAFIC VTAS'!AB9","v":0},{"$f":"+'GRAFIC VTAS'!AC9","v":0},{"$f":"+'GRAFIC VTAS'!AD9","v":0},{"$f":"+'GRAFIC VTAS'!AE9","v":0},{"$f":"+'GRAFIC VTAS'!AF9","v":0},{"$f":"+'GRAFIC VTAS'!AG9","v":0},{"$f":"+'GRAFIC VTAS'!AH9","v":0},{"$f":"+'GRAFIC VTAS'!AI9","v":0},{"$f":"+'GRAFIC VTAS'!AJ9","v":0},{"$f":"+'GRAFIC VTAS'!AK9","v":0}]
[{"$f":"+'datos de entrada'!A90","v":{"v":0,"d":"0 "}},{"$f":"+'datos de entrada'!B90","v":0},{"$f":"+'datos de entrada'!C90","v":0},{"$f":"+'datos de entrada'!D90","v":0},{"$f":"+'datos de entrada'!E90","v":0},{"$f":"+'datos de entrada'!F90","v":0},{"$f":"+'datos de entrada'!G90","v":0},{"$f":"+'datos de entrada'!H90","v":0},{"$f":"+'datos de entrada'!I90","v":0},{"$f":"+'datos de entrada'!J90","v":0},{"$f":"+'datos de entrada'!K90","v":0},{"$f":"+'datos de entrada'!L90","v":0},{"$f":"+'datos de entrada'!M90","v":0},{"$f":"+'GRAFIC VTAS'!N10","v":0},{"$f":"+'GRAFIC VTAS'!O10","v":0},{"$f":"+'GRAFIC VTAS'!P10","v":0},{"$f":"+'GRAFIC VTAS'!Q10","v":0},{"$f":"+'GRAFIC VTAS'!R10","v":0},{"$f":"+'GRAFIC VTAS'!S10","v":0},{"$f":"+'GRAFIC VTAS'!T10","v":0},{"$f":"+'GRAFIC VTAS'!U10","v":0},{"$f":"+'GRAFIC VTAS'!V10","v":0},{"$f":"+'GRAFIC VTAS'!W10","v":0},{"$f":"+'GRAFIC VTAS'!X10","v":0},{"$f":"+'GRAFIC VTAS'!Y10","v":0},{"$f":"+'GRAFIC VTAS'!Z10","v":0},{"$f":"+'GRAFIC VTAS'!AA10","v":0},{"$f":"+'GRAFIC VTAS'!AB10","v":0},{"$f":"+'GRAFIC VTAS'!AC10","v":0},{"$f":"+'GRAFIC VTAS'!AD10","v":0},{"$f":"+'GRAFIC VTAS'!AE10","v":0},{"$f":"+'GRAFIC VTAS'!AF10","v":0},{"$f":"+'GRAFIC VTAS'!AG10","v":0},{"$f":"+'GRAFIC VTAS'!AH10","v":0},{"$f":"+'GRAFIC VTAS'!AI10","v":0},{"$f":"+'GRAFIC VTAS'!AJ10","v":0},{"$f":"+'GRAFIC VTAS'!AK10","v":0}]
[{"$f":"+'datos de entrada'!A91","v":{"v":0,"d":"0 "}},{"$f":"+'datos de entrada'!B91","v":0},{"$f":"+'datos de entrada'!C91","v":0},{"$f":"+'datos de entrada'!D91","v":0},{"$f":"+'datos de entrada'!E91","v":0},{"$f":"+'datos de entrada'!F91","v":0},{"$f":"+'datos de entrada'!G91","v":0},{"$f":"+'datos de entrada'!H91","v":0},{"$f":"+'datos de entrada'!I91","v":0},{"$f":"+'datos de entrada'!J91","v":0},{"$f":"+'datos de entrada'!K91","v":0},{"$f":"+'datos de entrada'!L91","v":0},{"$f":"+'datos de entrada'!M91","v":0},{"$f":"+'GRAFIC VTAS'!N11","v":0},{"$f":"+'GRAFIC VTAS'!O11","v":0},{"$f":"+'GRAFIC VTAS'!P11","v":0},{"$f":"+'GRAFIC VTAS'!Q11","v":0},{"$f":"+'GRAFIC VTAS'!R11","v":0},{"$f":"+'GRAFIC VTAS'!S11","v":0},{"$f":"+'GRAFIC VTAS'!T11","v":0},{"$f":"+'GRAFIC VTAS'!U11","v":0},{"$f":"+'GRAFIC VTAS'!V11","v":0},{"$f":"+'GRAFIC VTAS'!W11","v":0},{"$f":"+'GRAFIC VTAS'!X11","v":0},{"$f":"+'GRAFIC VTAS'!Y11","v":0},{"$f":"+'GRAFIC VTAS'!Z11","v":0},{"$f":"+'GRAFIC VTAS'!AA11","v":0},{"$f":"+'GRAFIC VTAS'!AB11","v":0},{"$f":"+'GRAFIC VTAS'!AC11","v":0},{"$f":"+'GRAFIC VTAS'!AD11","v":0},{"$f":"+'GRAFIC VTAS'!AE11","v":0},{"$f":"+'GRAFIC VTAS'!AF11","v":0},{"$f":"+'GRAFIC VTAS'!AG11","v":0},{"$f":"+'GRAFIC VTAS'!AH11","v":0},{"$f":"+'GRAFIC VTAS'!AI11","v":0},{"$f":"+'GRAFIC VTAS'!AJ11","v":0},{"$f":"+'GRAFIC VTAS'!AK11","v":0}]
[{"$f":"+'datos de entrada'!A92","v":{"v":0,"d":"0 "}},{"$f":"+'datos de entrada'!B92","v":0},{"$f":"+'datos de entrada'!C92","v":0},{"$f":"+'datos de entrada'!D92","v":0},{"$f":"+'datos de entrada'!E92","v":0},{"$f":"+'datos de entrada'!F92","v":0},{"$f":"+'datos de entrada'!G92","v":0},{"$f":"+'datos de entrada'!H92","v":0},{"$f":"+'datos de entrada'!I92","v":0},{"$f":"+'datos de entrada'!J92","v":0},{"$f":"+'datos de entrada'!K92","v":0},{"$f":"+'datos de entrada'!L92","v":0},{"$f":"+'datos de entrada'!M92","v":0},{"$f":"+'GRAFIC VTAS'!N12","v":0},{"$f":"+'GRAFIC VTAS'!O12","v":0},{"$f":"+'GRAFIC VTAS'!P12","v":0},{"$f":"+'GRAFIC VTAS'!Q12","v":0},{"$f":"+'GRAFIC VTAS'!R12","v":0},{"$f":"+'GRAFIC VTAS'!S12","v":0},{"$f":"+'GRAFIC VTAS'!T12","v":0},{"$f":"+'GRAFIC VTAS'!U12","v":0},{"$f":"+'GRAFIC VTAS'!V12","v":0},{"$f":"+'GRAFIC VTAS'!W12","v":0},{"$f":"+'GRAFIC VTAS'!X12","v":0},{"$f":"+'GRAFIC VTAS'!Y12","v":0},{"$f":"+'GRAFIC VTAS'!Z12","v":0},{"$f":"+'GRAFIC VTAS'!AA12","v":0},{"$f":"+'GRAFIC VTAS'!AB12","v":0},{"$f":"+'GRAFIC VTAS'!AC12","v":0},{"$f":"+'GRAFIC VTAS'!AD12","v":0},{"$f":"+'GRAFIC VTAS'!AE12","v":0},{"$f":"+'GRAFIC VTAS'!AF12","v":0},{"$f":"+'GRAFIC VTAS'!AG12","v":0},{"$f":"+'GRAFIC VTAS'!AH12","v":0},{"$f":"+'GRAFIC VTAS'!AI12","v":0},{"$f":"+'GRAFIC VTAS'!AJ12","v":0},{"$f":"+'GRAFIC VTAS'!AK12","v":0}]
[null,{"$f":"+B80+365","v":{"$error":"#N/A"}},{"$error":"#N/A"},{"$error":"#N/A"},{"$error":"#N/A"},{"$error":"#N/A"},{"$error":"#N/A"},{"$error":"#N/A"},{"$error":"#N/A"},{"$error":"#N/A"},{"$error":"#N/A"},{"$error":"#N/A"},{"$error":"#N/A"},{"$nulls":16},2020,365,4383]
[null,{"$f":"+B94+365","v":{"$error":"#N/A"}},{"$error":"#N/A"},{"$error":"#N/A"},{"$error":"#N/A"},{"$error":"#N/A"},{"$error":"#N/A"},{"$error":"#N/A"},{"$error":"#N/A"},{"$error":"#N/A"},{"$error":"#N/A"},{"$error":"#N/A"},{"$error":"#N/A"},{"$nulls":16},2021,366,4749]
["CRECIMIENTO EN UNIDADES",{"$nulls":4},"CRECIMIENTO EN PORCENTAJE",{"$nulls":23},2022,365,5114]
[{"$nulls":29},2023,365,5479]
["PRODUCTOS","1 AL 2"," 2 AL 3",null,null,"1 AL 2"," 2 AL 3",{"$nulls":22},2024,365,5844]
[{"$nulls":29},2025,366,6210]
[{"$f":"+'datos de entrada'!A99","v":{"v":0,"d":"0 "}},{"$f":"+'datos de entrada'!B99","v":0},{"$f":"+'datos de entrada'!C99","v":0},null,null,{"$f":"+'datos de entrada'!F99","v":{"v":0,"d":"0.00%"}},{"$f":"+'datos de entrada'!G99","v":{"v":0,"d":"0.00%"}},{"$nulls":22},2026,365,6575]
[{"$f":"+'datos de entrada'!A100","v":{"v":0,"d":"0 "}},{"$f":"+'datos de entrada'!B100","v":0},{"$f":"+'datos de entrada'!C100","v":0},null,null,{"$f":"+'datos de entrada'!F100","v":{"v":0,"d":"0.00%"}},{"$f":"+'datos de entrada'!G100","v":{"v":0,"d":"0.00%"}},{"$nulls":22},2027,365,6940]
[{"$f":"+'datos de entrada'!A101","v":{"v":0,"d":"0 "}},{"$f":"+'datos de entrada'!B101","v":0},{"$f":"+'datos de entrada'!C101","v":0},null,null,{"$f":"+'datos de entrada'!F101","v":{"v":0,"d":"0.00%"}},{"$f":"+'datos de entrada'!G101","v":{"v":0,"d":"0.00%"}},{"$nulls":22},2028,365,7305]
[{"$f":"+'datos de entrada'!A102","v":{"v":0,"d":"0 "}},{"$f":"+'datos de entrada'!B102","v":0},{"$f":"+'datos de entrada'!C102","v":0},null,null,{"$f":"+'datos de entrada'!F102","v":{"v":0,"d":"0.00%"}},{"$f":"+'datos de entrada'!G102","v":{"v":0,"d":"0.00%"}}]
[{"$f":"+'datos de entrada'!A103","v":{"v":0,"d":"0 "}},{"$f":"+'datos de entrada'!B103","v":0},{"$f":"+'datos de entrada'!C103","v":0},null,null,{"$f":"+'datos de entrada'!F103","v":{"v":0,"d":"0.00%"}},{"$f":"+'datos de entrada'!G103","v":{"v":0,"d":"0.00%"}}]
[{"$f":"+'datos de entrada'!A104","v":{"v":0,"d":"0 "}},{"$f":"+'datos de entrada'!B104","v":0},{"$f":"+'datos de entrada'!C104","v":0},null,null,{"$f":"+'datos de entrada'!F104","v":{"v":0,"d":"0.00%"}},{"$f":"+'datos de entrada'!G104","v":{"v":0,"d":"0.00%"}}]
[{"$f":"+'datos de entrada'!A105","v":{"v":0,"d":"0 "}},{"$f":"+'datos de entrada'!B105","v":0},{"$f":"+'datos de entrada'!C105","v":0},null,null,{"$f":"+'datos de entrada'!F105","v":{"v":0,"d":"0.00%"}},{"$f":"+'datos de entrada'!G105","v":{"v":0,"d":"0.00%"}}]
[{"$f":"+'datos de entrada'!A106","v":{"v":0,"d":"0 "}},{"$f":"+'datos de entrada'!B106","v":0},{"$f":"+'datos de entrada'!C106","v":0},null,null,{"$f":"+'datos de entrada'!F106","v":{"v":0,"d":"0.00%"}},{"$f":"+'datos de entrada'!G106","v":{"v":0,"d":"0.00%"}}]
[{"$f":"+'datos de entrada'!A107","v":{"v":0,"d":"0 "}},{"$f":"+'datos de entrada'!B107","v":0},{"$f":"+'datos de entrada'!C107","v":0},null,null,{"$f":"+'datos de entrada'!F107","v":{"v":0,"d":"0.00%"}},{"$f":"+'datos de entrada'!G107","v":{"v":0,"d":"0.00%"}}]
[{"$f":"+'datos de entrada'!A108","v":{"v":0,"d":"0 "}},{"$f":"+'datos de entrada'!B108","v":0},{"$f":"+'datos de entrada'!C108","v":0},null,null,{"$f":"+'datos de entrada'!F108","v":{"v":0,"d":"0.00%"}},{"$f":"+'datos de entrada'!G108","v":{"v":0,"d":"0.00%"}}]
[{"$f":"+'datos de entrada'!A109","v":{"v":0,"d":"0 "}},{"$f":"+'datos de entrada'!B109","v":0},{"$f":"+'datos de entrada'!C109","v":0},null,null,{"$f":"+'datos de entrada'!F109","v":{"v":0,"d":"0.00%"}},{"$f":"+'datos de entrada'!G109","v":{"v":0,"d":"0.00%"}}]
[{"$f":"+'datos de entrada'!A110","v":{"v":0,"d":"0 "}},{"$f":"+'datos de entrada'!B110","v":0},{"$f":"+'datos de entrada'!C110","v":0},null,null,{"$f":"+'datos de entrada'!F110","v":{"v":0,"d":"0.00%"}},{"$f":"+'datos de entrada'!G110","v":{"v":0,"d":"0.00%"}}]
[]
[]
["OPERACIÓN Y CALIDAD"]
[1000]
[null,"TIEMPO REQUERIDO"]
[]
["TERRENOS"]
["EDIFICIOS"]
["MAQUINAS"]
["EQUIPOS"]
["VEHICULOS"]
["MUEBLES Y ENSERES"]
["HERRAMIENTAS"]
["COMPUTAD. PRODUC."]
["COMPUTAD. ADMON."]
[{"v":0,"d":"0 "}]
[{"v":0,"d":"0 "}]
{"$rows_empty":8}
["INVERSIONES",{"$nulls":3},{"$f":"+'inversion af'!A1","v":"CONCEPTO"},null,{"$f":"+'inversion af'!E1","v":"COSTO TOTAL"},{"$f":"+'inversion af'!F1","v":"FUENTE DE RECURSOS"},{"$f":"+'inversion af'!H1","v":"ADQUIRIDOS EN EL:"}]
[{"$nulls":4},{"$f":"+'inversion af'!A2","v":{"v":0,"d":"0 "}},null,{"$f":"+'inversion af'!E2","v":0},{"$f":"+'inversion af'!F2","v":{"v":0,"d":"0 "}},{"$f":"+'inversion af'!H2","v":{"v":0,"d":"0 "}}]
["EN ACTIVOS FIJOS",{"$nulls":3},{"$f":"+'inversion af'!A3","v":{"v":0,"d":"0 "}},null,{"$f":"+'inversion af'!E3","v":0},{"$f":"+'inversion af'!F3","v":{"v":0,"d":"0 "}},{"$f":"+'inversion af'!H3","v":{"v":0,"d":"0 "}}]
["RESUMEN ",{"$nulls":3},{"$f":"+'inversion af'!A4","v":{"v":0,"d":"0 "}},null,{"$f":"+'inversion af'!E4","v":0},{"$f":"+'inversion af'!F4","v":{"v":0,"d":"0 "}},{"$f":"+'inversion af'!H4","v":{"v":0,"d":"0 "}}]
["  APORTES EN ACTIVOS FIJOS CON RECURSOS PROPIOS",{"$nulls":3},{"$f":"+'inversion af'!A5","v":{"v":0,"d":"0 "}},null,{"$f":"+'inversion af'!E5","v":0},{"$f":"+'inversion af'!F5","v":{"v":0,"d":"0 "}},{"$f":"+'inversion af'!H5","v":{"v":0,"d":"0 "}}]
[{"$nulls":4},{"$f":"+'inversion af'!A6","v":{"v":0,"d":"0 "}},null,{"$f":"+'inversion af'!E6","v":0},{"$f":"+'inversion af'!F6","v":{"v":0,"d":"0 "}},{"$f":"+'inversion af'!H6","v":{"v":0,"d":"0 "}}]
["CONCEPTO","COSTO","AÑOS VIDA UTIL",null,{"$f":"+'inversion af'!A7","v":{"v":0,"d":"0 "}},null,{"$f":"+'inversion af'!E7","v":0},{"$f":"+'inversion af'!F7","v":{"v":0,"d":"0 "}},{"$f":"+'inversion af'!H7","v":{"v":0,"d":"0 "}}]
[{"$nulls":4},{"$f":"+'inversion af'!A8","v":{"v":0,"d":"0 "}},null,{"$f":"+'inversion af'!E8","v":0},{"$f":"+'inversion af'!F8","v":{"v":0,"d":"0 "}},{"$f":"+'inversion af'!H8","v":{"v":0,"d":"0 "}}]
[{"$f":"+'datos de entrada'!A144","v":"TERRENOS"},{"$f":"+'datos de entrada'!B144","v":0},{"v":100000000,"d":"100,000,000 "},null,{"$f":"+'inversion af'!A9","v":{"v":0,"d":"0 "}},null,{"$f":"+'inversion af'!E9","v":0},{"$f":"+'inversion af'!F9","v":{"v":0,"d":"0 "}},{"$f":"+'inversion af'!H9","v":{"v":0,"d":"0 "}}]
[{"$f":"+'datos de entrada'!A145","v":"EDIFICIOS"},{"$f":"+'datos de entrada'!B145","v":0},{"v":20,"d":"20 "},null,{"$f":"+'inversion af'!A10","v":{"v":0,"d":"0 "}},null,{"$f":"+'inversion af'!E10","v":0},{"$f":"+'inversion af'!F10","v":{"v":0,"d":"0 "}},{"$f":"+'inversion af'!H10","v":{"v":0,"d":"0 "}}]
[{"$f":"+'datos de entrada'!A146","v":"MAQUINAS"},{"$f":"+'datos de entrada'!B146","v":0},{"v":10,"d":"10 "},null,{"$f":"+'inversion af'!A11","v":{"v":0,"d":"0 "}},null,{"$f":"+'inversion af'!E11","v":0},{"$f":"+'inversion af'!F11","v":{"v":0,"d":"0 "}},{"$f":"+'inversion af'!H11","v":{"v":0,"d":"0 "}}]
[{"$f":"+'datos de entrada'!A147","v":"EQUIPOS"},{"$f":"+'datos de entrada'!B147","v":0},{"v":5,"d":"5 "},null,{"$f":"+'inversion af'!A12","v":{"v":0,"d":"0 "}},null,{"$f":"+'inversion af'!E12","v":0},{"$f":"+'inversion af'!F12","v":{"v":0,"d":"0 "}},{"$f":"+'inversion af'!H12","v":{"v":0,"d":"0 "}}]
[{"$f":"+'datos de entrada'!A148","v":"VEHICULOS"},{"$f":"+'datos de entrada'!B148","v":0},{"v":5,"d":"5 "},null,{"$f":"+'inversion af'!A13","v":{"v":0,"d":"0 "}},null,{"$f":"+'inversion af'!E13","v":0},{"$f":"+'inversion af'!F13","v":{"v":0,"d":"0 "}},{"$f":"+'inversion af'!H13","v":{"v":0,"d":"0 "}}]
[{"$f":"+'datos de entrada'!A149","v":"MUEBLES Y ENSERES"},{"$f":"+'datos de entrada'!B149","v":0},{"v":1,"d":"1 "},null,{"$f":"+'inversion af'!A14","v":{"v":0,"d":"0 "}},null,{"$f":"+'inversion af'!E14","v":0},{"$f":"+'inversion af'!F14","v":{"v":0,"d":"0 "}},{"$f":"+'inversion af'!H14","v":{"v":0,"d":"0 "}}]
[{"$f":"+'datos de entrada'!A150","v":"HERRAMIENTAS"},{"$f":"+'datos de entrada'!B150","v":0},{"v":3,"d":"3 "},null,{"$f":"+'inversion af'!A15","v":{"v":0,"d":"0 "}},null,{"$f":"+'inversion af'!E15","v":0},{"$f":"+'inversion af'!F15","v":{"v":0,"d":"0 "}},{"$f":"+'inversion af'!H15","v":{"v":0,"d":"0 "}}]
[{"$f":"+'datos de entrada'!A151","v":"COMPUTAD. PRODUC."},{"$f":"+'datos de entrada'!B151","v":0},{"v":10,"d":"10 "},null,{"$f":"+'inversion af'!A16","v":{"v":0,"d":"0 "}},null,{"$f":"+'inversion af'!E16","v":0},{"$f":"+'inversion af'!F16","v":{"v":0,"d":"0 "}},{"$f":"+'inversion af'!H16","v":{"v":0,"d":"0 "}}]
[{"$f":"+'datos de entrada'!A152","v":"COMPUTAD. ADMON."},{"$f":"+'datos de entrada'!B152","v":0},{"v":3,"d":"3 "},null,{"$f":"+'inversion af'!A17","v":{"v":0,"d":"0 "}},null,{"$f":"+'inversion af'!E17","v":0},{"$f":"+'inversion af'!F17","v":{"v":0,"d":"0 "}},{"$f":"+'inversion af'!H17","v":{"v":0,"d":"0 "}}]
[{"$nulls":4},{"$f":"+'inversion af'!A18","v":{"v":0,"d":"0 "}},null,{"$f":"+'inversion af'!E18","v":0},{"$f":"+'inversion af'!F18","v":{"v":0,"d":"0 "}},{"$f":"+'inversion af'!H18","v":{"v":0,"d":"0 "}}]
[{"$nulls":4},{"$f":"+'inversion af'!A19","v":{"v":0,"d":"0 "}},null,{"$f":"+'inversion af'!E19","v":0},{"$f":"+'inversion af'!F19","v":{"v":0,"d":"0 "}},{"$f":"+'inversion af'!H19","v":{"v":0,"d":"0 "}}]
[{"$nulls":4},{"$f":"+'inversion af'!A20","v":{"v":0,"d":"0 "}},null,{"$f":"+'inversion af'!E20","v":0},{"$f":"+'inversion af'!F20","v":{"v":0,"d":"0 "}},{"$f":"+'inversion af'!H20","v":{"v":0,"d":"0 "}}]
["RESUMEN ",{"$nulls":3},{"$f":"+'inversion af'!A21","v":{"v":0,"d":"0 "}},null,{"$f":"+'inversion af'!E21","v":0},{"$f":"+'inversion af'!F21","v":{"v":0,"d":"0 "}},{"$f":"+'inversion af'!H21","v":{"v":0,"d":"0 "}}]
["  ACTIVOS FIJOS CONSEGUIDOS CON RECURSOS DE UN CREDITO",{"$nulls":3},{"$f":"+'inversion af'!A22","v":{"v":0,"d":"0 "}},null,{"$f":"+'inversion af'!E22","v":0},{"$f":"+'inversion af'!F22","v":{"v":0,"d":"0 "}},{"$f":"+'inversion af'!H22","v":{"v":0,"d":"0 "}}]
[{"$nulls":4},{"$f":"+'inversion af'!A23","v":{"v":0,"d":"0 "}},null,{"$f":"+'inversion af'!E23","v":0},{"$f":"+'inversion af'!F23","v":{"v":0,"d":"0 "}},{"$f":"+'inversion af'!H23","v":{"v":0,"d":"0 "}}]
["CONCEPTO","COSTO","AÑOS VIDA",null,{"$f":"+'inversion af'!A24","v":{"v":0,"d":"0 "}},null,{"$f":"+'inversion af'!E24","v":0},{"$f":"+'inversion af'!F24","v":{"v":0,"d":"0 "}},{"$f":"+'inversion af'!H24","v":{"v":0,"d":"0 "}}]
[null,null,"UTIL",null,{"$f":"+'inversion af'!A25","v":{"v":0,"d":"0 "}},null,{"$f":"+'inversion af'!E25","v":0},{"$f":"+'inversion af'!F25","v":{"v":0,"d":"0 "}},{"$f":"+'inversion af'!H25","v":{"v":0,"d":"0 "}}]
[{"$f":"+'datos de entrada'!A161","v":"TERRENOS"},{"$f":"+'datos de entrada'!B161","v":0},{"v":1000000,"d":"1,000,000 "},null,{"$f":"+'inversion af'!A26","v":{"v":0,"d":"0 "}},null,{"$f":"+'inversion af'!E26","v":0},{"$f":"+'inversion af'!F26","v":{"v":0,"d":"0 "}},{"$f":"+'inversion af'!H26","v":{"v":0,"d":"0 "}}]
[{"$f":"+'datos de entrada'!A162","v":"EDIFICIOS"},{"$f":"+'datos de entrada'!B162","v":0},{"v":20,"d":"20 "},null,{"$f":"+'inversion af'!A27","v":{"v":0,"d":"0 "}},null,{"$f":"+'inversion af'!E27","v":0},{"$f":"+'inversion af'!F27","v":{"v":0,"d":"0 "}},{"$f":"+'inversion af'!H27","v":{"v":0,"d":"0 "}}]
[{"$f":"+'datos de entrada'!A163","v":"MAQUINAS"},{"$f":"+'datos de entrada'!B163","v":0},{"v":10,"d":"10 "},null,{"$f":"+'inversion af'!A28","v":{"v":0,"d":"0 "}},null,{"$f":"+'inversion af'!E28","v":0},{"$f":"+'inversion af'!F28","v":{"v":0,"d":"0 "}},{"$f":"+'inversion af'!H28","v":{"v":0,"d":"0 "}}]
[{"$f":"+'datos de entrada'!A164","v":"EQUIPOS"},{"$f":"+'datos de entrada'!B164","v":0},{"v":5,"d":"5 "},null,{"$f":"+'inversion af'!A29","v":{"v":0,"d":"0 "}},null,{"$f":"+'inversion af'!E29","v":0},{"$f":"+'inversion af'!F29","v":{"v":0,"d":"0 "}},{"$f":"+'inversion af'!H29","v":{"v":0,"d":"0 "}}]
[{"$f":"+'datos de entrada'!A165","v":"VEHICULOS"},{"$f":"+'datos de entrada'!B165","v":0},{"v":5,"d":"5 "},null,{"$f":"+'inversion af'!A30","v":{"v":0,"d":"0 "}},null,{"$f":"+'inversion af'!E30","v":0},{"$f":"+'inversion af'!F30","v":{"v":0,"d":"0 "}},{"$f":"+'inversion af'!H30","v":{"v":0,"d":"0 "}}]
[{"$f":"+'datos de entrada'!A166","v":"MUEBLES Y ENSERES"},{"$f":"+'datos de entrada'!B166","v":0},{"v":1,"d":"1 "},null,{"$f":"+'inversion af'!A31","v":{"v":0,"d":"0 "}},null,{"$f":"+'inversion af'!E31","v":0},{"$f":"+'inversion af'!F31","v":{"v":0,"d":"0 "}},{"$f":"+'inversion af'!H31","v":{"v":0,"d":"0 "}}]
[{"$f":"+'datos de entrada'!A167","v":"HERRAMIENTAS"},{"$f":"+'datos de entrada'!B167","v":0},{"v":3,"d":"3 "},null,{"$f":"+'inversion af'!A32","v":{"v":0,"d":"0 "}},null,{"$f":"+'inversion af'!E32","v":0},{"$f":"+'inversion af'!F32","v":{"v":0,"d":"0 "}},{"$f":"+'inversion af'!H32","v":{"v":0,"d":"0 "}}]
[{"$f":"+'datos de entrada'!A168","v":"COMPUTAD. PRODUC."},{"$f":"+'datos de entrada'!B168","v":0},{"v":10,"d":"10 "},null,{"$f":"+'inversion af'!A33","v":{"v":0,"d":"0 "}},null,{"$f":"+'inversion af'!E33","v":0},{"$f":"+'inversion af'!F33","v":{"v":0,"d":"0 "}},{"$f":"+'inversion af'!H33","v":{"v":0,"d":"0 "}}]
[{"$f":"+'datos de entrada'!A169","v":"COMPUTAD. ADMON."},{"$f":"+'datos de entrada'!B169","v":0},{"v":3,"d":"3 "},null,{"$f":"+'inversion af'!A34","v":{"v":0,"d":"0 "}},null,{"$f":"+'inversion af'!E34","v":0},{"$f":"+'inversion af'!F34","v":{"v":0,"d":"0 "}},{"$f":"+'inversion af'!H34","v":{"v":0,"d":"0 "}}]
[{"$nulls":3},{"v":0,"d":"0 "},{"$f":"+'inversion af'!A35","v":{"v":0,"d":"0 "}},null,{"$f":"+'inversion af'!E35","v":0},{"$f":"+'inversion af'!F35","v":{"v":0,"d":"0 "}},{"$f":"+'inversion af'!H35","v":{"v":0,"d":"0 "}}]
[{"$nulls":3},{"v":0,"d":"0 "},{"$f":"+'inversion af'!A36","v":{"v":0,"d":"0 "}},null,{"$f":"+'inversion af'!E36","v":0},{"$f":"+'inversion af'!F36","v":{"v":0,"d":"0 "}},{"$f":"+'inversion af'!H36","v":{"v":0,"d":"0 "}}]
[{"$nulls":4},{"$f":"+'inversion af'!A37","v":{"v":0,"d":"0 "}},null,{"$f":"+'inversion af'!E37","v":0},{"$f":"+'inversion af'!F37","v":{"v":0,"d":"0 "}},{"$f":"+'inversion af'!H37","v":{"v":0,"d":"0 "}}]
["RESUMEN ",{"$nulls":3},{"$f":"+'inversion af'!A38","v":{"v":0,"d":"0 "}},null,{"$f":"+'inversion af'!E38","v":0},{"$f":"+'inversion af'!F38","v":{"v":0,"d":"0 "}},{"$f":"+'inversion af'!H38","v":{"v":0,"d":"0 "}}]
["  ACTIVOS FIJOS ADQUIRIDOS CON SUBVENCIONES O DONACIONES",{"$nulls":3},{"$f":"+'inversion af'!A39","v":{"v":0,"d":"0 "}},null,{"$f":"+'inversion af'!E39","v":0},{"$f":"+'inversion af'!F39","v":{"v":0,"d":"0 "}},{"$f":"+'inversion af'!H39","v":{"v":0,"d":"0 "}}]
[{"$nulls":4},{"$f":"+'inversion af'!A40","v":{"v":0,"d":"0 "}},null,{"$f":"+'inversion af'!E40","v":0},{"$f":"+'inversion af'!F40","v":{"v":0,"d":"0 "}},{"$f":"+'inversion af'!H40","v":{"v":0,"d":"0 "}}]
["CONCEPTO","COSTO","AÑOS VIDA",null,{"$f":"+'inversion af'!A41","v":{"v":0,"d":"0 "}},null,{"$f":"+'inversion af'!E41","v":0},{"$f":"+'inversion af'!F41","v":{"v":0,"d":"0 "}},{"$f":"+'inversion af'!H41","v":{"v":0,"d":"0 "}}]
[null,null,"UTIL",null,{"$f":"+'inversion af'!A42","v":{"v":0,"d":"0 "}},null,{"$f":"+'inversion af'!E42","v":0},{"$f":"+'inversion af'!F42","v":{"v":0,"d":"0 "}},{"$f":"+'inversion af'!H42","v":{"v":0,"d":"0 "}}]
["TERRENOS",{"$f":"+'inversion af'!K117","v":0},{"v":1000000,"d":"1,000,000 "},null,{"$f":"+'inversion af'!A43","v":{"v":0,"d":"0 "}},null,{"$f":"+'inversion af'!E43","v":0},{"$f":"+'inversion af'!F43","v":{"v":0,"d":"0 "}},{"$f":"+'inversion af'!H43","v":{"v":0,"d":"0 "}}]
["EDIFICIOS",{"$f":"+'inversion af'!K118","v":0},{"v":20,"d":"20 "},null,{"$f":"+'inversion af'!A44","v":{"v":0,"d":"0 "}},null,{"$f":"+'inversion af'!E44","v":0},{"$f":"+'inversion af'!F44","v":{"v":0,"d":"0 "}},{"$f":"+'inversion af'!H44","v":{"v":0,"d":"0 "}}]
["MAQUINAS",{"$f":"+'inversion af'!K119","v":0},{"v":10,"d":"10 "},null,{"$f":"+'inversion af'!A45","v":{"v":0,"d":"0 "}},null,{"$f":"+'inversion af'!E45","v":0},{"$f":"+'inversion af'!F45","v":{"v":0,"d":"0 "}},{"$f":"+'inversion af'!H45","v":{"v":0,"d":"0 "}}]
["EQUIPOS",{"$f":"+'inversion af'!K120","v":0},{"v":5,"d":"5 "},null,{"$f":"+'inversion af'!A46","v":{"v":0,"d":"0 "}},null,{"$f":"+'inversion af'!E46","v":0},{"$f":"+'inversion af'!F46","v":{"v":0,"d":"0 "}},{"$f":"+'inversion af'!H46","v":{"v":0,"d":"0 "}}]
["VEHICULOS",{"$f":"+'inversion af'!K121","v":0},{"v":5,"d":"5 "},null,{"$f":"+'inversion af'!A47","v":{"v":0,"d":"0 "}},null,{"$f":"+'inversion af'!E47","v":0},{"$f":"+'inversion af'!F47","v":{"v":0,"d":"0 "}},{"$f":"+'inversion af'!H47","v":{"v":0,"d":"0 "}}]
["MUEBLES Y ENSERES",{"$f":"+'inversion af'!K122","v":0},{"v":1,"d":"1 "},null,{"$f":"+'inversion af'!A48","v":{"v":0,"d":"0 "}},null,{"$f":"+'inversion af'!E48","v":0},{"$f":"+'inversion af'!F48","v":{"v":0,"d":"0 "}},{"$f":"+'inversion af'!H48","v":{"v":0,"d":"0 "}}]
["HERRAMIENTAS",{"$f":"+'inversion af'!K123","v":0},{"v":3,"d":"3 "},null,{"$f":"+'inversion af'!A49","v":{"v":0,"d":"0 "}},null,{"$f":"+'inversion af'!E49","v":0},{"$f":"+'inversion af'!F49","v":{"v":0,"d":"0 "}},{"$f":"+'inversion af'!H49","v":{"v":0,"d":"0 "}}]
["COMPUTAD. PRODUC.",{"$f":"+'inversion af'!K124","v":0},{"v":10,"d":"10 "},null,{"$f":"+'inversion af'!A50","v":{"v":0,"d":"0 "}},null,{"$f":"+'inversion af'!E50","v":0},{"$f":"+'inversion af'!F50","v":{"v":0,"d":"0 "}},{"$f":"+'inversion af'!H50","v":{"v":0,"d":"0 "}}]
["COMPUTAD. ADMON.",{"$f":"+'inversion af'!K125","v":0},{"v":3,"d":"3 "},null,{"$f":"+'inversion af'!A51","v":{"v":0,"d":"0 "}},null,{"$f":"+'inversion af'!E51","v":0},{"$f":"+'inversion af'!F51","v":{"v":0,"d":"0 "}},{"$f":"+'inversion af'!H51","v":{"v":0,"d":"0 "}}]
[]
[]
[]
[]
[" CAPITAL DE TRABAJO","CONDICIONES DE FINANCIACION",{"$nulls":4},"MONTO","RECURSOS","FECHA"]
[null,"MONTO","MESES","TASA N.A.","TIPO","GRACIA"]
[" CON RECURSOS EXTERNOS:",{"$f":"+'datos de entrada'!B193","v":0},{"$f":"+'datos de entrada'!C193","v":{"v":0,"d":"$ 0"}},{"$f":"+'datos de entrada'!D193","v":{"v":0,"d":"0.00%"}},{"$f":"+'datos de entrada'!E193","v":{"v":0,"d":"$ 0"}},{"$f":"+'datos de entrada'!F193","v":{"v":0,"d":"$ 0"}},{"$f":"+'datos de entrada'!G193","v":0},{"$f":"+'datos de entrada'!H193","v":0},{"$f":"+'datos de entrada'!I193","v":0}]
[null,null,{"$f":"+$B$217","v":0},{"$f":"+$B$219","v":{"v":0,"d":"0.00%"}},0,{"$f":"+$B$218","v":{"v":0,"d":"0 "}},{"$f":"+'datos de entrada'!G194","v":0},{"$f":"+'datos de entrada'!H194","v":0},{"$f":"+'datos de entrada'!I194","v":0}]
[null,null,{"$f":"+$B$217","v":0},{"$f":"+$B$219","v":{"v":0,"d":"0.00%"}},0,{"$f":"+$B$218","v":{"v":0,"d":"0 "}},{"$f":"+'datos de entrada'!G195","v":0},{"$f":"+'datos de entrada'!H195","v":0},{"$f":"+'datos de entrada'!I195","v":0}]
[" CON RECURSOS PROPIOS:",{"$f":"+'datos de entrada'!B196","v":0},{"$nulls":4},{"$f":"+'datos de entrada'!G196","v":0},{"$f":"+'datos de entrada'!H196","v":0},{"$f":"+'datos de entrada'!I196","v":0}]
[" CON SUBVENCIONES O DONACIONES :",{"$f":"+'datos de entrada'!B197","v":0},{"$nulls":4},{"$f":"+'datos de entrada'!G197","v":0},{"$f":"+'datos de entrada'!H197","v":0},{"$f":"+'datos de entrada'!I197","v":0}]
[]
[]
[" FINANCIACION"]
[]
["ACTIVOS FIJOS"]
[]
[]
[]
["PLAZO DE PAGO:",{"$f":"+'datos de entrada'!B206","v":0}]
["PERIODO DE GRACIA:",{"$f":"+'datos de entrada'!B207","v":0}]
["INTERES (NOMINAL ANUAL):",{"$f":"+'datos de entrada'!B208","v":{"v":0,"d":"0.00%"}}]
[null,0]
[]
[]
["CAPITAL DE TRABAJO"]
[]
[]
[]
["PLAZO DE PAGO:",{"$f":"+'datos de entrada'!B216","v":0}]
["PERIODO DE GRACIA:",{"$f":"+'datos de entrada'!B217","v":0}]
["INTERES (NOMINAL ANUAL):",{"$f":"+'datos de entrada'!B218","v":{"v":0,"d":"0.00%"}}]
[null,0]
{"$rows_empty":22}
["COSTOS VARIABLES UNITARIOS"]
[]
[" MATERIA PRIMA",{"$nulls":7},"MATERIA PRIMA"]
[]
[{"$f":"+'datos de entrada'!A246","v":{"v":0,"d":"0 "}},null,"COSTO","   FORMA DE PAGO",{"$nulls":4},{"$f":"+'datos de entrada'!I246","v":{"v":0,"d":"0 "}},null,"COSTO","   FORMA DE PAGO"]
["INSUMOS","CANTIDAD","UNITARIO","CONTADO","30 DIAS","60 DIAS","90 DIAS","INVENTARIO","INSUMOS","CANTIDAD","UNITARIO","CONTADO","30 DIAS","60 DIAS","90 DIAS","INVENTAR"]
[]
[{"$f":"+'datos de entrada'!A249","v":{"v":0,"d":"0 "}},{"$f":"+'datos de entrada'!B249","v":0},{"$f":"+'datos de entrada'!C249","v":0},{"$f":"+'datos de entrada'!D249","v":{"v":0,"d":"0.00%"}},{"$f":"+'datos de entrada'!E249","v":{"v":0,"d":"0.00%"}},{"$f":"+'datos de entrada'!F249","v":{"v":0,"d":"0.00%"}},{"$f":"+'datos de entrada'!G249","v":{"v":0,"d":"0.00%"}},{"$f":"+'datos de entrada'!H254","v":{"v":0,"d":"0 "}},{"$f":"+'datos de entrada'!I249","v":{"v":0,"d":"0 "}},{"$f":"+'datos de entrada'!J249","v":{"v":0,"d":"0 "}},{"$f":"+'datos de entrada'!K249","v":0},{"$f":"+'datos de entrada'!L249","v":{"v":0,"d":"0.00%"}},{"$f":"+'datos de entrada'!M249","v":{"v":0,"d":"0.00%"}},{"$f":"+'datos de entrada'!N249","v":{"v":0,"d":"0.00%"}},{"$f":"+'datos de entrada'!O249","v":{"v":0,"d":"0.00%"}},{"$f":"+'datos de entrada'!P254","v":{"v":0,"d":"0 "}}]
[{"$f":"+'datos de entrada'!A250","v":{"v":0,"d":"0 "}},{"$f":"+'datos de entrada'!B250","v":0},{"$f":"+'datos de entrada'!C250","v":0},{"$f":"+'datos de entrada'!D250","v":{"v":0,"d":"0.00%"}},{"$f":"+'datos de entrada'!E250","v":{"v":0,"d":"0.00%"}},{"$f":"+'datos de entrada'!F250","v":{"v":0,"d":"0.00%"}},{"$f":"+'datos de entrada'!G250","v":{"v":0,"d":"0.00%"}},null,{"$f":"+'datos de entrada'!I250","v":{"v":0,"d":"0 "}},{"$f":"+'datos de entrada'!J250","v":{"v":0,"d":"0 "}},{"$f":"+'datos de entrada'!K250","v":0},{"$f":"+'datos de entrada'!L250","v":{"v":0,"d":"0.00%"}},{"$f":"+'datos de entrada'!M250","v":{"v":0,"d":"0.00%"}},{"$f":"+'datos de entrada'!N250","v":{"v":0,"d":"0.00%"}},{"$f":"+'datos de entrada'!O250","v":{"v":0,"d":"0.00%"}}]
[{"$f":"+'datos de entrada'!A251","v":{"v":0,"d":"0 "}},{"$f":"+'datos de entrada'!B251","v":0},{"$f":"+'datos de entrada'!C251","v":0},{"$f":"+'datos de entrada'!D251","v":{"v":0,"d":"0.00%"}},{"$f":"+'datos de entrada'!E251","v":{"v":0,"d":"0.00%"}},{"$f":"+'datos de entrada'!F251","v":{"v":0,"d":"0.00%"}},{"$f":"+'datos de entrada'!G251","v":{"v":0,"d":"0.00%"}},null,{"$f":"+'datos de entrada'!I251","v":{"v":0,"d":"0 "}},{"$f":"+'datos de entrada'!J251","v":{"v":0,"d":"0 "}},{"$f":"+'datos de entrada'!K251","v":0},{"$f":"+'datos de entrada'!L251","v":{"v":0,"d":"0.00%"}},{"$f":"+'datos de entrada'!M251","v":{"v":0,"d":"0.00%"}},{"$f":"+'datos de entrada'!N251","v":{"v":0,"d":"0.00%"}},{"$f":"+'datos de entrada'!O251","v":{"v":0,"d":"0.00%"}}]
[{"$f":"+'datos de entrada'!A252","v":{"v":0,"d":"0 "}},{"$f":"+'datos de entrada'!B252","v":0},{"$f":"+'datos de entrada'!C252","v":0},{"$f":"+'datos de entrada'!D252","v":{"v":0,"d":"0.00%"}},{"$f":"+'datos de entrada'!E252","v":{"v":0,"d":"0.00%"}},{"$f":"+'datos de entrada'!F252","v":{"v":0,"d":"0.00%"}},{"$f":"+'datos de entrada'!G252","v":{"v":0,"d":"0.00%"}},null,{"$f":"+'datos de entrada'!I252","v":{"v":0,"d":"0 "}},{"$f":"+'datos de entrada'!J252","v":{"v":0,"d":"0 "}},{"$f":"+'datos de entrada'!K252","v":0},{"$f":"+'datos de entrada'!L252","v":{"v":0,"d":"0.00%"}},{"$f":"+'datos de entrada'!M252","v":{"v":0,"d":"0.00%"}},{"$f":"+'datos de entrada'!N252","v":{"v":0,"d":"0.00%"}},{"$f":"+'datos de entrada'!O252","v":{"v":0,"d":"0.00%"}}]
[{"$f":"+'datos de entrada'!A253","v":{"v":0,"d":"0 "}},{"$f":"+'datos de entrada'!B253","v":0},{"$f":"+'datos de entrada'!C253","v":0},{"$f":"+'datos de entrada'!D253","v":{"v":0,"d":"0.00%"}},{"$f":"+'datos de entrada'!E253","v":{"v":0,"d":"0.00%"}},{"$f":"+'datos de entrada'!F253","v":{"v":0,"d":"0.00%"}},{"$f":"+'datos de entrada'!G253","v":{"v":0,"d":"0.00%"}},null,{"$f":"+'datos de entrada'!I253","v":{"v":0,"d":"0 "}},{"$f":"+'datos de entrada'!J253","v":{"v":0,"d":"0 "}},{"$f":"+'datos de entrada'!K253","v":0},{"$f":"+'datos de entrada'!L253","v":{"v":0,"d":"0.00%"}},{"$f":"+'datos de entrada'!M253","v":{"v":0,"d":"0.00%"}},{"$f":"+'datos de entrada'!N253","v":{"v":0,"d":"0.00%"}},{"$f":"+'datos de entrada'!O253","v":{"v":0,"d":"0.00%"}}]
[null,null,{"$f":"SUM(C250:C254)","v":{"v":0,"d":"0.00"}},{"$nulls":7},{"$f":"SUM(K250:K254)","v":{"v":0,"d":"0.00"}}]
[]
[{"$f":"+'datos de entrada'!A256","v":{"v":0,"d":"0 "}},null,"COSTO","   FORMA DE PAGO",{"$nulls":4},{"$f":"+'datos de entrada'!I256","v":{"v":0,"d":"0 "}},null,"COSTO","   FORMA DE PAGO"]
["INSUMOS","CANTIDAD","UNITARIO","CONTADO","30 DIAS","60 DIAS","90 DIAS","INVENTARIO","INSUMOS","CANTIDAD","UNITARIO","CONTADO","30 DIAS","60 DIAS","90 DIAS","INVENTAR"]
[]
[{"$f":"+'datos de entrada'!A259","v":{"v":0,"d":"0 "}},{"$f":"+'datos de entrada'!B259","v":0},{"$f":"+'datos de entrada'!C259","v":0},{"$f":"+'datos de entrada'!D259","v":{"v":0,"d":"0.00%"}},{"$f":"+'datos de entrada'!E259","v":{"v":0,"d":"0.00%"}},{"$f":"+'datos de entrada'!F259","v":{"v":0,"d":"0.00%"}},{"$f":"+'datos de entrada'!G259","v":{"v":0,"d":"0.00%"}},{"$f":"+'datos de entrada'!H264","v":{"v":0,"d":"0 "}},{"$f":"+'datos de entrada'!I259","v":{"v":0,"d":"0 "}},{"$f":"+'datos de entrada'!J259","v":{"v":0,"d":"0 "}},{"$f":"+'datos de entrada'!K259","v":0},{"$f":"+'datos de entrada'!L259","v":{"v":0,"d":"0.00%"}},{"$f":"+'datos de entrada'!M259","v":{"v":0,"d":"0.00%"}},{"$f":"+'datos de entrada'!N259","v":{"v":0,"d":"0.00%"}},{"$f":"+'datos de entrada'!O259","v":{"v":0,"d":"0.00%"}},{"$f":"+'datos de entrada'!P264","v":{"v":0,"d":"0 "}}]
[{"$f":"+'datos de entrada'!A260","v":{"v":0,"d":"0 "}},{"$f":"+'datos de entrada'!B260","v":0},{"$f":"+'datos de entrada'!C260","v":0},{"$f":"+'datos de entrada'!D260","v":{"v":0,"d":"0.00%"}},{"$f":"+'datos de entrada'!E260","v":{"v":0,"d":"0.00%"}},{"$f":"+'datos de entrada'!F260","v":{"v":0,"d":"0.00%"}},{"$f":"+'datos de entrada'!G260","v":{"v":0,"d":"0.00%"}},null,{"$f":"+'datos de entrada'!I260","v":{"v":0,"d":"0 "}},{"$f":"+'datos de entrada'!J260","v":{"v":0,"d":"0 "}},{"$f":"+'datos de entrada'!K260","v":0},{"$f":"+'datos de entrada'!L260","v":{"v":0,"d":"0.00%"}},{"$f":"+'datos de entrada'!M260","v":{"v":0,"d":"0.00%"}},{"$f":"+'datos de entrada'!N260","v":{"v":0,"d":"0.00%"}},{"$f":"+'datos de entrada'!O260","v":{"v":0,"d":"0.00%"}}]
[{"$f":"+'datos de entrada'!A261","v":{"v":0,"d":"0 "}},{"$f":"+'datos de entrada'!B261","v":0},{"$f":"+'datos de entrada'!C261","v":0},{"$f":"+'datos de entrada'!D261","v":{"v":0,"d":"0.00%"}},{"$f":"+'datos de entrada'!E261","v":{"v":0,"d":"0.00%"}},{"$f":"+'datos de entrada'!F261","v":{"v":0,"d":"0.00%"}},{"$f":"+'datos de entrada'!G261","v":{"v":0,"d":"0.00%"}},null,{"$f":"+'datos de entrada'!I261","v":{"v":0,"d":"0 "}},{"$f":"+'datos de entrada'!J261","v":{"v":0,"d":"0 "}},{"$f":"+'datos de entrada'!K261","v":0},{"$f":"+'datos de entrada'!L261","v":{"v":0,"d":"0.00%"}},{"$f":"+'datos de entrada'!M261","v":{"v":0,"d":"0.00%"}},{"$f":"+'datos de entrada'!N261","v":{"v":0,"d":"0.00%"}},{"$f":"+'datos de entrada'!O261","v":{"v":0,"d":"0.00%"}}]
[{"$f":"+'datos de entrada'!A262","v":{"v":0,"d":"0 "}},{"$f":"+'datos de entrada'!B262","v":0},{"$f":"+'datos de entrada'!C262","v":0},{"$f":"+'datos de entrada'!D262","v":{"v":0,"d":"0.00%"}},{"$f":"+'datos de entrada'!E262","v":{"v":0,"d":"0.00%"}},{"$f":"+'datos de entrada'!F262","v":{"v":0,"d":"0.00%"}},{"$f":"+'datos de entrada'!G262","v":{"v":0,"d":"0.00%"}},null,{"$f":"+'datos de entrada'!I262","v":{"v":0,"d":"0 "}},{"$f":"+'datos de entrada'!J262","v":{"v":0,"d":"0 "}},{"$f":"+'datos de entrada'!K262","v":0},{"$f":"+'datos de entrada'!L262","v":{"v":0,"d":"0.00%"}},{"$f":"+'datos de entrada'!M262","v":{"v":0,"d":"0.00%"}},{"$f":"+'datos de entrada'!N262","v":{"v":0,"d":"0.00%"}},{"$f":"+'datos de entrada'!O262","v":{"v":0,"d":"0.00%"}}]
[{"$f":"+'datos de entrada'!A263","v":{"v":0,"d":"0 "}},{"$f":"+'datos de entrada'!B263","v":0},{"$f":"+'datos de entrada'!C263","v":0},{"$f":"+'datos de entrada'!D263","v":{"v":0,"d":"0.00%"}},{"$f":"+'datos de entrada'!E263","v":{"v":0,"d":"0.00%"}},{"$f":"+'datos de entrada'!F263","v":{"v":0,"d":"0.00%"}},{"$f":"+'datos de entrada'!G263","v":{"v":0,"d":"0.00%"}},null,{"$f":"+'datos de entrada'!I263","v":{"v":0,"d":"0 "}},{"$f":"+'datos de entrada'!J263","v":{"v":0,"d":"0 "}},{"$f":"+'datos de entrada'!K263","v":0},{"$f":"+'datos de entrada'!L263","v":{"v":0,"d":"0.00%"}},{"$f":"+'datos de entrada'!M263","v":{"v":0,"d":"0.00%"}},{"$f":"+'datos de entrada'!N263","v":{"v":0,"d":"0.00%"}},{"$f":"+'datos de entrada'!O263","v":{"v":0,"d":"0.00%"}}]
[null,null,{"$f":"SUM(C260:C264)","v":{"v":0,"d":"0.00"}},{"$nulls":7},{"$f":"SUM(K260:K264)","v":{"v":0,"d":"0.00"}}]
[]
[]
[{"$f":"+'datos de entrada'!A267","v":{"v":0,"d":"0 "}},null,"COSTO","   FORMA DE PAGO",{"$nulls":4},{"$f":"+'datos de entrada'!I267","v":{"v":0,"d":"0 "}},null,"COSTO","   FORMA DE PAGO"]
["INSUMOS","CANTIDAD","UNITARIO","CONTADO","30 DIAS","60 DIAS","90 DIAS","INVENTARIO","INSUMOS","CANTIDAD","UNITARIO","CONTADO","30 DIAS","60 DIAS","90 DIAS","INVENTAR"]
[]
[{"$f":"+'datos de entrada'!A270","v":{"v":0,"d":"0 "}},{"$f":"+'datos de entrada'!B270","v":0},{"$f":"+'datos de entrada'!C270","v":0},{"$f":"+'datos de entrada'!D270","v":{"v":0,"d":"0.00%"}},{"$f":"+'datos de entrada'!E270","v":{"v":0,"d":"0.00%"}},{"$f":"+'datos de entrada'!F270","v":{"v":0,"d":"0.00%"}},{"$f":"+'datos de entrada'!G270","v":{"v":0,"d":"0.00%"}},{"$f":"+'datos de entrada'!H275","v":{"v":0,"d":"0 "}},{"$f":"+'datos de entrada'!I270","v":{"v":0,"d":"0 "}},{"$f":"+'datos de entrada'!J270","v":0},{"$f":"+'datos de entrada'!K270","v":0},{"$f":"+'datos de entrada'!L270","v":{"v":0,"d":"0.00%"}},{"$f":"+'datos de entrada'!M270","v":{"v":0,"d":"0.00%"}},{"$f":"+'datos de entrada'!N270","v":{"v":0,"d":"0.00%"}},{"$f":"+'datos de entrada'!O270","v":{"v":0,"d":"0.00%"}},{"$f":"+'datos de entrada'!P275","v":{"v":0,"d":"0 "}}]
[{"$f":"+'datos de entrada'!A271","v":{"v":0,"d":"0 "}},{"$f":"+'datos de entrada'!B271","v":0},{"$f":"+'datos de entrada'!C271","v":0},{"$f":"+'datos de entrada'!D271","v":{"v":0,"d":"0.00%"}},{"$f":"+'datos de entrada'!E271","v":{"v":0,"d":"0.00%"}},{"$f":"+'datos de entrada'!F271","v":{"v":0,"d":"0.00%"}},{"$f":"+'datos de entrada'!G271","v":{"v":0,"d":"0.00%"}},null,{"$f":"+'datos de entrada'!I271","v":{"v":0,"d":"0 "}},{"$f":"+'datos de entrada'!J271","v":0},{"$f":"+'datos de entrada'!K271","v":0},{"$f":"+'datos de entrada'!L271","v":{"v":0,"d":"0.00%"}},{"$f":"+'datos de entrada'!M271","v":{"v":0,"d":"0.00%"}},{"$f":"+'datos de entrada'!N271","v":{"v":0,"d":"0.00%"}},{"$f":"+'datos de entrada'!O271","v":{"v":0,"d":"0.00%"}}]
[{"$f":"+'datos de entrada'!A272","v":{"v":0,"d":"0 "}},{"$f":"+'datos de entrada'!B272","v":0},{"$f":"+'datos de entrada'!C272","v":0},{"$f":"+'datos de entrada'!D272","v":{"v":0,"d":"0.00%"}},{"$f":"+'datos de entrada'!E272","v":{"v":0,"d":"0.00%"}},{"$f":"+'datos de entrada'!F272","v":{"v":0,"d":"0.00%"}},{"$f":"+'datos de entrada'!G272","v":{"v":0,"d":"0.00%"}},null,{"$f":"+'datos de entrada'!I272","v":{"v":0,"d":"0 "}},{"$f":"+'datos de entrada'!J272","v":0},{"$f":"+'datos de entrada'!K272","v":0},{"$f":"+'datos de entrada'!L272","v":{"v":0,"d":"0.00%"}},{"$f":"+'datos de entrada'!M272","v":{"v":0,"d":"0.00%"}},{"$f":"+'datos de entrada'!N272","v":{"v":0,"d":"0.00%"}},{"$f":"+'datos de entrada'!O272","v":{"v":0,"d":"0.00%"}}]
[{"$f":"+'datos de entrada'!A273","v":{"v":0,"d":"0 "}},{"$f":"+'datos de entrada'!B273","v":0},{"$f":"+'datos de entrada'!C273","v":0},{"$f":"+'datos de entrada'!D273","v":{"v":0,"d":"0.00%"}},{"$f":"+'datos de entrada'!E273","v":{"v":0,"d":"0.00%"}},{"$f":"+'datos de entrada'!F273","v":{"v":0,"d":"0.00%"}},{"$f":"+'datos de entrada'!G273","v":{"v":0,"d":"0.00%"}},null,{"$f":"+'datos de entrada'!I273","v":{"v":0,"d":"0 "}},{"$f":"+'datos de entrada'!J273","v":0},{"$f":"+'datos de entrada'!K273","v":0},{"$f":"+'datos de entrada'!L273","v":{"v":0,"d":"0.00%"}},{"$f":"+'datos de entrada'!M273","v":{"v":0,"d":"0.00%"}},{"$f":"+'datos de entrada'!N273","v":{"v":0,"d":"0.00%"}},{"$f":"+'datos de entrada'!O273","v":{"v":0,"d":"0.00%"}}]
[{"$f":"+'datos de entrada'!A274","v":{"v":0,"d":"0 "}},{"$f":"+'datos de entrada'!B274","v":0},{"$f":"+'datos de entrada'!C274","v":0},{"$f":"+'datos de entrada'!D274","v":{"v":0,"d":"0.00%"}},{"$f":"+'datos de entrada'!E274","v":{"v":0,"d":"0.00%"}},{"$f":"+'datos de entrada'!F274","v":{"v":0,"d":"0.00%"}},{"$f":"+'datos de entrada'!G274","v":{"v":0,"d":"0.00%"}},null,{"$f":"+'datos de entrada'!I274","v":{"v":0,"d":"0 "}},{"$f":"+'datos de entrada'!J274","v":0},{"$f":"+'datos de entrada'!K274","v":0},{"$f":"+'datos de entrada'!L274","v":{"v":0,"d":"0.00%"}},{"$f":"+'datos de entrada'!M274","v":{"v":0,"d":"0.00%"}},{"$f":"+'datos de entrada'!N274","v":{"v":0,"d":"0.00%"}},{"$f":"+'datos de entrada'!O274","v":{"v":0,"d":"0.00%"}}]
[null,null,{"$f":"SUM(C271:C275)","v":{"v":0,"d":"0.00"}},{"$nulls":7},{"$f":"SUM(K271:K275)","v":{"v":0,"d":"0.00"}}]
[]
[{"$f":"+'datos de entrada'!A277","v":{"v":0,"d":"0 "}},null,"COSTO","   FORMA DE PAGO",{"$nulls":4},{"$f":"+'datos de entrada'!I277","v":{"v":0,"d":"0 "}},null,"COSTO","   FORMA DE PAGO"]
["INSUMOS","CANTIDAD","UNITARIO","CONTADO","30 DIAS","60 DIAS","90 DIAS","INVENTARIO","INSUMOS","CANTIDAD","UNITARIO","CONTADO","30 DIAS","60 DIAS","90 DIAS","INVENTAR"]
[]
[{"$f":"+'datos de entrada'!A280","v":{"v":0,"d":"0 "}},{"$f":"+'datos de entrada'!B280","v":0},{"$f":"+'datos de entrada'!C280","v":0},{"$f":"+'datos de entrada'!D280","v":{"v":0,"d":"0.00%"}},{"$f":"+'datos de entrada'!E280","v":{"v":0,"d":"0.00%"}},{"$f":"+'datos de entrada'!F280","v":{"v":0,"d":"0.00%"}},{"$f":"+'datos de entrada'!G280","v":{"v":0,"d":"0.00%"}},{"$f":"+'datos de entrada'!H285","v":{"v":0,"d":"0 "}},{"$f":"+'datos de entrada'!I280","v":{"v":0,"d":"0 "}},{"$f":"+'datos de entrada'!J280","v":0},{"$f":"+'datos de entrada'!K280","v":0},{"$f":"+'datos de entrada'!L280","v":{"v":0,"d":"0.00%"}},{"$f":"+'datos de entrada'!M280","v":{"v":0,"d":"0.00%"}},{"$f":"+'datos de entrada'!N280","v":{"v":0,"d":"0.00%"}},{"$f":"+'datos de entrada'!O280","v":{"v":0,"d":"0.00%"}},{"$f":"+'datos de entrada'!P285","v":{"v":0,"d":"0 "}}]
[{"$f":"+'datos de entrada'!A281","v":{"v":0,"d":"0 "}},{"$f":"+'datos de entrada'!B281","v":0},{"$f":"+'datos de entrada'!C281","v":0},{"$f":"+'datos de entrada'!D281","v":{"v":0,"d":"0.00%"}},{"$f":"+'datos de entrada'!E281","v":{"v":0,"d":"0.00%"}},{"$f":"+'datos de entrada'!F281","v":{"v":0,"d":"0.00%"}},{"$f":"+'datos de entrada'!G281","v":{"v":0,"d":"0.00%"}},null,{"$f":"+'datos de entrada'!I281","v":{"v":0,"d":"0 "}},{"$f":"+'datos de entrada'!J281","v":0},{"$f":"+'datos de entrada'!K281","v":0},{"$f":"+'datos de entrada'!L281","v":{"v":0,"d":"0.00%"}},{"$f":"+'datos de entrada'!M281","v":{"v":0,"d":"0.00%"}},{"$f":"+'datos de entrada'!N281","v":{"v":0,"d":"0.00%"}},{"$f":"+'datos de entrada'!O281","v":{"v":0,"d":"0.00%"}}]
[{"$f":"+'datos de entrada'!A282","v":{"v":0,"d":"0 "}},{"$f":"+'datos de entrada'!B282","v":0},{"$f":"+'datos de entrada'!C282","v":0},{"$f":"+'datos de entrada'!D282","v":{"v":0,"d":"0.00%"}},{"$f":"+'datos de entrada'!E282","v":{"v":0,"d":"0.00%"}},{"$f":"+'datos de entrada'!F282","v":{"v":0,"d":"0.00%"}},{"$f":"+'datos de entrada'!G282","v":{"v":0,"d":"0.00%"}},null,{"$f":"+'datos de entrada'!I282","v":{"v":0,"d":"0 "}},{"$f":"+'datos de entrada'!J282","v":0},{"$f":"+'datos de entrada'!K282","v":0},{"$f":"+'datos de entrada'!L282","v":{"v":0,"d":"0.00%"}},{"$f":"+'datos de entrada'!M282","v":{"v":0,"d":"0.00%"}},{"$f":"+'datos de entrada'!N282","v":{"v":0,"d":"0.00%"}},{"$f":"+'datos de entrada'!O282","v":{"v":0,"d":"0.00%"}}]
[{"$f":"+'datos de entrada'!A283","v":{"v":0,"d":"0 "}},{"$f":"+'datos de entrada'!B283","v":0},{"$f":"+'datos de entrada'!C283","v":0},{"$f":"+'datos de entrada'!D283","v":{"v":0,"d":"0.00%"}},{"$f":"+'datos de entrada'!E283","v":{"v":0,"d":"0.00%"}},{"$f":"+'datos de entrada'!F283","v":{"v":0,"d":"0.00%"}},{"$f":"+'datos de entrada'!G283","v":{"v":0,"d":"0.00%"}},null,{"$f":"+'datos de entrada'!I283","v":{"v":0,"d":"0 "}},{"$f":"+'datos de entrada'!J283","v":0},{"$f":"+'datos de entrada'!K283","v":0},{"$f":"+'datos de entrada'!L283","v":{"v":0,"d":"0.00%"}},{"$f":"+'datos de entrada'!M283","v":{"v":0,"d":"0.00%"}},{"$f":"+'datos de entrada'!N283","v":{"v":0,"d":"0.00%"}},{"$f":"+'datos de entrada'!O283","v":{"v":0,"d":"0.00%"}}]
[{"$f":"+'datos de entrada'!A284","v":{"v":0,"d":"0 "}},{"$f":"+'datos de entrada'!B284","v":0},{"$f":"+'datos de entrada'!C284","v":0},{"$f":"+'datos de entrada'!D284","v":{"v":0,"d":"0.00%"}},{"$f":"+'datos de entrada'!E284","v":{"v":0,"d":"0.00%"}},{"$f":"+'datos de entrada'!F284","v":{"v":0,"d":"0.00%"}},{"$f":"+'datos de entrada'!G284","v":{"v":0,"d":"0.00%"}},null,{"$f":"+'datos de entrada'!I284","v":{"v":0,"d":"0 "}},{"$f":"+'datos de entrada'!J284","v":0},{"$f":"+'datos de entrada'!K284","v":0},{"$f":"+'datos de entrada'!L284","v":{"v":0,"d":"0.00%"}},{"$f":"+'datos de entrada'!M284","v":{"v":0,"d":"0.00%"}},{"$f":"+'datos de entrada'!N284","v":{"v":0,"d":"0.00%"}},{"$f":"+'datos de entrada'!O284","v":{"v":0,"d":"0.00%"}}]
[null,null,{"$f":"SUM(C281:C285)","v":{"v":0,"d":"0.00"}},{"$nulls":7},{"$f":"SUM(K281:K285)","v":{"v":0,"d":"0.00"}}]
[]
[{"$f":"+'datos de entrada'!A287","v":{"v":0,"d":"0 "}},null,"COSTO","   FORMA DE PAGO",{"$nulls":4},{"$f":"+'datos de entrada'!I287","v":{"v":0,"d":"0 "}},null,"COSTO","   FORMA DE PAGO"]
["INSUMOS","CANTIDAD","UNITARIO","CONTADO","30 DIAS","60 DIAS","90 DIAS","INVENTARIO","INSUMOS","CANTIDAD","UNITARIO","CONTADO","30 DIAS","60 DIAS","90 DIAS","INVENTAR"]
[]
[{"$f":"+'datos de entrada'!A290","v":{"v":0,"d":"0 "}},{"$f":"+'datos de entrada'!B290","v":0},{"$f":"+'datos de entrada'!C290","v":0},{"$f":"+'datos de entrada'!D290","v":{"v":0,"d":"0.00%"}},{"$f":"+'datos de entrada'!E290","v":{"v":0,"d":"0.00%"}},{"$f":"+'datos de entrada'!F290","v":{"v":0,"d":"0.00%"}},{"$f":"+'datos de entrada'!G290","v":{"v":0,"d":"0.00%"}},{"$f":"+'datos de entrada'!H295","v":{"v":0,"d":"0 "}},{"$f":"+'datos de entrada'!I290","v":{"v":0,"d":"0 "}},{"$f":"+'datos de entrada'!J290","v":0},{"$f":"+'datos de entrada'!K290","v":0},{"$f":"+'datos de entrada'!L290","v":{"v":0,"d":"0.00%"}},{"$f":"+'datos de entrada'!M290","v":{"v":0,"d":"0.00%"}},{"$f":"+'datos de entrada'!N290","v":{"v":0,"d":"0.00%"}},{"$f":"+'datos de entrada'!O290","v":{"v":0,"d":"0.00%"}},{"$f":"+'datos de entrada'!P295","v":{"v":0,"d":"0 "}}]
[{"$f":"+'datos de entrada'!A291","v":{"v":0,"d":"0 "}},{"$f":"+'datos de entrada'!B291","v":0},{"$f":"+'datos de entrada'!C291","v":0},{"$f":"+'datos de entrada'!D291","v":{"v":0,"d":"0.00%"}},{"$f":"+'datos de entrada'!E291","v":{"v":0,"d":"0.00%"}},{"$f":"+'datos de entrada'!F291","v":{"v":0,"d":"0.00%"}},{"$f":"+'datos de entrada'!G291","v":{"v":0,"d":"0.00%"}},null,{"$f":"+'datos de entrada'!I291","v":{"v":0,"d":"0 "}},{"$f":"+'datos de entrada'!J291","v":0},{"$f":"+'datos de entrada'!K291","v":0},{"$f":"+'datos de entrada'!L291","v":{"v":0,"d":"0.00%"}},{"$f":"+'datos de entrada'!M291","v":{"v":0,"d":"0.00%"}},{"$f":"+'datos de entrada'!N291","v":{"v":0,"d":"0.00%"}},{"$f":"+'datos de entrada'!O291","v":{"v":0,"d":"0.00%"}}]
[{"$f":"+'datos de entrada'!A292","v":{"v":0,"d":"0 "}},{"$f":"+'datos de entrada'!B292","v":0},{"$f":"+'datos de entrada'!C292","v":0},{"$f":"+'datos de entrada'!D292","v":{"v":0,"d":"0.00%"}},{"$f":"+'datos de entrada'!E292","v":{"v":0,"d":"0.00%"}},{"$f":"+'datos de entrada'!F292","v":{"v":0,"d":"0.00%"}},{"$f":"+'datos de entrada'!G292","v":{"v":0,"d":"0.00%"}},null,{"$f":"+'datos de entrada'!I292","v":{"v":0,"d":"0 "}},{"$f":"+'datos de entrada'!J292","v":0},{"$f":"+'datos de entrada'!K292","v":0},{"$f":"+'datos de entrada'!L292","v":{"v":0,"d":"0.00%"}},{"$f":"+'datos de entrada'!M292","v":{"v":0,"d":"0.00%"}},{"$f":"+'datos de entrada'!N292","v":{"v":0,"d":"0.00%"}},{"$f":"+'datos de entrada'!O292","v":{"v":0,"d":"0.00%"}}]
[{"$f":"+'datos de entrada'!A293","v":{"v":0,"d":"0 "}},{"$f":"+'datos de entrada'!B293","v":0},{"$f":"+'datos de entrada'!C293","v":0},{"$f":"+'datos de entrada'!D293","v":{"v":0,"d":"0.00%"}},{"$f":"+'datos de entrada'!E293","v":{"v":0,"d":"0.00%"}},{"$f":"+'datos de entrada'!F293","v":{"v":0,"d":"0.00%"}},{"$f":"+'datos de entrada'!G293","v":{"v":0,"d":"0.00%"}},null,{"$f":"+'datos de entrada'!I293","v":{"v":0,"d":"0 "}},{"$f":"+'datos de entrada'!J293","v":0},{"$f":"+'datos de entrada'!K293","v":0},{"$f":"+'datos de entrada'!L293","v":{"v":0,"d":"0.00%"}},{"$f":"+'datos de entrada'!M293","v":{"v":0,"d":"0.00%"}},{"$f":"+'datos de entrada'!N293","v":{"v":0,"d":"0.00%"}},{"$f":"+'datos de entrada'!O293","v":{"v":0,"d":"0.00%"}}]
[{"$f":"+'datos de entrada'!A294","v":{"v":0,"d":"0 "}},{"$f":"+'datos de entrada'!B294","v":0},{"$f":"+'datos de entrada'!C294","v":0},{"$f":"+'datos de entrada'!D294","v":{"v":0,"d":"0.00%"}},{"$f":"+'datos de entrada'!E294","v":{"v":0,"d":"0.00%"}},{"$f":"+'datos de entrada'!F294","v":{"v":0,"d":"0.00%"}},{"$f":"+'datos de entrada'!G294","v":{"v":0,"d":"0.00%"}},null,{"$f":"+'datos de entrada'!I294","v":{"v":0,"d":"0 "}},{"$f":"+'datos de entrada'!J294","v":0},{"$f":"+'datos de entrada'!K294","v":0},{"$f":"+'datos de entrada'!L294","v":{"v":0,"d":"0.00%"}},{"$f":"+'datos de entrada'!M294","v":{"v":0,"d":"0.00%"}},{"$f":"+'datos de entrada'!N294","v":{"v":0,"d":"0.00%"}},{"$f":"+'datos de entrada'!O294","v":{"v":0,"d":"0.00%"}}]
[null,null,{"$f":"SUM(C291:C295)","v":{"v":0,"d":"0.00"}},{"$nulls":7},{"$f":"SUM(K291:K295)","v":{"v":0,"d":"0.00"}}]
[]
[{"$f":"+'datos de entrada'!A297","v":{"v":0,"d":"0 "}},null,"COSTO","   FORMA DE PAGO",{"$nulls":4},{"$f":"+'datos de entrada'!I297","v":{"v":0,"d":"0 "}},null,"COSTO","   FORMA DE PAGO"]
["INSUMOS","CANTIDAD","UNITARIO","CONTADO","30 DIAS","60 DIAS","90 DIAS","INVENTARIO","INSUMOS","CANTIDAD","UNITARIO","CONTADO","30 DIAS","60 DIAS","90 DIAS","INVENTAR"]
[]
[{"$f":"+'datos de entrada'!A300","v":{"v":0,"d":"0 "}},{"$f":"+'datos de entrada'!B300","v":0},{"$f":"+'datos de entrada'!C300","v":{"v":0,"d":"0 "}},{"$f":"+'datos de entrada'!D300","v":{"v":0,"d":"0.00%"}},{"$f":"+'datos de entrada'!E300","v":{"v":0,"d":"0.00%"}},{"$f":"+'datos de entrada'!F300","v":{"v":0,"d":"0.00%"}},{"$f":"+'datos de entrada'!G300","v":{"v":0,"d":"0.00%"}},{"$f":"+'datos de entrada'!H305","v":{"v":0,"d":"0 "}},{"$f":"+'datos de entrada'!I300","v":{"v":0,"d":"0 "}},{"$f":"+'datos de entrada'!J300","v":0},{"$f":"+'datos de entrada'!K300","v":0},{"$f":"+'datos de entrada'!L300","v":{"v":0,"d":"0.00%"}},{"$f":"+'datos de entrada'!M300","v":{"v":0,"d":"0.00%"}},{"$f":"+'datos de entrada'!N300","v":{"v":0,"d":"0.00%"}},{"$f":"+'datos de entrada'!O300","v":{"v":0,"d":"0.00%"}},{"$f":"+'datos de entrada'!P305","v":{"v":0,"d":"0 "}}]
[{"$f":"+'datos de entrada'!A301","v":{"v":0,"d":"0 "}},{"$f":"+'datos de entrada'!B301","v":0},{"$f":"+'datos de entrada'!C301","v":{"v":0,"d":"0 "}},{"$f":"+'datos de entrada'!D301","v":{"v":0,"d":"0.00%"}},{"$f":"+'datos de entrada'!E301","v":{"v":0,"d":"0.00%"}},{"$f":"+'datos de entrada'!F301","v":{"v":0,"d":"0.00%"}},{"$f":"+'datos de entrada'!G301","v":{"v":0,"d":"0.00%"}},null,{"$f":"+'datos de entrada'!I301","v":{"v":0,"d":"0 "}},{"$f":"+'datos de entrada'!J301","v":0},{"$f":"+'datos de entrada'!K301","v":0},{"$f":"+'datos de entrada'!L301","v":{"v":0,"d":"0.00%"}},{"$f":"+'datos de entrada'!M301","v":{"v":0,"d":"0.00%"}},{"$f":"+'datos de entrada'!N301","v":{"v":0,"d":"0.00%"}},{"$f":"+'datos de entrada'!O301","v":{"v":0,"d":"0.00%"}}]
[{"$f":"+'datos de entrada'!A302","v":{"v":0,"d":"0 "}},{"$f":"+'datos de entrada'!B302","v":0},{"$f":"+'datos de entrada'!C302","v":{"v":0,"d":"0 "}},{"$f":"+'datos de entrada'!D302","v":{"v":0,"d":"0.00%"}},{"$f":"+'datos de entrada'!E302","v":{"v":0,"d":"0.00%"}},{"$f":"+'datos de entrada'!F302","v":{"v":0,"d":"0.00%"}},{"$f":"+'datos de entrada'!G302","v":{"v":0,"d":"0.00%"}},null,{"$f":"+'datos de entrada'!I302","v":{"v":0,"d":"0 "}},{"$f":"+'datos de entrada'!J302","v":0},{"$f":"+'datos de entrada'!K302","v":0},{"$f":"+'datos de entrada'!L302","v":{"v":0,"d":"0.00%"}},{"$f":"+'datos de entrada'!M302","v":{"v":0,"d":"0.00%"}},{"$f":"+'datos de entrada'!N302","v":{"v":0,"d":"0.00%"}},{"$f":"+'datos de entrada'!O302","v":{"v":0,"d":"0.00%"}}]
[{"$f":"+'datos de entrada'!A303","v":{"v":0,"d":"0 "}},{"$f":"+'datos de entrada'!B303","v":0},{"$f":"+'datos de entrada'!C303","v":{"v":0,"d":"0 "}},{"$f":"+'datos de entrada'!D303","v":{"v":0,"d":"0.00%"}},{"$f":"+'datos de entrada'!E303","v":{"v":0,"d":"0.00%"}},{"$f":"+'datos de entrada'!F303","v":{"v":0,"d":"0.00%"}},{"$f":"+'datos de entrada'!G303","v":{"v":0,"d":"0.00%"}},null,{"$f":"+'datos de entrada'!I303","v":{"v":0,"d":"0 "}},{"$f":"+'datos de entrada'!J303","v":0},{"$f":"+'datos de entrada'!K303","v":0},{"$f":"+'datos de entrada'!L303","v":{"v":0,"d":"0.00%"}},{"$f":"+'datos de entrada'!M303","v":{"v":0,"d":"0.00%"}},{"$f":"+'datos de entrada'!N303","v":{"v":0,"d":"0.00%"}},{"$f":"+'datos de entrada'!O303","v":{"v":0,"d":"0.00%"}}]
[{"$f":"+'datos de entrada'!A304","v":{"v":0,"d":"0 "}},{"$f":"+'datos de entrada'!B304","v":0},{"$f":"+'datos de entrada'!C304","v":{"v":0,"d":"0 "}},{"$f":"+'datos de entrada'!D304","v":{"v":0,"d":"0.00%"}},{"$f":"+'datos de entrada'!E304","v":{"v":0,"d":"0.00%"}},{"$f":"+'datos de entrada'!F304","v":{"v":0,"d":"0.00%"}},{"$f":"+'datos de entrada'!G304","v":{"v":0,"d":"0.00%"}},null,{"$f":"+'datos de entrada'!I304","v":{"v":0,"d":"0 "}},{"$f":"+'datos de entrada'!J304","v":0},{"$f":"+'datos de entrada'!K304","v":0},{"$f":"+'datos de entrada'!L304","v":{"v":0,"d":"0.00%"}},{"$f":"+'datos de entrada'!M304","v":{"v":0,"d":"0.00%"}},{"$f":"+'datos de entrada'!N304","v":{"v":0,"d":"0.00%"}},{"$f":"+'datos de entrada'!O304","v":{"v":0,"d":"0.00%"}}]
[null,null,{"$f":"SUM(C301:C305)","v":{"v":0,"d":"0.00"}},{"$nulls":7},{"$f":"SUM(K301:K305)","v":{"v":0,"d":"0.00"}}]
[]
["MANO DE OBRA VARIABLE"]
[]
["PRODUCTO","COSTO UNITARIO MANO DE OBRA",{"$nulls":8},"comision"]
[null,"MANO  DE OBRA","proceso 1","costo","proceso 2","costo","proceso 3","costo","proceso 4","costo"]
[{"$f":"+'datos de entrada'!A311","v":{"v":0,"d":"0 "}},{"$f":"+'datos de entrada'!B311","v":{"v":0,"d":"$ 0"}},{"$f":"+'datos de entrada'!C311","v":{"v":0,"d":"0 "}},{"$f":"+'datos de entrada'!D311","v":{"v":0,"d":"$ 0"}},{"$f":"+'datos de entrada'!E311","v":{"v":0,"d":"0 "}},{"$f":"+'datos de entrada'!F311","v":{"v":0,"d":"0 "}},{"$f":"+'datos de entrada'!G311","v":{"v":0,"d":"0 "}},{"$f":"+'datos de entrada'!H311","v":{"v":0,"d":"0 "}},{"$f":"+'datos de entrada'!I311","v":{"v":0,"d":"0 "}},{"$f":"+'datos de entrada'!J311","v":{"v":0,"d":"0 "}},{"$f":"+'datos de entrada'!K311","v":{"v":0,"d":"0.00%"}}]
[{"$f":"+'datos de entrada'!A312","v":{"v":0,"d":"0 "}},{"$f":"+'datos de entrada'!B312","v":{"v":0,"d":"$ 0"}},{"$f":"+'datos de entrada'!C312","v":{"v":0,"d":"0 "}},{"$f":"+'datos de entrada'!D312","v":{"v":0,"d":"$ 0"}},{"$f":"+'datos de entrada'!E312","v":{"v":0,"d":"0 "}},{"$f":"+'datos de entrada'!F312","v":{"v":0,"d":"0 "}},{"$f":"+'datos de entrada'!G312","v":{"v":0,"d":"0 "}},{"$f":"+'datos de entrada'!H312","v":{"v":0,"d":"0 "}},{"$f":"+'datos de entrada'!I312","v":{"v":0,"d":"0 "}},{"$f":"+'datos de entrada'!J312","v":{"v":0,"d":"0 "}},{"$f":"+'datos de entrada'!K312","v":{"v":0,"d":"0.00%"}}]
[{"$f":"+'datos de entrada'!A313","v":{"v":0,"d":"0 "}},{"$f":"+'datos de entrada'!B313","v":{"v":0,"d":"$ 0"}},{"$f":"+'datos de entrada'!C313","v":{"v":0,"d":"0 "}},{"$f":"+'datos de entrada'!D313","v":{"v":0,"d":"$ 0"}},{"$f":"+'datos de entrada'!E313","v":{"v":0,"d":"0 "}},{"$f":"+'datos de entrada'!F313","v":{"v":0,"d":"0 "}},{"$f":"+'datos de entrada'!G313","v":{"v":0,"d":"0 "}},{"$f":"+'datos de entrada'!H313","v":{"v":0,"d":"0 "}},{"$f":"+'datos de entrada'!I313","v":{"v":0,"d":"0 "}},{"$f":"+'datos de entrada'!J313","v":{"v":0,"d":"0 "}},{"$f":"+'datos de entrada'!K313","v":{"v":0,"d":"0.00%"}}]
[{"$f":"+'datos de entrada'!A314","v":{"v":0,"d":"0 "}},{"$f":"+'datos de entrada'!B314","v":{"v":0,"d":"$ 0"}},{"$f":"+'datos de entrada'!C314","v":{"v":0,"d":"0 "}},{"$f":"+'datos de entrada'!D314","v":{"v":0,"d":"$ 0"}},{"$f":"+'datos de entrada'!E314","v":{"v":0,"d":"0 "}},{"$f":"+'datos de entrada'!F314","v":{"v":0,"d":"0 "}},{"$f":"+'datos de entrada'!G314","v":{"v":0,"d":"0 "}},{"$f":"+'datos de entrada'!H314","v":{"v":0,"d":"0 "}},{"$f":"+'datos de entrada'!I314","v":{"v":0,"d":"0 "}},{"$f":"+'datos de entrada'!J314","v":{"v":0,"d":"0 "}},{"$f":"+'datos de entrada'!K314","v":{"v":0,"d":"0.00%"}}]
[{"$f":"+'datos de entrada'!A315","v":{"v":0,"d":"0 "}},{"$f":"+'datos de entrada'!B315","v":{"v":0,"d":"$ 0"}},{"$f":"+'datos de entrada'!C315","v":{"v":0,"d":"0 "}},{"$f":"+'datos de entrada'!D315","v":{"v":0,"d":"$ 0"}},{"$f":"+'datos de entrada'!E315","v":{"v":0,"d":"0 "}},{"$f":"+'datos de entrada'!F315","v":{"v":0,"d":"0 "}},{"$f":"+'datos de entrada'!G315","v":{"v":0,"d":"0 "}},{"$f":"+'datos de entrada'!H315","v":{"v":0,"d":"0 "}},{"$f":"+'datos de entrada'!I315","v":{"v":0,"d":"0 "}},{"$f":"+'datos de entrada'!J315","v":{"v":0,"d":"0 "}},{"$f":"+'datos de entrada'!K315","v":{"v":0,"d":"0.00%"}}]
[{"$f":"+'datos de entrada'!A316","v":{"v":0,"d":"0 "}},{"$f":"+'datos de entrada'!B316","v":{"v":0,"d":"$ 0"}},{"$f":"+'datos de entrada'!C316","v":{"v":0,"d":"0 "}},{"$f":"+'datos de entrada'!D316","v":{"v":0,"d":"$ 0"}},{"$f":"+'datos de entrada'!E316","v":{"v":0,"d":"0 "}},{"$f":"+'datos de entrada'!F316","v":{"v":0,"d":"0 "}},{"$f":"+'datos de entrada'!G316","v":{"v":0,"d":"0 "}},{"$f":"+'datos de entrada'!H316","v":{"v":0,"d":"0 "}},{"$f":"+'datos de entrada'!I316","v":{"v":0,"d":"0 "}},{"$f":"+'datos de entrada'!J316","v":{"v":0,"d":"0 "}},{"$f":"+'datos de entrada'!K316","v":{"v":0,"d":"0.00%"}}]
[{"$f":"+'datos de entrada'!A317","v":{"v":0,"d":"0 "}},{"$f":"+'datos de entrada'!B317","v":{"v":0,"d":"$ 0"}},{"$f":"+'datos de entrada'!C317","v":{"v":0,"d":"0 "}},{"$f":"+'datos de entrada'!D317","v":{"v":0,"d":"$ 0"}},{"$f":"+'datos de entrada'!E317","v":{"v":0,"d":"0 "}},{"$f":"+'datos de entrada'!F317","v":{"v":0,"d":"0 "}},{"$f":"+'datos de entrada'!G317","v":{"v":0,"d":"0 "}},{"$f":"+'datos de entrada'!H317","v":{"v":0,"d":"0 "}},{"$f":"+'datos de entrada'!I317","v":{"v":0,"d":"0 "}},{"$f":"+'datos de entrada'!J317","v":{"v":0,"d":"0 "}},{"$f":"+'datos de entrada'!K317","v":{"v":0,"d":"0.00%"}}]
[{"$f":"+'datos de entrada'!A318","v":{"v":0,"d":"0 "}},{"$f":"+'datos de entrada'!B318","v":{"v":0,"d":"$ 0"}},{"$f":"+'datos de entrada'!C318","v":{"v":0,"d":"0 "}},{"$f":"+'datos de entrada'!D318","v":{"v":0,"d":"$ 0"}},{"$f":"+'datos de entrada'!E318","v":{"v":0,"d":"0 "}},{"$f":"+'datos de entrada'!F318","v":{"v":0,"d":"0 "}},{"$f":"+'datos de entrada'!G318","v":{"v":0,"d":"0 "}},{"$f":"+'datos de entrada'!H318","v":{"v":0,"d":"0 "}},{"$f":"+'datos de entrada'!I318","v":{"v":0,"d":"0 "}},{"$f":"+'datos de entrada'!J318","v":{"v":0,"d":"0 "}},{"$f":"+'datos de entrada'!K318","v":{"v":0,"d":"0.00%"}}]
[{"$f":"+'datos de entrada'!A319","v":{"v":0,"d":"0 "}},{"$f":"+'datos de entrada'!B319","v":{"v":0,"d":"$ 0"}},{"$f":"+'datos de entrada'!C319","v":{"v":0,"d":"0 "}},{"$f":"+'datos de entrada'!D319","v":{"v":0,"d":"$ 0"}},{"$f":"+'datos de entrada'!E319","v":{"v":0,"d":"0 "}},{"$f":"+'datos de entrada'!F319","v":{"v":0,"d":"0 "}},{"$f":"+'datos de entrada'!G319","v":{"v":0,"d":"0 "}},{"$f":"+'datos de entrada'!H319","v":{"v":0,"d":"0 "}},{"$f":"+'datos de entrada'!I319","v":{"v":0,"d":"0 "}},{"$f":"+'datos de entrada'!J319","v":{"v":0,"d":"0 "}},{"$f":"+'datos de entrada'!K319","v":{"v":0,"d":"0.00%"}}]
[{"$f":"+'datos de entrada'!A320","v":{"v":0,"d":"0 "}},{"$f":"+'datos de entrada'!B320","v":{"v":0,"d":"$ 0"}},{"$f":"+'datos de entrada'!C320","v":{"v":0,"d":"0 "}},{"$f":"+'datos de entrada'!D320","v":{"v":0,"d":"$ 0"}},{"$f":"+'datos de entrada'!E320","v":{"v":0,"d":"0 "}},{"$f":"+'datos de entrada'!F320","v":{"v":0,"d":"0 "}},{"$f":"+'datos de entrada'!G320","v":{"v":0,"d":"0 "}},{"$f":"+'datos de entrada'!H320","v":{"v":0,"d":"0 "}},{"$f":"+'datos de entrada'!I320","v":{"v":0,"d":"0 "}},{"$f":"+'datos de entrada'!J320","v":{"v":0,"d":"0 "}},{"$f":"+'datos de entrada'!K320","v":{"v":0,"d":"0.00%"}}]
[{"$f":"+'datos de entrada'!A321","v":{"v":0,"d":"0 "}},{"$f":"+'datos de entrada'!B321","v":{"v":0,"d":"$ 0"}},{"$f":"+'datos de entrada'!C321","v":{"v":0,"d":"0 "}},{"$f":"+'datos de entrada'!D321","v":{"v":0,"d":"$ 0"}},{"$f":"+'datos de entrada'!E321","v":{"v":0,"d":"0 "}},{"$f":"+'datos de entrada'!F321","v":{"v":0,"d":"0 "}},{"$f":"+'datos de entrada'!G321","v":{"v":0,"d":"0 "}},{"$f":"+'datos de entrada'!H321","v":{"v":0,"d":"0 "}},{"$f":"+'datos de entrada'!I321","v":{"v":0,"d":"0 "}},{"$f":"+'datos de entrada'!J321","v":{"v":0,"d":"0 "}},{"$f":"+'datos de entrada'!K321","v":{"v":0,"d":"0.00%"}}]
[{"$f":"+'datos de entrada'!A322","v":{"v":0,"d":"0 "}},{"$f":"+'datos de entrada'!B322","v":{"v":0,"d":"$ 0"}},{"$f":"+'datos de entrada'!C322","v":{"v":0,"d":"0 "}},{"$f":"+'datos de entrada'!D322","v":{"v":0,"d":"$ 0"}},{"$f":"+'datos de entrada'!E322","v":{"v":0,"d":"0 "}},{"$f":"+'datos de entrada'!F322","v":{"v":0,"d":"0 "}},{"$f":"+'datos de entrada'!G322","v":{"v":0,"d":"0 "}},{"$f":"+'datos de entrada'!H322","v":{"v":0,"d":"0 "}},{"$f":"+'datos de entrada'!I322","v":{"v":0,"d":"0 "}},{"$f":"+'datos de entrada'!J322","v":{"v":0,"d":"0 "}},{"$f":"+'datos de entrada'!K322","v":{"v":0,"d":"0.00%"}}]
[]
[]
["GASTOS DE VENTA VARIABLE (COMISIONES)"]
[]
["COMISION:"]
["FLETES Y GASTOS",{"$f":"+'datos de entrada'!B328","v":{"v":0,"d":"0.00%"}}]
[]
[]
["COSTOS FIJOS"]
[]
["COSTOS DE PRODUCCION"]
[]
["CONCEPTO","COSTO ","MES 1","MES 2","MES 3","MES 4","MES 5","MES 6","MES 7","MES 8","MES 9","MES 10","MES 11","MES 12","MES 13","MES 14","MES 15","MES 16","MES 17","MES 18","MES 19","MES 20","MES 21","MES 22","MES 23","MES 24","MES 25","MES 26","MES 27","MES 28","MES 29","MES 30","MES 31","MES 32","MES 33","MES 34","MES 35","MES 36"]
[null,"ANUAL"]
[{"$f":"+'datos de entrada'!A337","v":{"v":0,"d":"0 "}},{"$f":"+'datos de entrada'!B337","v":{"v":0,"d":"$ 0"}},{"$f":"+'datos de entrada'!C337","v":{"v":0,"d":"$ 0"}},{"$f":"+'datos de entrada'!D337","v":{"v":0,"d":"$ 0"}},{"$f":"+'datos de entrada'!E337","v":{"v":0,"d":"$ 0"}},{"$f":"+'datos de entrada'!F337","v":{"v":0,"d":"$ 0"}},{"$f":"+'datos de entrada'!G337","v":{"v":0,"d":"$ 0"}},{"$f":"+'datos de entrada'!H337","v":{"v":0,"d":"$ 0"}},{"$f":"+'datos de entrada'!I337","v":{"v":0,"d":"$ 0"}},{"$f":"+'datos de entrada'!J337","v":{"v":0,"d":"$ 0"}},{"$f":"+'datos de entrada'!K337","v":{"v":0,"d":"$ 0"}},{"$f":"+'datos de entrada'!L337","v":{"v":0,"d":"$ 0"}},{"$f":"+'datos de entrada'!M337","v":{"v":0,"d":"$ 0"}},{"$f":"+'datos de entrada'!N337","v":{"v":0,"d":"$ 0"}},{"$f":"+'datos de entrada'!O337","v":{"v":0,"d":"$ 0"}},{"$f":"+'datos de entrada'!P337","v":{"v":0,"d":"$ 0"}},{"$f":"+'datos de entrada'!Q337","v":{"v":0,"d":"$ 0"}},{"$f":"+'datos de entrada'!R337","v":{"v":0,"d":"$ 0"}},{"$f":"+'datos de entrada'!S337","v":{"v":0,"d":"$ 0"}},{"$f":"+'datos de entrada'!T337","v":{"v":0,"d":"$ 0"}},{"$f":"+'datos de entrada'!U337","v":{"v":0,"d":"$ 0"}},{"$f":"+'datos de entrada'!V337","v":{"v":0,"d":"$ 0"}},{"$f":"+'datos de entrada'!W337","v":{"v":0,"d":"$ 0"}},{"$f":"+'datos de entrada'!X337","v":{"v":0,"d":"$ 0"}},{"$f":"+'datos de entrada'!Y337","v":{"v":0,"d":"$ 0"}},{"$f":"+'datos de entrada'!Z337","v":{"v":0,"d":"$ 0"}},{"$f":"+'datos de entrada'!AA337","v":{"v":0,"d":"$ 0"}},{"$f":"+'datos de entrada'!AB337","v":{"v":0,"d":"$ 0"}},{"$f":"+'datos de entrada'!AC337","v":{"v":0,"d":"$ 0"}},{"$f":"+'datos de entrada'!AD337","v":{"v":0,"d":"$ 0"}},{"$f":"+'datos de entrada'!AE337","v":{"v":0,"d":"$ 0"}},{"$f":"+'datos de entrada'!AF337","v":{"v":0,"d":"$ 0"}},{"$f":"+'datos de entrada'!AG337","v":{"v":0,"d":"$ 0"}},{"$f":"+'datos de entrada'!AH337","v":{"v":0,"d":"$ 0"}},{"$f":"+'datos de entrada'!AI337","v":{"v":0,"d":"$ 0"}},{"$f":"+'datos de entrada'!AJ337","v":{"v":0,"d":"$ 0"}},{"$f":"+'datos de entrada'!AK337","v":{"v":0,"d":"$ 0"}},{"$f":"+'datos de entrada'!AL337","v":{"v":0,"d":"$ 0"}}]
[{"$f":"+'datos de entrada'!A338","v":{"v":0,"d":"0 "}},{"$f":"+'datos de entrada'!B338","v":{"v":0,"d":"$ 0"}},{"$f":"+'datos de entrada'!C338","v":{"v":0,"d":"$ 0"}},{"$f":"+'datos de entrada'!D338","v":{"v":0,"d":"$ 0"}},{"$f":"+'datos de entrada'!E338","v":{"v":0,"d":"$ 0"}},{"$f":"+'datos de entrada'!F338","v":{"v":0,"d":"$ 0"}},{"$f":"+'datos de entrada'!G338","v":{"v":0,"d":"$ 0"}},{"$f":"+'datos de entrada'!H338","v":{"v":0,"d":"$ 0"}},{"$f":"+'datos de entrada'!I338","v":{"v":0,"d":"$ 0"}},{"$f":"+'datos de entrada'!J338","v":{"v":0,"d":"$ 0"}},{"$f":"+'datos de entrada'!K338","v":{"v":0,"d":"$ 0"}},{"$f":"+'datos de entrada'!L338","v":{"v":0,"d":"$ 0"}},{"$f":"+'datos de entrada'!M338","v":{"v":0,"d":"$ 0"}},{"$f":"+'datos de entrada'!N338","v":{"v":0,"d":"$ 0"}},{"$f":"+'datos de entrada'!O338","v":{"v":0,"d":"$ 0"}},{"$f":"+'datos de entrada'!P338","v":{"v":0,"d":"$ 0"}},{"$f":"+'datos de entrada'!Q338","v":{"v":0,"d":"$ 0"}},{"$f":"+'datos de entrada'!R338","v":{"v":0,"d":"$ 0"}},{"$f":"+'datos de entrada'!S338","v":{"v":0,"d":"$ 0"}},{"$f":"+'datos de entrada'!T338","v":{"v":0,"d":"$ 0"}},{"$f":"+'datos de entrada'!U338","v":{"v":0,"d":"$ 0"}},{"$f":"+'datos de entrada'!V338","v":{"v":0,"d":"$ 0"}},{"$f":"+'datos de entrada'!W338","v":{"v":0,"d":"$ 0"}},{"$f":"+'datos de entrada'!X338","v":{"v":0,"d":"$ 0"}},{"$f":"+'datos de entrada'!Y338","v":{"v":0,"d":"$ 0"}},{"$f":"+'datos de entrada'!Z338","v":{"v":0,"d":"$ 0"}},{"$f":"+'datos de entrada'!AA338","v":{"v":0,"d":"$ 0"}},{"$f":"+'datos de entrada'!AB338","v":{"v":0,"d":"$ 0"}},{"$f":"+'datos de entrada'!AC338","v":{"v":0,"d":"$ 0"}},{"$f":"+'datos de entrada'!AD338","v":{"v":0,"d":"$ 0"}},{"$f":"+'datos de entrada'!AE338","v":{"v":0,"d":"$ 0"}},{"$f":"+'datos de entrada'!AF338","v":{"v":0,"d":"$ 0"}},{"$f":"+'datos de entrada'!AG338","v":{"v":0,"d":"$ 0"}},{"$f":"+'datos de entrada'!AH338","v":{"v":0,"d":"$ 0"}},{"$f":"+'datos de entrada'!AI338","v":{"v":0,"d":"$ 0"}},{"$f":"+'datos de entrada'!AJ338","v":{"v":0,"d":"$ 0"}},{"$f":"+'datos de entrada'!AK338","v":{"v":0,"d":"$ 0"}},{"$f":"+'datos de entrada'!AL338","v":{"v":0,"d":"$ 0"}}]
[{"$f":"+'datos de entrada'!A339","v":{"v":0,"d":"0 "}},{"$f":"+'datos de entrada'!B339","v":{"v":0,"d":"$ 0"}},{"$f":"+'datos de entrada'!C339","v":{"v":0,"d":"$ 0"}},{"$f":"+'datos de entrada'!D339","v":{"v":0,"d":"$ 0"}},{"$f":"+'datos de entrada'!E339","v":{"v":0,"d":"$ 0"}},{"$f":"+'datos de entrada'!F339","v":{"v":0,"d":"$ 0"}},{"$f":"+'datos de entrada'!G339","v":{"v":0,"d":"$ 0"}},{"$f":"+'datos de entrada'!H339","v":{"v":0,"d":"$ 0"}},{"$f":"+'datos de entrada'!I339","v":{"v":0,"d":"$ 0"}},{"$f":"+'datos de entrada'!J339","v":{"v":0,"d":"$ 0"}},{"$f":"+'datos de entrada'!K339","v":{"v":0,"d":"$ 0"}},{"$f":"+'datos de entrada'!L339","v":{"v":0,"d":"$ 0"}},{"$f":"+'datos de entrada'!M339","v":{"v":0,"d":"$ 0"}},{"$f":"+'datos de entrada'!N339","v":{"v":0,"d":"$ 0"}},{"$f":"+'datos de entrada'!O339","v":{"v":0,"d":"$ 0"}},{"$f":"+'datos de entrada'!P339","v":{"v":0,"d":"$ 0"}},{"$f":"+'datos de entrada'!Q339","v":{"v":0,"d":"$ 0"}},{"$f":"+'datos de entrada'!R339","v":{"v":0,"d":"$ 0"}},{"$f":"+'datos de entrada'!S339","v":{"v":0,"d":"$ 0"}},{"$f":"+'datos de entrada'!T339","v":{"v":0,"d":"$ 0"}},{"$f":"+'datos de entrada'!U339","v":{"v":0,"d":"$ 0"}},{"$f":"+'datos de entrada'!V339","v":{"v":0,"d":"$ 0"}},{"$f":"+'datos de entrada'!W339","v":{"v":0,"d":"$ 0"}},{"$f":"+'datos de entrada'!X339","v":{"v":0,"d":"$ 0"}},{"$f":"+'datos de entrada'!Y339","v":{"v":0,"d":"$ 0"}},{"$f":"+'datos de entrada'!Z339","v":{"v":0,"d":"$ 0"}},{"$f":"+'datos de entrada'!AA339","v":{"v":0,"d":"$ 0"}},{"$f":"+'datos de entrada'!AB339","v":{"v":0,"d":"$ 0"}},{"$f":"+'datos de entrada'!AC339","v":{"v":0,"d":"$ 0"}},{"$f":"+'datos de entrada'!AD339","v":{"v":0,"d":"$ 0"}},{"$f":"+'datos de entrada'!AE339","v":{"v":0,"d":"$ 0"}},{"$f":"+'datos de entrada'!AF339","v":{"v":0,"d":"$ 0"}},{"$f":"+'datos de entrada'!AG339","v":{"v":0,"d":"$ 0"}},{"$f":"+'datos de entrada'!AH339","v":{"v":0,"d":"$ 0"}},{"$f":"+'datos de entrada'!AI339","v":{"v":0,"d":"$ 0"}},{"$f":"+'datos de entrada'!AJ339","v":{"v":0,"d":"$ 0"}},{"$f":"+'datos de entrada'!AK339","v":{"v":0,"d":"$ 0"}},{"$f":"+'datos de entrada'!AL339","v":{"v":0,"d":"$ 0"}}]
[{"$f":"+'datos de entrada'!A340","v":{"v":0,"d":"0 "}},{"$f":"+'datos de entrada'!B340","v":{"v":0,"d":"$ 0"}},{"$f":"+'datos de entrada'!C340","v":{"v":0,"d":"$ 0"}},{"$f":"+'datos de entrada'!D340","v":{"v":0,"d":"$ 0"}},{"$f":"+'datos de entrada'!E340","v":{"v":0,"d":"$ 0"}},{"$f":"+'datos de entrada'!F340","v":{"v":0,"d":"$ 0"}},{"$f":"+'datos de entrada'!G340","v":{"v":0,"d":"$ 0"}},{"$f":"+'datos de entrada'!H340","v":{"v":0,"d":"$ 0"}},{"$f":"+'datos de entrada'!I340","v":{"v":0,"d":"$ 0"}},{"$f":"+'datos de entrada'!J340","v":{"v":0,"d":"$ 0"}},{"$f":"+'datos de entrada'!K340","v":{"v":0,"d":"$ 0"}},{"$f":"+'datos de entrada'!L340","v":{"v":0,"d":"$ 0"}},{"$f":"+'datos de entrada'!M340","v":{"v":0,"d":"$ 0"}},{"$f":"+'datos de entrada'!N340","v":{"v":0,"d":"$ 0"}},{"$f":"+'datos de entrada'!O340","v":{"v":0,"d":"$ 0"}},{"$f":"+'datos de entrada'!P340","v":{"v":0,"d":"$ 0"}},{"$f":"+'datos de entrada'!Q340","v":{"v":0,"d":"$ 0"}},{"$f":"+'datos de entrada'!R340","v":{"v":0,"d":"$ 0"}},{"$f":"+'datos de entrada'!S340","v":{"v":0,"d":"$ 0"}},{"$f":"+'datos de entrada'!T340","v":{"v":0,"d":"$ 0"}},{"$f":"+'datos de entrada'!U340","v":{"v":0,"d":"$ 0"}},{"$f":"+'datos de entrada'!V340","v":{"v":0,"d":"$ 0"}},{"$f":"+'datos de entrada'!W340","v":{"v":0,"d":"$ 0"}},{"$f":"+'datos de entrada'!X340","v":{"v":0,"d":"$ 0"}},{"$f":"+'datos de entrada'!Y340","v":{"v":0,"d":"$ 0"}},{"$f":"+'datos de entrada'!Z340","v":{"v":0,"d":"$ 0"}},{"$f":"+'datos de entrada'!AA340","v":{"v":0,"d":"$ 0"}},{"$f":"+'datos de entrada'!AB340","v":{"v":0,"d":"$ 0"}},{"$f":"+'datos de entrada'!AC340","v":{"v":0,"d":"$ 0"}},{"$f":"+'datos de entrada'!AD340","v":{"v":0,"d":"$ 0"}},{"$f":"+'datos de entrada'!AE340","v":{"v":0,"d":"$ 0"}},{"$f":"+'datos de entrada'!AF340","v":{"v":0,"d":"$ 0"}},{"$f":"+'datos de entrada'!AG340","v":{"v":0,"d":"$ 0"}},{"$f":"+'datos de entrada'!AH340","v":{"v":0,"d":"$ 0"}},{"$f":"+'datos de entrada'!AI340","v":{"v":0,"d":"$ 0"}},{"$f":"+'datos de entrada'!AJ340","v":{"v":0,"d":"$ 0"}},{"$f":"+'datos de entrada'!AK340","v":{"v":0,"d":"$ 0"}},{"$f":"+'datos de entrada'!AL340","v":{"v":0,"d":"$ 0"}}]
[{"$f":"+'datos de entrada'!A341","v":{"v":0,"d":"0 "}},{"$f":"+'datos de entrada'!B341","v":{"v":0,"d":"$ 0"}},{"$f":"+'datos de entrada'!C341","v":{"v":0,"d":"$ 0"}},{"$f":"+'datos de entrada'!D341","v":{"v":0,"d":"$ 0"}},{"$f":"+'datos de entrada'!E341","v":{"v":0,"d":"$ 0"}},{"$f":"+'datos de entrada'!F341","v":{"v":0,"d":"$ 0"}},{"$f":"+'datos de entrada'!G341","v":{"v":0,"d":"$ 0"}},{"$f":"+'datos de entrada'!H341","v":{"v":0,"d":"$ 0"}},{"$f":"+'datos de entrada'!I341","v":{"v":0,"d":"$ 0"}},{"$f":"+'datos de entrada'!J341","v":{"v":0,"d":"$ 0"}},{"$f":"+'datos de entrada'!K341","v":{"v":0,"d":"$ 0"}},{"$f":"+'datos de entrada'!L341","v":{"v":0,"d":"$ 0"}},{"$f":"+'datos de entrada'!M341","v":{"v":0,"d":"$ 0"}},{"$f":"+'datos de entrada'!N341","v":{"v":0,"d":"$ 0"}},{"$f":"+'datos de entrada'!O341","v":{"v":0,"d":"$ 0"}},{"$f":"+'datos de entrada'!P341","v":{"v":0,"d":"$ 0"}},{"$f":"+'datos de entrada'!Q341","v":{"v":0,"d":"$ 0"}},{"$f":"+'datos de entrada'!R341","v":{"v":0,"d":"$ 0"}},{"$f":"+'datos de entrada'!S341","v":{"v":0,"d":"$ 0"}},{"$f":"+'datos de entrada'!T341","v":{"v":0,"d":"$ 0"}},{"$f":"+'datos de entrada'!U341","v":{"v":0,"d":"$ 0"}},{"$f":"+'datos de entrada'!V341","v":{"v":0,"d":"$ 0"}},{"$f":"+'datos de entrada'!W341","v":{"v":0,"d":"$ 0"}},{"$f":"+'datos de entrada'!X341","v":{"v":0,"d":"$ 0"}},{"$f":"+'datos de entrada'!Y341","v":{"v":0,"d":"$ 0"}},{"$f":"+'datos de entrada'!Z341","v":{"v":0,"d":"$ 0"}},{"$f":"+'datos de entrada'!AA341","v":{"v":0,"d":"$ 0"}},{"$f":"+'datos de entrada'!AB341","v":{"v":0,"d":"$ 0"}},{"$f":"+'datos de entrada'!AC341","v":{"v":0,"d":"$ 0"}},{"$f":"+'datos de entrada'!AD341","v":{"v":0,"d":"$ 0"}},{"$f":"+'datos de entrada'!AE341","v":{"v":0,"d":"$ 0"}},{"$f":"+'datos de entrada'!AF341","v":{"v":0,"d":"$ 0"}},{"$f":"+'datos de entrada'!AG341","v":{"v":0,"d":"$ 0"}},{"$f":"+'datos de entrada'!AH341","v":{"v":0,"d":"$ 0"}},{"$f":"+'datos de entrada'!AI341","v":{"v":0,"d":"$ 0"}},{"$f":"+'datos de entrada'!AJ341","v":{"v":0,"d":"$ 0"}},{"$f":"+'datos de entrada'!AK341","v":{"v":0,"d":"$ 0"}},{"$f":"+'datos de entrada'!AL341","v":{"v":0,"d":"$ 0"}}]
[{"$f":"+'datos de entrada'!A342","v":{"v":0,"d":"0 "}},{"$f":"+'datos de entrada'!B342","v":{"v":0,"d":"$ 0"}},{"$f":"+'datos de entrada'!C342","v":{"v":0,"d":"$ 0"}},{"$f":"+'datos de entrada'!D342","v":{"v":0,"d":"$ 0"}},{"$f":"+'datos de entrada'!E342","v":{"v":0,"d":"$ 0"}},{"$f":"+'datos de entrada'!F342","v":{"v":0,"d":"$ 0"}},{"$f":"+'datos de entrada'!G342","v":{"v":0,"d":"$ 0"}},{"$f":"+'datos de entrada'!H342","v":{"v":0,"d":"$ 0"}},{"$f":"+'datos de entrada'!I342","v":{"v":0,"d":"$ 0"}},{"$f":"+'datos de entrada'!J342","v":{"v":0,"d":"$ 0"}},{"$f":"+'datos de entrada'!K342","v":{"v":0,"d":"$ 0"}},{"$f":"+'datos de entrada'!L342","v":{"v":0,"d":"$ 0"}},{"$f":"+'datos de entrada'!M342","v":{"v":0,"d":"$ 0"}},{"$f":"+'datos de entrada'!N342","v":{"v":0,"d":"$ 0"}},{"$f":"+'datos de entrada'!O342","v":{"v":0,"d":"$ 0"}},{"$f":"+'datos de entrada'!P342","v":{"v":0,"d":"$ 0"}},{"$f":"+'datos de entrada'!Q342","v":{"v":0,"d":"$ 0"}},{"$f":"+'datos de entrada'!R342","v":{"v":0,"d":"$ 0"}},{"$f":"+'datos de entrada'!S342","v":{"v":0,"d":"$ 0"}},{"$f":"+'datos de entrada'!T342","v":{"v":0,"d":"$ 0"}},{"$f":"+'datos de entrada'!U342","v":{"v":0,"d":"$ 0"}},{"$f":"+'datos de entrada'!V342","v":{"v":0,"d":"$ 0"}},{"$f":"+'datos de entrada'!W342","v":{"v":0,"d":"$ 0"}},{"$f":"+'datos de entrada'!X342","v":{"v":0,"d":"$ 0"}},{"$f":"+'datos de entrada'!Y342","v":{"v":0,"d":"$ 0"}},{"$f":"+'datos de entrada'!Z342","v":{"v":0,"d":"$ 0"}},{"$f":"+'datos de entrada'!AA342","v":{"v":0,"d":"$ 0"}},{"$f":"+'datos de entrada'!AB342","v":{"v":0,"d":"$ 0"}},{"$f":"+'datos de entrada'!AC342","v":{"v":0,"d":"$ 0"}},{"$f":"+'datos de entrada'!AD342","v":{"v":0,"d":"$ 0"}},{"$f":"+'datos de entrada'!AE342","v":{"v":0,"d":"$ 0"}},{"$f":"+'datos de entrada'!AF342","v":{"v":0,"d":"$ 0"}},{"$f":"+'datos de entrada'!AG342","v":{"v":0,"d":"$ 0"}},{"$f":"+'datos de entrada'!AH342","v":{"v":0,"d":"$ 0"}},{"$f":"+'datos de entrada'!AI342","v":{"v":0,"d":"$ 0"}},{"$f":"+'datos de entrada'!AJ342","v":{"v":0,"d":"$ 0"}},{"$f":"+'datos de entrada'!AK342","v":{"v":0,"d":"$ 0"}},{"$f":"+'datos de entrada'!AL342","v":{"v":0,"d":"$ 0"}}]
[{"$f":"+'datos de entrada'!A343","v":{"v":0,"d":"0 "}},{"$f":"+'datos de entrada'!B343","v":{"v":0,"d":"$ 0"}},{"$f":"+'datos de entrada'!C343","v":{"v":0,"d":"$ 0"}},{"$f":"+'datos de entrada'!D343","v":{"v":0,"d":"$ 0"}},{"$f":"+'datos de entrada'!E343","v":{"v":0,"d":"$ 0"}},{"$f":"+'datos de entrada'!F343","v":{"v":0,"d":"$ 0"}},{"$f":"+'datos de entrada'!G343","v":{"v":0,"d":"$ 0"}},{"$f":"+'datos de entrada'!H343","v":{"v":0,"d":"$ 0"}},{"$f":"+'datos de entrada'!I343","v":{"v":0,"d":"$ 0"}},{"$f":"+'datos de entrada'!J343","v":{"v":0,"d":"$ 0"}},{"$f":"+'datos de entrada'!K343","v":{"v":0,"d":"$ 0"}},{"$f":"+'datos de entrada'!L343","v":{"v":0,"d":"$ 0"}},{"$f":"+'datos de entrada'!M343","v":{"v":0,"d":"$ 0"}},{"$f":"+'datos de entrada'!N343","v":{"v":0,"d":"$ 0"}},{"$f":"+'datos de entrada'!O343","v":{"v":0,"d":"$ 0"}},{"$f":"+'datos de entrada'!P343","v":{"v":0,"d":"$ 0"}},{"$f":"+'datos de entrada'!Q343","v":{"v":0,"d":"$ 0"}},{"$f":"+'datos de entrada'!R343","v":{"v":0,"d":"$ 0"}},{"$f":"+'datos de entrada'!S343","v":{"v":0,"d":"$ 0"}},{"$f":"+'datos de entrada'!T343","v":{"v":0,"d":"$ 0"}},{"$f":"+'datos de entrada'!U343","v":{"v":0,"d":"$ 0"}},{"$f":"+'datos de entrada'!V343","v":{"v":0,"d":"$ 0"}},{"$f":"+'datos de entrada'!W343","v":{"v":0,"d":"$ 0"}},{"$f":"+'datos de entrada'!X343","v":{"v":0,"d":"$ 0"}},{"$f":"+'datos de entrada'!Y343","v":{"v":0,"d":"$ 0"}},{"$f":"+'datos de entrada'!Z343","v":{"v":0,"d":"$ 0"}},{"$f":"+'datos de entrada'!AA343","v":{"v":0,"d":"$ 0"}},{"$f":"+'datos de entrada'!AB343","v":{"v":0,"d":"$ 0"}},{"$f":"+'datos de entrada'!AC343","v":{"v":0,"d":"$ 0"}},{"$f":"+'datos de entrada'!AD343","v":{"v":0,"d":"$ 0"}},{"$f":"+'datos de entrada'!AE343","v":{"v":0,"d":"$ 0"}},{"$f":"+'datos de entrada'!AF343","v":{"v":0,"d":"$ 0"}},{"$f":"+'datos de entrada'!AG343","v":{"v":0,"d":"$ 0"}},{"$f":"+'datos de entrada'!AH343","v":{"v":0,"d":"$ 0"}},{"$f":"+'datos de entrada'!AI343","v":{"v":0,"d":"$ 0"}},{"$f":"+'datos de entrada'!AJ343","v":{"v":0,"d":"$ 0"}},{"$f":"+'datos de entrada'!AK343","v":{"v":0,"d":"$ 0"}},{"$f":"+'datos de entrada'!AL343","v":{"v":0,"d":"$ 0"}}]
[{"$f":"+'datos de entrada'!A344","v":{"v":0,"d":"0 "}},{"$f":"+'datos de entrada'!B344","v":{"v":0,"d":"$ 0"}},{"$f":"+'datos de entrada'!C344","v":{"v":0,"d":"$ 0"}},{"$f":"+'datos de entrada'!D344","v":{"v":0,"d":"$ 0"}},{"$f":"+'datos de entrada'!E344","v":{"v":0,"d":"$ 0"}},{"$f":"+'datos de entrada'!F344","v":{"v":0,"d":"$ 0"}},{"$f":"+'datos de entrada'!G344","v":{"v":0,"d":"$ 0"}},{"$f":"+'datos de entrada'!H344","v":{"v":0,"d":"$ 0"}},{"$f":"+'datos de entrada'!I344","v":{"v":0,"d":"$ 0"}},{"$f":"+'datos de entrada'!J344","v":{"v":0,"d":"$ 0"}},{"$f":"+'datos de entrada'!K344","v":{"v":0,"d":"$ 0"}},{"$f":"+'datos de entrada'!L344","v":{"v":0,"d":"$ 0"}},{"$f":"+'datos de entrada'!M344","v":{"v":0,"d":"$ 0"}},{"$f":"+'datos de entrada'!N344","v":{"v":0,"d":"$ 0"}},{"$f":"+'datos de entrada'!O344","v":{"v":0,"d":"$ 0"}},{"$f":"+'datos de entrada'!P344","v":{"v":0,"d":"$ 0"}},{"$f":"+'datos de entrada'!Q344","v":{"v":0,"d":"$ 0"}},{"$f":"+'datos de entrada'!R344","v":{"v":0,"d":"$ 0"}},{"$f":"+'datos de entrada'!S344","v":{"v":0,"d":"$ 0"}},{"$f":"+'datos de entrada'!T344","v":{"v":0,"d":"$ 0"}},{"$f":"+'datos de entrada'!U344","v":{"v":0,"d":"$ 0"}},{"$f":"+'datos de entrada'!V344","v":{"v":0,"d":"$ 0"}},{"$f":"+'datos de entrada'!W344","v":{"v":0,"d":"$ 0"}},{"$f":"+'datos de entrada'!X344","v":{"v":0,"d":"$ 0"}},{"$f":"+'datos de entrada'!Y344","v":{"v":0,"d":"$ 0"}},{"$f":"+'datos de entrada'!Z344","v":{"v":0,"d":"$ 0"}},{"$f":"+'datos de entrada'!AA344","v":{"v":0,"d":"$ 0"}},{"$f":"+'datos de entrada'!AB344","v":{"v":0,"d":"$ 0"}},{"$f":"+'datos de entrada'!AC344","v":{"v":0,"d":"$ 0"}},{"$f":"+'datos de entrada'!AD344","v":{"v":0,"d":"$ 0"}},{"$f":"+'datos de entrada'!AE344","v":{"v":0,"d":"$ 0"}},{"$f":"+'datos de entrada'!AF344","v":{"v":0,"d":"$ 0"}},{"$f":"+'datos de entrada'!AG344","v":{"v":0,"d":"$ 0"}},{"$f":"+'datos de entrada'!AH344","v":{"v":0,"d":"$ 0"}},{"$f":"+'datos de entrada'!AI344","v":{"v":0,"d":"$ 0"}},{"$f":"+'datos de entrada'!AJ344","v":{"v":0,"d":"$ 0"}},{"$f":"+'datos de entrada'!AK344","v":{"v":0,"d":"$ 0"}},{"$f":"+'datos de entrada'!AL344","v":{"v":0,"d":"$ 0"}}]
[null,null,{"$f":"SUM(C338:C345)","v":{"v":0,"d":"0 "}},{"v":0,"d":"0 "},{"v":0,"d":"0 "},{"v":0,"d":"0 "},{"v":0,"d":"0 "},{"v":0,"d":"0 "},{"v":0,"d":"0 "},{"v":0,"d":"0 "},{"v":0,"d":"0 "},{"v":0,"d":"0 "},{"v":0,"d":"0 "},{"v":0,"d":"0 "}]
[]
["MANO DE OBRA FIJA DIRECTA E INDIRECTA"]
[]
[]
["TIPO EMPLEADO","SALARIO MES","NUMERO DE EMPLEADOS POR ANO",{"$nulls":4},"NUMERO DE EMPLEADOS POR MES"]
[null,null,"ANO 1","ANO 2","ANO 3","MES 1","MES 2","MES 3","MES 4","MES 5","MES 6","MES 7","MES 8","MES 9","MES 10","MES 11","MES 12","MES 13","MES 14","MES 15","MES 16","MES 17","MES 18","MES 19","MES 20","MES 21","MES 22","MES 23","MES 24","MES 25","MES 26","MES 27","MES 28","MES 29","MES 30","MES 31","MES 32","MES 33","MES 34","MES 35","MES 36"]
[]
[{"$f":"+'datos de entrada'!A353","v":{"v":0,"d":"0 "}},{"$f":"+C354","v":{"v":0,"d":"$ 0"}},{"$f":"SUM(F354:Q354)/12","v":{"v":0,"d":"0 "}},{"$f":"SUM(R354:AC354)/12","v":{"v":0,"d":"0 "}},{"$f":"SUM(AD354:AO354)/12","v":{"v":0,"d":"0 "}},{"$f":"+'datos de entrada'!C325","v":{"v":0,"d":"$ 0"}},{"$f":"+'datos de entrada'!D325","v":{"v":0,"d":"$ 0"}},{"$f":"+'datos de entrada'!E325","v":{"v":0,"d":"$ 0"}},{"$f":"+'datos de entrada'!F325","v":{"v":0,"d":"$ 0"}},{"$f":"+'datos de entrada'!G325","v":{"v":0,"d":"$ 0"}},{"$f":"+'datos de entrada'!H325","v":{"v":0,"d":"$ 0"}},{"$f":"+'datos de entrada'!I325","v":{"v":0,"d":"$ 0"}},{"$f":"+'datos de entrada'!J325","v":{"v":0,"d":"$ 0"}},{"$f":"+'datos de entrada'!K325","v":{"v":0,"d":"$ 0"}},{"$f":"+'datos de entrada'!L325","v":{"v":0,"d":"$ 0"}},{"$f":"+'datos de entrada'!M325","v":{"v":0,"d":"$ 0"}},{"$f":"+'datos de entrada'!N325","v":{"v":0,"d":"$ 0"}},{"$f":"+'datos de entrada'!O325","v":{"v":0,"d":"$ 0"}},{"$f":"+'datos de entrada'!P325","v":{"v":0,"d":"$ 0"}},{"$f":"+'datos de entrada'!Q325","v":{"v":0,"d":"$ 0"}},{"$f":"+'datos de entrada'!R325","v":{"v":0,"d":"$ 0"}},{"$f":"+'datos de entrada'!S325","v":{"v":0,"d":"$ 0"}},{"$f":"+'datos de entrada'!T325","v":{"v":0,"d":"$ 0"}},{"$f":"+'datos de entrada'!U325","v":{"v":0,"d":"$ 0"}},{"$f":"+'datos de entrada'!V325","v":{"v":0,"d":"$ 0"}},{"$f":"+'datos de entrada'!W325","v":{"v":0,"d":"$ 0"}},{"$f":"+'datos de entrada'!X325","v":{"v":0,"d":"$ 0"}},{"$f":"+'datos de entrada'!Y325","v":{"v":0,"d":"$ 0"}},{"$f":"+'datos de entrada'!Z325","v":{"v":0,"d":"$ 0"}},{"$f":"+'datos de entrada'!AA325","v":{"v":0,"d":"$ 0"}},{"$f":"+'datos de entrada'!AB325","v":{"v":0,"d":"$ 0"}},{"$f":"+'datos de entrada'!AC325","v":{"v":0,"d":"$ 0"}},{"$f":"+'datos de entrada'!AD325","v":{"v":0,"d":"$ 0"}},{"$f":"+'datos de entrada'!AE325","v":{"v":0,"d":"$ 0"}},{"$f":"+'datos de entrada'!AF325","v":{"v":0,"d":"$ 0"}},{"$f":"+'datos de entrada'!AG325","v":{"v":0,"d":"$ 0"}},{"$f":"+'datos de entrada'!AH325","v":{"v":0,"d":"$ 0"}},{"$f":"+'datos de entrada'!AI325","v":{"v":0,"d":"$ 0"}},{"$f":"+'datos de entrada'!AJ325","v":{"v":0,"d":"$ 0"}},{"$f":"+'datos de entrada'!AK325","v":{"v":0,"d":"$ 0"}},{"$f":"+'datos de entrada'!AL325","v":{"v":0,"d":"$ 0"}},null,null,{"$f":"+'datos de entrada'!AR353","v":{"v":0,"d":"0 "}},{"$f":"+'datos de entrada'!AS353","v":{"v":0,"d":"0 "}}]
[{"$f":"+'datos de entrada'!A354","v":{"v":0,"d":"0 "}},{"$f":"+C355","v":{"v":0,"d":"$ 0"}},{"$f":"SUM(F355:Q355)/12","v":{"v":0,"d":"0 "}},{"$f":"SUM(R355:AC355)/12","v":{"v":0,"d":"0 "}},{"$f":"SUM(AD355:AO355)/12","v":{"v":0,"d":"0 "}},{"$f":"+'datos de entrada'!C326","v":{"v":0,"d":"$ 0"}},{"$f":"+'datos de entrada'!D326","v":{"v":0,"d":"$ 0"}},{"$f":"+'datos de entrada'!E326","v":{"v":0,"d":"$ 0"}},{"$f":"+'datos de entrada'!F326","v":{"v":0,"d":"$ 0"}},{"$f":"+'datos de entrada'!G326","v":{"v":0,"d":"$ 0"}},{"$f":"+'datos de entrada'!H326","v":{"v":0,"d":"$ 0"}},{"$f":"+'datos de entrada'!I326","v":{"v":0,"d":"$ 0"}},{"$f":"+'datos de entrada'!J326","v":{"v":0,"d":"$ 0"}},{"$f":"+'datos de entrada'!K326","v":{"v":0,"d":"$ 0"}},{"$f":"+'datos de entrada'!L326","v":{"v":0,"d":"$ 0"}},{"$f":"+'datos de entrada'!M326","v":{"v":0,"d":"$ 0"}},{"$f":"+'datos de entrada'!N326","v":{"v":0,"d":"$ 0"}},{"$f":"+'datos de entrada'!O326","v":{"v":0,"d":"$ 0"}},{"$f":"+'datos de entrada'!P326","v":{"v":0,"d":"$ 0"}},{"$f":"+'datos de entrada'!Q326","v":{"v":0,"d":"$ 0"}},{"$f":"+'datos de entrada'!R326","v":{"v":0,"d":"$ 0"}},{"$f":"+'datos de entrada'!S326","v":{"v":0,"d":"$ 0"}},{"$f":"+'datos de entrada'!T326","v":{"v":0,"d":"$ 0"}},{"$f":"+'datos de entrada'!U326","v":{"v":0,"d":"$ 0"}},{"$f":"+'datos de entrada'!V326","v":{"v":0,"d":"$ 0"}},{"$f":"+'datos de entrada'!W326","v":{"v":0,"d":"$ 0"}},{"$f":"+'datos de entrada'!X326","v":{"v":0,"d":"$ 0"}},{"$f":"+'datos de entrada'!Y326","v":{"v":0,"d":"$ 0"}},{"$f":"+'datos de entrada'!Z326","v":{"v":0,"d":"$ 0"}},{"$f":"+'datos de entrada'!AA326","v":{"v":0,"d":"$ 0"}},{"$f":"+'datos de entrada'!AB326","v":{"v":0,"d":"$ 0"}},{"$f":"+'datos de entrada'!AC326","v":{"v":0,"d":"$ 0"}},{"$f":"+'datos de entrada'!AD326","v":{"v":0,"d":"$ 0"}},{"$f":"+'datos de entrada'!AE326","v":{"v":0,"d":"$ 0"}},{"$f":"+'datos de entrada'!AF326","v":{"v":0,"d":"$ 0"}},{"$f":"+'datos de entrada'!AG326","v":{"v":0,"d":"$ 0"}},{"$f":"+'datos de entrada'!AH326","v":{"v":0,"d":"$ 0"}},{"$f":"+'datos de entrada'!AI326","v":{"v":0,"d":"$ 0"}},{"$f":"+'datos de entrada'!AJ326","v":{"v":0,"d":"$ 0"}},{"$f":"+'datos de entrada'!AK326","v":{"v":0,"d":"$ 0"}},{"$f":"+'datos de entrada'!AL326","v":{"v":0,"d":"$ 0"}},null,null,{"$f":"+'datos de entrada'!AR354","v":{"v":0,"d":"0 "}},{"$f":"+'datos de entrada'!AS354","v":{"v":0,"d":"0 "}}]
[{"$f":"+'datos de entrada'!A355","v":{"v":0,"d":"0 "}},{"v":0,"d":"$ 0"},{"v":0,"d":"0 "},{"v":0,"d":"0 "},{"v":0,"d":"0 "},{"$f":"+'datos de entrada'!C327","v":{"v":0,"d":"$ 0"}},{"$f":"+'datos de entrada'!D327","v":{"v":0,"d":"$ 0"}},{"$f":"+'datos de entrada'!E327","v":{"v":0,"d":"$ 0"}},{"$f":"+'datos de entrada'!F327","v":{"v":0,"d":"$ 0"}},{"$f":"+'datos de entrada'!G327","v":{"v":0,"d":"$ 0"}},{"$f":"+'datos de entrada'!H327","v":{"v":0,"d":"$ 0"}},{"$f":"+'datos de entrada'!I327","v":{"v":0,"d":"$ 0"}},{"$f":"+'datos de entrada'!J327","v":{"v":0,"d":"$ 0"}},{"$f":"+'datos de entrada'!K327","v":{"v":0,"d":"$ 0"}},{"$f":"+'datos de entrada'!L327","v":{"v":0,"d":"$ 0"}},{"$f":"+'datos de entrada'!M327","v":{"v":0,"d":"$ 0"}},{"$f":"+'datos de entrada'!N327","v":{"v":0,"d":"$ 0"}},{"$f":"+'datos de entrada'!O327","v":{"v":0,"d":"$ 0"}},{"$f":"+'datos de entrada'!P327","v":{"v":0,"d":"$ 0"}},{"$f":"+'datos de entrada'!Q327","v":{"v":0,"d":"$ 0"}},{"$f":"+'datos de entrada'!R327","v":{"v":0,"d":"$ 0"}},{"$f":"+'datos de entrada'!S327","v":{"v":0,"d":"$ 0"}},{"$f":"+'datos de entrada'!T327","v":{"v":0,"d":"$ 0"}},{"$f":"+'datos de entrada'!U327","v":{"v":0,"d":"$ 0"}},{"$f":"+'datos de entrada'!V327","v":{"v":0,"d":"$ 0"}},{"$f":"+'datos de entrada'!W327","v":{"v":0,"d":"$ 0"}},{"$f":"+'datos de entrada'!X327","v":{"v":0,"d":"$ 0"}},{"$f":"+'datos de entrada'!Y327","v":{"v":0,"d":"$ 0"}},{"$f":"+'datos de entrada'!Z327","v":{"v":0,"d":"$ 0"}},{"$f":"+'datos de entrada'!AA327","v":{"v":0,"d":"$ 0"}},{"$f":"+'datos de entrada'!AB327","v":{"v":0,"d":"$ 0"}},{"$f":"+'datos de entrada'!AC327","v":{"v":0,"d":"$ 0"}},{"$f":"+'datos de entrada'!AD327","v":{"v":0,"d":"$ 0"}},{"$f":"+'datos de entrada'!AE327","v":{"v":0,"d":"$ 0"}},{"$f":"+'datos de entrada'!AF327","v":{"v":0,"d":"$ 0"}},{"$f":"+'datos de entrada'!AG327","v":{"v":0,"d":"$ 0"}},{"$f":"+'datos de entrada'!AH327","v":{"v":0,"d":"$ 0"}},{"$f":"+'datos de entrada'!AI327","v":{"v":0,"d":"$ 0"}},{"$f":"+'datos de entrada'!AJ327","v":{"v":0,"d":"$ 0"}},{"$f":"+'datos de entrada'!AK327","v":{"v":0,"d":"$ 0"}},{"$f":"+'datos de entrada'!AL327","v":{"v":0,"d":"$ 0"}},null,null,{"$f":"+'datos de entrada'!AR355","v":{"v":0,"d":"0 "}},{"$f":"+'datos de entrada'!AS355","v":{"v":0,"d":"0 "}}]
[{"$f":"+'datos de entrada'!A356","v":{"v":0,"d":"0 "}},{"v":0,"d":"$ 0"},{"v":0,"d":"0 "},{"v":0,"d":"0 "},{"v":0,"d":"0 "},{"$f":"+'datos de entrada'!C328","v":{"v":0,"d":"$ 0"}},{"$f":"+'datos de entrada'!D328","v":{"v":0,"d":"$ 0"}},{"$f":"+'datos de entrada'!E328","v":{"v":0,"d":"$ 0"}},{"$f":"+'datos de entrada'!F328","v":{"v":0,"d":"$ 0"}},{"$f":"+'datos de entrada'!G328","v":{"v":0,"d":"$ 0"}},{"$f":"+'datos de entrada'!H328","v":{"v":0,"d":"$ 0"}},{"$f":"+'datos de entrada'!I328","v":{"v":0,"d":"$ 0"}},{"$f":"+'datos de entrada'!J328","v":{"v":0,"d":"$ 0"}},{"$f":"+'datos de entrada'!K328","v":{"v":0,"d":"$ 0"}},{"$f":"+'datos de entrada'!L328","v":{"v":0,"d":"$ 0"}},{"$f":"+'datos de entrada'!M328","v":{"v":0,"d":"$ 0"}},{"$f":"+'datos de entrada'!N328","v":{"v":0,"d":"$ 0"}},{"$f":"+'datos de entrada'!O328","v":{"v":0,"d":"$ 0"}},{"$f":"+'datos de entrada'!P328","v":{"v":0,"d":"$ 0"}},{"$f":"+'datos de entrada'!Q328","v":{"v":0,"d":"$ 0"}},{"$f":"+'datos de entrada'!R328","v":{"v":0,"d":"$ 0"}},{"$f":"+'datos de entrada'!S328","v":{"v":0,"d":"$ 0"}},{"$f":"+'datos de entrada'!T328","v":{"v":0,"d":"$ 0"}},{"$f":"+'datos de entrada'!U328","v":{"v":0,"d":"$ 0"}},{"$f":"+'datos de entrada'!V328","v":{"v":0,"d":"$ 0"}},{"$f":"+'datos de entrada'!W328","v":{"v":0,"d":"$ 0"}},{"$f":"+'datos de entrada'!X328","v":{"v":0,"d":"$ 0"}},{"$f":"+'datos de entrada'!Y328","v":{"v":0,"d":"$ 0"}},{"$f":"+'datos de entrada'!Z328","v":{"v":0,"d":"$ 0"}},{"$f":"+'datos de entrada'!AA328","v":{"v":0,"d":"$ 0"}},{"$f":"+'datos de entrada'!AB328","v":{"v":0,"d":"$ 0"}},{"$f":"+'datos de entrada'!AC328","v":{"v":0,"d":"$ 0"}},{"$f":"+'datos de entrada'!AD328","v":{"v":0,"d":"$ 0"}},{"$f":"+'datos de entrada'!AE328","v":{"v":0,"d":"$ 0"}},{"$f":"+'datos de entrada'!AF328","v":{"v":0,"d":"$ 0"}},{"$f":"+'datos de entrada'!AG328","v":{"v":0,"d":"$ 0"}},{"$f":"+'datos de entrada'!AH328","v":{"v":0,"d":"$ 0"}},{"$f":"+'datos de entrada'!AI328","v":{"v":0,"d":"$ 0"}},{"$f":"+'datos de entrada'!AJ328","v":{"v":0,"d":"$ 0"}},{"$f":"+'datos de entrada'!AK328","v":{"v":0,"d":"$ 0"}},{"$f":"+'datos de entrada'!AL328","v":{"v":0,"d":"$ 0"}},null,null,{"$f":"+'datos de entrada'!AR356","v":{"v":0,"d":"0 "}},{"$f":"+'datos de entrada'!AS356","v":{"v":0,"d":"0 "}}]
[{"$f":"+'datos de entrada'!A357","v":{"v":0,"d":"0 "}},{"v":0,"d":"$ 0"},{"v":0,"d":"0 "},{"v":0,"d":"0 "},{"v":0,"d":"0 "},{"$f":"+'datos de entrada'!C329","v":{"v":0,"d":"$ 0"}},{"$f":"+'datos de entrada'!D329","v":{"v":0,"d":"$ 0"}},{"$f":"+'datos de entrada'!E329","v":{"v":0,"d":"$ 0"}},{"$f":"+'datos de entrada'!F329","v":{"v":0,"d":"$ 0"}},{"$f":"+'datos de entrada'!G329","v":{"v":0,"d":"$ 0"}},{"$f":"+'datos de entrada'!H329","v":{"v":0,"d":"$ 0"}},{"$f":"+'datos de entrada'!I329","v":{"v":0,"d":"$ 0"}},{"$f":"+'datos de entrada'!J329","v":{"v":0,"d":"$ 0"}},{"$f":"+'datos de entrada'!K329","v":{"v":0,"d":"$ 0"}},{"$f":"+'datos de entrada'!L329","v":{"v":0,"d":"$ 0"}},{"$f":"+'datos de entrada'!M329","v":{"v":0,"d":"$ 0"}},{"$f":"+'datos de entrada'!N329","v":{"v":0,"d":"$ 0"}},{"$f":"+'datos de entrada'!O329","v":{"v":0,"d":"$ 0"}},{"$f":"+'datos de entrada'!P329","v":{"v":0,"d":"$ 0"}},{"$f":"+'datos de entrada'!Q329","v":{"v":0,"d":"$ 0"}},{"$f":"+'datos de entrada'!R329","v":{"v":0,"d":"$ 0"}},{"$f":"+'datos de entrada'!S329","v":{"v":0,"d":"$ 0"}},{"$f":"+'datos de entrada'!T329","v":{"v":0,"d":"$ 0"}},{"$f":"+'datos de entrada'!U329","v":{"v":0,"d":"$ 0"}},{"$f":"+'datos de entrada'!V329","v":{"v":0,"d":"$ 0"}},{"$f":"+'datos de entrada'!W329","v":{"v":0,"d":"$ 0"}},{"$f":"+'datos de entrada'!X329","v":{"v":0,"d":"$ 0"}},{"$f":"+'datos de entrada'!Y329","v":{"v":0,"d":"$ 0"}},{"$f":"+'datos de entrada'!Z329","v":{"v":0,"d":"$ 0"}},{"$f":"+'datos de entrada'!AA329","v":{"v":0,"d":"$ 0"}},{"$f":"+'datos de entrada'!AB329","v":{"v":0,"d":"$ 0"}},{"$f":"+'datos de entrada'!AC329","v":{"v":0,"d":"$ 0"}},{"$f":"+'datos de entrada'!AD329","v":{"v":0,"d":"$ 0"}},{"$f":"+'datos de entrada'!AE329","v":{"v":0,"d":"$ 0"}},{"$f":"+'datos de entrada'!AF329","v":{"v":0,"d":"$ 0"}},{"$f":"+'datos de entrada'!AG329","v":{"v":0,"d":"$ 0"}},{"$f":"+'datos de entrada'!AH329","v":{"v":0,"d":"$ 0"}},{"$f":"+'datos de entrada'!AI329","v":{"v":0,"d":"$ 0"}},{"$f":"+'datos de entrada'!AJ329","v":{"v":0,"d":"$ 0"}},{"$f":"+'datos de entrada'!AK329","v":{"v":0,"d":"$ 0"}},{"$f":"+'datos de entrada'!AL329","v":{"v":0,"d":"$ 0"}},null,null,{"$f":"+'datos de entrada'!AR357","v":{"v":0,"d":"0 "}},{"$f":"+'datos de entrada'!AS357","v":{"v":0,"d":"0 "}}]
[{"$f":"+'datos de entrada'!A358","v":{"v":0,"d":"0 "}},{"v":0,"d":"$ 0"},{"v":0,"d":"0 "},{"v":0,"d":"0 "},{"v":0,"d":"0 "},{"$f":"+'datos de entrada'!C330","v":{"v":0,"d":"$ 0"}},{"$f":"+'datos de entrada'!D330","v":{"v":0,"d":"$ 0"}},{"$f":"+'datos de entrada'!E330","v":{"v":0,"d":"$ 0"}},{"$f":"+'datos de entrada'!F330","v":{"v":0,"d":"$ 0"}},{"$f":"+'datos de entrada'!G330","v":{"v":0,"d":"$ 0"}},{"$f":"+'datos de entrada'!H330","v":{"v":0,"d":"$ 0"}},{"$f":"+'datos de entrada'!I330","v":{"v":0,"d":"$ 0"}},{"$f":"+'datos de entrada'!J330","v":{"v":0,"d":"$ 0"}},{"$f":"+'datos de entrada'!K330","v":{"v":0,"d":"$ 0"}},{"$f":"+'datos de entrada'!L330","v":{"v":0,"d":"$ 0"}},{"$f":"+'datos de entrada'!M330","v":{"v":0,"d":"$ 0"}},{"$f":"+'datos de entrada'!N330","v":{"v":0,"d":"$ 0"}},{"$f":"+'datos de entrada'!O330","v":{"v":0,"d":"$ 0"}},{"$f":"+'datos de entrada'!P330","v":{"v":0,"d":"$ 0"}},{"$f":"+'datos de entrada'!Q330","v":{"v":0,"d":"$ 0"}},{"$f":"+'datos de entrada'!R330","v":{"v":0,"d":"$ 0"}},{"$f":"+'datos de entrada'!S330","v":{"v":0,"d":"$ 0"}},{"$f":"+'datos de entrada'!T330","v":{"v":0,"d":"$ 0"}},{"$f":"+'datos de entrada'!U330","v":{"v":0,"d":"$ 0"}},{"$f":"+'datos de entrada'!V330","v":{"v":0,"d":"$ 0"}},{"$f":"+'datos de entrada'!W330","v":{"v":0,"d":"$ 0"}},{"$f":"+'datos de entrada'!X330","v":{"v":0,"d":"$ 0"}},{"$f":"+'datos de entrada'!Y330","v":{"v":0,"d":"$ 0"}},{"$f":"+'datos de entrada'!Z330","v":{"v":0,"d":"$ 0"}},{"$f":"+'datos de entrada'!AA330","v":{"v":0,"d":"$ 0"}},{"$f":"+'datos de entrada'!AB330","v":{"v":0,"d":"$ 0"}},{"$f":"+'datos de entrada'!AC330","v":{"v":0,"d":"$ 0"}},{"$f":"+'datos de entrada'!AD330","v":{"v":0,"d":"$ 0"}},{"$f":"+'datos de entrada'!AE330","v":{"v":0,"d":"$ 0"}},{"$f":"+'datos de entrada'!AF330","v":{"v":0,"d":"$ 0"}},{"$f":"+'datos de entrada'!AG330","v":{"v":0,"d":"$ 0"}},{"$f":"+'datos de entrada'!AH330","v":{"v":0,"d":"$ 0"}},{"$f":"+'datos de entrada'!AI330","v":{"v":0,"d":"$ 0"}},{"$f":"+'datos de entrada'!AJ330","v":{"v":0,"d":"$ 0"}},{"$f":"+'datos de entrada'!AK330","v":{"v":0,"d":"$ 0"}},{"$f":"+'datos de entrada'!AL330","v":{"v":0,"d":"$ 0"}},null,null,{"$f":"+'datos de entrada'!AR358","v":{"v":0,"d":"0 "}},{"$f":"+'datos de entrada'!AS358","v":{"v":0,"d":"0 "}}]
[{"$f":"+'datos de entrada'!A359","v":{"v":0,"d":"0 "}},{"v":0,"d":"$ 0"},{"v":0,"d":"0 "},{"v":0,"d":"0 "},{"v":0,"d":"0 "},{"$f":"+'datos de entrada'!C331","v":{"v":0,"d":"$ 0"}},{"$f":"+'datos de entrada'!D331","v":{"v":0,"d":"$ 0"}},{"$f":"+'datos de entrada'!E331","v":{"v":0,"d":"$ 0"}},{"$f":"+'datos de entrada'!F331","v":{"v":0,"d":"$ 0"}},{"$f":"+'datos de entrada'!G331","v":{"v":0,"d":"$ 0"}},{"$f":"+'datos de entrada'!H331","v":{"v":0,"d":"$ 0"}},{"$f":"+'datos de entrada'!I331","v":{"v":0,"d":"$ 0"}},{"$f":"+'datos de entrada'!J331","v":{"v":0,"d":"$ 0"}},{"$f":"+'datos de entrada'!K331","v":{"v":0,"d":"$ 0"}},{"$f":"+'datos de entrada'!L331","v":{"v":0,"d":"$ 0"}},{"$f":"+'datos de entrada'!M331","v":{"v":0,"d":"$ 0"}},{"$f":"+'datos de entrada'!N331","v":{"v":0,"d":"$ 0"}},{"$f":"+'datos de entrada'!O331","v":{"v":0,"d":"$ 0"}},{"$f":"+'datos de entrada'!P331","v":{"v":0,"d":"$ 0"}},{"$f":"+'datos de entrada'!Q331","v":{"v":0,"d":"$ 0"}},{"$f":"+'datos de entrada'!R331","v":{"v":0,"d":"$ 0"}},{"$f":"+'datos de entrada'!S331","v":{"v":0,"d":"$ 0"}},{"$f":"+'datos de entrada'!T331","v":{"v":0,"d":"$ 0"}},{"$f":"+'datos de entrada'!U331","v":{"v":0,"d":"$ 0"}},{"$f":"+'datos de entrada'!V331","v":{"v":0,"d":"$ 0"}},{"$f":"+'datos de entrada'!W331","v":{"v":0,"d":"$ 0"}},{"$f":"+'datos de entrada'!X331","v":{"v":0,"d":"$ 0"}},{"$f":"+'datos de entrada'!Y331","v":{"v":0,"d":"$ 0"}},{"$f":"+'datos de entrada'!Z331","v":{"v":0,"d":"$ 0"}},{"$f":"+'datos de entrada'!AA331","v":{"v":0,"d":"$ 0"}},{"$f":"+'datos de entrada'!AB331","v":{"v":0,"d":"$ 0"}},{"$f":"+'datos de entrada'!AC331","v":{"v":0,"d":"$ 0"}},{"$f":"+'datos de entrada'!AD331","v":{"v":0,"d":"$ 0"}},{"$f":"+'datos de entrada'!AE331","v":{"v":0,"d":"$ 0"}},{"$f":"+'datos de entrada'!AF331","v":{"v":0,"d":"$ 0"}},{"$f":"+'datos de entrada'!AG331","v":{"v":0,"d":"$ 0"}},{"$f":"+'datos de entrada'!AH331","v":{"v":0,"d":"$ 0"}},{"$f":"+'datos de entrada'!AI331","v":{"v":0,"d":"$ 0"}},{"$f":"+'datos de entrada'!AJ331","v":{"v":0,"d":"$ 0"}},{"$f":"+'datos de entrada'!AK331","v":{"v":0,"d":"$ 0"}},{"$f":"+'datos de entrada'!AL331","v":{"v":0,"d":"$ 0"}},null,null,{"$f":"+'datos de entrada'!AR359","v":{"v":0,"d":"0 "}},{"$f":"+'datos de entrada'!AS359","v":{"v":0,"d":"0 "}}]
[{"$f":"+'datos de entrada'!A360","v":{"v":0,"d":"0 "}},{"v":0,"d":"$ 0"},{"v":0,"d":"0 "},{"v":0,"d":"0 "},{"v":0,"d":"0 "},{"$f":"+'datos de entrada'!C332","v":{"v":0,"d":"$ 0"}},{"$f":"+'datos de entrada'!D332","v":{"v":0,"d":"$ 0"}},{"$f":"+'datos de entrada'!E332","v":{"v":0,"d":"$ 0"}},{"$f":"+'datos de entrada'!F332","v":{"v":0,"d":"$ 0"}},{"$f":"+'datos de entrada'!G332","v":{"v":0,"d":"$ 0"}},{"$f":"+'datos de entrada'!H332","v":{"v":0,"d":"$ 0"}},{"$f":"+'datos de entrada'!I332","v":{"v":0,"d":"$ 0"}},{"$f":"+'datos de entrada'!J332","v":{"v":0,"d":"$ 0"}},{"$f":"+'datos de entrada'!K332","v":{"v":0,"d":"$ 0"}},{"$f":"+'datos de entrada'!L332","v":{"v":0,"d":"$ 0"}},{"$f":"+'datos de entrada'!M332","v":{"v":0,"d":"$ 0"}},{"$f":"+'datos de entrada'!N332","v":{"v":0,"d":"$ 0"}},{"$f":"+'datos de entrada'!O332","v":{"v":0,"d":"$ 0"}},{"$f":"+'datos de entrada'!P332","v":{"v":0,"d":"$ 0"}},{"$f":"+'datos de entrada'!Q332","v":{"v":0,"d":"$ 0"}},{"$f":"+'datos de entrada'!R332","v":{"v":0,"d":"$ 0"}},{"$f":"+'datos de entrada'!S332","v":{"v":0,"d":"$ 0"}},{"$f":"+'datos de entrada'!T332","v":{"v":0,"d":"$ 0"}},{"$f":"+'datos de entrada'!U332","v":{"v":0,"d":"$ 0"}},{"$f":"+'datos de entrada'!V332","v":{"v":0,"d":"$ 0"}},{"$f":"+'datos de entrada'!W332","v":{"v":0,"d":"$ 0"}},{"$f":"+'datos de entrada'!X332","v":{"v":0,"d":"$ 0"}},{"$f":"+'datos de entrada'!Y332","v":{"v":0,"d":"$ 0"}},{"$f":"+'datos de entrada'!Z332","v":{"v":0,"d":"$ 0"}},{"$f":"+'datos de entrada'!AA332","v":{"v":0,"d":"$ 0"}},{"$f":"+'datos de entrada'!AB332","v":{"v":0,"d":"$ 0"}},{"$f":"+'datos de entrada'!AC332","v":{"v":0,"d":"$ 0"}},{"$f":"+'datos de entrada'!AD332","v":{"v":0,"d":"$ 0"}},{"$f":"+'datos de entrada'!AE332","v":{"v":0,"d":"$ 0"}},{"$f":"+'datos de entrada'!AF332","v":{"v":0,"d":"$ 0"}},{"$f":"+'datos de entrada'!AG332","v":{"v":0,"d":"$ 0"}},{"$f":"+'datos de entrada'!AH332","v":{"v":0,"d":"$ 0"}},{"$f":"+'datos de entrada'!AI332","v":{"v":0,"d":"$ 0"}},{"$f":"+'datos de entrada'!AJ332","v":{"v":0,"d":"$ 0"}},{"$f":"+'datos de entrada'!AK332","v":{"v":0,"d":"$ 0"}},{"$f":"+'datos de entrada'!AL332","v":{"v":0,"d":"$ 0"}},null,null,{"$f":"+'datos de entrada'!AR360","v":{"v":0,"d":"0 "}},{"$f":"+'datos de entrada'!AS360","v":{"v":0,"d":"0 "}}]
[]
[]
["GASTOS ADMINISTRATIVOS"]
[]
[]
["TIPO DE GASTO","GASTO","MES 1","MES 2","MES 3","MES 4","MES 5","MES 6","MES 7","MES 8","MES 9","MES 10","MES 11","MES 12","salario mensual","prestaciones","AÑO 1","AÑO 2","AÑO3"]
[null,"MENSUAL"]
[{"$f":"+'datos de entrada'!A368","v":"GERENTE"},{"$f":"+'datos de entrada'!B368","v":{"v":0,"d":"$ 0"}},{"$f":"+'datos de entrada'!C368","v":{"v":0,"d":"$ 0"}},{"$f":"+'datos de entrada'!D368","v":{"v":0,"d":"$ 0"}},{"$f":"+'datos de entrada'!E368","v":{"v":0,"d":"$ 0"}},{"$f":"+'datos de entrada'!F368","v":{"v":0,"d":"$ 0"}},{"$f":"+'datos de entrada'!G368","v":{"v":0,"d":"$ 0"}},{"$f":"+'datos de entrada'!H368","v":{"v":0,"d":"$ 0"}},{"$f":"+'datos de entrada'!I368","v":{"v":0,"d":"$ 0"}},{"$f":"+'datos de entrada'!J368","v":{"v":0,"d":"$ 0"}},{"$f":"+'datos de entrada'!K368","v":{"v":0,"d":"$ 0"}},{"$f":"+'datos de entrada'!L368","v":{"v":0,"d":"$ 0"}},{"$f":"+'datos de entrada'!M368","v":{"v":0,"d":"$ 0"}},{"$f":"+'datos de entrada'!N368","v":{"v":0,"d":"$ 0"}},{"$f":"+'datos de entrada'!O368","v":{"v":0,"d":"$ 0"}},{"$f":"+'datos de entrada'!P368","v":{"v":0,"d":"$ 0"}},{"$f":"+'datos de entrada'!Q368","v":{"v":0,"d":"$ 0"}},{"$f":"+'datos de entrada'!R368","v":{"v":0,"d":"$ 0"}},{"$f":"+'datos de entrada'!S368","v":{"v":0,"d":"$ 0"}}]
[{"$f":"+'datos de entrada'!A369","v":{"v":0,"d":"0 "}},{"$f":"+'datos de entrada'!B369","v":{"v":0,"d":"$ 0"}},{"$f":"+'datos de entrada'!C369","v":{"v":0,"d":"$ 0"}},{"$f":"+'datos de entrada'!D369","v":{"v":0,"d":"$ 0"}},{"$f":"+'datos de entrada'!E369","v":{"v":0,"d":"$ 0"}},{"$f":"+'datos de entrada'!F369","v":{"v":0,"d":"$ 0"}},{"$f":"+'datos de entrada'!G369","v":{"v":0,"d":"$ 0"}},{"$f":"+'datos de entrada'!H369","v":{"v":0,"d":"$ 0"}},{"$f":"+'datos de entrada'!I369","v":{"v":0,"d":"$ 0"}},{"$f":"+'datos de entrada'!J369","v":{"v":0,"d":"$ 0"}},{"$f":"+'datos de entrada'!K369","v":{"v":0,"d":"$ 0"}},{"$f":"+'datos de entrada'!L369","v":{"v":0,"d":"$ 0"}},{"$f":"+'datos de entrada'!M369","v":{"v":0,"d":"$ 0"}},{"$f":"+'datos de entrada'!N369","v":{"v":0,"d":"$ 0"}},{"$f":"+'datos de entrada'!O369","v":{"v":0,"d":"$ 0"}},{"$f":"+'datos de entrada'!P369","v":{"v":0,"d":"$ 0"}},{"$f":"+'datos de entrada'!Q369","v":{"v":0,"d":"$ 0"}},{"$f":"+'datos de entrada'!R369","v":{"v":0,"d":"$ 0"}},{"$f":"+'datos de entrada'!S369","v":{"v":0,"d":"$ 0"}}]
[{"$f":"+'datos de entrada'!A370","v":{"v":0,"d":"0 "}},{"$f":"+'datos de entrada'!B370","v":{"v":0,"d":"$ 0"}},{"$f":"+'datos de entrada'!C370","v":{"v":0,"d":"$ 0"}},{"$f":"+'datos de entrada'!D370","v":{"v":0,"d":"$ 0"}},{"$f":"+'datos de entrada'!E370","v":{"v":0,"d":"$ 0"}},{"$f":"+'datos de entrada'!F370","v":{"v":0,"d":"$ 0"}},{"$f":"+'datos de entrada'!G370","v":{"v":0,"d":"$ 0"}},{"$f":"+'datos de entrada'!H370","v":{"v":0,"d":"$ 0"}},{"$f":"+'datos de entrada'!I370","v":{"v":0,"d":"$ 0"}},{"$f":"+'datos de entrada'!J370","v":{"v":0,"d":"$ 0"}},{"$f":"+'datos de entrada'!K370","v":{"v":0,"d":"$ 0"}},{"$f":"+'datos de entrada'!L370","v":{"v":0,"d":"$ 0"}},{"$f":"+'datos de entrada'!M370","v":{"v":0,"d":"$ 0"}},{"$f":"+'datos de entrada'!N370","v":{"v":0,"d":"$ 0"}},{"$f":"+'datos de entrada'!O370","v":{"v":0,"d":"$ 0"}},{"$f":"+'datos de entrada'!P370","v":{"v":0,"d":"$ 0"}},{"$f":"+'datos de entrada'!Q370","v":{"v":0,"d":"$ 0"}},{"$f":"+'datos de entrada'!R370","v":{"v":0,"d":"$ 0"}},{"$f":"+'datos de entrada'!S370","v":{"v":0,"d":"$ 0"}}]
[{"$f":"+'datos de entrada'!A371","v":{"v":0,"d":"0 "}},{"$f":"+'datos de entrada'!B371","v":{"v":0,"d":"$ 0"}},{"$f":"+'datos de entrada'!C371","v":{"v":0,"d":"$ 0"}},{"$f":"+'datos de entrada'!D371","v":{"v":0,"d":"$ 0"}},{"$f":"+'datos de entrada'!E371","v":{"v":0,"d":"$ 0"}},{"$f":"+'datos de entrada'!F371","v":{"v":0,"d":"$ 0"}},{"$f":"+'datos de entrada'!G371","v":{"v":0,"d":"$ 0"}},{"$f":"+'datos de entrada'!H371","v":{"v":0,"d":"$ 0"}},{"$f":"+'datos de entrada'!I371","v":{"v":0,"d":"$ 0"}},{"$f":"+'datos de entrada'!J371","v":{"v":0,"d":"$ 0"}},{"$f":"+'datos de entrada'!K371","v":{"v":0,"d":"$ 0"}},{"$f":"+'datos de entrada'!L371","v":{"v":0,"d":"$ 0"}},{"$f":"+'datos de entrada'!M371","v":{"v":0,"d":"$ 0"}},{"$f":"+'datos de entrada'!N371","v":{"v":0,"d":"$ 0"}},{"$f":"+'datos de entrada'!O371","v":{"v":0,"d":"$ 0"}},{"$f":"+'datos de entrada'!P371","v":{"v":0,"d":"$ 0"}},{"$f":"+'datos de entrada'!Q371","v":{"v":0,"d":"$ 0"}},{"$f":"+'datos de entrada'!R371","v":{"v":0,"d":"$ 0"}},{"$f":"+'datos de entrada'!S371","v":{"v":0,"d":"$ 0"}}]
[{"$f":"+'datos de entrada'!A372","v":{"v":0,"d":"0 "}},{"$f":"+'datos de entrada'!B372","v":{"v":0,"d":"$ 0"}},{"$f":"+'datos de entrada'!C372","v":{"v":0,"d":"$ 0"}},{"$f":"+'datos de entrada'!D372","v":{"v":0,"d":"$ 0"}},{"$f":"+'datos de entrada'!E372","v":{"v":0,"d":"$ 0"}},{"$f":"+'datos de entrada'!F372","v":{"v":0,"d":"$ 0"}},{"$f":"+'datos de entrada'!G372","v":{"v":0,"d":"$ 0"}},{"$f":"+'datos de entrada'!H372","v":{"v":0,"d":"$ 0"}},{"$f":"+'datos de entrada'!I372","v":{"v":0,"d":"$ 0"}},{"$f":"+'datos de entrada'!J372","v":{"v":0,"d":"$ 0"}},{"$f":"+'datos de entrada'!K372","v":{"v":0,"d":"$ 0"}},{"$f":"+'datos de entrada'!L372","v":{"v":0,"d":"$ 0"}},{"$f":"+'datos de entrada'!M372","v":{"v":0,"d":"$ 0"}},{"$f":"+'datos de entrada'!N372","v":{"v":0,"d":"$ 0"}},{"$f":"+'datos de entrada'!O372","v":{"v":0,"d":"$ 0"}},{"$f":"+'datos de entrada'!P372","v":{"v":0,"d":"$ 0"}},{"$f":"+'datos de entrada'!Q372","v":{"v":0,"d":"$ 0"}},{"$f":"+'datos de entrada'!R372","v":{"v":0,"d":"$ 0"}},{"$f":"+'datos de entrada'!S372","v":{"v":0,"d":"$ 0"}}]
[{"$f":"+'datos de entrada'!A373","v":{"v":0,"d":"0 "}},{"$f":"+'datos de entrada'!B373","v":{"v":0,"d":"$ 0"}},{"$f":"+'datos de entrada'!C373","v":{"v":0,"d":"$ 0"}},{"$f":"+'datos de entrada'!D373","v":{"v":0,"d":"$ 0"}},{"$f":"+'datos de entrada'!E373","v":{"v":0,"d":"$ 0"}},{"$f":"+'datos de entrada'!F373","v":{"v":0,"d":"$ 0"}},{"$f":"+'datos de entrada'!G373","v":{"v":0,"d":"$ 0"}},{"$f":"+'datos de entrada'!H373","v":{"v":0,"d":"$ 0"}},{"$f":"+'datos de entrada'!I373","v":{"v":0,"d":"$ 0"}},{"$f":"+'datos de entrada'!J373","v":{"v":0,"d":"$ 0"}},{"$f":"+'datos de entrada'!K373","v":{"v":0,"d":"$ 0"}},{"$f":"+'datos de entrada'!L373","v":{"v":0,"d":"$ 0"}},{"$f":"+'datos de entrada'!M373","v":{"v":0,"d":"$ 0"}},{"$f":"+'datos de entrada'!N373","v":{"v":0,"d":"$ 0"}},{"$f":"+'datos de entrada'!O373","v":{"v":0,"d":"$ 0"}},{"$f":"+'datos de entrada'!P373","v":{"v":0,"d":"$ 0"}},{"$f":"+'datos de entrada'!Q373","v":{"v":0,"d":"$ 0"}},{"$f":"+'datos de entrada'!R373","v":{"v":0,"d":"$ 0"}},{"$f":"+'datos de entrada'!S373","v":{"v":0,"d":"$ 0"}},18,19,20,21,22,23,24,25,26,27,28,29,30,31,32,33,34,35,36]
[{"$f":"+'datos de entrada'!A374","v":{"v":0,"d":"0 "}},{"$f":"+'datos de entrada'!B374","v":{"v":0,"d":"$ 0"}},{"$f":"+'datos de entrada'!C374","v":{"v":0,"d":"$ 0"}},{"$f":"+'datos de entrada'!D374","v":{"v":0,"d":"$ 0"}},{"$f":"+'datos de entrada'!E374","v":{"v":0,"d":"$ 0"}},{"$f":"+'datos de entrada'!F374","v":{"v":0,"d":"$ 0"}},{"$f":"+'datos de entrada'!G374","v":{"v":0,"d":"$ 0"}},{"$f":"+'datos de entrada'!H374","v":{"v":0,"d":"$ 0"}},{"$f":"+'datos de entrada'!I374","v":{"v":0,"d":"$ 0"}},{"$f":"+'datos de entrada'!J374","v":{"v":0,"d":"$ 0"}},{"$f":"+'datos de entrada'!K374","v":{"v":0,"d":"$ 0"}},{"$f":"+'datos de entrada'!L374","v":{"v":0,"d":"$ 0"}},{"$f":"+'datos de entrada'!M374","v":{"v":0,"d":"$ 0"}},{"$f":"+'datos de entrada'!N374","v":{"v":0,"d":"$ 0"}},{"$f":"+'datos de entrada'!O374","v":{"v":0,"d":"$ 0"}},{"$f":"+'datos de entrada'!P374","v":{"v":0,"d":"$ 0"}},{"$f":"+'datos de entrada'!Q374","v":{"v":0,"d":"$ 0"}},{"$f":"+'datos de entrada'!R374","v":{"v":0,"d":"$ 0"}},{"$f":"+'datos de entrada'!S374","v":{"v":0,"d":"$ 0"}},{"$f":"+'datos de entrada'!T374","v":{"v":0,"d":"$ 0"}},{"$f":"+'datos de entrada'!U374","v":{"v":0,"d":"$ 0"}},{"$f":"+'datos de entrada'!V374","v":{"v":0,"d":"$ 0"}},{"$f":"+'datos de entrada'!W374","v":{"v":0,"d":"$ 0"}},{"$f":"+'datos de entrada'!X374","v":{"v":0,"d":"$ 0"}},{"$f":"+'datos de entrada'!Y374","v":{"v":0,"d":"$ 0"}},{"$f":"+'datos de entrada'!Z374","v":{"v":0,"d":"$ 0"}},{"$f":"+'datos de entrada'!AA374","v":{"v":0,"d":"$ 0"}},{"$f":"+'datos de entrada'!AB374","v":{"v":0,"d":"$ 0"}},{"$f":"+'datos de entrada'!AC374","v":{"v":0,"d":"$ 0"}},{"$f":"+'datos de entrada'!AD374","v":{"v":0,"d":"$ 0"}},{"$f":"+'datos de entrada'!AE374","v":{"v":0,"d":"$ 0"}},{"$f":"+'datos de entrada'!AF374","v":{"v":0,"d":"$ 0"}},{"$f":"+'datos de entrada'!AG374","v":{"v":0,"d":"$ 0"}},{"$f":"+'datos de entrada'!AH374","v":{"v":0,"d":"$ 0"}},{"$f":"+'datos de entrada'!AI374","v":{"v":0,"d":"$ 0"}},{"$f":"+'datos de entrada'!AJ374","v":{"v":0,"d":"$ 0"}},{"$f":"+'datos de entrada'!AK374","v":{"v":0,"d":"$ 0"}},{"$f":"+'datos de entrada'!AL374","v":{"v":0,"d":"$ 0"}}]
[{"$f":"+'datos de entrada'!A375","v":{"v":0,"d":"0 "}},{"$f":"+'datos de entrada'!B375","v":{"v":0,"d":"$ 0"}},{"$f":"+'datos de entrada'!C375","v":{"v":0,"d":"$ 0"}},{"$f":"+'datos de entrada'!D375","v":{"v":0,"d":"$ 0"}},{"$f":"+'datos de entrada'!E375","v":{"v":0,"d":"$ 0"}},{"$f":"+'datos de entrada'!F375","v":{"v":0,"d":"$ 0"}},{"$f":"+'datos de entrada'!G375","v":{"v":0,"d":"$ 0"}},{"$f":"+'datos de entrada'!H375","v":{"v":0,"d":"$ 0"}},{"$f":"+'datos de entrada'!I375","v":{"v":0,"d":"$ 0"}},{"$f":"+'datos de entrada'!J375","v":{"v":0,"d":"$ 0"}},{"$f":"+'datos de entrada'!K375","v":{"v":0,"d":"$ 0"}},{"$f":"+'datos de entrada'!L375","v":{"v":0,"d":"$ 0"}},{"$f":"+'datos de entrada'!M375","v":{"v":0,"d":"$ 0"}},{"$f":"+'datos de entrada'!N375","v":{"v":0,"d":"$ 0"}},{"$f":"+'datos de entrada'!O375","v":{"v":0,"d":"$ 0"}},{"$f":"+'datos de entrada'!P375","v":{"v":0,"d":"$ 0"}},{"$f":"+'datos de entrada'!Q375","v":{"v":0,"d":"$ 0"}},{"$f":"+'datos de entrada'!R375","v":{"v":0,"d":"$ 0"}},{"$f":"+'datos de entrada'!S375","v":{"v":0,"d":"$ 0"}},{"$f":"+'datos de entrada'!T375","v":{"v":0,"d":"$ 0"}},{"$f":"+'datos de entrada'!U375","v":{"v":0,"d":"$ 0"}},{"$f":"+'datos de entrada'!V375","v":{"v":0,"d":"$ 0"}},{"$f":"+'datos de entrada'!W375","v":{"v":0,"d":"$ 0"}},{"$f":"+'datos de entrada'!X375","v":{"v":0,"d":"$ 0"}},{"$f":"+'datos de entrada'!Y375","v":{"v":0,"d":"$ 0"}},{"$f":"+'datos de entrada'!Z375","v":{"v":0,"d":"$ 0"}},{"$f":"+'datos de entrada'!AA375","v":{"v":0,"d":"$ 0"}},{"$f":"+'datos de entrada'!AB375","v":{"v":0,"d":"$ 0"}},{"$f":"+'datos de entrada'!AC375","v":{"v":0,"d":"$ 0"}},{"$f":"+'datos de entrada'!AD375","v":{"v":0,"d":"$ 0"}},{"$f":"+'datos de entrada'!AE375","v":{"v":0,"d":"$ 0"}},{"$f":"+'datos de entrada'!AF375","v":{"v":0,"d":"$ 0"}},{"$f":"+'datos de entrada'!AG375","v":{"v":0,"d":"$ 0"}},{"$f":"+'datos de entrada'!AH375","v":{"v":0,"d":"$ 0"}},{"$f":"+'datos de entrada'!AI375","v":{"v":0,"d":"$ 0"}},{"$f":"+'datos de entrada'!AJ375","v":{"v":0,"d":"$ 0"}},{"$f":"+'datos de entrada'!AK375","v":{"v":0,"d":"$ 0"}},{"$f":"+'datos de entrada'!AL375","v":{"v":0,"d":"$ 0"}}]
[{"$f":"+'datos de entrada'!A376","v":{"v":0,"d":"0 "}},{"$f":"+'datos de entrada'!B376","v":{"v":0,"d":"$ 0"}},{"$f":"+'datos de entrada'!C376","v":{"v":0,"d":"$ 0"}},{"$f":"+'datos de entrada'!D376","v":{"v":0,"d":"$ 0"}},{"$f":"+'datos de entrada'!E376","v":{"v":0,"d":"$ 0"}},{"$f":"+'datos de entrada'!F376","v":{"v":0,"d":"$ 0"}},{"$f":"+'datos de entrada'!G376","v":{"v":0,"d":"$ 0"}},{"$f":"+'datos de entrada'!H376","v":{"v":0,"d":"$ 0"}},{"$f":"+'datos de entrada'!I376","v":{"v":0,"d":"$ 0"}},{"$f":"+'datos de entrada'!J376","v":{"v":0,"d":"$ 0"}},{"$f":"+'datos de entrada'!K376","v":{"v":0,"d":"$ 0"}},{"$f":"+'datos de entrada'!L376","v":{"v":0,"d":"$ 0"}},{"$f":"+'datos de entrada'!M376","v":{"v":0,"d":"$ 0"}},{"$f":"+'datos de entrada'!N376","v":{"v":0,"d":"$ 0"}},{"$f":"+'datos de entrada'!O376","v":{"v":0,"d":"$ 0"}},{"$f":"+'datos de entrada'!P376","v":{"v":0,"d":"$ 0"}},{"$f":"+'datos de entrada'!Q376","v":{"v":0,"d":"$ 0"}},{"$f":"+'datos de entrada'!R376","v":{"v":0,"d":"$ 0"}},{"$f":"+'datos de entrada'!S376","v":{"v":0,"d":"$ 0"}},{"$f":"+'datos de entrada'!T376","v":{"v":0,"d":"$ 0"}},{"$f":"+'datos de entrada'!U376","v":{"v":0,"d":"$ 0"}},{"$f":"+'datos de entrada'!V376","v":{"v":0,"d":"$ 0"}},{"$f":"+'datos de entrada'!W376","v":{"v":0,"d":"$ 0"}},{"$f":"+'datos de entrada'!X376","v":{"v":0,"d":"$ 0"}},{"$f":"+'datos de entrada'!Y376","v":{"v":0,"d":"$ 0"}},{"$f":"+'datos de entrada'!Z376","v":{"v":0,"d":"$ 0"}},{"$f":"+'datos de entrada'!AA376","v":{"v":0,"d":"$ 0"}},{"$f":"+'datos de entrada'!AB376","v":{"v":0,"d":"$ 0"}},{"$f":"+'datos de entrada'!AC376","v":{"v":0,"d":"$ 0"}},{"$f":"+'datos de entrada'!AD376","v":{"v":0,"d":"$ 0"}},{"$f":"+'datos de entrada'!AE376","v":{"v":0,"d":"$ 0"}},{"$f":"+'datos de entrada'!AF376","v":{"v":0,"d":"$ 0"}},{"$f":"+'datos de entrada'!AG376","v":{"v":0,"d":"$ 0"}},{"$f":"+'datos de entrada'!AH376","v":{"v":0,"d":"$ 0"}},{"$f":"+'datos de entrada'!AI376","v":{"v":0,"d":"$ 0"}},{"$f":"+'datos de entrada'!AJ376","v":{"v":0,"d":"$ 0"}},{"$f":"+'datos de entrada'!AK376","v":{"v":0,"d":"$ 0"}},{"$f":"+'datos de entrada'!AL376","v":{"v":0,"d":"$ 0"}}]
[{"$f":"+'datos de entrada'!A377","v":{"v":0,"d":"0 "}},{"$f":"+'datos de entrada'!B377","v":{"v":0,"d":"$ 0"}},{"$f":"+'datos de entrada'!C377","v":{"v":0,"d":"$ 0"}},{"$f":"+'datos de entrada'!D377","v":{"v":0,"d":"$ 0"}},{"$f":"+'datos de entrada'!E377","v":{"v":0,"d":"$ 0"}},{"$f":"+'datos de entrada'!F377","v":{"v":0,"d":"$ 0"}},{"$f":"+'datos de entrada'!G377","v":{"v":0,"d":"$ 0"}},{"$f":"+'datos de entrada'!H377","v":{"v":0,"d":"$ 0"}},{"$f":"+'datos de entrada'!I377","v":{"v":0,"d":"$ 0"}},{"$f":"+'datos de entrada'!J377","v":{"v":0,"d":"$ 0"}},{"$f":"+'datos de entrada'!K377","v":{"v":0,"d":"$ 0"}},{"$f":"+'datos de entrada'!L377","v":{"v":0,"d":"$ 0"}},{"$f":"+'datos de entrada'!M377","v":{"v":0,"d":"$ 0"}},{"$f":"+'datos de entrada'!N377","v":{"v":0,"d":"$ 0"}},{"$f":"+'datos de entrada'!O377","v":{"v":0,"d":"$ 0"}},{"$f":"+'datos de entrada'!P377","v":{"v":0,"d":"$ 0"}},{"$f":"+'datos de entrada'!Q377","v":{"v":0,"d":"$ 0"}},{"$f":"+'datos de entrada'!R377","v":{"v":0,"d":"$ 0"}},{"$f":"+'datos de entrada'!S377","v":{"v":0,"d":"$ 0"}},{"$f":"+'datos de entrada'!T377","v":{"v":0,"d":"$ 0"}},{"$f":"+'datos de entrada'!U377","v":{"v":0,"d":"$ 0"}},{"$f":"+'datos de entrada'!V377","v":{"v":0,"d":"$ 0"}},{"$f":"+'datos de entrada'!W377","v":{"v":0,"d":"$ 0"}},{"$f":"+'datos de entrada'!X377","v":{"v":0,"d":"$ 0"}},{"$f":"+'datos de entrada'!Y377","v":{"v":0,"d":"$ 0"}},{"$f":"+'datos de entrada'!Z377","v":{"v":0,"d":"$ 0"}},{"$f":"+'datos de entrada'!AA377","v":{"v":0,"d":"$ 0"}},{"$f":"+'datos de entrada'!AB377","v":{"v":0,"d":"$ 0"}},{"$f":"+'datos de entrada'!AC377","v":{"v":0,"d":"$ 0"}},{"$f":"+'datos de entrada'!AD377","v":{"v":0,"d":"$ 0"}},{"$f":"+'datos de entrada'!AE377","v":{"v":0,"d":"$ 0"}},{"$f":"+'datos de entrada'!AF377","v":{"v":0,"d":"$ 0"}},{"$f":"+'datos de entrada'!AG377","v":{"v":0,"d":"$ 0"}},{"$f":"+'datos de entrada'!AH377","v":{"v":0,"d":"$ 0"}},{"$f":"+'datos de entrada'!AI377","v":{"v":0,"d":"$ 0"}},{"$f":"+'datos de entrada'!AJ377","v":{"v":0,"d":"$ 0"}},{"$f":"+'datos de entrada'!AK377","v":{"v":0,"d":"$ 0"}},{"$f":"+'datos de entrada'!AL377","v":{"v":0,"d":"$ 0"}}]
[{"$f":"+'datos de entrada'!A378","v":{"v":0,"d":"0 "}},{"$f":"+'datos de entrada'!B378","v":{"v":0,"d":"$ 0"}},{"$f":"+'datos de entrada'!C378","v":{"v":0,"d":"$ 0"}},{"$f":"+'datos de entrada'!D378","v":{"v":0,"d":"$ 0"}},{"$f":"+'datos de entrada'!E378","v":{"v":0,"d":"$ 0"}},{"$f":"+'datos de entrada'!F378","v":{"v":0,"d":"$ 0"}},{"$f":"+'datos de entrada'!G378","v":{"v":0,"d":"$ 0"}},{"$f":"+'datos de entrada'!H378","v":{"v":0,"d":"$ 0"}},{"$f":"+'datos de entrada'!I378","v":{"v":0,"d":"$ 0"}},{"$f":"+'datos de entrada'!J378","v":{"v":0,"d":"$ 0"}},{"$f":"+'datos de entrada'!K378","v":{"v":0,"d":"$ 0"}},{"$f":"+'datos de entrada'!L378","v":{"v":0,"d":"$ 0"}},{"$f":"+'datos de entrada'!M378","v":{"v":0,"d":"$ 0"}},{"$f":"+'datos de entrada'!N378","v":{"v":0,"d":"$ 0"}},{"$f":"+'datos de entrada'!O378","v":{"v":0,"d":"$ 0"}},{"$f":"+'datos de entrada'!P378","v":{"v":0,"d":"$ 0"}},{"$f":"+'datos de entrada'!Q378","v":{"v":0,"d":"$ 0"}},{"$f":"+'datos de entrada'!R378","v":{"v":0,"d":"$ 0"}},{"$f":"+'datos de entrada'!S378","v":{"v":0,"d":"$ 0"}},{"$f":"+'datos de entrada'!T378","v":{"v":0,"d":"$ 0"}},{"$f":"+'datos de entrada'!U378","v":{"v":0,"d":"$ 0"}},{"$f":"+'datos de entrada'!V378","v":{"v":0,"d":"$ 0"}},{"$f":"+'datos de entrada'!W378","v":{"v":0,"d":"$ 0"}},{"$f":"+'datos de entrada'!X378","v":{"v":0,"d":"$ 0"}},{"$f":"+'datos de entrada'!Y378","v":{"v":0,"d":"$ 0"}},{"$f":"+'datos de entrada'!Z378","v":{"v":0,"d":"$ 0"}},{"$f":"+'datos de entrada'!AA378","v":{"v":0,"d":"$ 0"}},{"$f":"+'datos de entrada'!AB378","v":{"v":0,"d":"$ 0"}},{"$f":"+'datos de entrada'!AC378","v":{"v":0,"d":"$ 0"}},{"$f":"+'datos de entrada'!AD378","v":{"v":0,"d":"$ 0"}},{"$f":"+'datos de entrada'!AE378","v":{"v":0,"d":"$ 0"}},{"$f":"+'datos de entrada'!AF378","v":{"v":0,"d":"$ 0"}},{"$f":"+'datos de entrada'!AG378","v":{"v":0,"d":"$ 0"}},{"$f":"+'datos de entrada'!AH378","v":{"v":0,"d":"$ 0"}},{"$f":"+'datos de entrada'!AI378","v":{"v":0,"d":"$ 0"}},{"$f":"+'datos de entrada'!AJ378","v":{"v":0,"d":"$ 0"}},{"$f":"+'datos de entrada'!AK378","v":{"v":0,"d":"$ 0"}},{"$f":"+'datos de entrada'!AL378","v":{"v":0,"d":"$ 0"}}]
[{"$f":"+'datos de entrada'!A379","v":{"v":0,"d":"0 "}},{"$f":"+'datos de entrada'!B379","v":{"v":0,"d":"$ 0"}},{"$f":"+'datos de entrada'!C379","v":{"v":0,"d":"$ 0"}},{"$f":"+'datos de entrada'!D379","v":{"v":0,"d":"$ 0"}},{"$f":"+'datos de entrada'!E379","v":{"v":0,"d":"$ 0"}},{"$f":"+'datos de entrada'!F379","v":{"v":0,"d":"$ 0"}},{"$f":"+'datos de entrada'!G379","v":{"v":0,"d":"$ 0"}},{"$f":"+'datos de entrada'!H379","v":{"v":0,"d":"$ 0"}},{"$f":"+'datos de entrada'!I379","v":{"v":0,"d":"$ 0"}},{"$f":"+'datos de entrada'!J379","v":{"v":0,"d":"$ 0"}},{"$f":"+'datos de entrada'!K379","v":{"v":0,"d":"$ 0"}},{"$f":"+'datos de entrada'!L379","v":{"v":0,"d":"$ 0"}},{"$f":"+'datos de entrada'!M379","v":{"v":0,"d":"$ 0"}},{"$f":"+'datos de entrada'!N379","v":{"v":0,"d":"$ 0"}},{"$f":"+'datos de entrada'!O379","v":{"v":0,"d":"$ 0"}},{"$f":"+'datos de entrada'!P379","v":{"v":0,"d":"$ 0"}},{"$f":"+'datos de entrada'!Q379","v":{"v":0,"d":"$ 0"}},{"$f":"+'datos de entrada'!R379","v":{"v":0,"d":"$ 0"}},{"$f":"+'datos de entrada'!S379","v":{"v":0,"d":"$ 0"}},{"$f":"+'datos de entrada'!T379","v":{"v":0,"d":"$ 0"}},{"$f":"+'datos de entrada'!U379","v":{"v":0,"d":"$ 0"}},{"$f":"+'datos de entrada'!V379","v":{"v":0,"d":"$ 0"}},{"$f":"+'datos de entrada'!W379","v":{"v":0,"d":"$ 0"}},{"$f":"+'datos de entrada'!X379","v":{"v":0,"d":"$ 0"}},{"$f":"+'datos de entrada'!Y379","v":{"v":0,"d":"$ 0"}},{"$f":"+'datos de entrada'!Z379","v":{"v":0,"d":"$ 0"}},{"$f":"+'datos de entrada'!AA379","v":{"v":0,"d":"$ 0"}},{"$f":"+'datos de entrada'!AB379","v":{"v":0,"d":"$ 0"}},{"$f":"+'datos de entrada'!AC379","v":{"v":0,"d":"$ 0"}},{"$f":"+'datos de entrada'!AD379","v":{"v":0,"d":"$ 0"}},{"$f":"+'datos de entrada'!AE379","v":{"v":0,"d":"$ 0"}},{"$f":"+'datos de entrada'!AF379","v":{"v":0,"d":"$ 0"}},{"$f":"+'datos de entrada'!AG379","v":{"v":0,"d":"$ 0"}},{"$f":"+'datos de entrada'!AH379","v":{"v":0,"d":"$ 0"}},{"$f":"+'datos de entrada'!AI379","v":{"v":0,"d":"$ 0"}},{"$f":"+'datos de entrada'!AJ379","v":{"v":0,"d":"$ 0"}},{"$f":"+'datos de entrada'!AK379","v":{"v":0,"d":"$ 0"}},{"$f":"+'datos de entrada'!AL379","v":{"v":0,"d":"$ 0"}}]
[{"$f":"+'datos de entrada'!A380","v":{"v":0,"d":"0 "}},{"$f":"+'datos de entrada'!B380","v":{"v":0,"d":"$ 0"}},{"$f":"+'datos de entrada'!C380","v":{"v":0,"d":"$ 0"}},{"$f":"+'datos de entrada'!D380","v":{"v":0,"d":"$ 0"}},{"$f":"+'datos de entrada'!E380","v":{"v":0,"d":"$ 0"}},{"$f":"+'datos de entrada'!F380","v":{"v":0,"d":"$ 0"}},{"$f":"+'datos de entrada'!G380","v":{"v":0,"d":"$ 0"}},{"$f":"+'datos de entrada'!H380","v":{"v":0,"d":"$ 0"}},{"$f":"+'datos de entrada'!I380","v":{"v":0,"d":"$ 0"}},{"$f":"+'datos de entrada'!J380","v":{"v":0,"d":"$ 0"}},{"$f":"+'datos de entrada'!K380","v":{"v":0,"d":"$ 0"}},{"$f":"+'datos de entrada'!L380","v":{"v":0,"d":"$ 0"}},{"$f":"+'datos de entrada'!M380","v":{"v":0,"d":"$ 0"}},{"$f":"+'datos de entrada'!N380","v":{"v":0,"d":"$ 0"}},{"$f":"+'datos de entrada'!O380","v":{"v":0,"d":"$ 0"}},{"$f":"+'datos de entrada'!P380","v":{"v":0,"d":"$ 0"}},{"$f":"+'datos de entrada'!Q380","v":{"v":0,"d":"$ 0"}},{"$f":"+'datos de entrada'!R380","v":{"v":0,"d":"$ 0"}},{"$f":"+'datos de entrada'!S380","v":{"v":0,"d":"$ 0"}},{"$f":"+'datos de entrada'!T380","v":{"v":0,"d":"$ 0"}},{"$f":"+'datos de entrada'!U380","v":{"v":0,"d":"$ 0"}},{"$f":"+'datos de entrada'!V380","v":{"v":0,"d":"$ 0"}},{"$f":"+'datos de entrada'!W380","v":{"v":0,"d":"$ 0"}},{"$f":"+'datos de entrada'!X380","v":{"v":0,"d":"$ 0"}},{"$f":"+'datos de entrada'!Y380","v":{"v":0,"d":"$ 0"}},{"$f":"+'datos de entrada'!Z380","v":{"v":0,"d":"$ 0"}},{"$f":"+'datos de entrada'!AA380","v":{"v":0,"d":"$ 0"}},{"$f":"+'datos de entrada'!AB380","v":{"v":0,"d":"$ 0"}},{"$f":"+'datos de entrada'!AC380","v":{"v":0,"d":"$ 0"}},{"$f":"+'datos de entrada'!AD380","v":{"v":0,"d":"$ 0"}},{"$f":"+'datos de entrada'!AE380","v":{"v":0,"d":"$ 0"}},{"$f":"+'datos de entrada'!AF380","v":{"v":0,"d":"$ 0"}},{"$f":"+'datos de entrada'!AG380","v":{"v":0,"d":"$ 0"}},{"$f":"+'datos de entrada'!AH380","v":{"v":0,"d":"$ 0"}},{"$f":"+'datos de entrada'!AI380","v":{"v":0,"d":"$ 0"}},{"$f":"+'datos de entrada'!AJ380","v":{"v":0,"d":"$ 0"}},{"$f":"+'datos de entrada'!AK380","v":{"v":0,"d":"$ 0"}},{"$f":"+'datos de entrada'!AL380","v":{"v":0,"d":"$ 0"}}]
[{"$f":"+'datos de entrada'!A381","v":{"v":0,"d":"0 "}},{"$f":"+'datos de entrada'!B381","v":{"v":0,"d":"$ 0"}},{"$f":"+'datos de entrada'!C381","v":{"v":0,"d":"$ 0"}},{"$f":"+'datos de entrada'!D381","v":{"v":0,"d":"$ 0"}},{"$f":"+'datos de entrada'!E381","v":{"v":0,"d":"$ 0"}},{"$f":"+'datos de entrada'!F381","v":{"v":0,"d":"$ 0"}},{"$f":"+'datos de entrada'!G381","v":{"v":0,"d":"$ 0"}},{"$f":"+'datos de entrada'!H381","v":{"v":0,"d":"$ 0"}},{"$f":"+'datos de entrada'!I381","v":{"v":0,"d":"$ 0"}},{"$f":"+'datos de entrada'!J381","v":{"v":0,"d":"$ 0"}},{"$f":"+'datos de entrada'!K381","v":{"v":0,"d":"$ 0"}},{"$f":"+'datos de entrada'!L381","v":{"v":0,"d":"$ 0"}},{"$f":"+'datos de entrada'!M381","v":{"v":0,"d":"$ 0"}},{"$f":"+'datos de entrada'!N381","v":{"v":0,"d":"$ 0"}},{"$f":"+'datos de entrada'!O381","v":{"v":0,"d":"$ 0"}},{"$f":"+'datos de entrada'!P381","v":{"v":0,"d":"$ 0"}},{"$f":"+'datos de entrada'!Q381","v":{"v":0,"d":"$ 0"}},{"$f":"+'datos de entrada'!R381","v":{"v":0,"d":"$ 0"}},{"$f":"+'datos de entrada'!S381","v":{"v":0,"d":"$ 0"}},{"$f":"+'datos de entrada'!T381","v":{"v":0,"d":"$ 0"}},{"$f":"+'datos de entrada'!U381","v":{"v":0,"d":"$ 0"}},{"$f":"+'datos de entrada'!V381","v":{"v":0,"d":"$ 0"}},{"$f":"+'datos de entrada'!W381","v":{"v":0,"d":"$ 0"}},{"$f":"+'datos de entrada'!X381","v":{"v":0,"d":"$ 0"}},{"$f":"+'datos de entrada'!Y381","v":{"v":0,"d":"$ 0"}},{"$f":"+'datos de entrada'!Z381","v":{"v":0,"d":"$ 0"}},{"$f":"+'datos de entrada'!AA381","v":{"v":0,"d":"$ 0"}},{"$f":"+'datos de entrada'!AB381","v":{"v":0,"d":"$ 0"}},{"$f":"+'datos de entrada'!AC381","v":{"v":0,"d":"$ 0"}},{"$f":"+'datos de entrada'!AD381","v":{"v":0,"d":"$ 0"}},{"$f":"+'datos de entrada'!AE381","v":{"v":0,"d":"$ 0"}},{"$f":"+'datos de entrada'!AF381","v":{"v":0,"d":"$ 0"}},{"$f":"+'datos de entrada'!AG381","v":{"v":0,"d":"$ 0"}},{"$f":"+'datos de entrada'!AH381","v":{"v":0,"d":"$ 0"}},{"$f":"+'datos de entrada'!AI381","v":{"v":0,"d":"$ 0"}},{"$f":"+'datos de entrada'!AJ381","v":{"v":0,"d":"$ 0"}},{"$f":"+'datos de entrada'!AK381","v":{"v":0,"d":"$ 0"}},{"$f":"+'datos de entrada'!AL381","v":{"v":0,"d":"$ 0"}}]
[{"$f":"+'datos de entrada'!A382","v":{"v":0,"d":"0 "}},{"$f":"+'datos de entrada'!B382","v":{"v":0,"d":"$ 0"}},{"$f":"+'datos de entrada'!C382","v":{"v":0,"d":"$ 0"}},{"$f":"+'datos de entrada'!D382","v":{"v":0,"d":"$ 0"}},{"$f":"+'datos de entrada'!E382","v":{"v":0,"d":"$ 0"}},{"$f":"+'datos de entrada'!F382","v":{"v":0,"d":"$ 0"}},{"$f":"+'datos de entrada'!G382","v":{"v":0,"d":"$ 0"}},{"$f":"+'datos de entrada'!H382","v":{"v":0,"d":"$ 0"}},{"$f":"+'datos de entrada'!I382","v":{"v":0,"d":"$ 0"}},{"$f":"+'datos de entrada'!J382","v":{"v":0,"d":"$ 0"}},{"$f":"+'datos de entrada'!K382","v":{"v":0,"d":"$ 0"}},{"$f":"+'datos de entrada'!L382","v":{"v":0,"d":"$ 0"}},{"$f":"+'datos de entrada'!M382","v":{"v":0,"d":"$ 0"}},{"$f":"+'datos de entrada'!N382","v":{"v":0,"d":"$ 0"}},{"$f":"+'datos de entrada'!O382","v":{"v":0,"d":"$ 0"}},{"$f":"+'datos de entrada'!P382","v":{"v":0,"d":"$ 0"}},{"$f":"+'datos de entrada'!Q382","v":{"v":0,"d":"$ 0"}},{"$f":"+'datos de entrada'!R382","v":{"v":0,"d":"$ 0"}},{"$f":"+'datos de entrada'!S382","v":{"v":0,"d":"$ 0"}},{"$f":"+'datos de entrada'!T382","v":{"v":0,"d":"$ 0"}},{"$f":"+'datos de entrada'!U382","v":{"v":0,"d":"$ 0"}},{"$f":"+'datos de entrada'!V382","v":{"v":0,"d":"$ 0"}},{"$f":"+'datos de entrada'!W382","v":{"v":0,"d":"$ 0"}},{"$f":"+'datos de entrada'!X382","v":{"v":0,"d":"$ 0"}},{"$f":"+'datos de entrada'!Y382","v":{"v":0,"d":"$ 0"}},{"$f":"+'datos de entrada'!Z382","v":{"v":0,"d":"$ 0"}},{"$f":"+'datos de entrada'!AA382","v":{"v":0,"d":"$ 0"}},{"$f":"+'datos de entrada'!AB382","v":{"v":0,"d":"$ 0"}},{"$f":"+'datos de entrada'!AC382","v":{"v":0,"d":"$ 0"}},{"$f":"+'datos de entrada'!AD382","v":{"v":0,"d":"$ 0"}},{"$f":"+'datos de entrada'!AE382","v":{"v":0,"d":"$ 0"}},{"$f":"+'datos de entrada'!AF382","v":{"v":0,"d":"$ 0"}},{"$f":"+'datos de entrada'!AG382","v":{"v":0,"d":"$ 0"}},{"$f":"+'datos de entrada'!AH382","v":{"v":0,"d":"$ 0"}},{"$f":"+'datos de entrada'!AI382","v":{"v":0,"d":"$ 0"}},{"$f":"+'datos de entrada'!AJ382","v":{"v":0,"d":"$ 0"}},{"$f":"+'datos de entrada'!AK382","v":{"v":0,"d":"$ 0"}},{"$f":"+'datos de entrada'!AL382","v":{"v":0,"d":"$ 0"}}]
[{"$f":"+'datos de entrada'!A383","v":{"v":0,"d":"0 "}},{"$f":"+'datos de entrada'!B383","v":{"v":0,"d":"$ 0"}},{"$f":"+'datos de entrada'!C383","v":{"v":0,"d":"$ 0"}},{"$f":"+'datos de entrada'!D383","v":{"v":0,"d":"$ 0"}},{"$f":"+'datos de entrada'!E383","v":{"v":0,"d":"$ 0"}},{"$f":"+'datos de entrada'!F383","v":{"v":0,"d":"$ 0"}},{"$f":"+'datos de entrada'!G383","v":{"v":0,"d":"$ 0"}},{"$f":"+'datos de entrada'!H383","v":{"v":0,"d":"$ 0"}},{"$f":"+'datos de entrada'!I383","v":{"v":0,"d":"$ 0"}},{"$f":"+'datos de entrada'!J383","v":{"v":0,"d":"$ 0"}},{"$f":"+'datos de entrada'!K383","v":{"v":0,"d":"$ 0"}},{"$f":"+'datos de entrada'!L383","v":{"v":0,"d":"$ 0"}},{"$f":"+'datos de entrada'!M383","v":{"v":0,"d":"$ 0"}},{"$f":"+'datos de entrada'!N383","v":{"v":0,"d":"$ 0"}},{"$f":"+'datos de entrada'!O383","v":{"v":0,"d":"$ 0"}},{"$f":"+'datos de entrada'!P383","v":{"v":0,"d":"$ 0"}},{"$f":"+'datos de entrada'!Q383","v":{"v":0,"d":"$ 0"}},{"$f":"+'datos de entrada'!R383","v":{"v":0,"d":"$ 0"}},{"$f":"+'datos de entrada'!S383","v":{"v":0,"d":"$ 0"}},{"$f":"+'datos de entrada'!T383","v":{"v":0,"d":"$ 0"}},{"$f":"+'datos de entrada'!U383","v":{"v":0,"d":"$ 0"}},{"$f":"+'datos de entrada'!V383","v":{"v":0,"d":"$ 0"}},{"$f":"+'datos de entrada'!W383","v":{"v":0,"d":"$ 0"}},{"$f":"+'datos de entrada'!X383","v":{"v":0,"d":"$ 0"}},{"$f":"+'datos de entrada'!Y383","v":{"v":0,"d":"$ 0"}},{"$f":"+'datos de entrada'!Z383","v":{"v":0,"d":"$ 0"}},{"$f":"+'datos de entrada'!AA383","v":{"v":0,"d":"$ 0"}},{"$f":"+'datos de entrada'!AB383","v":{"v":0,"d":"$ 0"}},{"$f":"+'datos de entrada'!AC383","v":{"v":0,"d":"$ 0"}},{"$f":"+'datos de entrada'!AD383","v":{"v":0,"d":"$ 0"}},{"$f":"+'datos de entrada'!AE383","v":{"v":0,"d":"$ 0"}},{"$f":"+'datos de entrada'!AF383","v":{"v":0,"d":"$ 0"}},{"$f":"+'datos de entrada'!AG383","v":{"v":0,"d":"$ 0"}},{"$f":"+'datos de entrada'!AH383","v":{"v":0,"d":"$ 0"}},{"$f":"+'datos de entrada'!AI383","v":{"v":0,"d":"$ 0"}},{"$f":"+'datos de entrada'!AJ383","v":{"v":0,"d":"$ 0"}},{"$f":"+'datos de entrada'!AK383","v":{"v":0,"d":"$ 0"}},{"$f":"+'datos de entrada'!AL383","v":{"v":0,"d":"$ 0"}}]
[{"$f":"+'datos de entrada'!A384","v":{"v":0,"d":"0 "}},{"$f":"+'datos de entrada'!B384","v":{"v":0,"d":"$ 0"}},{"$f":"+'datos de entrada'!C384","v":{"v":0,"d":"$ 0"}},{"$f":"+'datos de entrada'!D384","v":{"v":0,"d":"$ 0"}},{"$f":"+'datos de entrada'!E384","v":{"v":0,"d":"$ 0"}},{"$f":"+'datos de entrada'!F384","v":{"v":0,"d":"$ 0"}},{"$f":"+'datos de entrada'!G384","v":{"v":0,"d":"$ 0"}},{"$f":"+'datos de entrada'!H384","v":{"v":0,"d":"$ 0"}},{"$f":"+'datos de entrada'!I384","v":{"v":0,"d":"$ 0"}},{"$f":"+'datos de entrada'!J384","v":{"v":0,"d":"$ 0"}},{"$f":"+'datos de entrada'!K384","v":{"v":0,"d":"$ 0"}},{"$f":"+'datos de entrada'!L384","v":{"v":0,"d":"$ 0"}},{"$f":"+'datos de entrada'!M384","v":{"v":0,"d":"$ 0"}},{"$f":"+'datos de entrada'!N384","v":{"v":0,"d":"$ 0"}},{"$f":"+'datos de entrada'!O384","v":{"v":0,"d":"$ 0"}},{"$f":"+'datos de entrada'!P384","v":{"v":0,"d":"$ 0"}},{"$f":"+'datos de entrada'!Q384","v":{"v":0,"d":"$ 0"}},{"$f":"+'datos de entrada'!R384","v":{"v":0,"d":"$ 0"}},{"$f":"+'datos de entrada'!S384","v":{"v":0,"d":"$ 0"}},{"$f":"+'datos de entrada'!T384","v":{"v":0,"d":"$ 0"}},{"$f":"+'datos de entrada'!U384","v":{"v":0,"d":"$ 0"}},{"$f":"+'datos de entrada'!V384","v":{"v":0,"d":"$ 0"}},{"$f":"+'datos de entrada'!W384","v":{"v":0,"d":"$ 0"}},{"$f":"+'datos de entrada'!X384","v":{"v":0,"d":"$ 0"}},{"$f":"+'datos de entrada'!Y384","v":{"v":0,"d":"$ 0"}},{"$f":"+'datos de entrada'!Z384","v":{"v":0,"d":"$ 0"}},{"$f":"+'datos de entrada'!AA384","v":{"v":0,"d":"$ 0"}},{"$f":"+'datos de entrada'!AB384","v":{"v":0,"d":"$ 0"}},{"$f":"+'datos de entrada'!AC384","v":{"v":0,"d":"$ 0"}},{"$f":"+'datos de entrada'!AD384","v":{"v":0,"d":"$ 0"}},{"$f":"+'datos de entrada'!AE384","v":{"v":0,"d":"$ 0"}},{"$f":"+'datos de entrada'!AF384","v":{"v":0,"d":"$ 0"}},{"$f":"+'datos de entrada'!AG384","v":{"v":0,"d":"$ 0"}},{"$f":"+'datos de entrada'!AH384","v":{"v":0,"d":"$ 0"}},{"$f":"+'datos de entrada'!AI384","v":{"v":0,"d":"$ 0"}},{"$f":"+'datos de entrada'!AJ384","v":{"v":0,"d":"$ 0"}},{"$f":"+'datos de entrada'!AK384","v":{"v":0,"d":"$ 0"}},{"$f":"+'datos de entrada'!AL384","v":{"v":0,"d":"$ 0"}}]
[{"$f":"+'datos de entrada'!A385","v":{"v":0,"d":"0 "}},{"$f":"+'datos de entrada'!B385","v":{"v":0,"d":"$ 0"}},{"$f":"+'datos de entrada'!C385","v":{"v":0,"d":"$ 0"}},{"$f":"+'datos de entrada'!D385","v":{"v":0,"d":"$ 0"}},{"$f":"+'datos de entrada'!E385","v":{"v":0,"d":"$ 0"}},{"$f":"+'datos de entrada'!F385","v":{"v":0,"d":"$ 0"}},{"$f":"+'datos de entrada'!G385","v":{"v":0,"d":"$ 0"}},{"$f":"+'datos de entrada'!H385","v":{"v":0,"d":"$ 0"}},{"$f":"+'datos de entrada'!I385","v":{"v":0,"d":"$ 0"}},{"$f":"+'datos de entrada'!J385","v":{"v":0,"d":"$ 0"}},{"$f":"+'datos de entrada'!K385","v":{"v":0,"d":"$ 0"}},{"$f":"+'datos de entrada'!L385","v":{"v":0,"d":"$ 0"}},{"$f":"+'datos de entrada'!M385","v":{"v":0,"d":"$ 0"}},{"$f":"+'datos de entrada'!N385","v":{"v":0,"d":"$ 0"}},{"$f":"+'datos de entrada'!O385","v":{"v":0,"d":"$ 0"}},{"$f":"+'datos de entrada'!P385","v":{"v":0,"d":"$ 0"}},{"$f":"+'datos de entrada'!Q385","v":{"v":0,"d":"$ 0"}},{"$f":"+'datos de entrada'!R385","v":{"v":0,"d":"$ 0"}},{"$f":"+'datos de entrada'!S385","v":{"v":0,"d":"$ 0"}},{"$f":"+'datos de entrada'!T385","v":{"v":0,"d":"$ 0"}},{"$f":"+'datos de entrada'!U385","v":{"v":0,"d":"$ 0"}},{"$f":"+'datos de entrada'!V385","v":{"v":0,"d":"$ 0"}},{"$f":"+'datos de entrada'!W385","v":{"v":0,"d":"$ 0"}},{"$f":"+'datos de entrada'!X385","v":{"v":0,"d":"$ 0"}},{"$f":"+'datos de entrada'!Y385","v":{"v":0,"d":"$ 0"}},{"$f":"+'datos de entrada'!Z385","v":{"v":0,"d":"$ 0"}},{"$f":"+'datos de entrada'!AA385","v":{"v":0,"d":"$ 0"}},{"$f":"+'datos de entrada'!AB385","v":{"v":0,"d":"$ 0"}},{"$f":"+'datos de entrada'!AC385","v":{"v":0,"d":"$ 0"}},{"$f":"+'datos de entrada'!AD385","v":{"v":0,"d":"$ 0"}},{"$f":"+'datos de entrada'!AE385","v":{"v":0,"d":"$ 0"}},{"$f":"+'datos de entrada'!AF385","v":{"v":0,"d":"$ 0"}},{"$f":"+'datos de entrada'!AG385","v":{"v":0,"d":"$ 0"}},{"$f":"+'datos de entrada'!AH385","v":{"v":0,"d":"$ 0"}},{"$f":"+'datos de entrada'!AI385","v":{"v":0,"d":"$ 0"}},{"$f":"+'datos de entrada'!AJ385","v":{"v":0,"d":"$ 0"}},{"$f":"+'datos de entrada'!AK385","v":{"v":0,"d":"$ 0"}},{"$f":"+'datos de entrada'!AL385","v":{"v":0,"d":"$ 0"}}]
[{"$f":"+'datos de entrada'!A386","v":{"v":0,"d":"0 "}},{"$f":"+'datos de entrada'!B386","v":{"v":0,"d":"$ 0"}},{"$f":"+'datos de entrada'!C386","v":{"v":0,"d":"$ 0"}},{"$f":"+'datos de entrada'!D386","v":{"v":0,"d":"$ 0"}},{"$f":"+'datos de entrada'!E386","v":{"v":0,"d":"$ 0"}},{"$f":"+'datos de entrada'!F386","v":{"v":0,"d":"$ 0"}},{"$f":"+'datos de entrada'!G386","v":{"v":0,"d":"$ 0"}},{"$f":"+'datos de entrada'!H386","v":{"v":0,"d":"$ 0"}},{"$f":"+'datos de entrada'!I386","v":{"v":0,"d":"$ 0"}},{"$f":"+'datos de entrada'!J386","v":{"v":0,"d":"$ 0"}},{"$f":"+'datos de entrada'!K386","v":{"v":0,"d":"$ 0"}},{"$f":"+'datos de entrada'!L386","v":{"v":0,"d":"$ 0"}},{"$f":"+'datos de entrada'!M386","v":{"v":0,"d":"$ 0"}},{"$f":"+'datos de entrada'!N386","v":{"v":0,"d":"$ 0"}},{"$f":"+'datos de entrada'!O386","v":{"v":0,"d":"$ 0"}},{"$f":"+'datos de entrada'!P386","v":{"v":0,"d":"$ 0"}},{"$f":"+'datos de entrada'!Q386","v":{"v":0,"d":"$ 0"}},{"$f":"+'datos de entrada'!R386","v":{"v":0,"d":"$ 0"}},{"$f":"+'datos de entrada'!S386","v":{"v":0,"d":"$ 0"}},{"$f":"+'datos de entrada'!T386","v":{"v":0,"d":"$ 0"}},{"$f":"+'datos de entrada'!U386","v":{"v":0,"d":"$ 0"}},{"$f":"+'datos de entrada'!V386","v":{"v":0,"d":"$ 0"}},{"$f":"+'datos de entrada'!W386","v":{"v":0,"d":"$ 0"}},{"$f":"+'datos de entrada'!X386","v":{"v":0,"d":"$ 0"}},{"$f":"+'datos de entrada'!Y386","v":{"v":0,"d":"$ 0"}},{"$f":"+'datos de entrada'!Z386","v":{"v":0,"d":"$ 0"}},{"$f":"+'datos de entrada'!AA386","v":{"v":0,"d":"$ 0"}},{"$f":"+'datos de entrada'!AB386","v":{"v":0,"d":"$ 0"}},{"$f":"+'datos de entrada'!AC386","v":{"v":0,"d":"$ 0"}},{"$f":"+'datos de entrada'!AD386","v":{"v":0,"d":"$ 0"}},{"$f":"+'datos de entrada'!AE386","v":{"v":0,"d":"$ 0"}},{"$f":"+'datos de entrada'!AF386","v":{"v":0,"d":"$ 0"}},{"$f":"+'datos de entrada'!AG386","v":{"v":0,"d":"$ 0"}},{"$f":"+'datos de entrada'!AH386","v":{"v":0,"d":"$ 0"}},{"$f":"+'datos de entrada'!AI386","v":{"v":0,"d":"$ 0"}},{"$f":"+'datos de entrada'!AJ386","v":{"v":0,"d":"$ 0"}},{"$f":"+'datos de entrada'!AK386","v":{"v":0,"d":"$ 0"}},{"$f":"+'datos de entrada'!AL386","v":{"v":0,"d":"$ 0"}}]
[{"$f":"+'datos de entrada'!A387","v":{"v":0,"d":"0 "}},{"$f":"+'datos de entrada'!B387","v":{"v":0,"d":"$ 0"}},{"$f":"+'datos de entrada'!C387","v":{"v":0,"d":"$ 0"}},{"$f":"+'datos de entrada'!D387","v":{"v":0,"d":"$ 0"}},{"$f":"+'datos de entrada'!E387","v":{"v":0,"d":"$ 0"}},{"$f":"+'datos de entrada'!F387","v":{"v":0,"d":"$ 0"}},{"$f":"+'datos de entrada'!G387","v":{"v":0,"d":"$ 0"}},{"$f":"+'datos de entrada'!H387","v":{"v":0,"d":"$ 0"}},{"$f":"+'datos de entrada'!I387","v":{"v":0,"d":"$ 0"}},{"$f":"+'datos de entrada'!J387","v":{"v":0,"d":"$ 0"}},{"$f":"+'datos de entrada'!K387","v":{"v":0,"d":"$ 0"}},{"$f":"+'datos de entrada'!L387","v":{"v":0,"d":"$ 0"}},{"$f":"+'datos de entrada'!M387","v":{"v":0,"d":"$ 0"}},{"$f":"+'datos de entrada'!N387","v":{"v":0,"d":"$ 0"}},{"$f":"+'datos de entrada'!O387","v":{"v":0,"d":"$ 0"}},{"$f":"+'datos de entrada'!P387","v":{"v":0,"d":"$ 0"}},{"$f":"+'datos de entrada'!Q387","v":{"v":0,"d":"$ 0"}},{"$f":"+'datos de entrada'!R387","v":{"v":0,"d":"$ 0"}},{"$f":"+'datos de entrada'!S387","v":{"v":0,"d":"$ 0"}},{"$f":"+'datos de entrada'!T387","v":{"v":0,"d":"$ 0"}},{"$f":"+'datos de entrada'!U387","v":{"v":0,"d":"$ 0"}},{"$f":"+'datos de entrada'!V387","v":{"v":0,"d":"$ 0"}},{"$f":"+'datos de entrada'!W387","v":{"v":0,"d":"$ 0"}},{"$f":"+'datos de entrada'!X387","v":{"v":0,"d":"$ 0"}},{"$f":"+'datos de entrada'!Y387","v":{"v":0,"d":"$ 0"}},{"$f":"+'datos de entrada'!Z387","v":{"v":0,"d":"$ 0"}},{"$f":"+'datos de entrada'!AA387","v":{"v":0,"d":"$ 0"}},{"$f":"+'datos de entrada'!AB387","v":{"v":0,"d":"$ 0"}},{"$f":"+'datos de entrada'!AC387","v":{"v":0,"d":"$ 0"}},{"$f":"+'datos de entrada'!AD387","v":{"v":0,"d":"$ 0"}},{"$f":"+'datos de entrada'!AE387","v":{"v":0,"d":"$ 0"}},{"$f":"+'datos de entrada'!AF387","v":{"v":0,"d":"$ 0"}},{"$f":"+'datos de entrada'!AG387","v":{"v":0,"d":"$ 0"}},{"$f":"+'datos de entrada'!AH387","v":{"v":0,"d":"$ 0"}},{"$f":"+'datos de entrada'!AI387","v":{"v":0,"d":"$ 0"}},{"$f":"+'datos de entrada'!AJ387","v":{"v":0,"d":"$ 0"}},{"$f":"+'datos de entrada'!AK387","v":{"v":0,"d":"$ 0"}},{"$f":"+'datos de entrada'!AL387","v":{"v":0,"d":"$ 0"}}]
[{"$f":"+'datos de entrada'!A388","v":{"v":0,"d":"0 "}},{"$f":"+'datos de entrada'!B388","v":{"v":0,"d":"$ 0"}},{"$f":"+'datos de entrada'!C388","v":{"v":0,"d":"$ 0"}},{"$f":"+'datos de entrada'!D388","v":{"v":0,"d":"$ 0"}},{"$f":"+'datos de entrada'!E388","v":{"v":0,"d":"$ 0"}},{"$f":"+'datos de entrada'!F388","v":{"v":0,"d":"$ 0"}},{"$f":"+'datos de entrada'!G388","v":{"v":0,"d":"$ 0"}},{"$f":"+'datos de entrada'!H388","v":{"v":0,"d":"$ 0"}},{"$f":"+'datos de entrada'!I388","v":{"v":0,"d":"$ 0"}},{"$f":"+'datos de entrada'!J388","v":{"v":0,"d":"$ 0"}},{"$f":"+'datos de entrada'!K388","v":{"v":0,"d":"$ 0"}},{"$f":"+'datos de entrada'!L388","v":{"v":0,"d":"$ 0"}},{"$f":"+'datos de entrada'!M388","v":{"v":0,"d":"$ 0"}},{"$f":"+'datos de entrada'!N388","v":{"v":0,"d":"$ 0"}},{"$f":"+'datos de entrada'!O388","v":{"v":0,"d":"$ 0"}},{"$f":"+'datos de entrada'!P388","v":{"v":0,"d":"$ 0"}},{"$f":"+'datos de entrada'!Q388","v":{"v":0,"d":"$ 0"}},{"$f":"+'datos de entrada'!R388","v":{"v":0,"d":"$ 0"}},{"$f":"+'datos de entrada'!S388","v":{"v":0,"d":"$ 0"}},{"$f":"+'datos de entrada'!T388","v":{"v":0,"d":"$ 0"}},{"$f":"+'datos de entrada'!U388","v":{"v":0,"d":"$ 0"}},{"$f":"+'datos de entrada'!V388","v":{"v":0,"d":"$ 0"}},{"$f":"+'datos de entrada'!W388","v":{"v":0,"d":"$ 0"}},{"$f":"+'datos de entrada'!X388","v":{"v":0,"d":"$ 0"}},{"$f":"+'datos de entrada'!Y388","v":{"v":0,"d":"$ 0"}},{"$f":"+'datos de entrada'!Z388","v":{"v":0,"d":"$ 0"}},{"$f":"+'datos de entrada'!AA388","v":{"v":0,"d":"$ 0"}},{"$f":"+'datos de entrada'!AB388","v":{"v":0,"d":"$ 0"}},{"$f":"+'datos de entrada'!AC388","v":{"v":0,"d":"$ 0"}},{"$f":"+'datos de entrada'!AD388","v":{"v":0,"d":"$ 0"}},{"$f":"+'datos de entrada'!AE388","v":{"v":0,"d":"$ 0"}},{"$f":"+'datos de entrada'!AF388","v":{"v":0,"d":"$ 0"}},{"$f":"+'datos de entrada'!AG388","v":{"v":0,"d":"$ 0"}},{"$f":"+'datos de entrada'!AH388","v":{"v":0,"d":"$ 0"}},{"$f":"+'datos de entrada'!AI388","v":{"v":0,"d":"$ 0"}},{"$f":"+'datos de entrada'!AJ388","v":{"v":0,"d":"$ 0"}},{"$f":"+'datos de entrada'!AK388","v":{"v":0,"d":"$ 0"}},{"$f":"+'datos de entrada'!AL388","v":{"v":0,"d":"$ 0"}}]
[{"$f":"+'datos de entrada'!A389","v":{"v":0,"d":"0 "}},{"$f":"+'datos de entrada'!B389","v":{"v":0,"d":"$ 0"}},{"$f":"+'datos de entrada'!C389","v":{"v":0,"d":"$ 0"}},{"$f":"+'datos de entrada'!D389","v":{"v":0,"d":"$ 0"}},{"$f":"+'datos de entrada'!E389","v":{"v":0,"d":"$ 0"}},{"$f":"+'datos de entrada'!F389","v":{"v":0,"d":"$ 0"}},{"$f":"+'datos de entrada'!G389","v":{"v":0,"d":"$ 0"}},{"$f":"+'datos de entrada'!H389","v":{"v":0,"d":"$ 0"}},{"$f":"+'datos de entrada'!I389","v":{"v":0,"d":"$ 0"}},{"$f":"+'datos de entrada'!J389","v":{"v":0,"d":"$ 0"}},{"$f":"+'datos de entrada'!K389","v":{"v":0,"d":"$ 0"}},{"$f":"+'datos de entrada'!L389","v":{"v":0,"d":"$ 0"}},{"$f":"+'datos de entrada'!M389","v":{"v":0,"d":"$ 0"}},{"$f":"+'datos de entrada'!N389","v":{"v":0,"d":"$ 0"}},{"$f":"+'datos de entrada'!O389","v":{"v":0,"d":"$ 0"}},{"$f":"+'datos de entrada'!P389","v":{"v":0,"d":"$ 0"}},{"$f":"+'datos de entrada'!Q389","v":{"v":0,"d":"$ 0"}},{"$f":"+'datos de entrada'!R389","v":{"v":0,"d":"$ 0"}},{"$f":"+'datos de entrada'!S389","v":{"v":0,"d":"$ 0"}},{"$f":"+'datos de entrada'!T389","v":{"v":0,"d":"$ 0"}},{"$f":"+'datos de entrada'!U389","v":{"v":0,"d":"$ 0"}},{"$f":"+'datos de entrada'!V389","v":{"v":0,"d":"$ 0"}},{"$f":"+'datos de entrada'!W389","v":{"v":0,"d":"$ 0"}},{"$f":"+'datos de entrada'!X389","v":{"v":0,"d":"$ 0"}},{"$f":"+'datos de entrada'!Y389","v":{"v":0,"d":"$ 0"}},{"$f":"+'datos de entrada'!Z389","v":{"v":0,"d":"$ 0"}},{"$f":"+'datos de entrada'!AA389","v":{"v":0,"d":"$ 0"}},{"$f":"+'datos de entrada'!AB389","v":{"v":0,"d":"$ 0"}},{"$f":"+'datos de entrada'!AC389","v":{"v":0,"d":"$ 0"}},{"$f":"+'datos de entrada'!AD389","v":{"v":0,"d":"$ 0"}},{"$f":"+'datos de entrada'!AE389","v":{"v":0,"d":"$ 0"}},{"$f":"+'datos de entrada'!AF389","v":{"v":0,"d":"$ 0"}},{"$f":"+'datos de entrada'!AG389","v":{"v":0,"d":"$ 0"}},{"$f":"+'datos de entrada'!AH389","v":{"v":0,"d":"$ 0"}},{"$f":"+'datos de entrada'!AI389","v":{"v":0,"d":"$ 0"}},{"$f":"+'datos de entrada'!AJ389","v":{"v":0,"d":"$ 0"}},{"$f":"+'datos de entrada'!AK389","v":{"v":0,"d":"$ 0"}},{"$f":"+'datos de entrada'!AL389","v":{"v":0,"d":"$ 0"}}]
[{"$f":"+'datos de entrada'!A390","v":{"v":0,"d":"0 "}},{"$f":"+'datos de entrada'!B390","v":{"v":0,"d":"$ 0"}},{"$f":"+'datos de entrada'!C390","v":{"v":0,"d":"$ 0"}},{"$f":"+'datos de entrada'!D390","v":{"v":0,"d":"$ 0"}},{"$f":"+'datos de entrada'!E390","v":{"v":0,"d":"$ 0"}},{"$f":"+'datos de entrada'!F390","v":{"v":0,"d":"$ 0"}},{"$f":"+'datos de entrada'!G390","v":{"v":0,"d":"$ 0"}},{"$f":"+'datos de entrada'!H390","v":{"v":0,"d":"$ 0"}},{"$f":"+'datos de entrada'!I390","v":{"v":0,"d":"$ 0"}},{"$f":"+'datos de entrada'!J390","v":{"v":0,"d":"$ 0"}},{"$f":"+'datos de entrada'!K390","v":{"v":0,"d":"$ 0"}},{"$f":"+'datos de entrada'!L390","v":{"v":0,"d":"$ 0"}},{"$f":"+'datos de entrada'!M390","v":{"v":0,"d":"$ 0"}},{"$f":"+'datos de entrada'!N390","v":{"v":0,"d":"$ 0"}},{"$f":"+'datos de entrada'!O390","v":{"v":0,"d":"$ 0"}},{"$f":"+'datos de entrada'!P390","v":{"v":0,"d":"$ 0"}},{"$f":"+'datos de entrada'!Q390","v":{"v":0,"d":"$ 0"}},{"$f":"+'datos de entrada'!R390","v":{"v":0,"d":"$ 0"}},{"$f":"+'datos de entrada'!S390","v":{"v":0,"d":"$ 0"}},{"$f":"+'datos de entrada'!T390","v":{"v":0,"d":"$ 0"}},{"$f":"+'datos de entrada'!U390","v":{"v":0,"d":"$ 0"}},{"$f":"+'datos de entrada'!V390","v":{"v":0,"d":"$ 0"}},{"$f":"+'datos de entrada'!W390","v":{"v":0,"d":"$ 0"}},{"$f":"+'datos de entrada'!X390","v":{"v":0,"d":"$ 0"}},{"$f":"+'datos de entrada'!Y390","v":{"v":0,"d":"$ 0"}},{"$f":"+'datos de entrada'!Z390","v":{"v":0,"d":"$ 0"}},{"$f":"+'datos de entrada'!AA390","v":{"v":0,"d":"$ 0"}},{"$f":"+'datos de entrada'!AB390","v":{"v":0,"d":"$ 0"}},{"$f":"+'datos de entrada'!AC390","v":{"v":0,"d":"$ 0"}},{"$f":"+'datos de entrada'!AD390","v":{"v":0,"d":"$ 0"}},{"$f":"+'datos de entrada'!AE390","v":{"v":0,"d":"$ 0"}},{"$f":"+'datos de entrada'!AF390","v":{"v":0,"d":"$ 0"}},{"$f":"+'datos de entrada'!AG390","v":{"v":0,"d":"$ 0"}},{"$f":"+'datos de entrada'!AH390","v":{"v":0,"d":"$ 0"}},{"$f":"+'datos de entrada'!AI390","v":{"v":0,"d":"$ 0"}},{"$f":"+'datos de entrada'!AJ390","v":{"v":0,"d":"$ 0"}},{"$f":"+'datos de entrada'!AK390","v":{"v":0,"d":"$ 0"}},{"$f":"+'datos de entrada'!AL390","v":{"v":0,"d":"$ 0"}}]
[null,null,{"$f":"SUM(C369:C391)","v":{"v":0,"d":"0 "}},{"v":0,"d":"0 "},{"v":0,"d":"0 "},{"v":0,"d":"0 "},{"v":0,"d":"0 "},{"v":0,"d":"0 "},{"v":0,"d":"0 "},{"v":0,"d":"0 "},{"v":0,"d":"0 "},{"v":0,"d":"0 "},{"v":0,"d":"0 "},{"v":0,"d":"0 "}]
[]
["GASTOS PREOPERATIVOS"]
[]
[]
["CONCEPTO","GASTOS"]
[null,"TOTALES"]
[{"$f":"+'datos de entrada'!A398","v":{"v":0,"d":"0 "}},{"$f":"+'datos de entrada'!B398","v":{"v":0,"d":"$ 0"}}]
[{"$f":"+'datos de entrada'!A399","v":{"v":0,"d":"0 "}},{"$f":"+'datos de entrada'!B399","v":{"v":0,"d":"$ 0"}}]
[{"$f":"+'datos de entrada'!A400","v":{"v":0,"d":"0 "}},{"$f":"+'datos de entrada'!B400","v":{"v":0,"d":"$ 0"}}]
[{"$f":"+'datos de entrada'!A401","v":{"v":0,"d":"0 "}},{"$f":"+'datos de entrada'!B401","v":{"v":0,"d":"$ 0"}}]
[{"$f":"+'datos de entrada'!A402","v":{"v":0,"d":"0 "}},{"$f":"+'datos de entrada'!B402","v":{"v":0,"d":"$ 0"}}]
[{"$f":"+'datos de entrada'!A403","v":{"v":0,"d":"0 "}},{"$f":"+'datos de entrada'!B403","v":{"v":0,"d":"$ 0"}}]
[{"$f":"+'datos de entrada'!A404","v":{"v":0,"d":"0 "}},{"$f":"+'datos de entrada'!B404","v":{"v":0,"d":"$ 0"}}]
[{"$f":"+'datos de entrada'!A405","v":{"v":0,"d":"0 "}},{"$f":"+'datos de entrada'!B405","v":{"v":0,"d":"$ 0"}},"AMORTIZACION",null,{"v":0,"d":"0 "}]
[{"$f":"+'datos de entrada'!A406","v":{"v":0,"d":"0 "}},{"$f":"+'datos de entrada'!B406","v":{"v":0,"d":"$ 0"}},{"$f":"+'datos de entrada'!C406","v":{"v":0,"d":"$ 0"}}]
["OTROS PARAMETROS"]
[4,"TIO",{"$f":"+'datos de entrada'!C408","v":{"v":0,"d":"0.00%"}},null,null,"REGIMEN","IMPUESTOS"]
["INCREMENTO ANUAL DE PRECIOS:",null,{"$f":"+'datos de entrada'!C409","v":{"v":0,"d":"0.00%"}},null,{"$f":"+'datos de entrada'!E409","v":{"v":0,"d":"0.00%"}},{"$f":"+'datos de entrada'!F409","v":{"v":0,"d":"0.00%"}},{"$f":"+'datos de entrada'!G409","v":{"v":0,"d":"0.00%"}},"RENTA"]
["INCREMENTO DE COSTOS ",null,{"$f":"+'datos de entrada'!C410","v":{"v":0,"d":"0.00%"}},null,{"$f":"+'datos de entrada'!E410","v":{"v":0,"d":"0.00%"}},null,{"$f":"+'datos de entrada'!G410","v":{"v":0,"d":"0.00%"}},"ICA"]
["MANO DE OBRA FIJA",null,{"$f":"+'datos de entrada'!C411","v":{"v":0,"d":"0.00%"}},{"$nulls":3},{"$f":"+'datos de entrada'!G411","v":{"v":0,"d":"0.00%"}},"4X1000"]
{"$rows_empty":23}
[null,"TIMBRES"]
[null,"TRANSPORTE ADMINISTRACION"]
[null,"VIGILANCIA"]
{"$rows_empty":8}
[null,0]
[]
[]
[]
[]
[null,0]
[null,0]
[]
[]
[null,0]
{"$rows_empty":11}
["CARTON"]
["PLASTICO"]
["METALES"]
["VIDRIO"]
["PET"]
[0]
[0]
[0]
[0]
[0]
[0]
[]
[" "]
{"$rows_empty":19}
[null,500]

{"sheet":"datos de entrada","index":2,"n_rows":479,"n_cols":43,"rows_kept":479,"hidden":true,"merged":[[9,0,12,0],[9,1,12,1],[9,2,10,7],[11,2,12,2],[11,3,12,3],[11,4,12,4],[11,5,12,5],[11,6,12,6],[11,7,12,7],[26,0,27,1],[28,0,29,0],[28,1,29,1],[43,0,44,0],[43,1,44,1],[60,0,61,3],[76,0,78,0],[94,0,94,2],[94,5,95,6],[96,0,97,0],[96,1,97,1],[96,2,97,2],[114,0,115,0],[114,1,115,1],[158,3,158,6],[190,0,191,0],[190,1,190,5],[190,6,191,6],[190,7,191,7],[190,8,191,8],[192,0,194,0],[246,7,247,7],[246,15,247,15],[256,7,257,7],[256,15,257,15],[267,7,268,7],[267,15,268,15],[277,7,278,7],[277,15,278,15],[287,7,288,7],[287,15,288,15],[297,7,298,7],[297,15,298,15],[308,10,309,10],[334,2,335,2],[334,3,335,3],[334,4,335,4],[334,5,335,5],[334,6,335,6],[334,7,335,7],[334,8,335,8],[334,9,335,9],[334,10,335,10],[334,11,335,11],[334,12,335,12],[334,13,335,13],[334,14,335,14],[334,15,335,15],[334,16,335,16],[334,17,335,17],[334,18,335,18],[334,19,335,19],[334,20,335,20],[334,21,335,21],[334,22,335,22],[334,23,335,23],[334,24,335,24],[334,25,335,25],[334,26,335,26],[334,27,335,27],[334,28,335,28],[334,29,335,29],[334,30,335,30],[334,31,335,31],[334,32,335,32],[334,33,335,33],[334,34,335,34],[334,35,335,35],[334,36,335,36],[334,37,335,37],[349,2,349,4],[349,7,349,9],[365,2,366,2],[365,3,366,3],[365,4,366,4],[365,5,366,5],[365,6,366,6],[365,7,366,7],[365,8,366,8],[365,9,366,9],[365,10,366,10],[365,11,366,11],[365,12,366,12],[365,13,366,13],[365,14,366,14],[365,15,366,15],[365,16,366,16],[365,17,366,17],[365,18,366,18],[365,19,366,19],[365,20,366,20],[365,21,366,21],[365,22,366,22],[365,23,366,23],[365,24,366,24],[365,25,366,25],[365,26,366,26],[365,27,366,27],[365,28,366,28],[365,29,366,29],[365,30,366,30],[365,31,366,31],[365,32,366,32],[365,33,366,33],[365,34,366,34],[365,35,366,35],[365,36,366,36],[365,37,366,37]]}
[{"$nulls":39},"U"]
["DATOS DE ENTRADA"]
[]
["PROYECTO"]
["SOCIOS:",{"$f":"CONCATENATE(B6,\" / \",C6,\" / \",D6)","v":" /  / "}]
[{"$f":"IF(C7=1,\"TRANSFORMACION\",IF(C7=2,\"COMERCIALIZACION\",IF(C7=3,\"SERVICIOS\",\"\")))","v":""}]
["PLAN DE MERCADEO"]
["PRECIOS DE VENTA Y CONDICIONES COMERCIALES"]
[]
["PRODUCTOS","PRECIO DE VENTA"," % DE DIAS DE COBRO ",{"$nulls":6},"PRECIO DE "]
[{"$nulls":9},"VENTA"]
[null,null,"CONTADO"," 30 DÍAS"," 60 DÍAS"," 90 DÍAS"," 120 DÍAS"," 150 DÍAS",null,"AJUSTADO"]
[]
[{"$nulls":8},{"$f":"SUM(C14:H14)","v":{"v":0,"d":"0.00%"}},{"$f":"+B14","v":{"v":0,"d":"0 "}}]
[{"$nulls":8},{"$f":"SUM(C15:H15)","v":{"v":0,"d":"0.00%"}},{"$f":"+B15","v":{"v":0,"d":"0 "}}]
[{"$nulls":8},{"v":0,"d":"0.00%"},{"v":0,"d":"0 "}]
[{"$nulls":8},{"v":0,"d":"0.00%"},{"v":0,"d":"0 "}]
[{"$nulls":8},{"v":0,"d":"0.00%"},{"v":0,"d":"0 "}]
[{"$nulls":8},{"v":0,"d":"0.00%"},{"v":0,"d":"0 "}]
[{"$nulls":8},{"v":0,"d":"0.00%"},{"v":0,"d":"0 "}]
[{"$nulls":8},{"v":0,"d":"0.00%"},{"v":0,"d":"0 "}]
[{"$nulls":8},{"v":0,"d":"0.00%"},{"v":0,"d":"0 "}]
[{"$nulls":8},{"v":0,"d":"0.00%"},{"v":0,"d":"0 "}]
[{"$nulls":8},{"v":0,"d":"0.00%"},{"v":0,"d":"0 "}]
[{"$nulls":8},{"v":0,"d":"0.00%"},{"v":0,"d":"0 "}]
[]
["GASTOS DE DISTRIBUCION, COMISIONES POR VENTA Y GASTOS DE COMUNICACIÓN. "]
[]
["PRODUCTOS","COMISIONES POR VENTA "]
[]
[null,{"v":0,"d":"0%"}]
[null,{"v":0,"d":"0%"}]
[null,{"v":0,"d":"0%"}]
[null,{"v":0,"d":"0%"}]
[null,{"v":0,"d":"0%"}]
[null,{"v":0,"d":"0%"}]
[null,{"v":0,"d":"0%"}]
[null,{"v":0,"d":"0%"}]
[null,{"v":0,"d":"0%"}]
[null,{"v":0,"d":"0%"}]
[null,{"v":0,"d":"0%"}]
[null,{"v":0,"d":"0%"}]
[]
["MEDIOS DE COMUNICACIÓN ","PRESUPUESTO ANUAL "]
{"$rows_empty":14}
["PORCENTAJE DE LOS INGRESOS DESTINADOS PARA COMUNICACIÓN "]
[]
["PROYECCIONES DE VENTA"]
[]
["PRODUCTO ","AÑO 1","AÑO 2","AÑO 3"]
[null,{"$f":"SUM(B81:M81)","v":{"v":0,"d":"0 "}},{"$f":"+B64+B99","v":{"v":0,"d":"0 "}},{"$f":"+C64+C99","v":{"v":0,"d":"0 "}}]
[null,{"$f":"SUM(B82:M82)","v":{"v":0,"d":"0 "}},{"$f":"+B65+B100","v":{"v":0,"d":"0 "}},{"v":0,"d":"0 "}]
[null,{"v":0,"d":"0 "},{"v":0,"d":"0 "},{"v":0,"d":"0 "}]
[null,{"v":0,"d":"0 "},{"v":0,"d":"0 "},{"v":0,"d":"0 "}]
[null,{"v":0,"d":"0 "},{"v":0,"d":"0 "},{"v":0,"d":"0 "}]
[null,{"v":0,"d":"0 "},{"v":0,"d":"0 "},{"v":0,"d":"0 "}]
[null,{"v":0,"d":"0 "},{"v":0,"d":"0 "},{"v":0,"d":"0 "}]
[null,{"v":0,"d":"0 "},{"v":0,"d":"0 "},{"v":0,"d":"0 "}]
[null,{"v":0,"d":"0 "},{"v":0,"d":"0 "},{"v":0,"d":"0 "}]
[null,{"v":0,"d":"0 "},{"v":0,"d":"0 "},{"v":0,"d":"0 "}]
[null,{"v":0,"d":"0 "},{"v":0,"d":"0 "},{"v":0,"d":"0 "}]
[null,{"v":0,"d":"0 "},{"v":0,"d":"0 "},{"v":0,"d":"0 "}]
[]
["VENTAS EN UNIDADES",null,"ENE","FEB","MAR","ABR","MAY","JUN","JUL","AGO","SEP","OCT","NOV","DIC"," 3.1. VENTAS EN UNIDADES"]
[null,null,"1900-01-06",{"$nulls":11},"-","-","-","-","-","-","-","-","-","-","-","-","-",{"$f":"+B77","v":"00:00:00"},2008,null,"2008-01-01",{"$f":"AE78+AE80+AE79","v":{"$error":"#N/A"}}]
[null,{"$f":"+AF78","v":{"$error":"#N/A"}},{"$f":"+B79+30","v":{"$error":"#N/A"}},{"$f":"+C79+30","v":{"$error":"#N/A"}},{"$error":"#N/A"},{"$error":"#N/A"},{"$error":"#N/A"},{"$error":"#N/A"},{"$error":"#N/A"},{"$error":"#N/A"},{"$error":"#N/A"},{"$error":"#N/A"},{"$error":"#N/A"},"1900-01-09","1900-01-12","MES 1","MES 2","MES 3","MES 4","MES 5","MES 6","MES 7","MES 8","MES 9","MES 10 ","MES 11","MES 12",{"$f":"VLOOKUP(AB78,AB81:AC92,2,FALSE)","v":{"$error":"#N/A"}},{"$f":"+B78","v":0},1,{"$f":"30*(AB79-1)+15","v":{"$error":"#N/A"}}]
[{"v":200,"d":"200 "},{"v":1,"d":"1 "},{"v":2,"d":"2 "},{"v":3,"d":"3 "},{"v":4,"d":"4 "},{"v":5,"d":"5 "},{"v":6,"d":"6 "},{"v":7,"d":"7 "},{"v":8,"d":"8 "},{"v":9,"d":"9 "},{"v":10,"d":"10 "},{"v":11,"d":"11 "},{"v":12,"d":"12 "},null,"-","-","-","-","-","-","-","-","-","-","-","-","-",{"$nulls":3},{"$f":"+(AC79-AC78)*365","v":{"v":-732920,"d":"-732920.00"}}]
[null,{"$f":"+'GRAFIC VTAS'!B14","v":{"v":0,"d":"0 "}},{"$f":"+'GRAFIC VTAS'!C14","v":{"v":0,"d":"0 "}},{"$f":"+'GRAFIC VTAS'!D14","v":{"v":0,"d":"0 "}},{"$f":"+'GRAFIC VTAS'!E14","v":{"v":0,"d":"0 "}},{"$f":"+'GRAFIC VTAS'!F14","v":{"v":0,"d":"0 "}},{"$f":"+'GRAFIC VTAS'!G14","v":{"v":0,"d":"0 "}},{"$f":"+'GRAFIC VTAS'!H14","v":{"v":0,"d":"0 "}},{"$f":"+'GRAFIC VTAS'!I14","v":{"v":0,"d":"0 "}},{"$f":"+'GRAFIC VTAS'!J14","v":{"v":0,"d":"0 "}},{"$f":"+'GRAFIC VTAS'!K14","v":{"v":0,"d":"0 "}},{"$f":"+'GRAFIC VTAS'!L14","v":{"v":0,"d":"0 "}},{"$f":"+'GRAFIC VTAS'!M14","v":{"v":0,"d":"0 "}},{"$f":"SUM(B81:M81)","v":{"v":0,"d":"0 "}},{"$f":"+A81","v":{"v":0,"d":"0 "}},{"$f":"+B81","v":{"v":0,"d":"0 "}},{"$f":"+C81","v":{"v":0,"d":"0 "}},{"v":0,"d":"0 "},{"v":0,"d":"0 "},{"v":0,"d":"0 "},{"v":0,"d":"0 "},{"v":0,"d":"0 "},{"v":0,"d":"0 "},{"v":0,"d":"0 "},{"v":0,"d":"0 "},{"v":0,"d":"0 "},{"v":0,"d":"0 "},"ENE",1,2008,0]
[null,{"$f":"+'GRAFIC VTAS'!B15","v":{"v":0,"d":"0 "}},{"$f":"+'GRAFIC VTAS'!C15","v":{"v":0,"d":"0 "}},{"$f":"+'GRAFIC VTAS'!D15","v":{"v":0,"d":"0 "}},{"$f":"+'GRAFIC VTAS'!E15","v":{"v":0,"d":"0 "}},{"$f":"+'GRAFIC VTAS'!F15","v":{"v":0,"d":"0 "}},{"$f":"+'GRAFIC VTAS'!G15","v":{"v":0,"d":"0 "}},{"$f":"+'GRAFIC VTAS'!H15","v":{"v":0,"d":"0 "}},{"$f":"+'GRAFIC VTAS'!I15","v":{"v":0,"d":"0 "}},{"$f":"+'GRAFIC VTAS'!J15","v":{"v":0,"d":"0 "}},{"$f":"+'GRAFIC VTAS'!K15","v":{"v":0,"d":"0 "}},{"$f":"+'GRAFIC VTAS'!L15","v":{"v":0,"d":"0 "}},{"$f":"+'GRAFIC VTAS'!M15","v":{"v":0,"d":"0 "}},{"$f":"SUM(B82:M82)","v":{"v":0,"d":"0 "}},{"v":0,"d":"0 "},{"v":0,"d":"0 "},{"v":0,"d":"0 "},{"v":0,"d":"0 "},{"v":0,"d":"0 "},{"v":0,"d":"0 "},{"v":0,"d":"0 "},{"v":0,"d":"0 "},{"v":0,"d":"0 "},{"v":0,"d":"0 "},{"v":0,"d":"0 "},{"v":0,"d":"0 "},{"v":0,"d":"0 "},"FEB",2,2009,366,366]
[null,{"$f":"+'GRAFIC VTAS'!B16","v":{"v":0,"d":"0 "}},{"$f":"+'GRAFIC VTAS'!C16","v":{"v":0,"d":"0 "}},{"$f":"+'GRAFIC VTAS'!D16","v":{"v":0,"d":"0 "}},{"$f":"+'GRAFIC VTAS'!E16","v":{"v":0,"d":"0 "}},{"$f":"+'GRAFIC VTAS'!F16","v":{"v":0,"d":"0 "}},{"$f":"+'GRAFIC VTAS'!G16","v":{"v":0,"d":"0 "}},{"$f":"+'GRAFIC VTAS'!H16","v":{"v":0,"d":"0 "}},{"$f":"+'GRAFIC VTAS'!I16","v":{"v":0,"d":"0 "}},{"$f":"+'GRAFIC VTAS'!J16","v":{"v":0,"d":"0 "}},{"$f":"+'GRAFIC VTAS'!K16","v":{"v":0,"d":"0 "}},{"$f":"+'GRAFIC VTAS'!L16","v":{"v":0,"d":"0 "}},{"$f":"+'GRAFIC VTAS'!M16","v":{"v":0,"d":"0 "}},{"v":0,"d":"0 "},{"v":0,"d":"0 "},{"v":0,"d":"0 "},{"v":0,"d":"0 "},{"v":0,"d":"0 "},{"v":0,"d":"0 "},{"v":0,"d":"0 "},{"v":0,"d":"0 "},{"v":0,"d":"0 "},{"v":0,"d":"0 "},{"v":0,"d":"0 "},{"v":0,"d":"0 "},{"v":0,"d":"0 "},{"v":0,"d":"0 "},"MAR",3,2010,365,731]
[null,{"$f":"+'GRAFIC VTAS'!B17","v":{"v":0,"d":"0 "}},{"$f":"+'GRAFIC VTAS'!C17","v":{"v":0,"d":"0 "}},{"$f":"+'GRAFIC VTAS'!D17","v":{"v":0,"d":"0 "}},{"$f":"+'GRAFIC VTAS'!E17","v":{"v":0,"d":"0 "}},{"$f":"+'GRAFIC VTAS'!F17","v":{"v":0,"d":"0 "}},{"$f":"+'GRAFIC VTAS'!G17","v":{"v":0,"d":"0 "}},{"$f":"+'GRAFIC VTAS'!H17","v":{"v":0,"d":"0 "}},{"$f":"+'GRAFIC VTAS'!I17","v":{"v":0,"d":"0 "}},{"$f":"+'GRAFIC VTAS'!J17","v":{"v":0,"d":"0 "}},{"$f":"+'GRAFIC VTAS'!K17","v":{"v":0,"d":"0 "}},{"$f":"+'GRAFIC VTAS'!L17","v":{"v":0,"d":"0 "}},{"$f":"+'GRAFIC VTAS'!M17","v":{"v":0,"d":"0 "}},{"v":0,"d":"0 "},{"v":0,"d":"0 "},{"v":0,"d":"0 "},{"v":0,"d":"0 "},{"v":0,"d":"0 "},{"v":0,"d":"0 "},{"v":0,"d":"0 "},{"v":0,"d":"0 "},{"v":0,"d":"0 "},{"v":0,"d":"0 "},{"v":0,"d":"0 "},{"v":0,"d":"0 "},{"v":0,"d":"0 "},{"v":0,"d":"0 "},"ABR",4,2011,365,1096]
[null,{"$f":"+'GRAFIC VTAS'!B18","v":{"v":0,"d":"0 "}},{"$f":"+'GRAFIC VTAS'!C18","v":{"v":0,"d":"0 "}},{"$f":"+'GRAFIC VTAS'!D18","v":{"v":0,"d":"0 "}},{"$f":"+'GRAFIC VTAS'!E18","v":{"v":0,"d":"0 "}},{"$f":"+'GRAFIC VTAS'!F18","v":{"v":0,"d":"0 "}},{"$f":"+'GRAFIC VTAS'!G18","v":{"v":0,"d":"0 "}},{"$f":"+'GRAFIC VTAS'!H18","v":{"v":0,"d":"0 "}},{"$f":"+'GRAFIC VTAS'!I18","v":{"v":0,"d":"0 "}},{"$f":"+'GRAFIC VTAS'!J18","v":{"v":0,"d":"0 "}},{"$f":"+'GRAFIC VTAS'!K18","v":{"v":0,"d":"0 "}},{"$f":"+'GRAFIC VTAS'!L18","v":{"v":0,"d":"0 "}},{"$f":"+'GRAFIC VTAS'!M18","v":{"v":0,"d":"0 "}},{"v":0,"d":"0 "},{"v":0,"d":"0 "},{"v":0,"d":"0 "},{"v":0,"d":"0 "},{"v":0,"d":"0 "},{"v":0,"d":"0 "},{"v":0,"d":"0 "},{"v":0,"d":"0 "},{"v":0,"d":"0 "},{"v":0,"d":"0 "},{"v":0,"d":"0 "},{"v":0,"d":"0 "},{"v":0,"d":"0 "},{"v":0,"d":"0 "},"MAY",5,2012,365,1461]
[null,{"$f":"+'GRAFIC VTAS'!B19","v":{"v":0,"d":"0 "}},{"$f":"+'GRAFIC VTAS'!C19","v":{"v":0,"d":"0 "}},{"$f":"+'GRAFIC VTAS'!D19","v":{"v":0,"d":"0 "}},{"$f":"+'GRAFIC VTAS'!E19","v":{"v":0,"d":"0 "}},{"$f":"+'GRAFIC VTAS'!F19","v":{"v":0,"d":"0 "}},{"$f":"+'GRAFIC VTAS'!G19","v":{"v":0,"d":"0 "}},{"$f":"+'GRAFIC VTAS'!H19","v":{"v":0,"d":"0 "}},{"$f":"+'GRAFIC VTAS'!I19","v":{"v":0,"d":"0 "}},{"$f":"+'GRAFIC VTAS'!J19","v":{"v":0,"d":"0 "}},{"$f":"+'GRAFIC VTAS'!K19","v":{"v":0,"d":"0 "}},{"$f":"+'GRAFIC VTAS'!L19","v":{"v":0,"d":"0 "}},{"$f":"+'GRAFIC VTAS'!M19","v":{"v":0,"d":"0 "}},{"v":0,"d":"0 "},{"v":0,"d":"0 "},{"v":0,"d":"0 "},{"v":0,"d":"0 "},{"v":0,"d":"0 "},{"v":0,"d":"0 "},{"v":0,"d":"0 "},{"v":0,"d":"0 "},{"v":0,"d":"0 "},{"v":0,"d":"0 "},{"v":0,"d":"0 "},{"v":0,"d":"0 "},{"v":0,"d":"0 "},{"v":0,"d":"0 "},"JUN",6,2013,366,1827]
[null,{"$f":"+'GRAFIC VTAS'!B20","v":{"v":0,"d":"0 "}},{"$f":"+'GRAFIC VTAS'!C20","v":{"v":0,"d":"0 "}},{"$f":"+'GRAFIC VTAS'!D20","v":{"v":0,"d":"0 "}},{"$f":"+'GRAFIC VTAS'!E20","v":{"v":0,"d":"0 "}},{"$f":"+'GRAFIC VTAS'!F20","v":{"v":0,"d":"0 "}},{"$f":"+'GRAFIC VTAS'!G20","v":{"v":0,"d":"0 "}},{"$f":"+'GRAFIC VTAS'!H20","v":{"v":0,"d":"0 "}},{"$f":"+'GRAFIC VTAS'!I20","v":{"v":0,"d":"0 "}},{"$f":"+'GRAFIC VTAS'!J20","v":{"v":0,"d":"0 "}},{"$f":"+'GRAFIC VTAS'!K20","v":{"v":0,"d":"0 "}},{"$f":"+'GRAFIC VTAS'!L20","v":{"v":0,"d":"0 "}},{"$f":"+'GRAFIC VTAS'!M20","v":{"v":0,"d":"0 "}},{"v":0,"d":"0 "},{"v":0,"d":"0 "},{"v":0,"d":"0 "},{"v":0,"d":"0 "},{"v":0,"d":"0 "},{"v":0,"d":"0 "},{"v":0,"d":"0 "},{"v":0,"d":"0 "},{"v":0,"d":"0 "},{"v":0,"d":"0 "},{"v":0,"d":"0 "},{"v":0,"d":"0 "},{"v":0,"d":"0 "},{"v":0,"d":"0 "},"JUL",7,2014,365,2192]
[null,{"$f":"+'GRAFIC VTAS'!B21","v":{"v":0,"d":"0 "}},{"$f":"+'GRAFIC VTAS'!C21","v":{"v":0,"d":"0 "}},{"$f":"+'GRAFIC VTAS'!D21","v":{"v":0,"d":"0 "}},{"$f":"+'GRAFIC VTAS'!E21","v":{"v":0,"d":"0 "}},{"$f":"+'GRAFIC VTAS'!F21","v":{"v":0,"d":"0 "}},{"$f":"+'GRAFIC VTAS'!G21","v":{"v":0,"d":"0 "}},{"$f":"+'GRAFIC VTAS'!H21","v":{"v":0,"d":"0 "}},{"$f":"+'GRAFIC VTAS'!I21","v":{"v":0,"d":"0 "}},{"$f":"+'GRAFIC VTAS'!J21","v":{"v":0,"d":"0 "}},{"$f":"+'GRAFIC VTAS'!K21","v":{"v":0,"d":"0 "}},{"$f":"+'GRAFIC VTAS'!L21","v":{"v":0,"d":"0 "}},{"$f":"+'GRAFIC VTAS'!M21","v":{"v":0,"d":"0 "}},{"v":0,"d":"0 "},{"v":0,"d":"0 "},{"v":0,"d":"0 "},{"v":0,"d":"0 "},{"v":0,"d":"0 "},{"v":0,"d":"0 "},{"v":0,"d":"0 "},{"v":0,"d":"0 "},{"v":0,"d":"0 "},{"v":0,"d":"0 "},{"v":0,"d":"0 "},{"v":0,"d":"0 "},{"v":0,"d":"0 "},{"v":0,"d":"0 "},"AGO",8,2015,365,2557]
[null,{"$f":"+'GRAFIC VTAS'!B22","v":{"v":0,"d":"0 "}},{"$f":"+'GRAFIC VTAS'!C22","v":{"v":0,"d":"0 "}},{"$f":"+'GRAFIC VTAS'!D22","v":{"v":0,"d":"0 "}},{"$f":"+'GRAFIC VTAS'!E22","v":{"v":0,"d":"0 "}},{"$f":"+'GRAFIC VTAS'!F22","v":{"v":0,"d":"0 "}},{"$f":"+'GRAFIC VTAS'!G22","v":{"v":0,"d":"0 "}},{"$f":"+'GRAFIC VTAS'!H22","v":{"v":0,"d":"0 "}},{"$f":"+'GRAFIC VTAS'!I22","v":{"v":0,"d":"0 "}},{"$f":"+'GRAFIC VTAS'!J22","v":{"v":0,"d":"0 "}},{"$f":"+'GRAFIC VTAS'!K22","v":{"v":0,"d":"0 "}},{"$f":"+'GRAFIC VTAS'!L22","v":{"v":0,"d":"0 "}},{"$f":"+'GRAFIC VTAS'!M22","v":{"v":0,"d":"0 "}},{"v":0,"d":"0 "},{"v":0,"d":"0 "},{"v":0,"d":"0 "},{"v":0,"d":"0 "},{"v":0,"d":"0 "},{"v":0,"d":"0 "},{"v":0,"d":"0 "},{"v":0,"d":"0 "},{"v":0,"d":"0 "},{"v":0,"d":"0 "},{"v":0,"d":"0 "},{"v":0,"d":"0 "},{"v":0,"d":"0 "},{"v":0,"d":"0 "},"SEP",9,2016,365,2922]
[null,{"$f":"+'GRAFIC VTAS'!B23","v":{"v":0,"d":"0 "}},{"$f":"+'GRAFIC VTAS'!C23","v":{"v":0,"d":"0 "}},{"$f":"+'GRAFIC VTAS'!D23","v":{"v":0,"d":"0 "}},{"$f":"+'GRAFIC VTAS'!E23","v":{"v":0,"d":"0 "}},{"$f":"+'GRAFIC VTAS'!F23","v":{"v":0,"d":"0 "}},{"$f":"+'GRAFIC VTAS'!G23","v":{"v":0,"d":"0 "}},{"$f":"+'GRAFIC VTAS'!H23","v":{"v":0,"d":"0 "}},{"$f":"+'GRAFIC VTAS'!I23","v":{"v":0,"d":"0 "}},{"$f":"+'GRAFIC VTAS'!J23","v":{"v":0,"d":"0 "}},{"$f":"+'GRAFIC VTAS'!K23","v":{"v":0,"d":"0 "}},{"$f":"+'GRAFIC VTAS'!L23","v":{"v":0,"d":"0 "}},{"$f":"+'GRAFIC VTAS'!M23","v":{"v":0,"d":"0 "}},{"v":0,"d":"0 "},{"v":0,"d":"0 "},{"v":0,"d":"0 "},{"v":0,"d":"0 "},{"v":0,"d":"0 "},{"v":0,"d":"0 "},{"v":0,"d":"0 "},{"v":0,"d":"0 "},{"v":0,"d":"0 "},{"v":0,"d":"0 "},{"v":0,"d":"0 "},{"v":0,"d":"0 "},{"v":0,"d":"0 "},{"v":0,"d":"0 "},"OCT",10,2017,366,3288]
[null,{"$f":"+'GRAFIC VTAS'!B24","v":{"v":0,"d":"0 "}},{"$f":"+'GRAFIC VTAS'!C24","v":{"v":0,"d":"0 "}},{"$f":"+'GRAFIC VTAS'!D24","v":{"v":0,"d":"0 "}},{"$f":"+'GRAFIC VTAS'!E24","v":{"v":0,"d":"0 "}},{"$f":"+'GRAFIC VTAS'!F24","v":{"v":0,"d":"0 "}},{"$f":"+'GRAFIC VTAS'!G24","v":{"v":0,"d":"0 "}},{"$f":"+'GRAFIC VTAS'!H24","v":{"v":0,"d":"0 "}},{"$f":"+'GRAFIC VTAS'!I24","v":{"v":0,"d":"0 "}},{"$f":"+'GRAFIC VTAS'!J24","v":{"v":0,"d":"0 "}},{"$f":"+'GRAFIC VTAS'!K24","v":{"v":0,"d":"0 "}},{"$f":"+'GRAFIC VTAS'!L24","v":{"v":0,"d":"0 "}},{"$f":"+'GRAFIC VTAS'!M24","v":{"v":0,"d":"0 "}},{"v":0,"d":"0 "},{"v":0,"d":"0 "},{"v":0,"d":"0 "},{"v":0,"d":"0 "},{"v":0,"d":"0 "},{"v":0,"d":"0 "},{"v":0,"d":"0 "},{"v":0,"d":"0 "},{"v":0,"d":"0 "},{"v":0,"d":"0 "},{"v":0,"d":"0 "},{"v":0,"d":"0 "},{"v":0,"d":"0 "},{"v":0,"d":"0 "},"NOV",11,2018,365,3653]
[null,{"$f":"+'GRAFIC VTAS'!B25","v":{"v":0,"d":"0 "}},{"$f":"+'GRAFIC VTAS'!C25","v":{"v":0,"d":"0 "}},{"$f":"+'GRAFIC VTAS'!D25","v":{"v":0,"d":"0 "}},{"$f":"+'GRAFIC VTAS'!E25","v":{"v":0,"d":"0 "}},{"$f":"+'GRAFIC VTAS'!F25","v":{"v":0,"d":"0 "}},{"$f":"+'GRAFIC VTAS'!G25","v":{"v":0,"d":"0 "}},{"$f":"+'GRAFIC VTAS'!H25","v":{"v":0,"d":"0 "}},{"$f":"+'GRAFIC VTAS'!I25","v":{"v":0,"d":"0 "}},{"$f":"+'GRAFIC VTAS'!J25","v":{"v":0,"d":"0 "}},{"$f":"+'GRAFIC VTAS'!K25","v":{"v":0,"d":"0 "}},{"$f":"+'GRAFIC VTAS'!L25","v":{"v":0,"d":"0 "}},{"$f":"+'GRAFIC VTAS'!M25","v":{"v":0,"d":"0 "}},{"v":0,"d":"0 "},{"v":0,"d":"0 "},{"v":0,"d":"0 "},{"v":0,"d":"0 "},{"v":0,"d":"0 "},{"v":0,"d":"0 "},{"v":0,"d":"0 "},{"v":0,"d":"0 "},{"v":0,"d":"0 "},{"v":0,"d":"0 "},{"v":0,"d":"0 "},{"v":0,"d":"0 "},{"v":0,"d":"0 "},{"v":0,"d":"0 "},"DIC",12,2019,365,4018]
[null,{"$f":"+B79+365","v":{"$error":"#N/A"}},{"$f":"+C79+365","v":{"$error":"#N/A"}},{"$error":"#N/A"},{"$error":"#N/A"},{"$error":"#N/A"},{"$error":"#N/A"},{"$error":"#N/A"},{"$error":"#N/A"},{"$error":"#N/A"},{"$error":"#N/A"},{"$error":"#N/A"},{"$error":"#N/A"},{"$nulls":16},2020,365,4383]
[null,{"$f":"+B93+365","v":{"$error":"#N/A"}},{"$f":"+C93+365","v":{"$error":"#N/A"}},{"$error":"#N/A"},{"$error":"#N/A"},{"$error":"#N/A"},{"$error":"#N/A"},{"$error":"#N/A"},{"$error":"#N/A"},{"$error":"#N/A"},{"$error":"#N/A"},{"$error":"#N/A"},{"$error":"#N/A"},{"$nulls":16},2021,366,4749]
["CRECIMIENTO EN UNIDADES",{"$nulls":4},"CRECIMIENTO EN PORCENTAJE",{"$nulls":23},2022,365,5114]
[{"$nulls":29},2023,365,5479]
["PRODUCTOS","1 AL 2"," 2 AL 3",null,null,"1 AL 2"," 2 AL 3",{"$nulls":22},2024,365,5844]
[{"$nulls":29},2025,366,6210]
[null,{"$f":"+'GRAFIC VTAS'!AR1","v":{"v":0,"d":"0 "}},{"$f":"+'GRAFIC VTAS'!AT1","v":{"v":0,"d":"0 "}},null,null,{"$f":"IF(B99=0,0,+B99/N81)","v":{"v":0,"d":"0.00%"}},{"$f":"IF(C99=0,0,(C99/(N81+B99)))","v":{"v":0,"d":"0.00%"}},{"$nulls":22},2026,365,6575]
[null,{"$f":"+'GRAFIC VTAS'!AR2","v":{"v":0,"d":"0 "}},{"$f":"+'GRAFIC VTAS'!AT2","v":{"v":0,"d":"0 "}},null,null,{"$f":"IF(B100=0,0,+B100/N82)","v":{"v":0,"d":"0.00%"}},{"$f":"IF(C100=0,0,(C100/(N82+B100)))","v":{"v":0,"d":"0.00%"}},{"$nulls":22},2027,365,6940]
[null,{"$f":"+'GRAFIC VTAS'!AR3","v":{"v":0,"d":"0 "}},{"$f":"+'GRAFIC VTAS'!AT3","v":{"v":0,"d":"0 "}},null,null,{"v":0,"d":"0.00%"},{"v":0,"d":"0.00%"},{"$nulls":22},2028,365,7305]
[null,{"$f":"+'GRAFIC VTAS'!AR4","v":{"v":0,"d":"0 "}},{"$f":"+'GRAFIC VTAS'!AT4","v":{"v":0,"d":"0 "}},null,null,{"v":0,"d":"0.00%"},{"v":0,"d":"0.00%"}]
[null,{"$f":"+'GRAFIC VTAS'!AR5","v":{"v":0,"d":"0 "}},{"$f":"+'GRAFIC VTAS'!AT5","v":{"v":0,"d":"0 "}},null,null,{"v":0,"d":"0.00%"},{"v":0,"d":"0.00%"}]
[null,{"$f":"+'GRAFIC VTAS'!AR6","v":{"v":0,"d":"0 "}},{"$f":"+'GRAFIC VTAS'!AT6","v":{"v":0,"d":"0 "}},null,null,{"v":0,"d":"0.00%"},{"v":0,"d":"0.00%"}]
[null,{"$f":"+'GRAFIC VTAS'!AR7","v":{"v":0,"d":"0 "}},{"$f":"+'GRAFIC VTAS'!AT7","v":{"v":0,"d":"0 "}},null,null,{"v":0,"d":"0.00%"},{"v":0,"d":"0.00%"}]
[null,{"$f":"+'GRAFIC VTAS'!AR8","v":{"v":0,"d":"0 "}},{"$f":"+'GRAFIC VTAS'!AT8","v":{"v":0,"d":"0 "}},null,null,{"v":0,"d":"0.00%"},{"v":0,"d":"0.00%"}]
[null,{"$f":"+'GRAFIC VTAS'!AR9","v":{"v":0,"d":"0 "}},{"$f":"+'GRAFIC VTAS'!AT9","v":{"v":0,"d":"0 "}},null,null,{"v":0,"d":"0.00%"},{"v":0,"d":"0.00%"}]
[null,{"$f":"+'GRAFIC VTAS'!AR10","v":{"v":0,"d":"0 "}},{"$f":"+'GRAFIC VTAS'!AT10","v":{"v":0,"d":"0 "}},null,null,{"v":0,"d":"0.00%"},{"v":0,"d":"0.00%"}]
[null,{"$f":"+'GRAFIC VTAS'!AR11","v":{"v":0,"d":"0 "}},{"$f":"+'GRAFIC VTAS'!AT11","v":{"v":0,"d":"0 "}},null,null,{"v":0,"d":"0.00%"},{"v":0,"d":"0.00%"}]
[null,{"$f":"+'GRAFIC VTAS'!AR12","v":{"v":0,"d":"0 "}},{"$f":"+'GRAFIC VTAS'!AT12","v":{"v":0,"d":"0 "}},null,null,{"v":0,"d":"0.00%"},{"v":0,"d":"0.00%"}]
[]
[]
["OPERACIÓN Y CALIDAD"]
[1000]
[null,"TIEMPO REQUERIDO"]
[]
["TERRENOS"]
["EDIFICIOS"]
["MAQUINAS"]
["EQUIPOS"]
["VEHICULOS"]
["MUEBLES Y ENSERES"]
["HERRAMIENTAS"]
["COMPUTAD. PRODUC."]
["COMPUTAD. ADMON."]
[{"v":0,"d":"0 "}]
[{"v":0,"d":"0 "}]
{"$rows_empty":8}
["INVERSIONES"]
[]
["EN ACTIVOS FIJOS"]
[]
["  APORTES EN ACTIVOS FIJOS CON RECURSOS PROPIOS"]
[]
["CONCEPTO","COSTO","AÑOS VIDA UTIL"]
[]
["TERRENOS",{"$f":"+'inversion af'!K95","v":{"v":0,"d":"0 "}},{"v":100000000,"d":"100,000,000 "}]
["EDIFICIOS",{"$f":"+'inversion af'!K96","v":{"v":0,"d":"0 "}},{"v":20,"d":"20 "}]
["MAQUINAS",{"$f":"+'inversion af'!K97","v":{"v":0,"d":"0 "}},{"v":10,"d":"10 "}]
["EQUIPOS",{"$f":"+'inversion af'!K98","v":{"v":0,"d":"0 "}},{"v":5,"d":"5 "}]
["VEHICULOS",{"$f":"+'inversion af'!K99","v":{"v":0,"d":"0 "}},{"v":5,"d":"5 "}]
["MUEBLES Y ENSERES",{"$f":"+'inversion af'!K100","v":{"v":0,"d":"0 "}},{"v":10,"d":"10 "}]
["HERRAMIENTAS",{"$f":"+'inversion af'!K101","v":{"v":0,"d":"0 "}},{"v":1,"d":"1 "}]
["COMPUTAD. PRODUC.",{"$f":"+'inversion af'!K102","v":{"v":0,"d":"0 "}},{"v":3,"d":"3 "}]
["COMPUTAD. ADMON.",{"$f":"+'inversion af'!K103","v":{"v":0,"d":"0 "}},{"v":3,"d":"3 "}]
[]
[]
[]
[]
["  ACTIVOS FIJOS CONSEGUIDOS CON RECURSOS DE UN CREDITO"]
[]
["CONCEPTO","COSTO","AÑOS VIDA","CONDICIONES DE FINANCIACION"]
[null,null,"UTIL","MESES","TASA","TIPO","GRACIA"]
["TERRENOS",{"$f":"+'inversion af'!K106","v":{"v":0,"d":"0 "}},{"v":1000000,"d":"1,000,000 "},{"v":0,"d":"0 "},{"v":0,"d":"0.00%"},{"v":0,"d":"0 "},{"v":0,"d":"0 "}]
["EDIFICIOS",{"$f":"+'inversion af'!K107","v":{"v":0,"d":"0 "}},{"v":20,"d":"20 "},{"v":0,"d":"0 "},{"v":0,"d":"0.00%"},{"v":0,"d":"0 "},{"v":0,"d":"0 "}]
["MAQUINAS",{"$f":"+'inversion af'!K108","v":{"v":0,"d":"0 "}},{"v":10,"d":"10 "},{"v":0,"d":"0 "},{"v":0,"d":"0.00%"},{"v":0,"d":"0 "},{"v":0,"d":"0 "}]
["EQUIPOS",{"$f":"+'inversion af'!K109","v":{"v":0,"d":"0 "}},{"v":5,"d":"5 "},{"v":0,"d":"0 "},{"v":0,"d":"0.00%"},{"v":0,"d":"0 "},{"v":0,"d":"0 "}]
["VEHICULOS",{"$f":"+'inversion af'!K110","v":{"v":0,"d":"0 "}},{"v":5,"d":"5 "},{"v":0,"d":"0 "},{"v":0,"d":"0.00%"},{"v":0,"d":"0 "},{"v":0,"d":"0 "}]
["MUEBLES Y ENSERES",{"$f":"+'inversion af'!K111","v":{"v":0,"d":"0 "}},{"v":10,"d":"10 "},{"v":0,"d":"0 "},{"v":0,"d":"0.00%"},{"v":0,"d":"0 "},{"v":0,"d":"0 "}]
["HERRAMIENTAS",{"$f":"+'inversion af'!K112","v":{"v":0,"d":"0 "}},{"v":1,"d":"1 "},{"v":0,"d":"0 "},{"v":0,"d":"0.00%"},{"v":0,"d":"0 "},{"v":0,"d":"0 "}]
["COMPUTAD. PRODUC.",{"$f":"+'inversion af'!K113","v":{"v":0,"d":"0 "}},{"v":3,"d":"3 "},{"v":0,"d":"0 "},{"v":0,"d":"0.00%"},{"v":1,"d":"1 "},{"v":0,"d":"0 "}]
["COMPUTAD. ADMON.",{"$f":"+'inversion af'!K114","v":{"v":0,"d":"0 "}},{"v":3,"d":"3 "},{"v":0,"d":"0 "},{"v":0,"d":"0.00%"},{"v":1,"d":"1 "},{"v":0,"d":"0 "}]
[{"$nulls":3},{"v":0,"d":"0 "},{"v":0,"d":"0.00%"},{"v":1,"d":"1 "},{"v":0,"d":"0 "}]
[{"$nulls":3},{"v":0,"d":"0 "},{"v":0,"d":"0.00%"},{"v":1,"d":"1 "},{"v":0,"d":"0 "}]
[]
[]
["  ACTIVOS FIJOS ADQUIRIDOS CON SUBVENCIONES O DONACIONES"]
[]
["CONCEPTO","COSTO","AÑOS VIDA"]
[null,null,"UTIL"]
["TERRENOS",{"$f":"+'inversion af'!K117","v":{"v":0,"d":"0 "}},{"v":1000000,"d":"1,000,000 "}]
["EDIFICIOS",{"$f":"+'inversion af'!K118","v":{"v":0,"d":"0 "}},{"v":20,"d":"20 "}]
["MAQUINAS",{"$f":"+'inversion af'!K119","v":{"v":0,"d":"0 "}},{"v":10,"d":"10 "}]
["EQUIPOS",{"$f":"+'inversion af'!K120","v":{"v":0,"d":"0 "}},{"v":5,"d":"5 "}]
["VEHICULOS",{"$f":"+'inversion af'!K121","v":{"v":0,"d":"0 "}},{"v":5,"d":"5 "}]
["MUEBLES Y ENSERES",{"$f":"+'inversion af'!K122","v":{"v":0,"d":"0 "}},{"v":10,"d":"10 "}]
["HERRAMIENTAS",{"$f":"+'inversion af'!K123","v":{"v":0,"d":"0 "}},{"v":1,"d":"1 "}]
["COMPUTAD. PRODUC.",{"$f":"+'inversion af'!K124","v":{"v":0,"d":"0 "}},{"v":3,"d":"3 "}]
["COMPUTAD. ADMON.",{"$f":"+'inversion af'!K125","v":{"v":0,"d":"0 "}},{"v":3,"d":"3 "}]
[]
[]
[]
[]
[" CAPITAL DE TRABAJO","CONDICIONES DE FINANCIACION",{"$nulls":4},"MONTO","RECURSOS","FECHA"]
[null,"MONTO","MESES","TASA N.A.","TIPO","GRACIA"]
[" CON RECURSOS EXTERNOS:",{"$f":"SUMIF($H$193:$H$197,\"CREDITO\",$G$193:$G$197)","v":{"v":0,"d":"$ 0"}},{"$f":"+$B$216","v":0},{"$f":"+$B$218","v":{"v":0,"d":"0.00%"}},0,{"$f":"+$B$217","v":{"v":0,"d":"0 "}}]
[null,null,{"$f":"+$B$216","v":0},{"$f":"+$B$218","v":{"v":0,"d":"0.00%"}},0,{"$f":"+$B$217","v":{"v":0,"d":"0 "}}]
[null,null,{"$f":"+$B$216","v":0},{"$f":"+$B$218","v":{"v":0,"d":"0.00%"}},0,{"$f":"+$B$217","v":{"v":0,"d":"0 "}}]
[" CON RECURSOS PROPIOS:",{"$f":"SUMIF($H$193:$H$197,\"aporte de socios\",$G$193:$G$197)","v":{"v":0,"d":"$ 0"}}]
[" CON SUBVENCIONES O DONACIONES :",{"$f":"SUMIF($H$193:$H$197,\"no reembolsables\",$G$193:$G$197)","v":{"v":0,"d":"$ 0"}}]
[]
[]
[" FINANCIACION"]
[]
["ACTIVOS FIJOS"]
[]
[]
[]
["PLAZO DE PAGO:"]
["PERIODO DE GRACIA:"]
["INTERES (NOMINAL ANUAL):"]
[null,0]
[]
[]
["CAPITAL DE TRABAJO"]
[]
[]
[]
["PLAZO DE PAGO:"]
["PERIODO DE GRACIA:"]
["INTERES (NOMINAL ANUAL):"]
[null,0]
{"$rows_empty":22}
["COSTOS VARIABLES UNITARIOS",{"v":0,"d":"0 "}]
[]
[" MATERIA PRIMA",{"$nulls":7},"MATERIA PRIMA"]
[]
[null,null,"COSTO","   FORMA DE PAGO",{"$nulls":6},"COSTO","   FORMA DE PAGO"]
["INSUMOS","CANTIDAD","UNITARIO","CONTADO","30 DIAS","60 DIAS","90 DIAS","INVENTAR","INSUMOS","CANTIDAD","UNITARIO","CONTADO","30 DIAS","60 DIAS","90 DIAS","INVENTAR"]
[]
[]
[]
[]
[]
[]
[null,null,{"$f":"SUM(C249:C252)+SUM(D255:G255)","v":{"v":0,"d":"0.00"}},{"$nulls":4},{"$f":"+H249*C249+C250*H250+C251*H251+C252*H252+C253*H253","v":{"v":0,"d":"0 "}},null,null,{"$f":"SUM(K249:K252)+SUM(L255:O255)","v":{"v":0,"d":"0.00"}},{"$nulls":4},{"$f":"+P249*K249+K250*P250+K251*P251+K252*P252+K253*P253","v":{"v":0,"d":"0 "}}]
[]
[null,null,"COSTO","   FORMA DE PAGO",{"$nulls":6},"COSTO","   FORMA DE PAGO"]
["INSUMOS","CANTIDAD","UNITARIO","CONTADO","30 DIAS","60 DIAS","90 DIAS","INVENTAR","INSUMOS","CANTIDAD","UNITARIO","CONTADO","30 DIAS","60 DIAS","90 DIAS","INVENTAR"]
[]
[]
[]
[]
[]
[]
[null,null,{"$f":"SUM(C259:C262)+SUM(D265:G265)","v":{"v":0,"d":"0.00"}},{"$nulls":4},{"$f":"+H259*C259+C260*H260+C261*H261+C262*H262+C263*H263","v":{"v":0,"d":"0 "}},null,null,{"$f":"SUM(K259:K262)+SUM(L265:O265)","v":{"v":0,"d":"0.00"}},{"$nulls":4},{"$f":"+P259*K259+K260*P260+K261*P261+K262*P262+K263*P263","v":{"v":0,"d":"0 "}}]
[]
[]
[null,null,"COSTO","   FORMA DE PAGO",{"$nulls":6},"COSTO","   FORMA DE PAGO"]
["INSUMOS","CANTIDAD","UNITARIO","CONTADO","30 DIAS","60 DIAS","90 DIAS","INVENTAR","INSUMOS","CANTIDAD","UNITARIO","CONTADO","30 DIAS","60 DIAS","90 DIAS","INVENTAR"]
[]
[]
[]
[]
[]
[]
[null,null,{"$f":"SUM(C270:C273)+SUM(D276:G276)","v":{"v":0,"d":"0.00"}},{"$nulls":4},{"$f":"+H270*C270+C271*H271+C272*H272+C273*H273+C274*H274","v":{"v":0,"d":"0 "}},null,null,{"$f":"SUM(K270:K273)+SUM(L276:O276)","v":{"v":0,"d":"0.00"}},{"$nulls":4},{"$f":"+P270*K270+K271*P271+K272*P272+K273*P273+K274*P274","v":{"v":0,"d":"0 "}}]
[]
[null,null,"COSTO","   FORMA DE PAGO",{"$nulls":6},"COSTO","   FORMA DE PAGO"]
["INSUMOS","CANTIDAD","UNITARIO","CONTADO","30 DIAS","60 DIAS","90 DIAS","INVENTAR","INSUMOS","CANTIDAD","UNITARIO","CONTADO","30 DIAS","60 DIAS","90 DIAS","INVENTAR"]
[]
[]
[]
[]
[]
[]
[null,null,{"$f":"SUM(C280:C283)+SUM(D286:G286)","v":{"v":0,"d":"0.00"}},{"$nulls":4},{"$f":"+H280*C280+C281*H281+C282*H282+C283*H283+C284*H284","v":{"v":0,"d":"0 "}},null,null,{"$f":"SUM(K280:K283)+SUM(L286:O286)","v":{"v":0,"d":"0.00"}},{"$nulls":4},{"$f":"+P280*K280+K281*P281+K282*P282+K283*P283+K284*P284","v":{"v":0,"d":"0 "}}]
[]
[null,null,"COSTO","   FORMA DE PAGO",{"$nulls":6},"COSTO","   FORMA DE PAGO"]
["INSUMOS","CANTIDAD","UNITARIO","CONTADO","30 DIAS","60 DIAS","90 DIAS","INVENTAR","INSUMOS","CANTIDAD","UNITARIO","CONTADO","30 DIAS","60 DIAS","90 DIAS","INVENTAR"]
[]
[]
[]
[]
[]
[]
[null,null,{"$f":"SUM(C290:C293)+SUM(D296:G296)","v":{"v":0,"d":"0.00"}},{"$nulls":4},{"$f":"+H290*C290+C291*H291+C292*H292+C293*H293+C294*H294","v":{"v":0,"d":"0 "}},null,null,{"$f":"SUM(K290:K293)+SUM(L296:O296)","v":{"v":0,"d":"0.00"}},{"$nulls":4},{"$f":"+P290*K290+K291*P291+K292*P292+K293*P293+K294*P294","v":{"v":0,"d":"0 "}}]
[]
[null,null,"COSTO","   FORMA DE PAGO",{"$nulls":6},"COSTO","   FORMA DE PAGO"]
["INSUMOS","CANTIDAD","UNITARIO","CONTADO","30 DIAS","60 DIAS","90 DIAS","INVENTAR","INSUMOS","CANTIDAD","UNITARIO","CONTADO","30 DIAS","60 DIAS","90 DIAS","INVENTAR"]
[]
[]
[]
[]
[]
[]
[null,null,{"$f":"SUM(C300:C303)+SUM(D306:G306)","v":{"v":0,"d":"0.00"}},{"$nulls":4},{"$f":"+H300*C300+C301*H301+C302*H302+C303*H303+C304*H304","v":{"v":0,"d":"0 "}},null,null,{"$f":"SUM(K300:K303)+SUM(L306:O306)","v":{"v":0,"d":"0.00"}},{"$nulls":4},{"$f":"+P300*K300+K301*P301+K302*P302+K303*P303+K304*P304","v":{"v":0,"d":"0 "}}]
[]
["MANO DE OBRA VARIABLE"]
[]
["PRODUCTO","COSTO UNITARIO",{"$nulls":8},"comision"]
[null,"MANO  DE OBRA","proceso 1","costo","proceso 2","costo","proceso 3","costo","proceso 4","costo"]
[null,{"$f":"D311+F311+H311+J311","v":{"v":0,"d":"0 "}},{"$f":"+D254","v":{"v":0,"d":"0.00"}},{"$f":"+D255","v":0},{"$f":"+E254","v":{"v":0,"d":"0.00%"}},{"$f":"+E255","v":0},{"$f":"+F254","v":{"v":0,"d":"0.00%"}},{"$f":"+F255","v":0},{"$f":"+G254","v":{"v":0,"d":"0 "}},{"$f":"+G255","v":0},{"v":0,"d":"0.00%"}]
[null,{"$f":"D312+F312+H312+J312","v":{"v":0,"d":"0 "}},{"$f":"+D264","v":{"v":0,"d":"0.00"}},{"$f":"+D265","v":0},{"$f":"+E264","v":{"v":0,"d":"0.00%"}},{"$f":"+E265","v":0},{"$f":"+F264","v":{"v":0,"d":"0.00%"}},{"$f":"+F265","v":0},{"$f":"+G264","v":{"v":0,"d":"0 "}},{"$f":"+G265","v":0},{"v":0,"d":"0.00%"}]
[null,{"v":0,"d":"0 "},{"$f":"+D275","v":{"v":0,"d":"0.00"}},{"$f":"+D276","v":0},{"$f":"+E275","v":{"v":0,"d":"0.00%"}},{"$f":"+E276","v":0},{"$f":"+F275","v":{"v":0,"d":"0.00%"}},{"$f":"+F276","v":0},{"$f":"+G275","v":{"v":0,"d":"0 "}},{"$f":"+G276","v":0},{"v":0,"d":"0.00%"}]
[null,{"v":0,"d":"0 "},{"$f":"+D285","v":{"v":0,"d":"0.00"}},{"$f":"+D286","v":0},{"$f":"+E285","v":{"v":0,"d":"0.00%"}},{"$f":"+E286","v":0},{"$f":"+F285","v":{"v":0,"d":"0.00%"}},{"$f":"+F286","v":0},{"$f":"+G285","v":{"v":0,"d":"0 "}},{"$f":"+G286","v":0},{"v":0,"d":"0.00%"}]
[null,{"v":0,"d":"0 "},{"$f":"+D295","v":{"v":0,"d":"0.00"}},{"$f":"+D296","v":0},{"$f":"+E295","v":{"v":0,"d":"0.00%"}},{"$f":"+E296","v":0},{"$f":"+F295","v":{"v":0,"d":"0.00%"}},{"$f":"+F296","v":0},{"$f":"+G295","v":{"v":0,"d":"0 "}},{"$f":"+G296","v":0},{"v":0,"d":"0.00%"}]
[null,{"v":0,"d":"0 "},{"$f":"+D305","v":{"v":0,"d":"0.00"}},{"$f":"+D306","v":0},{"$f":"+E305","v":{"v":0,"d":"0.00%"}},{"$f":"+E306","v":0},{"$f":"+F305","v":{"v":0,"d":"0.00%"}},{"$f":"+F306","v":0},{"$f":"+G305","v":{"v":0,"d":"0 "}},{"$f":"+G306","v":0},{"v":0,"d":"0.00%"}]
[null,{"v":0,"d":"0 "},{"$f":"+L254","v":{"v":0,"d":"0.00"}},{"$f":"+L255","v":0},{"$f":"+M254","v":{"v":0,"d":"0.00%"}},{"$f":"+M255","v":0},{"$f":"+N254","v":{"v":0,"d":"0.00%"}},{"$f":"+N255","v":0},{"$f":"+O254","v":{"v":0,"d":"0 "}},{"$f":"+O255","v":0},{"v":0,"d":"0.00%"}]
[null,{"v":0,"d":"0 "},{"$f":"+L264","v":{"v":0,"d":"0.00"}},{"$f":"+L265","v":0},{"$f":"+M264","v":{"v":0,"d":"0.00%"}},{"$f":"+M265","v":0},{"$f":"+N264","v":{"v":0,"d":"0.00%"}},{"$f":"+N265","v":0},{"$f":"+O264","v":{"v":0,"d":"0 "}},{"$f":"+O265","v":0},{"v":0,"d":"0.00%"}]
[null,{"v":0,"d":"0 "},{"$f":"+L275","v":{"v":0,"d":"0.00"}},{"$f":"+L276","v":0},{"$f":"+M275","v":{"v":0,"d":"0.00%"}},{"$f":"+M276","v":0},{"$f":"+N275","v":{"v":0,"d":"0.00%"}},{"$f":"+N276","v":0},{"$f":"+O275","v":{"v":0,"d":"0 "}},{"$f":"+O276","v":0},{"v":0,"d":"0.00%"}]
[null,{"v":0,"d":"0 "},{"$f":"+L285","v":{"v":0,"d":"0.00"}},{"$f":"+L286","v":0},{"$f":"+M285","v":{"v":0,"d":"0.00%"}},{"$f":"+M286","v":0},{"$f":"+N285","v":{"v":0,"d":"0.00%"}},{"$f":"+N286","v":0},{"$f":"+O285","v":{"v":0,"d":"0 "}},{"$f":"+O286","v":0},{"v":0,"d":"0.00%"}]
[null,{"v":0,"d":"0 "},{"$f":"+L295","v":{"v":0,"d":"0.00"}},{"$f":"+L296","v":0},{"$f":"+M295","v":{"v":0,"d":"0.00%"}},{"$f":"+M296","v":0},{"$f":"+N295","v":{"v":0,"d":"0.00%"}},{"$f":"+N296","v":0},{"$f":"+O295","v":{"v":0,"d":"0 "}},{"$f":"+O296","v":0},{"v":0,"d":"0.00%"}]
[null,{"v":0,"d":"0 "},{"$f":"+L305","v":{"v":0,"d":"0.00"}},{"$f":"+L306","v":0},{"$f":"+M305","v":{"v":0,"d":"0.00%"}},{"$f":"+M306","v":0},{"$f":"+N305","v":{"v":0,"d":"0.00%"}},{"$f":"+N306","v":0},{"$f":"+O305","v":{"v":0,"d":"0 "}},{"$f":"+O306","v":0},{"v":0,"d":"0.00%"}]
[]
[null,null,"salarios"]
["GASTOS DE VENTA VARIABLE (COMISIONES)",null,{"$f":"TRUNC(IF(B447=\"SI\",B439*1.51837*H353,B439*H353),2)","v":{"v":0,"d":"0.00"}},{"v":0,"d":"0.00"},{"v":0,"d":"0.00"},{"v":0,"d":"0.00"},{"v":0,"d":"0.00"},{"v":0,"d":"0.00"},{"v":0,"d":"0.00"},{"v":0,"d":"0.00"},{"v":0,"d":"0.00"},{"v":0,"d":"0.00"},{"$f":"TRUNC(IF(L447=\"SI\",L439*1.51837*R353,L439*R353),2)","v":{"v":0,"d":"0.00"}},{"v":0,"d":"0.00"},{"v":0,"d":"0.00"},{"v":0,"d":"0.00"},{"v":0,"d":"0.00"},{"v":0,"d":"0.00"},{"v":0,"d":"0.00"},{"v":0,"d":"0.00"},{"v":0,"d":"0.00"},{"v":0,"d":"0.00"},{"$f":"TRUNC(IF(V447=\"SI\",V439*1.51837*AB353,V439*AB353),2)","v":{"v":0,"d":"0.00"}},{"v":0,"d":"0.00"},{"v":0,"d":"0.00"},{"v":0,"d":"0.00"},{"v":0,"d":"0.00"},{"v":0,"d":"0.00"},{"v":0,"d":"0.00"},{"v":0,"d":"0.00"},{"v":0,"d":"0.00"},{"v":0,"d":"0.00"},{"$f":"TRUNC(IF(AF447=\"SI\",AF439*1.51837*AL353,AF439*AL353),2)","v":{"v":0,"d":"0.00"}},{"v":0,"d":"0.00"},{"v":0,"d":"0.00"},{"v":0,"d":"0.00"},{"v":0,"d":"0.00"},{"$f":"TRUNC(IF(AK447=\"SI\",AK439*1.51837*AQ353,AK439*AQ353),2)","v":{"v":0,"d":"0.00"}}]
[null,null,{"v":0,"d":"0.00"},{"v":0,"d":"0.00"},{"v":0,"d":"0.00"},{"v":0,"d":"0.00"},{"v":0,"d":"0.00"},{"v":0,"d":"0.00"},{"v":0,"d":"0.00"},{"v":0,"d":"0.00"},{"v":0,"d":"0.00"},{"v":0,"d":"0.00"},{"v":0,"d":"0.00"},{"v":0,"d":"0.00"},{"v":0,"d":"0.00"},{"v":0,"d":"0.00"},{"v":0,"d":"0.00"},{"v":0,"d":"0.00"},{"v":0,"d":"0.00"},{"v":0,"d":"0.00"},{"v":0,"d":"0.00"},{"v":0,"d":"0.00"},{"v":0,"d":"0.00"},{"v":0,"d":"0.00"},{"v":0,"d":"0.00"},{"v":0,"d":"0.00"},{"v":0,"d":"0.00"},{"v":0,"d":"0.00"},{"v":0,"d":"0.00"},{"v":0,"d":"0.00"},{"v":0,"d":"0.00"},{"v":0,"d":"0.00"},{"v":0,"d":"0.00"},{"v":0,"d":"0.00"},{"v":0,"d":"0.00"},{"v":0,"d":"0.00"},{"v":0,"d":"0.00"},{"v":0,"d":"0.00"}]
["COMISION:",null,{"v":0,"d":"0.00"},{"v":0,"d":"0.00"},{"v":0,"d":"0.00"},{"v":0,"d":"0.00"},{"v":0,"d":"0.00"},{"v":0,"d":"0.00"},{"v":0,"d":"0.00"},{"v":0,"d":"0.00"},{"v":0,"d":"0.00"},{"v":0,"d":"0.00"},{"v":0,"d":"0.00"},{"v":0,"d":"0.00"},{"v":0,"d":"0.00"},{"v":0,"d":"0.00"},{"v":0,"d":"0.00"},{"v":0,"d":"0.00"},{"v":0,"d":"0.00"},{"v":0,"d":"0.00"},{"v":0,"d":"0.00"},{"v":0,"d":"0.00"},{"v":0,"d":"0.00"},{"v":0,"d":"0.00"},{"v":0,"d":"0.00"},{"v":0,"d":"0.00"},{"v":0,"d":"0.00"},{"v":0,"d":"0.00"},{"v":0,"d":"0.00"},{"v":0,"d":"0.00"},{"v":0,"d":"0.00"},{"v":0,"d":"0.00"},{"v":0,"d":"0.00"},{"v":0,"d":"0.00"},{"v":0,"d":"0.00"},{"v":0,"d":"0.00"},{"v":0,"d":"0.00"},{"v":0,"d":"0.00"}]
["FLETES Y GASTOS",{"$f":"+G410+G411","v":{"v":0,"d":"0.00%"}},{"v":0,"d":"0.00"},{"v":0,"d":"0.00"},{"v":0,"d":"0.00"},{"v":0,"d":"0.00"},{"v":0,"d":"0.00"},{"v":0,"d":"0.00"},{"v":0,"d":"0.00"},{"v":0,"d":"0.00"},{"v":0,"d":"0.00"},{"v":0,"d":"0.00"},{"v":0,"d":"0.00"},{"v":0,"d":"0.00"},{"v":0,"d":"0.00"},{"v":0,"d":"0.00"},{"v":0,"d":"0.00"},{"v":0,"d":"0.00"},{"v":0,"d":"0.00"},{"v":0,"d":"0.00"},{"v":0,"d":"0.00"},{"v":0,"d":"0.00"},{"v":0,"d":"0.00"},{"v":0,"d":"0.00"},{"v":0,"d":"0.00"},{"v":0,"d":"0.00"},{"v":0,"d":"0.00"},{"v":0,"d":"0.00"},{"v":0,"d":"0.00"},{"v":0,"d":"0.00"},{"v":0,"d":"0.00"},{"v":0,"d":"0.00"},{"v":0,"d":"0.00"},{"v":0,"d":"0.00"},{"v":0,"d":"0.00"},{"v":0,"d":"0.00"},{"v":0,"d":"0.00"},{"v":0,"d":"0.00"}]
[null,null,{"v":0,"d":"0.00"},{"v":0,"d":"0.00"},{"v":0,"d":"0.00"},{"v":0,"d":"0.00"},{"v":0,"d":"0.00"},{"v":0,"d":"0.00"},{"v":0,"d":"0.00"},{"v":0,"d":"0.00"},{"v":0,"d":"0.00"},{"v":0,"d":"0.00"},{"v":0,"d":"0.00"},{"v":0,"d":"0.00"},{"v":0,"d":"0.00"},{"v":0,"d":"0.00"},{"v":0,"d":"0.00"},{"v":0,"d":"0.00"},{"v":0,"d":"0.00"},{"v":0,"d":"0.00"},{"v":0,"d":"0.00"},{"v":0,"d":"0.00"},{"v":0,"d":"0.00"},{"v":0,"d":"0.00"},{"v":0,"d":"0.00"},{"v":0,"d":"0.00"},{"v":0,"d":"0.00"},{"v":0,"d":"0.00"},{"v":0,"d":"0.00"},{"v":0,"d":"0.00"},{"v":0,"d":"0.00"},{"v":0,"d":"0.00"},{"v":0,"d":"0.00"},{"v":0,"d":"0.00"},{"v":0,"d":"0.00"},{"v":0,"d":"0.00"},{"v":0,"d":"0.00"},{"v":0,"d":"0.00"}]
[null,null,{"v":0,"d":"0.00"},{"v":0,"d":"0.00"},{"v":0,"d":"0.00"},{"v":0,"d":"0.00"},{"v":0,"d":"0.00"},{"v":0,"d":"0.00"},{"v":0,"d":"0.00"},{"v":0,"d":"0.00"},{"v":0,"d":"0.00"},{"v":0,"d":"0.00"},{"v":0,"d":"0.00"},{"v":0,"d":"0.00"},{"v":0,"d":"0.00"},{"v":0,"d":"0.00"},{"v":0,"d":"0.00"},{"v":0,"d":"0.00"},{"v":0,"d":"0.00"},{"v":0,"d":"0.00"},{"v":0,"d":"0.00"},{"v":0,"d":"0.00"},{"v":0,"d":"0.00"},{"v":0,"d":"0.00"},{"v":0,"d":"0.00"},{"v":0,"d":"0.00"},{"v":0,"d":"0.00"},{"v":0,"d":"0.00"},{"v":0,"d":"0.00"},{"v":0,"d":"0.00"},{"v":0,"d":"0.00"},{"v":0,"d":"0.00"},{"v":0,"d":"0.00"},{"v":0,"d":"0.00"},{"v":0,"d":"0.00"},{"v":0,"d":"0.00"},{"v":0,"d":"0.00"},{"v":0,"d":"0.00"}]
["COSTOS FIJOS",null,{"v":0,"d":"0.00"},{"v":0,"d":"0.00"},{"v":0,"d":"0.00"},{"v":0,"d":"0.00"},{"v":0,"d":"0.00"},{"v":0,"d":"0.00"},{"v":0,"d":"0.00"},{"v":0,"d":"0.00"},{"v":0,"d":"0.00"},{"v":0,"d":"0.00"},{"v":0,"d":"0.00"},{"v":0,"d":"0.00"},{"v":0,"d":"0.00"},{"v":0,"d":"0.00"},{"v":0,"d":"0.00"},{"v":0,"d":"0.00"},{"v":0,"d":"0.00"},{"v":0,"d":"0.00"},{"v":0,"d":"0.00"},{"v":0,"d":"0.00"},{"v":0,"d":"0.00"},{"v":0,"d":"0.00"},{"v":0,"d":"0.00"},{"v":0,"d":"0.00"},{"v":0,"d":"0.00"},{"v":0,"d":"0.00"},{"v":0,"d":"0.00"},{"v":0,"d":"0.00"},{"v":0,"d":"0.00"},{"v":0,"d":"0.00"},{"v":0,"d":"0.00"},{"v":0,"d":"0.00"},{"v":0,"d":"0.00"},{"v":0,"d":"0.00"},{"v":0,"d":"0.00"},{"v":0,"d":"0.00"}]
[null,null,{"$f":"TRUNC(IF(B454=\"SI\",B446*1.51837*H360,B446*H360),2)","v":{"v":0,"d":"0.00"}},{"v":0,"d":"0.00"},{"v":0,"d":"0.00"},{"v":0,"d":"0.00"},{"v":0,"d":"0.00"},{"v":0,"d":"0.00"},{"v":0,"d":"0.00"},{"v":0,"d":"0.00"},{"v":0,"d":"0.00"},{"v":0,"d":"0.00"},{"v":0,"d":"0.00"},{"v":0,"d":"0.00"},{"v":0,"d":"0.00"},{"v":0,"d":"0.00"},{"v":0,"d":"0.00"},{"v":0,"d":"0.00"},{"v":0,"d":"0.00"},{"v":0,"d":"0.00"},{"v":0,"d":"0.00"},{"v":0,"d":"0.00"},{"v":0,"d":"0.00"},{"v":0,"d":"0.00"},{"v":0,"d":"0.00"},{"v":0,"d":"0.00"},{"v":0,"d":"0.00"},{"v":0,"d":"0.00"},{"v":0,"d":"0.00"},{"v":0,"d":"0.00"},{"v":0,"d":"0.00"},{"v":0,"d":"0.00"},{"v":0,"d":"0.00"},{"v":0,"d":"0.00"},{"v":0,"d":"0.00"},{"v":0,"d":"0.00"},{"v":0,"d":"0.00"},{"v":0,"d":"0.00"}]
["COSTOS DE PRODUCCION"]
[]
["CONCEPTO","COSTO ","MES 1","MES 2","MES 3","MES 4","MES 5","MES 6","MES 7","MES 8","MES 9","MES 10","MES 11","MES 12","MES 1","MES 2","MES 3","MES 4","MES 5","MES 6","MES 7","MES 8","MES 9","MES 10","MES 11","MES 12","MES 1","MES 2","MES 3","MES 4","MES 5","MES 6","MES 7","MES 8","MES 9","MES 10","MES 11","MES 12"]
[null,"ANUAL"]
[null,{"$f":"SUM(C337:N337)","v":{"v":0,"d":"0 "}}]
[null,{"v":0,"d":"0 "}]
[null,{"v":0,"d":"0 "}]
[null,{"v":0,"d":"0 "}]
[null,{"v":0,"d":"0 "}]
[null,{"v":0,"d":"0 "}]
[null,{"v":0,"d":"0 "}]
[null,{"v":0,"d":"0 "}]
[null,null,{"$f":"SUM(C337:C344)","v":{"v":0,"d":"0 "}},{"$f":"SUM(D337:D344)","v":{"v":0,"d":"0 "}},{"v":0,"d":"0 "},{"v":0,"d":"0 "},{"v":0,"d":"0 "},{"v":0,"d":"0 "},{"v":0,"d":"0 "},{"v":0,"d":"0 "},{"v":0,"d":"0 "},{"v":0,"d":"0 "},{"v":0,"d":"0 "},{"v":0,"d":"0 "}]
[]
["MANO DE OBRA FIJA DIRECTA E INDIRECTA"]
[]
[]
["TIPO EMPLEADO","SALARIO MES","NUMERO DE EMPLEADOS POR ANO",{"$nulls":4},"NUMERO DE EMPLEADOS POR MES"]
[null,null,"ANO 1","ANO 2","ANO 3","SALARIO","PRESTACIONES","MES 1","MES 2","MES 3","MES 4","MES 5","MES 6","MES 7","MES 8","MES 9","MES 10","MES 11","MES 12","MES 13","MES 14","MES 15","MES 16","MES 17","MES 18","MES 19","MES 20","MES 21","MES 22","MES 23","MES 24","MES 25","MES 26","MES 27","MES 28","MES 29","MES 30","MES 31","MES 32","MES 33","MES 34","MES 35","MES 36"]
[]
[null,{"$f":"+F353","v":{"v":0,"d":"0 "}},{"$f":"SUM(H353:S353)/12","v":{"v":0,"d":"0.00"}},{"$f":"SUM(T353:AE353)/12","v":{"v":0,"d":"0.00"}},{"$f":"SUM(AF353:AQ353)/12","v":{"v":0,"d":"0.00"}}]
[null,{"$f":"+F354","v":{"v":0,"d":"0 "}},{"$f":"SUM(H354:S354)/12","v":{"v":0,"d":"0.00"}},{"$f":"SUM(T354:AE354)/12","v":{"v":0,"d":"0.00"}},{"$f":"SUM(AF354:AQ354)/12","v":{"v":0,"d":"0.00"}}]
[null,{"v":0,"d":"0 "},{"v":0,"d":"0.00"},{"v":0,"d":"0.00"},{"v":0,"d":"0.00"}]
[null,{"v":0,"d":"0 "},{"v":0,"d":"0.00"},{"v":0,"d":"0.00"},{"v":0,"d":"0.00"}]
[null,{"v":0,"d":"0 "},{"v":0,"d":"0.00"},{"v":0,"d":"0.00"},{"v":0,"d":"0.00"}]
[null,{"v":0,"d":"0 "},{"v":0,"d":"0.00"},{"v":0,"d":"0.00"},{"v":0,"d":"0.00"}]
[null,{"v":0,"d":"0 "},{"v":0,"d":"0.00"},{"v":0,"d":"0.00"},{"v":0,"d":"0.00"}]
[null,{"v":0,"d":"0 "},{"v":0,"d":"0.00"},{"v":0,"d":"0.00"},{"v":0,"d":"0.00"}]
[]
[]
["GASTOS ADMINISTRATIVOS"]
[]
[]
["TIPO DE GASTO","GASTO","MES 1","MES 2","MES 3","MES 4","MES 5","MES 6","MES 7","MES 8","MES 9","MES 10","MES 11","MES 12","MES 13","MES 14","MES 15","MES 16","MES 17","MES 18","MES 19","MES 20","MES 21","MES 22","MES 23","MES 24","MES 25","MES 26","MES 27","MES 28","MES 29","MES 30","MES 31","MES 32","MES 33","MES 34","MES 35","MES 36"]
[null,"MENSUAL"]
["GERENTE",{"$f":"+O368","v":{"v":0,"d":"0 "}},{"$f":"TRUNC(IF(B467=\"SI\",B455*1.51837*B461,B455*B461),2)","v":{"v":0,"d":"0.00"}},{"$f":"TRUNC(IF(C467=\"SI\",C455*1.51837*C461,C455*C461),2)","v":{"v":0,"d":"0.00"}},{"v":0,"d":"0.00"},{"v":0,"d":"0.00"},{"v":0,"d":"0.00"},{"v":0,"d":"0.00"},{"v":0,"d":"0.00"},{"v":0,"d":"0.00"},{"v":0,"d":"0.00"},{"v":0,"d":"0.00"},{"v":0,"d":"0.00"},{"v":0,"d":"0.00"},{"v":0,"d":"0.00"},{"v":0,"d":"0.00"},{"v":0,"d":"0.00"},{"v":0,"d":"0.00"},{"v":0,"d":"0.00"},{"v":0,"d":"0.00"},{"v":0,"d":"0.00"},{"v":0,"d":"0.00"},{"v":0,"d":"0.00"},{"v":0,"d":"0.00"},{"v":0,"d":"0.00"},{"v":0,"d":"0.00"},{"v":0,"d":"0.00"},{"v":0,"d":"0.00"},{"v":0,"d":"0.00"},{"v":0,"d":"0.00"},{"v":0,"d":"0.00"},{"v":0,"d":"0.00"},{"v":0,"d":"0.00"},{"v":0,"d":"0.00"},{"v":0,"d":"0.00"},{"v":0,"d":"0.00"},{"v":0,"d":"0.00"},{"v":0,"d":"0.00"}]
[null,{"v":0,"d":"0 "},{"v":0,"d":"0.00"},{"$f":"TRUNC(IF(C468=\"SI\",C456*1.51837*C462,C456*C462),2)","v":{"v":0,"d":"0.00"}},{"v":0,"d":"0.00"},{"v":0,"d":"0.00"},{"v":0,"d":"0.00"},{"v":0,"d":"0.00"},{"v":0,"d":"0.00"},{"v":0,"d":"0.00"},{"v":0,"d":"0.00"},{"v":0,"d":"0.00"},{"v":0,"d":"0.00"},{"v":0,"d":"0.00"},{"v":0,"d":"0.00"},{"v":0,"d":"0.00"},{"v":0,"d":"0.00"},{"v":0,"d":"0.00"},{"v":0,"d":"0.00"},{"v":0,"d":"0.00"},{"v":0,"d":"0.00"},{"v":0,"d":"0.00"},{"v":0,"d":"0.00"},{"v":0,"d":"0.00"},{"v":0,"d":"0.00"},{"v":0,"d":"0.00"},{"v":0,"d":"0.00"},{"v":0,"d":"0.00"},{"v":0,"d":"0.00"},{"v":0,"d":"0.00"},{"v":0,"d":"0.00"},{"v":0,"d":"0.00"},{"v":0,"d":"0.00"},{"v":0,"d":"0.00"},{"v":0,"d":"0.00"},{"v":0,"d":"0.00"},{"v":0,"d":"0.00"},{"v":0,"d":"0.00"}]
[null,{"v":0,"d":"0 "},{"v":0,"d":"0.00"},{"v":0,"d":"0.00"},{"v":0,"d":"0.00"},{"v":0,"d":"0.00"},{"v":0,"d":"0.00"},{"v":0,"d":"0.00"},{"v":0,"d":"0.00"},{"v":0,"d":"0.00"},{"v":0,"d":"0.00"},{"v":0,"d":"0.00"},{"v":0,"d":"0.00"},{"v":0,"d":"0.00"},{"v":0,"d":"0.00"},{"v":0,"d":"0.00"},{"v":0,"d":"0.00"},{"v":0,"d":"0.00"},{"v":0,"d":"0.00"},{"v":0,"d":"0.00"},{"v":0,"d":"0.00"},{"v":0,"d":"0.00"},{"v":0,"d":"0.00"},{"v":0,"d":"0.00"},{"v":0,"d":"0.00"},{"v":0,"d":"0.00"},{"v":0,"d":"0.00"},{"v":0,"d":"0.00"},{"v":0,"d":"0.00"},{"v":0,"d":"0.00"},{"v":0,"d":"0.00"},{"v":0,"d":"0.00"},{"v":0,"d":"0.00"},{"v":0,"d":"0.00"},{"v":0,"d":"0.00"},{"v":0,"d":"0.00"},{"v":0,"d":"0.00"},{"v":0,"d":"0.00"}]
[null,{"v":0,"d":"0 "},{"v":0,"d":"0.00"},{"v":0,"d":"0.00"},{"v":0,"d":"0.00"},{"v":0,"d":"0.00"},{"v":0,"d":"0.00"},{"v":0,"d":"0.00"},{"v":0,"d":"0.00"},{"v":0,"d":"0.00"},{"v":0,"d":"0.00"},{"v":0,"d":"0.00"},{"v":0,"d":"0.00"},{"v":0,"d":"0.00"},{"v":0,"d":"0.00"},{"v":0,"d":"0.00"},{"v":0,"d":"0.00"},{"v":0,"d":"0.00"},{"v":0,"d":"0.00"},{"v":0,"d":"0.00"},{"v":0,"d":"0.00"},{"v":0,"d":"0.00"},{"v":0,"d":"0.00"},{"v":0,"d":"0.00"},{"v":0,"d":"0.00"},{"v":0,"d":"0.00"},{"v":0,"d":"0.00"},{"v":0,"d":"0.00"},{"v":0,"d":"0.00"},{"v":0,"d":"0.00"},{"v":0,"d":"0.00"},{"v":0,"d":"0.00"},{"v":0,"d":"0.00"},{"v":0,"d":"0.00"},{"v":0,"d":"0.00"},{"v":0,"d":"0.00"},{"v":0,"d":"0.00"},{"v":0,"d":"0.00"}]
[null,{"v":0,"d":"0 "},{"v":0,"d":"0.00"},{"v":0,"d":"0.00"},{"v":0,"d":"0.00"},{"v":0,"d":"0.00"},{"v":0,"d":"0.00"},{"v":0,"d":"0.00"},{"v":0,"d":"0.00"},{"v":0,"d":"0.00"},{"v":0,"d":"0.00"},{"v":0,"d":"0.00"},{"v":0,"d":"0.00"},{"v":0,"d":"0.00"},{"v":0,"d":"0.00"},{"v":0,"d":"0.00"},{"v":0,"d":"0.00"},{"v":0,"d":"0.00"},{"v":0,"d":"0.00"},{"v":0,"d":"0.00"},{"v":0,"d":"0.00"},{"v":0,"d":"0.00"},{"v":0,"d":"0.00"},{"v":0,"d":"0.00"},{"v":0,"d":"0.00"},{"v":0,"d":"0.00"},{"v":0,"d":"0.00"},{"v":0,"d":"0.00"},{"v":0,"d":"0.00"},{"v":0,"d":"0.00"},{"v":0,"d":"0.00"},{"v":0,"d":"0.00"},{"v":0,"d":"0.00"},{"v":0,"d":"0.00"},{"v":0,"d":"0.00"},{"v":0,"d":"0.00"},{"v":0,"d":"0.00"},{"v":0,"d":"0.00"}]
[null,{"v":0,"d":"0 "},{"v":0,"d":"0.00"},{"v":0,"d":"0.00"},{"v":0,"d":"0.00"},{"v":0,"d":"0.00"},{"v":0,"d":"0.00"},{"v":0,"d":"0.00"},{"v":0,"d":"0.00"},{"v":0,"d":"0.00"},{"v":0,"d":"0.00"},{"v":0,"d":"0.00"},{"v":0,"d":"0.00"},{"v":0,"d":"0.00"},{"v":0,"d":"0.00"},{"v":0,"d":"0.00"},{"v":0,"d":"0.00"},{"v":0,"d":"0.00"},{"v":0,"d":"0.00"},{"v":0,"d":"0.00"},{"v":0,"d":"0.00"},{"v":0,"d":"0.00"},{"v":0,"d":"0.00"},{"v":0,"d":"0.00"},{"v":0,"d":"0.00"},{"v":0,"d":"0.00"},{"v":0,"d":"0.00"},{"v":0,"d":"0.00"},{"v":0,"d":"0.00"},{"v":0,"d":"0.00"},{"v":0,"d":"0.00"},{"v":0,"d":"0.00"},{"v":0,"d":"0.00"},{"v":0,"d":"0.00"},{"v":0,"d":"0.00"},{"v":0,"d":"0.00"},{"v":0,"d":"0.00"},{"v":0,"d":"0.00"}]
{"$rows_empty":17}
[null,null,{"$f":"SUM(C368:C390)","v":{"v":0,"d":"0 "}},{"v":0,"d":"0 "},{"v":0,"d":"0 "},{"v":0,"d":"0 "},{"v":0,"d":"0 "},{"v":0,"d":"0 "},{"v":0,"d":"0 "},{"v":0,"d":"0 "},{"v":0,"d":"0 "},{"v":0,"d":"0 "},{"v":0,"d":"0 "},{"v":0,"d":"0 "}]
[]
["GASTOS PREOPERATIVOS"]
[]
[]
["CONCEPTO","GASTOS"]
[null,"TOTALES"]
{"$rows_empty":9}
["OTROS PARAMETROS"]
[null,"TIO",{"v":0,"d":"0.00%"}]
["INCREMENTO ANUAL DE PRECIOS:",null,{"v":0,"d":"0.00%"},null,{"v":0,"d":"0.00%"},null,{"v":0,"d":"0.00%"},{"$f":"+G409*100","v":{"v":0,"d":"0 "}}]
["INCREMENTO DE COSTOS ",null,{"v":0,"d":"0.00%"},null,{"v":0,"d":"0.00%"},null,{"v":0,"d":"0.000%"},{"$f":"+G410*1000","v":{"v":0,"d":"0.00"}}]
["MANO DE OBRA FIJA",null,{"v":0,"d":"0.00%"},{"$nulls":3},{"v":0,"d":"0.00%"},{"$f":"+G411*100","v":{"v":0,"d":"0.00"}}]
["ACUEDUCTO","ARRIENDO","GASTOS REPRESENTACION","identificacion del proyecto"]
["ARRIENDO","ADMINISTRACION EDIFICIOS","AUXILIO TRANSPORTE VENTAS","mercadeo",{"$f":"SUM(E414:E418)","v":{"v":0,"d":"0 "}}]
["BONIFICACIONES A PRODUCCION","ASESORÍA CONTABLE","HONORARIOS VENDEDORES","identificacion productos"]
["DOTACION","BONIFICACIONES A ADMINISTRACIÓN",null,"precios de venta"]
["ENERGIA","CAFETERIA Y ASEO",null,"distribucion"]
["FLETES Y/O TRANSPORTE OPERATIVO","CAJA MENOR",null,"publicidad"]
["HONORARIOS PRODUCCION","CAPACITACION",null,"proy vtas"]
["INSUMOS","COMBUSTIBLES",null,"operación e inversion",{"$f":"SUM(E420:E424)","v":{"v":0,"d":"0 "}}]
["MANTENIMIENTO EQUIPOS","COMUNICACIÓN Y TELEFONO",null,"af"]
["NOMINA PRODUCCION AUXILIO  DE TRANSPORTE","CORREPONDENCIA",null,"intangibles"]
["SERVICIOS EXTERNOS","DIGITACION Y COMPUTO",null,"costos variables"]
[null,"GASTOS BANCARIOS",null,"costos fijos"]
[null,"HONORARIOS ADMINISTRACIÓN",null,"gastos fijos"]
[null,"LIBROS Y PUBLICACIONES",null,"capital de trabajo",1]
[null,"MONITOREO DE ALARMAS",null,"admon personal",{"$f":"SUM(E427:E428)","v":{"v":0,"d":"0.0"}}]
[null,"NOMINA ADMINISTRACIÓN AUXILIO DE TRANSPORTE",null,"personal admon"]
[null,"NOTARIALES",null,"personal operativo"]
[null,"OTRAS ASESORIAS",null,"otros parametros",{"$f":"SUM(E430:E433)","v":{"v":0,"d":"0.0"}}]
[null,"PAPELERIA Y UTILES DE OFICINA",null,"impuestos"]
[null,"REVISORIA FISCAL",null,"proyeccion"]
[null,"SEGUROS",null,"creditos"]
[null,"SERVICIOS EXTERNOS POR HONORARIOS",null,"tio"]
[null,"SERVICIO DE PARQUEADERO"]
[null,"TIMBRES"]
[null,"TRANSPORTE ADMINISTRACION"]
[null,"VIGILANCIA"]
[null,1,2,3,4,5,6,7,8,9,10,11,12,13,14,15,16,17,18,19,20,21,22,23,24,25,26,27,28,29,30,31,32,33,34,35,36]
[{"$f":"+A353","v":{"v":0,"d":"0 "}}]
[{"$f":"+A354","v":{"v":0,"d":"0 "}}]
[{"v":0,"d":"0 "}]
[{"v":0,"d":"0 "}]
[{"v":0,"d":"0 "}]
[{"v":0,"d":"0 "}]
[{"v":0,"d":"0 "}]
[{"v":0,"d":"0 "}]
[{"$f":"+A353","v":{"v":0,"d":"0 "}}]
[{"$f":"+A354","v":{"v":0,"d":"0 "}}]
[{"v":0,"d":"0 "}]
[{"v":0,"d":"0 "}]
[{"v":0,"d":"0 "}]
[{"v":0,"d":"0 "}]
[{"v":0,"d":"0 "}]
[{"v":0,"d":"0 "}]
[{"$f":"+A368","v":"GERENTE"}]
[{"v":0,"d":"0 "}]
[{"v":0,"d":"0 "}]
[{"v":0,"d":"0 "}]
[{"v":0,"d":"0 "}]
[{"v":0,"d":"0 "}]
[{"$f":"+A368","v":"GERENTE"}]
[{"v":0,"d":"0 "}]
[{"v":0,"d":"0 "}]
[{"v":0,"d":"0 "}]
[{"v":0,"d":"0 "}]
[{"v":0,"d":"0 "}]
[{"$f":"+A368","v":"GERENTE"}]
[{"v":0,"d":"0 "}]
[{"v":0,"d":"0 "}]
[{"v":0,"d":"0 "}]
[{"v":0,"d":"0 "}]
[{"v":0,"d":"0 "}]
[]
[]
[]
[]
[]
[]
[" "]

{"sheet":"GRAFIC VTAS","index":3,"n_rows":418,"n_cols":46,"rows_kept":418,"hidden":true}
[{"$nulls":39},"U",{"$f":"SUM(B1:M1)","v":0},{"$f":"+'datos de entrada'!B14","v":0},{"$f":"SUM(N1:Y1)","v":0},{"$f":"+AQ1-AO1","v":0},{"$f":"SUM(Z1:AK1)","v":0},{"$f":"+AS1-AQ1","v":0}]
[{"$nulls":40},0,{"$f":"+'datos de entrada'!B15","v":0},0,0,0,0]
[{"$nulls":40},0,{"$f":"+'datos de entrada'!B16","v":0},0,0,0,0]
[{"$nulls":39},0,0,{"$f":"+'datos de entrada'!B17","v":0},0,0,0,0]
[{"$nulls":38},0,0,0,{"$f":"+'datos de entrada'!B18","v":0},0,0,0,0]
[{"$nulls":38},0,0,0,{"$f":"+'datos de entrada'!B19","v":0},0,0,0,0]
[{"$nulls":38},0,0,0,{"$f":"+'datos de entrada'!B20","v":0},0,0,0,0]
[{"$nulls":38},0,0,0,{"$f":"+'datos de entrada'!B21","v":0},0,0,0,0]
[{"$nulls":38},0,0,0,{"$f":"+'datos de entrada'!B22","v":0},0,0,0,0]
[{"$nulls":38},0,0,0,{"$f":"+'datos de entrada'!B23","v":0},0,0,0,0]
[{"$nulls":38},0,0,0,{"$f":"+'datos de entrada'!B24","v":0},0,0,0,0]
[{"$nulls":38},0,0,0,{"$f":"+'datos de entrada'!B25","v":0},0,0,0,0]
[null,1,2,2,2,2,2,2,2,2,2,3,4,{"$f":"+B13*1.2","v":1.2},2.4,2.4,2.4,2.4,2.4,2.4,2.4,2.4,2.4,3.5999999999999996,4.8,1.44,2.88,2.88,2.88,2.88,2.88,2.88,2.88,2.88,2.88,4.319999999999999,5.76]
[null,{"$f":"IF($AN$1=\"u\",B1,IF($AN$1=\"p\",B1/$AP1))","v":0},{"$f":"IF($AN$1=\"u\",C1,IF($AN$1=\"p\",C1/$AP1))","v":0},0,0,0,0,0,0,0,0,0,0,0,0,0,0,0,0,0,0,0,0,0,0,0,0,0,0,0,0,0,0,0,0,0,0,null,null,{"$f":"+A1","v":0},{"$f":"IF($AN$1=\"u\",AO1,AO1/AP1)","v":{"v":0,"d":"0.00"}},{"$f":"+AO14*AP1","v":0},{"$f":"IF($AN$1=\"u\",AQ1,AQ1/AP1)","v":{"v":0,"d":"0.00"}},{"$f":"+AQ14*AP1","v":0},{"$f":"IF($AN$1=\"u\",AS1,AS1/AP1)","v":{"v":0,"d":"0.00"}},{"$f":"+AS14*AP1","v":0}]
[null,0,{"$f":"IF($AN$1=\"u\",C2,IF($AN$1=\"p\",C2/$AP2))","v":0},0,0,0,0,0,0,0,0,0,0,0,0,0,0,0,0,0,0,0,0,0,0,0,0,0,0,0,0,0,0,0,0,0,0,null,null,0,{"$f":"IF($AN$1=\"u\",AO2,AO2/AP2)","v":{"v":0,"d":"0.00"}},{"$f":"+AO15*AP2","v":0},{"$f":"IF($AN$1=\"u\",AQ2,AQ2/AP2)","v":{"v":0,"d":"0.00"}},{"$f":"+AQ15*AP2","v":0},{"$f":"IF($AN$1=\"u\",AS2,AS2/AP2)","v":{"v":0,"d":"0.00"}},{"$f":"+AS15*AP2","v":0}]
[null,0,0,0,0,0,0,0,0,0,0,0,0,0,0,0,0,0,0,0,0,0,0,0,0,0,0,0,0,0,0,0,0,0,0,0,0,null,null,0,{"v":0,"d":"0.00"},0,{"v":0,"d":"0.00"},0,{"v":0,"d":"0.00"},0]
[null,0,0,0,0,0,0,0,0,0,0,0,0,0,0,0,0,0,0,0,0,0,0,0,0,0,0,0,0,0,0,0,0,0,0,0,0,null,null,0,{"v":0,"d":"0.00"},0,{"v":0,"d":"0.00"},0,{"v":0,"d":"0.00"},0]
[null,0,0,0,0,0,0,0,0,0,0,0,0,0,0,0,0,0,0,0,0,0,0,0,0,0,0,0,0,0,0,0,0,0,0,0,0,null,null,0,{"v":0,"d":"0.00"},0,{"v":0,"d":"0.00"},0,{"v":0,"d":"0.00"},0]
[null,0,0,0,0,0,0,0,0,0,0,0,0,0,0,0,0,0,0,0,0,0,0,0,0,0,0,0,0,0,0,0,0,0,0,0,0,null,null,0,{"v":0,"d":"0.00"},0,{"v":0,"d":"0.00"},0,{"v":0,"d":"0.00"},0]
[null,0,0,0,0,0,0,0,0,0,0,0,0,0,0,0,0,0,0,0,0,0,0,0,0,0,0,0,0,0,0,0,0,0,0,0,0,null,null,0,{"v":0,"d":"0.00"},0,{"v":0,"d":"0.00"},0,{"v":0,"d":"0.00"},0]
[null,0,0,0,0,0,0,0,0,0,0,0,0,0,0,0,0,0,0,0,0,0,0,0,0,0,0,{"$f":"IF($AN$1=\"u\",AB8,IF($AN$1=\"p\",AB8/$AP8))","v":0},0,0,0,0,0,0,0,0,0,null,null,0,{"v":0,"d":"0.00"},0,{"v":0,"d":"0.00"},0,{"v":0,"d":"0.00"},0]
[null,0,0,0,0,0,0,0,0,0,0,0,0,0,0,0,0,0,0,0,0,0,0,0,0,0,0,0,0,0,0,0,0,0,0,0,0,null,null,0,{"v":0,"d":"0.00"},0,{"v":0,"d":"0.00"},0,{"v":0,"d":"0.00"},0]
[null,0,0,0,0,0,0,0,0,0,0,0,0,0,0,0,0,0,0,0,0,0,0,0,0,0,0,0,0,0,0,0,0,0,0,0,0,null,null,0,{"v":0,"d":"0.00"},0,{"v":0,"d":"0.00"},0,{"v":0,"d":"0.00"},0]
[null,0,0,0,0,0,0,0,0,0,0,0,0,0,0,0,0,0,0,0,0,0,0,0,0,0,0,0,0,0,0,0,0,0,0,0,0,null,null,0,{"v":0,"d":"0.00"},0,{"v":0,"d":"0.00"},0,{"v":0,"d":"0.00"},0]
[null,0,0,0,0,0,0,0,0,0,0,0,0,0,0,0,0,0,0,0,0,0,0,0,0,0,0,0,0,0,0,0,0,0,0,0,0,null,null,0,{"v":0,"d":"0.00"},0,{"v":0,"d":"0.00"},0,{"v":0,"d":"0.00"},0]
{"$rows_empty":11}
[null,3,4,4,5,5,2,2,3,34,4,4,4]
["amanda",5,6,7,8,3,54,5,6,78,8,8,5,25,12,10,10,10,10,12,15,12,10,12,12,4,5,5,4,3,45,2,43,4,3,4,32]
{"$rows_empty":22}
[null,1,2,5,4,5,6,7,8,8,8,9,4,{"$nulls":24},4]
{"$rows_empty":15}
[null,"FEB"]
[null,2009]
{"$rows_empty":10}
[{"$nulls":3},454]
{"$rows_empty":267}
["separacion y empaque"]
{"$rows_empty":54}
[{"$nulls":4},1]
[]
[]
[]
[]
[]
[{"$nulls":4},0.5]

{"sheet":"ventas","index":4,"n_rows":339,"n_cols":38,"rows_kept":339,"hidden":true}
[]
["INFORMACION DE VENTAS"]
[null,{"$f":"+'datos de entrada'!C409","v":0}]
["PROYECTO:",null,{"$f":"+'datos de entrada'!B4","v":0}]
[]
["VENTAS ANUALES EN UNIDADES"]
[]
["PRODUCTOS","ANO 1","ANO 2","ANO 3","ANO 4","ANO 5"]
[]
[{"$f":"+'datos de entrada'!A81","v":0},{"$f":"SUM('datos de entrada'!P81:AA81)","v":0},{"$f":"B10+'datos de entrada'!B99","v":0},{"$f":"C10+'datos de entrada'!C99","v":0},{"$f":"D10+'datos de entrada'!D99","v":0},{"$f":"E10+'datos de entrada'!E99","v":0}]
[{"$f":"+'datos de entrada'!A82","v":0},{"$f":"SUM('datos de entrada'!P82:AA82)","v":0},{"$f":"B11+'datos de entrada'!B100","v":0},{"$f":"C11+'datos de entrada'!C100","v":0},{"$f":"D11+'datos de entrada'!D100","v":0},{"$f":"E11+'datos de entrada'!E100","v":0}]
[{"$f":"+'datos de entrada'!A83","v":0},{"$f":"SUM('datos de entrada'!P83:AA83)","v":0},{"$f":"B12+'datos de entrada'!B101","v":0},{"$f":"C12+'datos de entrada'!C101","v":0},{"$f":"D12+'datos de entrada'!D101","v":0},{"$f":"E12+'datos de entrada'!E101","v":0}]
[{"$f":"+'datos de entrada'!A84","v":0},{"$f":"SUM('datos de entrada'!P84:AA84)","v":0},{"$f":"B13+'datos de entrada'!B102","v":0},{"$f":"C13+'datos de entrada'!C102","v":0},{"$f":"D13+'datos de entrada'!D102","v":0},{"$f":"E13+'datos de entrada'!E102","v":0}]
[{"$f":"+'datos de entrada'!A85","v":0},{"$f":"SUM('datos de entrada'!P85:AA85)","v":0},{"$f":"B14+'datos de entrada'!B103","v":0},{"$f":"C14+'datos de entrada'!C103","v":0},{"$f":"D14+'datos de entrada'!D103","v":0},{"$f":"E14+'datos de entrada'!E103","v":0}]
[{"$f":"+'datos de entrada'!A86","v":0},{"$f":"SUM('datos de entrada'!P86:AA86)","v":0},{"$f":"B15+'datos de entrada'!B104","v":0},{"$f":"C15+'datos de entrada'!C104","v":0},{"$f":"D15+'datos de entrada'!D104","v":0},{"$f":"E15+'datos de entrada'!E104","v":0}]
[{"$f":"+'datos de entrada'!A87","v":0},{"$f":"SUM('datos de entrada'!P87:AA87)","v":0},{"$f":"B16+'datos de entrada'!B105","v":0},{"$f":"C16+'datos de entrada'!C105","v":0},{"$f":"D16+'datos de entrada'!D105","v":0},{"$f":"E16+'datos de entrada'!E105","v":0}]
[{"$f":"+'datos de entrada'!A88","v":0},{"$f":"SUM('datos de entrada'!P88:AA88)","v":0},{"$f":"B17+'datos de entrada'!B106","v":0},{"$f":"C17+'datos de entrada'!C106","v":0},{"$f":"D17+'datos de entrada'!D106","v":0},{"$f":"E17+'datos de entrada'!E106","v":0}]
[{"$f":"+'datos de entrada'!A89","v":0},{"$f":"SUM('datos de entrada'!P89:AA89)","v":0},{"$f":"B18+'datos de entrada'!B107","v":0},{"$f":"C18+'datos de entrada'!C107","v":0},{"$f":"D18+'datos de entrada'!D107","v":0},{"$f":"E18+'datos de entrada'!E107","v":0}]
[{"$f":"+'datos de entrada'!A90","v":0},{"$f":"SUM('datos de entrada'!P90:AA90)","v":0},{"$f":"B19+'datos de entrada'!B108","v":0},{"$f":"C19+'datos de entrada'!C108","v":0},{"$f":"D19+'datos de entrada'!D108","v":0},{"$f":"E19+'datos de entrada'!E108","v":0}]
[{"$f":"+'datos de entrada'!A91","v":0},{"$f":"SUM('datos de entrada'!P91:AA91)","v":0},{"$f":"B20+'datos de entrada'!B109","v":0},{"$f":"C20+'datos de entrada'!C109","v":0},{"$f":"D20+'datos de entrada'!D109","v":0},{"$f":"E20+'datos de entrada'!E109","v":0}]
[{"$f":"+'datos de entrada'!A92","v":0},{"$f":"SUM('datos de entrada'!P92:AA92)","v":0},{"$f":"B21+'datos de entrada'!B110","v":0},{"$f":"C21+'datos de entrada'!C110","v":0},{"$f":"D21+'datos de entrada'!D110","v":0},{"$f":"E21+'datos de entrada'!E110","v":0}]
[]
[]
["VENTAS MENSUALES EN PESOS"]
[]
["=","=","=","=","=","=","=","=","=","=","=","=","=","="]
["PRODUCTOS","MES 1","MES 2","MES 3","MES 4","MES 5","MES 6","MES 7","MES 8","MES 9","MES 10 ","MES 11","MES 12","%","mes 13","mes 14","mes 15","mes 16","mes 17","mes 18","mes 19","mes 20","mes 21","mes 22","mes 23","mes 24","mes 25","mes 26","mes 27","mes 28","mes 29","mes 30","mes 31","mes 32","mes 33","mes 34","mes 35","mes 36"]
["-","-","-","-","-","-","-","-","-","-","-","-","-","-"]
[{"$f":"A10","v":0},{"$f":"+'GRAFIC VTAS'!B1*'datos de entrada'!$J14","v":0},{"$f":"+'GRAFIC VTAS'!C1*'datos de entrada'!$J14","v":0},{"$f":"+'GRAFIC VTAS'!D1*'datos de entrada'!$J14","v":0},{"$f":"+'GRAFIC VTAS'!E1*'datos de entrada'!$J14","v":0},{"$f":"+'GRAFIC VTAS'!F1*'datos de entrada'!$J14","v":0},{"$f":"+'GRAFIC VTAS'!G1*'datos de entrada'!$J14","v":0},{"$f":"+'GRAFIC VTAS'!H1*'datos de entrada'!$J14","v":0},{"$f":"+'GRAFIC VTAS'!I1*'datos de entrada'!$J14","v":0},{"$f":"+'GRAFIC VTAS'!J1*'datos de entrada'!$J14","v":0},{"$f":"+'GRAFIC VTAS'!K1*'datos de entrada'!$J14","v":0},{"$f":"+'GRAFIC VTAS'!L1*'datos de entrada'!$J14","v":0},{"$f":"+'GRAFIC VTAS'!M1*'datos de entrada'!$J14","v":0},{"$f":"B50/$B$64","v":{"$error":"#DIV/0!"}},{"$f":"+'GRAFIC VTAS'!N1*'datos de entrada'!$J14","v":0},{"$f":"+'GRAFIC VTAS'!O1*'datos de entrada'!$J14","v":0},{"$f":"+'GRAFIC VTAS'!P1*'datos de entrada'!$J14","v":0},{"$f":"+'GRAFIC VTAS'!Q1*'datos de entrada'!$J14","v":0},{"$f":"+'GRAFIC VTAS'!R1*'datos de entrada'!$J14","v":0},{"$f":"+'GRAFIC VTAS'!S1*'datos de entrada'!$J14","v":0},{"$f":"+'GRAFIC VTAS'!T1*'datos de entrada'!$J14","v":0},{"$f":"+'GRAFIC VTAS'!U1*'datos de entrada'!$J14","v":0},{"$f":"+'GRAFIC VTAS'!V1*'datos de entrada'!$J14","v":0},{"$f":"+'GRAFIC VTAS'!W1*'datos de entrada'!$J14","v":0},{"$f":"+'GRAFIC VTAS'!X1*'datos de entrada'!$J14","v":0},{"$f":"+'GRAFIC VTAS'!Y1*'datos de entrada'!$J14","v":0},{"$f":"+'GRAFIC VTAS'!Z1*'datos de entrada'!$J14","v":0},{"$f":"+'GRAFIC VTAS'!AA1*'datos de entrada'!$J14","v":0},{"$f":"+'GRAFIC VTAS'!AB1*'datos de entrada'!$J14","v":0},{"$f":"+'GRAFIC VTAS'!AC1*'datos de entrada'!$J14","v":0},{"$f":"+'GRAFIC VTAS'!AD1*'datos de entrada'!$J14","v":0},{"$f":"+'GRAFIC VTAS'!AE1*'datos de entrada'!$J14","v":0},{"$f":"+'GRAFIC VTAS'!AF1*'datos de entrada'!$J14","v":0},{"$f":"+'GRAFIC VTAS'!AG1*'datos de entrada'!$J14","v":0},{"$f":"+'GRAFIC VTAS'!AH1*'datos de entrada'!$J14","v":0},{"$f":"+'GRAFIC VTAS'!AI1*'datos de entrada'!$J14","v":0},{"$f":"+'GRAFIC VTAS'!AJ1*'datos de entrada'!$J14","v":0},{"$f":"+'GRAFIC VTAS'!AK1*'datos de entrada'!$J14","v":0}]
[0,{"$f":"+'GRAFIC VTAS'!B2*'datos de entrada'!$J15","v":0},{"$f":"+'GRAFIC VTAS'!C2*'datos de entrada'!$J15","v":0},{"$f":"+'GRAFIC VTAS'!D2*'datos de entrada'!$J15","v":0},{"$f":"+'GRAFIC VTAS'!E2*'datos de entrada'!$J15","v":0},{"$f":"+'GRAFIC VTAS'!F2*'datos de entrada'!$J15","v":0},{"$f":"+'GRAFIC VTAS'!G2*'datos de entrada'!$J15","v":0},{"$f":"+'GRAFIC VTAS'!H2*'datos de entrada'!$J15","v":0},{"$f":"+'GRAFIC VTAS'!I2*'datos de entrada'!$J15","v":0},{"$f":"+'GRAFIC VTAS'!J2*'datos de entrada'!$J15","v":0},{"$f":"+'GRAFIC VTAS'!K2*'datos de entrada'!$J15","v":0},{"$f":"+'GRAFIC VTAS'!L2*'datos de entrada'!$J15","v":0},{"$f":"+'GRAFIC VTAS'!M2*'datos de entrada'!$J15","v":0},{"$f":"B51/$B$64","v":{"$error":"#DIV/0!"}},{"$f":"+'GRAFIC VTAS'!N2*'datos de entrada'!$J15","v":0},{"$f":"+'GRAFIC VTAS'!O2*'datos de entrada'!$J15","v":0},{"$f":"+'GRAFIC VTAS'!P2*'datos de entrada'!$J15","v":0},{"$f":"+'GRAFIC VTAS'!Q2*'datos de entrada'!$J15","v":0},{"$f":"+'GRAFIC VTAS'!R2*'datos de entrada'!$J15","v":0},{"$f":"+'GRAFIC VTAS'!S2*'datos de entrada'!$J15","v":0},{"$f":"+'GRAFIC VTAS'!T2*'datos de entrada'!$J15","v":0},{"$f":"+'GRAFIC VTAS'!U2*'datos de entrada'!$J15","v":0},{"$f":"+'GRAFIC VTAS'!V2*'datos de entrada'!$J15","v":0},{"$f":"+'GRAFIC VTAS'!W2*'datos de entrada'!$J15","v":0},{"$f":"+'GRAFIC VTAS'!X2*'datos de entrada'!$J15","v":0},{"$f":"+'GRAFIC VTAS'!Y2*'datos de entrada'!$J15","v":0},{"$f":"+'GRAFIC VTAS'!Z2*'datos de entrada'!$J15","v":0},{"$f":"+'GRAFIC VTAS'!AA2*'datos de entrada'!$J15","v":0},{"$f":"+'GRAFIC VTAS'!AB2*'datos de entrada'!$J15","v":0},{"$f":"+'GRAFIC VTAS'!AC2*'datos de entrada'!$J15","v":0},{"$f":"+'GRAFIC VTAS'!AD2*'datos de entrada'!$J15","v":0},{"$f":"+'GRAFIC VTAS'!AE2*'datos de entrada'!$J15","v":0},{"$f":"+'GRAFIC VTAS'!AF2*'datos de entrada'!$J15","v":0},{"$f":"+'GRAFIC VTAS'!AG2*'datos de entrada'!$J15","v":0},{"$f":"+'GRAFIC VTAS'!AH2*'datos de entrada'!$J15","v":0},{"$f":"+'GRAFIC VTAS'!AI2*'datos de entrada'!$J15","v":0},{"$f":"+'GRAFIC VTAS'!AJ2*'datos de entrada'!$J15","v":0},{"$f":"+'GRAFIC VTAS'!AK2*'datos de entrada'!$J15","v":0}]
[0,{"$f":"+'GRAFIC VTAS'!B3*'datos de entrada'!$J16","v":0},{"$f":"+'GRAFIC VTAS'!C3*'datos de entrada'!$J16","v":0},{"$f":"+'GRAFIC VTAS'!D3*'datos de entrada'!$J16","v":0},{"$f":"+'GRAFIC VTAS'!E3*'datos de entrada'!$J16","v":0},{"$f":"+'GRAFIC VTAS'!F3*'datos de entrada'!$J16","v":0},{"$f":"+'GRAFIC VTAS'!G3*'datos de entrada'!$J16","v":0},{"$f":"+'GRAFIC VTAS'!H3*'datos de entrada'!$J16","v":0},{"$f":"+'GRAFIC VTAS'!I3*'datos de entrada'!$J16","v":0},{"$f":"+'GRAFIC VTAS'!J3*'datos de entrada'!$J16","v":0},{"$f":"+'GRAFIC VTAS'!K3*'datos de entrada'!$J16","v":0},{"$f":"+'GRAFIC VTAS'!L3*'datos de entrada'!$J16","v":0},{"$f":"+'GRAFIC VTAS'!M3*'datos de entrada'!$J16","v":0},{"$error":"#DIV/0!"},{"$f":"+'GRAFIC VTAS'!N3*'datos de entrada'!$J16","v":0},{"$f":"+'GRAFIC VTAS'!O3*'datos de entrada'!$J16","v":0},{"$f":"+'GRAFIC VTAS'!P3*'datos de entrada'!$J16","v":0},{"$f":"+'GRAFIC VTAS'!Q3*'datos de entrada'!$J16","v":0},{"$f":"+'GRAFIC VTAS'!R3*'datos de entrada'!$J16","v":0},{"$f":"+'GRAFIC VTAS'!S3*'datos de entrada'!$J16","v":0},{"$f":"+'GRAFIC VTAS'!T3*'datos de entrada'!$J16","v":0},{"$f":"+'GRAFIC VTAS'!U3*'datos de entrada'!$J16","v":0},{"$f":"+'GRAFIC VTAS'!V3*'datos de entrada'!$J16","v":0},{"$f":"+'GRAFIC VTAS'!W3*'datos de entrada'!$J16","v":0},{"$f":"+'GRAFIC VTAS'!X3*'datos de entrada'!$J16","v":0},{"$f":"+'GRAFIC VTAS'!Y3*'datos de entrada'!$J16","v":0},{"$f":"+'GRAFIC VTAS'!Z3*'datos de entrada'!$J16","v":0},{"$f":"+'GRAFIC VTAS'!AA3*'datos de entrada'!$J16","v":0},{"$f":"+'GRAFIC VTAS'!AB3*'datos de entrada'!$J16","v":0},{"$f":"+'GRAFIC VTAS'!AC3*'datos de entrada'!$J16","v":0},{"$f":"+'GRAFIC VTAS'!AD3*'datos de entrada'!$J16","v":0},{"$f":"+'GRAFIC VTAS'!AE3*'datos de entrada'!$J16","v":0},{"$f":"+'GRAFIC VTAS'!AF3*'datos de entrada'!$J16","v":0},{"$f":"+'GRAFIC VTAS'!AG3*'datos de entrada'!$J16","v":0},{"$f":"+'GRAFIC VTAS'!AH3*'datos de entrada'!$J16","v":0},{"$f":"+'GRAFIC VTAS'!AI3*'datos de entrada'!$J16","v":0},{"$f":"+'GRAFIC VTAS'!AJ3*'datos de entrada'!$J16","v":0},{"$f":"+'GRAFIC VTAS'!AK3*'datos de entrada'!$J16","v":0}]
[0,{"$f":"+'GRAFIC VTAS'!B4*'datos de entrada'!$J17","v":0},{"$f":"+'GRAFIC VTAS'!C4*'datos de entrada'!$J17","v":0},{"$f":"+'GRAFIC VTAS'!D4*'datos de entrada'!$J17","v":0},{"$f":"+'GRAFIC VTAS'!E4*'datos de entrada'!$J17","v":0},{"$f":"+'GRAFIC VTAS'!F4*'datos de entrada'!$J17","v":0},{"$f":"+'GRAFIC VTAS'!G4*'datos de entrada'!$J17","v":0},{"$f":"+'GRAFIC VTAS'!H4*'datos de entrada'!$J17","v":0},{"$f":"+'GRAFIC VTAS'!I4*'datos de entrada'!$J17","v":0},{"$f":"+'GRAFIC VTAS'!J4*'datos de entrada'!$J17","v":0},{"$f":"+'GRAFIC VTAS'!K4*'datos de entrada'!$J17","v":0},{"$f":"+'GRAFIC VTAS'!L4*'datos de entrada'!$J17","v":0},{"$f":"+'GRAFIC VTAS'!M4*'datos de entrada'!$J17","v":0},{"$error":"#DIV/0!"},{"$f":"+'GRAFIC VTAS'!N4*'datos de entrada'!$J17","v":0},{"$f":"+'GRAFIC VTAS'!O4*'datos de entrada'!$J17","v":0},{"$f":"+'GRAFIC VTAS'!P4*'datos de entrada'!$J17","v":0},{"$f":"+'GRAFIC VTAS'!Q4*'datos de entrada'!$J17","v":0},{"$f":"+'GRAFIC VTAS'!R4*'datos de entrada'!$J17","v":0},{"$f":"+'GRAFIC VTAS'!S4*'datos de entrada'!$J17","v":0},{"$f":"+'GRAFIC VTAS'!T4*'datos de entrada'!$J17","v":0},{"$f":"+'GRAFIC VTAS'!U4*'datos de entrada'!$J17","v":0},{"$f":"+'GRAFIC VTAS'!V4*'datos de entrada'!$J17","v":0},{"$f":"+'GRAFIC VTAS'!W4*'datos de entrada'!$J17","v":0},{"$f":"+'GRAFIC VTAS'!X4*'datos de entrada'!$J17","v":0},{"$f":"+'GRAFIC VTAS'!Y4*'datos de entrada'!$J17","v":0},{"$f":"+'GRAFIC VTAS'!Z4*'datos de entrada'!$J17","v":0},{"$f":"+'GRAFIC VTAS'!AA4*'datos de entrada'!$J17","v":0},{"$f":"+'GRAFIC VTAS'!AB4*'datos de entrada'!$J17","v":0},{"$f":"+'GRAFIC VTAS'!AC4*'datos de entrada'!$J17","v":0},{"$f":"+'GRAFIC VTAS'!AD4*'datos de entrada'!$J17","v":0},{"$f":"+'GRAFIC VTAS'!AE4*'datos de entrada'!$J17","v":0},{"$f":"+'GRAFIC VTAS'!AF4*'datos de entrada'!$J17","v":0},{"$f":"+'GRAFIC VTAS'!AG4*'datos de entrada'!$J17","v":0},{"$f":"+'GRAFIC VTAS'!AH4*'datos de entrada'!$J17","v":0},{"$f":"+'GRAFIC VTAS'!AI4*'datos de entrada'!$J17","v":0},{"$f":"+'GRAFIC VTAS'!AJ4*'datos de entrada'!$J17","v":0},{"$f":"+'GRAFIC VTAS'!AK4*'datos de entrada'!$J17","v":0}]
[0,{"$f":"+'GRAFIC VTAS'!B5*'datos de entrada'!$J18","v":0},{"$f":"+'GRAFIC VTAS'!C5*'datos de entrada'!$J18","v":0},{"$f":"+'GRAFIC VTAS'!D5*'datos de entrada'!$J18","v":0},{"$f":"+'GRAFIC VTAS'!E5*'datos de entrada'!$J18","v":0},{"$f":"+'GRAFIC VTAS'!F5*'datos de entrada'!$J18","v":0},{"$f":"+'GRAFIC VTAS'!G5*'datos de entrada'!$J18","v":0},{"$f":"+'GRAFIC VTAS'!H5*'datos de entrada'!$J18","v":0},{"$f":"+'GRAFIC VTAS'!I5*'datos de entrada'!$J18","v":0},{"$f":"+'GRAFIC VTAS'!J5*'datos de entrada'!$J18","v":0},{"$f":"+'GRAFIC VTAS'!K5*'datos de entrada'!$J18","v":0},{"$f":"+'GRAFIC VTAS'!L5*'datos de entrada'!$J18","v":0},{"$f":"+'GRAFIC VTAS'!M5*'datos de entrada'!$J18","v":0},{"$error":"#DIV/0!"},{"$f":"+'GRAFIC VTAS'!N5*'datos de entrada'!$J18","v":0},{"$f":"+'GRAFIC VTAS'!O5*'datos de entrada'!$J18","v":0},{"$f":"+'GRAFIC VTAS'!P5*'datos de entrada'!$J18","v":0},{"$f":"+'GRAFIC VTAS'!Q5*'datos de entrada'!$J18","v":0},{"$f":"+'GRAFIC VTAS'!R5*'datos de entrada'!$J18","v":0},{"$f":"+'GRAFIC VTAS'!S5*'datos de entrada'!$J18","v":0},{"$f":"+'GRAFIC VTAS'!T5*'datos de entrada'!$J18","v":0},{"$f":"+'GRAFIC VTAS'!U5*'datos de entrada'!$J18","v":0},{"$f":"+'GRAFIC VTAS'!V5*'datos de entrada'!$J18","v":0},{"$f":"+'GRAFIC VTAS'!W5*'datos de entrada'!$J18","v":0},{"$f":"+'GRAFIC VTAS'!X5*'datos de entrada'!$J18","v":0},{"$f":"+'GRAFIC VTAS'!Y5*'datos de entrada'!$J18","v":0},{"$f":"+'GRAFIC VTAS'!Z5*'datos de entrada'!$J18","v":0},{"$f":"+'GRAFIC VTAS'!AA5*'datos de entrada'!$J18","v":0},{"$f":"+'GRAFIC VTAS'!AB5*'datos de entrada'!$J18","v":0},{"$f":"+'GRAFIC VTAS'!AC5*'datos de entrada'!$J18","v":0},{"$f":"+'GRAFIC VTAS'!AD5*'datos de entrada'!$J18","v":0},{"$f":"+'GRAFIC VTAS'!AE5*'datos de entrada'!$J18","v":0},{"$f":"+'GRAFIC VTAS'!AF5*'datos de entrada'!$J18","v":0},{"$f":"+'GRAFIC VTAS'!AG5*'datos de entrada'!$J18","v":0},{"$f":"+'GRAFIC VTAS'!AH5*'datos de entrada'!$J18","v":0},{"$f":"+'GRAFIC VTAS'!AI5*'datos de entrada'!$J18","v":0},{"$f":"+'GRAFIC VTAS'!AJ5*'datos de entrada'!$J18","v":0},{"$f":"+'GRAFIC VTAS'!AK5*'datos de entrada'!$J18","v":0}]
[0,{"$f":"+'GRAFIC VTAS'!B6*'datos de entrada'!$J19","v":0},{"$f":"+'GRAFIC VTAS'!C6*'datos de entrada'!$J19","v":0},{"$f":"+'GRAFIC VTAS'!D6*'datos de entrada'!$J19","v":0},{"$f":"+'GRAFIC VTAS'!E6*'datos de entrada'!$J19","v":0},{"$f":"+'GRAFIC VTAS'!F6*'datos de entrada'!$J19","v":0},{"$f":"+'GRAFIC VTAS'!G6*'datos de entrada'!$J19","v":0},{"$f":"+'GRAFIC VTAS'!H6*'datos de entrada'!$J19","v":0},{"$f":"+'GRAFIC VTAS'!I6*'datos de entrada'!$J19","v":0},{"$f":"+'GRAFIC VTAS'!J6*'datos de entrada'!$J19","v":0},{"$f":"+'GRAFIC VTAS'!K6*'datos de entrada'!$J19","v":0},{"$f":"+'GRAFIC VTAS'!L6*'datos de entrada'!$J19","v":0},{"$f":"+'GRAFIC VTAS'!M6*'datos de entrada'!$J19","v":0},{"$error":"#DIV/0!"},{"$f":"+'GRAFIC VTAS'!N6*'datos de entrada'!$J19","v":0},{"$f":"+'GRAFIC VTAS'!O6*'datos de entrada'!$J19","v":0},{"$f":"+'GRAFIC VTAS'!P6*'datos de entrada'!$J19","v":0},{"$f":"+'GRAFIC VTAS'!Q6*'datos de entrada'!$J19","v":0},{"$f":"+'GRAFIC VTAS'!R6*'datos de entrada'!$J19","v":0},{"$f":"+'GRAFIC VTAS'!S6*'datos de entrada'!$J19","v":0},{"$f":"+'GRAFIC VTAS'!T6*'datos de entrada'!$J19","v":0},{"$f":"+'GRAFIC VTAS'!U6*'datos de entrada'!$J19","v":0},{"$f":"+'GRAFIC VTAS'!V6*'datos de entrada'!$J19","v":0},{"$f":"+'GRAFIC VTAS'!W6*'datos de entrada'!$J19","v":0},{"$f":"+'GRAFIC VTAS'!X6*'datos de entrada'!$J19","v":0},{"$f":"+'GRAFIC VTAS'!Y6*'datos de entrada'!$J19","v":0},{"$f":"+'GRAFIC VTAS'!Z6*'datos de entrada'!$J19","v":0},{"$f":"+'GRAFIC VTAS'!AA6*'datos de entrada'!$J19","v":0},{"$f":"+'GRAFIC VTAS'!AB6*'datos de entrada'!$J19","v":0},{"$f":"+'GRAFIC VTAS'!AC6*'datos de entrada'!$J19","v":0},{"$f":"+'GRAFIC VTAS'!AD6*'datos de entrada'!$J19","v":0},{"$f":"+'GRAFIC VTAS'!AE6*'datos de entrada'!$J19","v":0},{"$f":"+'GRAFIC VTAS'!AF6*'datos de entrada'!$J19","v":0},{"$f":"+'GRAFIC VTAS'!AG6*'datos de entrada'!$J19","v":0},{"$f":"+'GRAFIC VTAS'!AH6*'datos de entrada'!$J19","v":0},{"$f":"+'GRAFIC VTAS'!AI6*'datos de entrada'!$J19","v":0},{"$f":"+'GRAFIC VTAS'!AJ6*'datos de entrada'!$J19","v":0},{"$f":"+'GRAFIC VTAS'!AK6*'datos de entrada'!$J19","v":0}]
[0,{"$f":"+'GRAFIC VTAS'!B7*'datos de entrada'!$J20","v":0},{"$f":"+'GRAFIC VTAS'!C7*'datos de entrada'!$J20","v":0},{"$f":"+'GRAFIC VTAS'!D7*'datos de entrada'!$J20","v":0},{"$f":"+'GRAFIC VTAS'!E7*'datos de entrada'!$J20","v":0},{"$f":"+'GRAFIC VTAS'!F7*'datos de entrada'!$J20","v":0},{"$f":"+'GRAFIC VTAS'!G7*'datos de entrada'!$J20","v":0},{"$f":"+'GRAFIC VTAS'!H7*'datos de entrada'!$J20","v":0},{"$f":"+'GRAFIC VTAS'!I7*'datos de entrada'!$J20","v":0},{"$f":"+'GRAFIC VTAS'!J7*'datos de entrada'!$J20","v":0},{"$f":"+'GRAFIC VTAS'!K7*'datos de entrada'!$J20","v":0},{"$f":"+'GRAFIC VTAS'!L7*'datos de entrada'!$J20","v":0},{"$f":"+'GRAFIC VTAS'!M7*'datos de entrada'!$J20","v":0},{"$error":"#DIV/0!"},{"$f":"+'GRAFIC VTAS'!N7*'datos de entrada'!$J20","v":0},{"$f":"+'GRAFIC VTAS'!O7*'datos de entrada'!$J20","v":0},{"$f":"+'GRAFIC VTAS'!P7*'datos de entrada'!$J20","v":0},{"$f":"+'GRAFIC VTAS'!Q7*'datos de entrada'!$J20","v":0},{"$f":"+'GRAFIC VTAS'!R7*'datos de entrada'!$J20","v":0},{"$f":"+'GRAFIC VTAS'!S7*'datos de entrada'!$J20","v":0},{"$f":"+'GRAFIC VTAS'!T7*'datos de entrada'!$J20","v":0},{"$f":"+'GRAFIC VTAS'!U7*'datos de entrada'!$J20","v":0},{"$f":"+'GRAFIC VTAS'!V7*'datos de entrada'!$J20","v":0},{"$f":"+'GRAFIC VTAS'!W7*'datos de entrada'!$J20","v":0},{"$f":"+'GRAFIC VTAS'!X7*'datos de entrada'!$J20","v":0},{"$f":"+'GRAFIC VTAS'!Y7*'datos de entrada'!$J20","v":0},{"$f":"+'GRAFIC VTAS'!Z7*'datos de entrada'!$J20","v":0},{"$f":"+'GRAFIC VTAS'!AA7*'datos de entrada'!$J20","v":0},{"$f":"+'GRAFIC VTAS'!AB7*'datos de entrada'!$J20","v":0},{"$f":"+'GRAFIC VTAS'!AC7*'datos de entrada'!$J20","v":0},{"$f":"+'GRAFIC VTAS'!AD7*'datos de entrada'!$J20","v":0},{"$f":"+'GRAFIC VTAS'!AE7*'datos de entrada'!$J20","v":0},{"$f":"+'GRAFIC VTAS'!AF7*'datos de entrada'!$J20","v":0},{"$f":"+'GRAFIC VTAS'!AG7*'datos de entrada'!$J20","v":0},{"$f":"+'GRAFIC VTAS'!AH7*'datos de entrada'!$J20","v":0},{"$f":"+'GRAFIC VTAS'!AI7*'datos de entrada'!$J20","v":0},{"$f":"+'GRAFIC VTAS'!AJ7*'datos de entrada'!$J20","v":0},{"$f":"+'GRAFIC VTAS'!AK7*'datos de entrada'!$J20","v":0}]
[0,{"$f":"+'GRAFIC VTAS'!B8*'datos de entrada'!$J21","v":0},{"$f":"+'GRAFIC VTAS'!C8*'datos de entrada'!$J21","v":0},{"$f":"+'GRAFIC VTAS'!D8*'datos de entrada'!$J21","v":0},{"$f":"+'GRAFIC VTAS'!E8*'datos de entrada'!$J21","v":0},{"$f":"+'GRAFIC VTAS'!F8*'datos de entrada'!$J21","v":0},{"$f":"+'GRAFIC VTAS'!G8*'datos de entrada'!$J21","v":0},{"$f":"+'GRAFIC VTAS'!H8*'datos de entrada'!$J21","v":0},{"$f":"+'GRAFIC VTAS'!I8*'datos de entrada'!$J21","v":0},{"$f":"+'GRAFIC VTAS'!J8*'datos de entrada'!$J21","v":0},{"$f":"+'GRAFIC VTAS'!K8*'datos de entrada'!$J21","v":0},{"$f":"+'GRAFIC VTAS'!L8*'datos de entrada'!$J21","v":0},{"$f":"+'GRAFIC VTAS'!M8*'datos de entrada'!$J21","v":0},{"$error":"#DIV/0!"},{"$f":"+'GRAFIC VTAS'!N8*'datos de entrada'!$J21","v":0},{"$f":"+'GRAFIC VTAS'!O8*'datos de entrada'!$J21","v":0},{"$f":"+'GRAFIC VTAS'!P8*'datos de entrada'!$J21","v":0},{"$f":"+'GRAFIC VTAS'!Q8*'datos de entrada'!$J21","v":0},{"$f":"+'GRAFIC VTAS'!R8*'datos de entrada'!$J21","v":0},{"$f":"+'GRAFIC VTAS'!S8*'datos de entrada'!$J21","v":0},{"$f":"+'GRAFIC VTAS'!T8*'datos de entrada'!$J21","v":0},{"$f":"+'GRAFIC VTAS'!U8*'datos de entrada'!$J21","v":0},{"$f":"+'GRAFIC VTAS'!V8*'datos de entrada'!$J21","v":0},{"$f":"+'GRAFIC VTAS'!W8*'datos de entrada'!$J21","v":0},{"$f":"+'GRAFIC VTAS'!X8*'datos de entrada'!$J21","v":0},{"$f":"+'GRAFIC VTAS'!Y8*'datos de entrada'!$J21","v":0},{"$f":"+'GRAFIC VTAS'!Z8*'datos de entrada'!$J21","v":0},{"$f":"+'GRAFIC VTAS'!AA8*'datos de entrada'!$J21","v":0},{"$f":"+'GRAFIC VTAS'!AB8*'datos de entrada'!$J21","v":0},{"$f":"+'GRAFIC VTAS'!AC8*'datos de entrada'!$J21","v":0},{"$f":"+'GRAFIC VTAS'!AD8*'datos de entrada'!$J21","v":0},{"$f":"+'GRAFIC VTAS'!AE8*'datos de entrada'!$J21","v":0},{"$f":"+'GRAFIC VTAS'!AF8*'datos de entrada'!$J21","v":0},{"$f":"+'GRAFIC VTAS'!AG8*'datos de entrada'!$J21","v":0},{"$f":"+'GRAFIC VTAS'!AH8*'datos de entrada'!$J21","v":0},{"$f":"+'GRAFIC VTAS'!AI8*'datos de entrada'!$J21","v":0},{"$f":"+'GRAFIC VTAS'!AJ8*'datos de entrada'!$J21","v":0},{"$f":"+'GRAFIC VTAS'!AK8*'datos de entrada'!$J21","v":0}]
[0,{"$f":"+'GRAFIC VTAS'!B9*'datos de entrada'!$J22","v":0},{"$f":"+'GRAFIC VTAS'!C9*'datos de entrada'!$J22","v":0},{"$f":"+'GRAFIC VTAS'!D9*'datos de entrada'!$J22","v":0},{"$f":"+'GRAFIC VTAS'!E9*'datos de entrada'!$J22","v":0},{"$f":"+'GRAFIC VTAS'!F9*'datos de entrada'!$J22","v":0},{"$f":"+'GRAFIC VTAS'!G9*'datos de entrada'!$J22","v":0},{"$f":"+'GRAFIC VTAS'!H9*'datos de entrada'!$J22","v":0},{"$f":"+'GRAFIC VTAS'!I9*'datos de entrada'!$J22","v":0},{"$f":"+'GRAFIC VTAS'!J9*'datos de entrada'!$J22","v":0},{"$f":"+'GRAFIC VTAS'!K9*'datos de entrada'!$J22","v":0},{"$f":"+'GRAFIC VTAS'!L9*'datos de entrada'!$J22","v":0},{"$f":"+'GRAFIC VTAS'!M9*'datos de entrada'!$J22","v":0},{"$error":"#DIV/0!"},{"$f":"+'GRAFIC VTAS'!N9*'datos de entrada'!$J22","v":0},{"$f":"+'GRAFIC VTAS'!O9*'datos de entrada'!$J22","v":0},{"$f":"+'GRAFIC VTAS'!P9*'datos de entrada'!$J22","v":0},{"$f":"+'GRAFIC VTAS'!Q9*'datos de entrada'!$J22","v":0},{"$f":"+'GRAFIC VTAS'!R9*'datos de entrada'!$J22","v":0},{"$f":"+'GRAFIC VTAS'!S9*'datos de entrada'!$J22","v":0},{"$f":"+'GRAFIC VTAS'!T9*'datos de entrada'!$J22","v":0},{"$f":"+'GRAFIC VTAS'!U9*'datos de entrada'!$J22","v":0},{"$f":"+'GRAFIC VTAS'!V9*'datos de entrada'!$J22","v":0},{"$f":"+'GRAFIC VTAS'!W9*'datos de entrada'!$J22","v":0},{"$f":"+'GRAFIC VTAS'!X9*'datos de entrada'!$J22","v":0},{"$f":"+'GRAFIC VTAS'!Y9*'datos de entrada'!$J22","v":0},{"$f":"+'GRAFIC VTAS'!Z9*'datos de entrada'!$J22","v":0},{"$f":"+'GRAFIC VTAS'!AA9*'datos de entrada'!$J22","v":0},{"$f":"+'GRAFIC VTAS'!AB9*'datos de entrada'!$J22","v":0},{"$f":"+'GRAFIC VTAS'!AC9*'datos de entrada'!$J22","v":0},{"$f":"+'GRAFIC VTAS'!AD9*'datos de entrada'!$J22","v":0},{"$f":"+'GRAFIC VTAS'!AE9*'datos de entrada'!$J22","v":0},{"$f":"+'GRAFIC VTAS'!AF9*'datos de entrada'!$J22","v":0},{"$f":"+'GRAFIC VTAS'!AG9*'datos de entrada'!$J22","v":0},{"$f":"+'GRAFIC VTAS'!AH9*'datos de entrada'!$J22","v":0},{"$f":"+'GRAFIC VTAS'!AI9*'datos de entrada'!$J22","v":0},{"$f":"+'GRAFIC VTAS'!AJ9*'datos de entrada'!$J22","v":0},{"$f":"+'GRAFIC VTAS'!AK9*'datos de entrada'!$J22","v":0}]
[0,{"$f":"+'GRAFIC VTAS'!B10*'datos de entrada'!$J23","v":0},{"$f":"+'GRAFIC VTAS'!C10*'datos de entrada'!$J23","v":0},{"$f":"+'GRAFIC VTAS'!D10*'datos de entrada'!$J23","v":0},{"$f":"+'GRAFIC VTAS'!E10*'datos de entrada'!$J23","v":0},{"$f":"+'GRAFIC VTAS'!F10*'datos de entrada'!$J23","v":0},{"$f":"+'GRAFIC VTAS'!G10*'datos de entrada'!$J23","v":0},{"$f":"+'GRAFIC VTAS'!H10*'datos de entrada'!$J23","v":0},{"$f":"+'GRAFIC VTAS'!I10*'datos de entrada'!$J23","v":0},{"$f":"+'GRAFIC VTAS'!J10*'datos de entrada'!$J23","v":0},{"$f":"+'GRAFIC VTAS'!K10*'datos de entrada'!$J23","v":0},{"$f":"+'GRAFIC VTAS'!L10*'datos de entrada'!$J23","v":0},{"$f":"+'GRAFIC VTAS'!M10*'datos de entrada'!$J23","v":0},{"$error":"#DIV/0!"},{"$f":"+'GRAFIC VTAS'!N10*'datos de entrada'!$J23","v":0},{"$f":"+'GRAFIC VTAS'!O10*'datos de entrada'!$J23","v":0},{"$f":"+'GRAFIC VTAS'!P10*'datos de entrada'!$J23","v":0},{"$f":"+'GRAFIC VTAS'!Q10*'datos de entrada'!$J23","v":0},{"$f":"+'GRAFIC VTAS'!R10*'datos de entrada'!$J23","v":0},{"$f":"+'GRAFIC VTAS'!S10*'datos de entrada'!$J23","v":0},{"$f":"+'GRAFIC VTAS'!T10*'datos de entrada'!$J23","v":0},{"$f":"+'GRAFIC VTAS'!U10*'datos de entrada'!$J23","v":0},{"$f":"+'GRAFIC VTAS'!V10*'datos de entrada'!$J23","v":0},{"$f":"+'GRAFIC VTAS'!W10*'datos de entrada'!$J23","v":0},{"$f":"+'GRAFIC VTAS'!X10*'datos de entrada'!$J23","v":0},{"$f":"+'GRAFIC VTAS'!Y10*'datos de entrada'!$J23","v":0},{"$f":"+'GRAFIC VTAS'!Z10*'datos de entrada'!$J23","v":0},{"$f":"+'GRAFIC VTAS'!AA10*'datos de entrada'!$J23","v":0},{"$f":"+'GRAFIC VTAS'!AB10*'datos de entrada'!$J23","v":0},{"$f":"+'GRAFIC VTAS'!AC10*'datos de entrada'!$J23","v":0},{"$f":"+'GRAFIC VTAS'!AD10*'datos de entrada'!$J23","v":0},{"$f":"+'GRAFIC VTAS'!AE10*'datos de entrada'!$J23","v":0},{"$f":"+'GRAFIC VTAS'!AF10*'datos de entrada'!$J23","v":0},{"$f":"+'GRAFIC VTAS'!AG10*'datos de entrada'!$J23","v":0},{"$f":"+'GRAFIC VTAS'!AH10*'datos de entrada'!$J23","v":0},{"$f":"+'GRAFIC VTAS'!AI10*'datos de entrada'!$J23","v":0},{"$f":"+'GRAFIC VTAS'!AJ10*'datos de entrada'!$J23","v":0},{"$f":"+'GRAFIC VTAS'!AK10*'datos de entrada'!$J23","v":0}]
[0,{"$f":"+'GRAFIC VTAS'!B11*'datos de entrada'!$J24","v":0},{"$f":"+'GRAFIC VTAS'!C11*'datos de entrada'!$J24","v":0},{"$f":"+'GRAFIC VTAS'!D11*'datos de entrada'!$J24","v":0},{"$f":"+'GRAFIC VTAS'!E11*'datos de entrada'!$J24","v":0},{"$f":"+'GRAFIC VTAS'!F11*'datos de entrada'!$J24","v":0},{"$f":"+'GRAFIC VTAS'!G11*'datos de entrada'!$J24","v":0},{"$f":"+'GRAFIC VTAS'!H11*'datos de entrada'!$J24","v":0},{"$f":"+'GRAFIC VTAS'!I11*'datos de entrada'!$J24","v":0},{"$f":"+'GRAFIC VTAS'!J11*'datos de entrada'!$J24","v":0},{"$f":"+'GRAFIC VTAS'!K11*'datos de entrada'!$J24","v":0},{"$f":"+'GRAFIC VTAS'!L11*'datos de entrada'!$J24","v":0},{"$f":"+'GRAFIC VTAS'!M11*'datos de entrada'!$J24","v":0},{"$error":"#DIV/0!"},{"$f":"+'GRAFIC VTAS'!N11*'datos de entrada'!$J24","v":0},{"$f":"+'GRAFIC VTAS'!O11*'datos de entrada'!$J24","v":0},{"$f":"+'GRAFIC VTAS'!P11*'datos de entrada'!$J24","v":0},{"$f":"+'GRAFIC VTAS'!Q11*'datos de entrada'!$J24","v":0},{"$f":"+'GRAFIC VTAS'!R11*'datos de entrada'!$J24","v":0},{"$f":"+'GRAFIC VTAS'!S11*'datos de entrada'!$J24","v":0},{"$f":"+'GRAFIC VTAS'!T11*'datos de entrada'!$J24","v":0},{"$f":"+'GRAFIC VTAS'!U11*'datos de entrada'!$J24","v":0},{"$f":"+'GRAFIC VTAS'!V11*'datos de entrada'!$J24","v":0},{"$f":"+'GRAFIC VTAS'!W11*'datos de entrada'!$J24","v":0},{"$f":"+'GRAFIC VTAS'!X11*'datos de entrada'!$J24","v":0},{"$f":"+'GRAFIC VTAS'!Y11*'datos de entrada'!$J24","v":0},{"$f":"+'GRAFIC VTAS'!Z11*'datos de entrada'!$J24","v":0},{"$f":"+'GRAFIC VTAS'!AA11*'datos de entrada'!$J24","v":0},{"$f":"+'GRAFIC VTAS'!AB11*'datos de entrada'!$J24","v":0},{"$f":"+'GRAFIC VTAS'!AC11*'datos de entrada'!$J24","v":0},{"$f":"+'GRAFIC VTAS'!AD11*'datos de entrada'!$J24","v":0},{"$f":"+'GRAFIC VTAS'!AE11*'datos de entrada'!$J24","v":0},{"$f":"+'GRAFIC VTAS'!AF11*'datos de entrada'!$J24","v":0},{"$f":"+'GRAFIC VTAS'!AG11*'datos de entrada'!$J24","v":0},{"$f":"+'GRAFIC VTAS'!AH11*'datos de entrada'!$J24","v":0},{"$f":"+'GRAFIC VTAS'!AI11*'datos de entrada'!$J24","v":0},{"$f":"+'GRAFIC VTAS'!AJ11*'datos de entrada'!$J24","v":0},{"$f":"+'GRAFIC VTAS'!AK11*'datos de entrada'!$J24","v":0}]
[0,{"$f":"+'GRAFIC VTAS'!B12*'datos de entrada'!$J25","v":0},{"$f":"+'GRAFIC VTAS'!C12*'datos de entrada'!$J25","v":0},{"$f":"+'GRAFIC VTAS'!D12*'datos de entrada'!$J25","v":0},{"$f":"+'GRAFIC VTAS'!E12*'datos de entrada'!$J25","v":0},{"$f":"+'GRAFIC VTAS'!F12*'datos de entrada'!$J25","v":0},{"$f":"+'GRAFIC VTAS'!G12*'datos de entrada'!$J25","v":0},{"$f":"+'GRAFIC VTAS'!H12*'datos de entrada'!$J25","v":0},{"$f":"+'GRAFIC VTAS'!I12*'datos de entrada'!$J25","v":0},{"$f":"+'GRAFIC VTAS'!J12*'datos de entrada'!$J25","v":0},{"$f":"+'GRAFIC VTAS'!K12*'datos de entrada'!$J25","v":0},{"$f":"+'GRAFIC VTAS'!L12*'datos de entrada'!$J25","v":0},{"$f":"+'GRAFIC VTAS'!M12*'datos de entrada'!$J25","v":0},{"$error":"#DIV/0!"},{"$f":"+'GRAFIC VTAS'!N12*'datos de entrada'!$J25","v":0},{"$f":"+'GRAFIC VTAS'!O12*'datos de entrada'!$J25","v":0},{"$f":"+'GRAFIC VTAS'!P12*'datos de entrada'!$J25","v":0},{"$f":"+'GRAFIC VTAS'!Q12*'datos de entrada'!$J25","v":0},{"$f":"+'GRAFIC VTAS'!R12*'datos de entrada'!$J25","v":0},{"$f":"+'GRAFIC VTAS'!S12*'datos de entrada'!$J25","v":0},{"$f":"+'GRAFIC VTAS'!T12*'datos de entrada'!$J25","v":0},{"$f":"+'GRAFIC VTAS'!U12*'datos de entrada'!$J25","v":0},{"$f":"+'GRAFIC VTAS'!V12*'datos de entrada'!$J25","v":0},{"$f":"+'GRAFIC VTAS'!W12*'datos de entrada'!$J25","v":0},{"$f":"+'GRAFIC VTAS'!X12*'datos de entrada'!$J25","v":0},{"$f":"+'GRAFIC VTAS'!Y12*'datos de entrada'!$J25","v":0},{"$f":"+'GRAFIC VTAS'!Z12*'datos de entrada'!$J25","v":0},{"$f":"+'GRAFIC VTAS'!AA12*'datos de entrada'!$J25","v":0},{"$f":"+'GRAFIC VTAS'!AB12*'datos de entrada'!$J25","v":0},{"$f":"+'GRAFIC VTAS'!AC12*'datos de entrada'!$J25","v":0},{"$f":"+'GRAFIC VTAS'!AD12*'datos de entrada'!$J25","v":0},{"$f":"+'GRAFIC VTAS'!AE12*'datos de entrada'!$J25","v":0},{"$f":"+'GRAFIC VTAS'!AF12*'datos de entrada'!$J25","v":0},{"$f":"+'GRAFIC VTAS'!AG12*'datos de entrada'!$J25","v":0},{"$f":"+'GRAFIC VTAS'!AH12*'datos de entrada'!$J25","v":0},{"$f":"+'GRAFIC VTAS'!AI12*'datos de entrada'!$J25","v":0},{"$f":"+'GRAFIC VTAS'!AJ12*'datos de entrada'!$J25","v":0},{"$f":"+'GRAFIC VTAS'!AK12*'datos de entrada'!$J25","v":0}]
["-","-","-","-","-","-","-","-","-","-","-","-","-","-"]
["TOTAL",{"$f":"SUM(B29:B41)","v":0},{"$f":"SUM(C29:C41)","v":0},0,0,0,0,0,0,0,0,0,0,{"$f":"B64/$B$64","v":{"$error":"#DIV/0!"}}]
["=","=","=","=","=","=","=","=","=","=","=","=","=","="]
[]
[]
["VENTAS ANUALES EN PESOS",null,{"$f":"+C50/B50","v":{"$error":"#DIV/0!"}},{"$f":"+D50/C50","v":{"$error":"#DIV/0!"}}]
["=","=","=","=","=","="]
["PRODUCTOS","AÑO 1","AÑO 2","AÑO 3","AÑO 4","AÑO 5"]
[{"$nulls":3},"-","-","-"]
[{"$f":"A10","v":0},{"$f":"SUM(B29:M29)","v":0},{"$f":"SUM(O29:Z29)*(1+$B$3)","v":0},{"$f":"SUM(AA29:AL29)*(1+$B$3)^2","v":0},{"$f":"+'datos de entrada'!$B14*E10*(1+'datos de entrada'!$C$409)^3","v":0},{"$f":"+'datos de entrada'!$B14*F10*(1+'datos de entrada'!$C$409)^4","v":0}]
[0,0,{"$f":"SUM(O30:Z30)*(1+$B$3)","v":0},{"$f":"SUM(AA30:AL30)*(1+$B$3)^2","v":0},{"$f":"+'datos de entrada'!$B15*E11*(1+'datos de entrada'!$C$409)^3","v":0},{"$f":"+'datos de entrada'!$B15*F11*(1+'datos de entrada'!$C$409)^4","v":0}]
[0,0,0,0,{"$f":"+'datos de entrada'!$B16*E12*(1+'datos de entrada'!$C$409)^3","v":0},{"$f":"+'datos de entrada'!$B16*F12*(1+'datos de entrada'!$C$409)^4","v":0}]
[0,0,0,0,{"$f":"+'datos de entrada'!$B17*E13*(1+'datos de entrada'!$C$409)^3","v":0},{"$f":"+'datos de entrada'!$B17*F13*(1+'datos de entrada'!$C$409)^4","v":0}]
[0,0,0,0,{"$f":"+'datos de entrada'!$B18*E14*(1+'datos de entrada'!$C$409)^3","v":0},{"$f":"+'datos de entrada'!$B18*F14*(1+'datos de entrada'!$C$409)^4","v":0}]
[0,0,0,0,{"$f":"+'datos de entrada'!$B19*E15*(1+'datos de entrada'!$C$409)^3","v":0},{"$f":"+'datos de entrada'!$B19*F15*(1+'datos de entrada'!$C$409)^4","v":0}]
[0,0,0,0,{"$f":"+'datos de entrada'!$B20*E16*(1+'datos de entrada'!$C$409)^3","v":0},{"$f":"+'datos de entrada'!$B20*F16*(1+'datos de entrada'!$C$409)^4","v":0}]
[0,0,0,0,{"$f":"+'datos de entrada'!$B21*E17*(1+'datos de entrada'!$C$409)^3","v":0},{"$f":"+'datos de entrada'!$B21*F17*(1+'datos de entrada'!$C$409)^4","v":0}]
[0,0,0,0,{"$f":"+'datos de entrada'!$B22*E18*(1+'datos de entrada'!$C$409)^3","v":0},{"$f":"+'datos de entrada'!$B22*F18*(1+'datos de entrada'!$C$409)^4","v":0}]
[0,0,0,0,{"$f":"+'datos de entrada'!$B23*E19*(1+'datos de entrada'!$C$409)^3","v":0},{"$f":"+'datos de entrada'!$B23*F19*(1+'datos de entrada'!$C$409)^4","v":0}]
[0,0,0,0,{"$f":"+'datos de entrada'!$B24*E20*(1+'datos de entrada'!$C$409)^3","v":0},{"$f":"+'datos de entrada'!$B24*F20*(1+'datos de entrada'!$C$409)^4","v":0}]
[0,0,0,0,{"$f":"+'datos de entrada'!$B25*E21*(1+'datos de entrada'!$C$409)^3","v":0},{"$f":"+'datos de entrada'!$B25*F21*(1+'datos de entrada'!$C$409)^4","v":0}]
["-","-","-","-","-","-"]
["-","-","-","-","-","-"]
["TOTAL",{"$f":"SUM(B50:B61)","v":0},{"$f":"SUM(C50:C61)","v":0},{"$f":"SUM(D50:D61)","v":0},{"$f":"SUM(E50:E61)","v":0},{"$f":"SUM(F50:F61)","v":0}]
["=","=","=","=","=","="]
[]
["PORCENTAJE DE LAS VENTAS MENSUALES CON RELACION AL ANO 1"]
["=","=","=","=","=","="]
["PRODUCTO","MES 8","MES 9","MES  10","MES 11","MES 12"]
["-","-","-","-","-","-"]
[{"$f":"A10","v":0},{"$f":"IF($B50=0,0,I29/$B50)","v":{"v":0,"d":"0%"}},{"v":0,"d":"0%"},{"v":0,"d":"0%"},{"v":0,"d":"0%"},{"v":0,"d":"0%"}]
[0,{"v":0,"d":"0%"},{"v":0,"d":"0%"},{"v":0,"d":"0%"},{"v":0,"d":"0%"},{"v":0,"d":"0%"}]
[0,{"v":0,"d":"0%"},{"v":0,"d":"0%"},{"v":0,"d":"0%"},{"v":0,"d":"0%"},{"v":0,"d":"0%"}]
[0,{"v":0,"d":"0%"},{"v":0,"d":"0%"},{"v":0,"d":"0%"},{"v":0,"d":"0%"},{"v":0,"d":"0%"}]
[0,{"v":0,"d":"0%"},{"v":0,"d":"0%"},{"v":0,"d":"0%"},{"v":0,"d":"0%"},{"v":0,"d":"0%"}]
[0,{"v":0,"d":"0%"},{"v":0,"d":"0%"},{"v":0,"d":"0%"},{"v":0,"d":"0%"},{"v":0,"d":"0%"}]
[0,{"v":0,"d":"0%"},{"v":0,"d":"0%"},{"v":0,"d":"0%"},{"v":0,"d":"0%"},{"v":0,"d":"0%"}]
[0,{"v":0,"d":"0%"},{"v":0,"d":"0%"},{"v":0,"d":"0%"},{"v":0,"d":"0%"},{"v":0,"d":"0%"}]
[0,{"v":0,"d":"0%"},{"v":0,"d":"0%"},{"v":0,"d":"0%"},{"v":0,"d":"0%"},{"v":0,"d":"0%"}]
[0,{"v":0,"d":"0%"},{"v":0,"d":"0%"},{"v":0,"d":"0%"},{"v":0,"d":"0%"},{"v":0,"d":"0%"}]
[0,{"v":0,"d":"0%"},{"v":0,"d":"0%"},{"v":0,"d":"0%"},{"v":0,"d":"0%"},{"v":0,"d":"0%"}]
[0,{"v":0,"d":"0%"},{"v":0,"d":"0%"},{"v":0,"d":"0%"},{"v":0,"d":"0%"},{"v":0,"d":"0%"}]
["=","=","=","=","=","="]
[null,{"$f":"SUM(B71:B83)","v":0},{"$f":"SUM(C71:C83)","v":0},{"$f":"SUM(D71:D83)","v":0},{"$f":"SUM(E71:E83)","v":0},{"$f":"SUM(F71:F83)","v":0}]
[]
["DISCRIMINACION DE LAS VENTAS A CREDITO"]
[]
["=","=","=","=","=","=","=","=","=","=","=","=","=","=","=","=","=","="]
[null,"MES 1","MES 2","MES 3","MES 4","MES 5","MES 6","MES 7","MES 8","MES 9","MES 10 ","MES 11","MES 12","ANO 1","ANO 2","ANO 3","ANO 4","ANO 5"]
["-","-","-","-","-","-","-","-","-","-","-","-","-","-","-","-","-","-"]
[{"$f":"A10","v":0}]
["  CONTADO:",{"$f":"B$29*'datos de entrada'!$C$14","v":0},{"$f":"C$29*'datos de entrada'!$C$14","v":0},{"$f":"D$29*'datos de entrada'!$C$14","v":0},{"$f":"E$29*'datos de entrada'!$C$14","v":0},{"$f":"F$29*'datos de entrada'!$C$14","v":0},{"$f":"G$29*'datos de entrada'!$C$14","v":0},{"$f":"H$29*'datos de entrada'!$C$14","v":0},{"$f":"I$29*'datos de entrada'!$C$14","v":0},{"$f":"J$29*'datos de entrada'!$C$14","v":0},{"$f":"K$29*'datos de entrada'!$C$14","v":0},{"$f":"L$29*'datos de entrada'!$C$14","v":0},{"$f":"M$29*'datos de entrada'!$C$14","v":0},{"$f":"SUM(B92:M92)","v":0},{"$f":"C$50*'datos de entrada'!$C14","v":0},{"$f":"D$50*'datos de entrada'!$C14","v":0},{"$f":"E$50*'datos de entrada'!$C14","v":0},{"$f":"F$50*'datos de entrada'!$C14","v":0}]
["  30 DIAS:",null,{"$f":"B29*'datos de entrada'!$D$14","v":0},{"$f":"C29*'datos de entrada'!$D$14","v":0},{"$f":"D29*'datos de entrada'!$D$14","v":0},{"$f":"E29*'datos de entrada'!$D$14","v":0},{"$f":"F29*'datos de entrada'!$D$14","v":0},{"$f":"G29*'datos de entrada'!$D$14","v":0},{"$f":"H29*'datos de entrada'!$D$14","v":0},{"$f":"I29*'datos de entrada'!$D$14","v":0},{"$f":"J29*'datos de entrada'!$D$14","v":0},{"$f":"K29*'datos de entrada'!$D$14","v":0},{"$f":"L29*'datos de entrada'!$D$14","v":0},0,{"$f":"C$50*'datos de entrada'!D14*(1-F71)+B241","v":0},{"$f":"+'datos de entrada'!$D14*(D$50+($F$71)*(C$50-D$50))","v":0},{"$f":"+'datos de entrada'!$D14*(E$50+($F$71)*(D$50-E$50))","v":0},{"$f":"+'datos de entrada'!$D14*(F$50+($F$71)*(E$50-F$50))","v":0}]
[" 60 DIAS:",null,null,{"$f":"B29*'datos de entrada'!$E$14","v":0},{"$f":"C29*'datos de entrada'!$E$14","v":0},{"$f":"D29*'datos de entrada'!$E$14","v":0},{"$f":"E29*'datos de entrada'!$E$14","v":0},{"$f":"F29*'datos de entrada'!$E$14","v":0},{"$f":"G29*'datos de entrada'!$E$14","v":0},{"$f":"H29*'datos de entrada'!$E$14","v":0},{"$f":"I29*'datos de entrada'!$E$14","v":0},{"$f":"J29*'datos de entrada'!$E$14","v":0},{"$f":"K29*'datos de entrada'!$E$14","v":0},0,{"$f":"C$50*'datos de entrada'!E14*(1-(F71+E71))+B242","v":0},{"$f":"+'datos de entrada'!$E14*(D$50+($F$71+$E$71)*(C$50-D$50))","v":0},{"$f":"+'datos de entrada'!$E14*(E$50+($F$71+$E$71)*(D$50-E$50))","v":0},{"$f":"+'datos de entrada'!$E14*(F$50+($F$71+$E$71)*(E$50-F$50))","v":0}]
[" 90 DIAS:",{"$nulls":3},{"$f":"B29*'datos de entrada'!$F$14","v":0},{"$f":"C29*'datos de entrada'!$F$14","v":0},{"$f":"D29*'datos de entrada'!$F$14","v":0},{"$f":"E29*'datos de entrada'!$F$14","v":0},{"$f":"F29*'datos de entrada'!$F$14","v":0},{"$f":"G29*'datos de entrada'!$F$14","v":0},{"$f":"H29*'datos de entrada'!$F$14","v":0},{"$f":"I29*'datos de entrada'!$F$14","v":0},{"$f":"J29*'datos de entrada'!$F$14","v":0},0,{"$f":"C$50*'datos de entrada'!F14*(1-(F71+E71+D71))+B243","v":0},{"$f":"+'datos de entrada'!$F14*(D$50+($F$71+$E$71+$D$71)*(C$50-D$50))","v":0},{"$f":"+'datos de entrada'!$F14*(E$50+($F$71+$E$71+$D$71)*(D$50-E$50))","v":0},{"$f":"+'datos de entrada'!$F14*(F$50+($F$71+$E$71+$D$71)*(E$50-F$50))","v":0}]
[" 120 DIAS:",{"$nulls":4},{"$f":"B29*'datos de entrada'!$G$14","v":0},{"$f":"C29*'datos de entrada'!$G$14","v":0},{"$f":"D29*'datos de entrada'!$G$14","v":0},{"$f":"E29*'datos de entrada'!$G$14","v":0},{"$f":"F29*'datos de entrada'!$G$14","v":0},{"$f":"G29*'datos de entrada'!$G$14","v":0},{"$f":"H29*'datos de entrada'!$G$14","v":0},{"$f":"I29*'datos de entrada'!$G$14","v":0},0,{"$f":"C$50*'datos de entrada'!G14*(1-(F71+E71+D71+C71))+B244","v":0},{"$f":"+'datos de entrada'!$G14*(D$50+($F$71+$E$71+$D$71+$C$71)*(C$50-D$50))","v":0},{"$f":"+'datos de entrada'!$G14*(E$50+($F$71+$E$71+$D$71+$C$71)*(D$50-E$50))","v":0},{"$f":"+'datos de entrada'!$G14*(F$50+($F$71+$E$71+$D$71+$C$71)*(E$50-F$50))","v":0}]
[" 150 DIAS:",{"$nulls":5},{"$f":"B29*'datos de entrada'!$H$14","v":0},{"$f":"C29*'datos de entrada'!$H$14","v":0},{"$f":"D29*'datos de entrada'!$H$14","v":0},{"$f":"E29*'datos de entrada'!$H$14","v":0},{"$f":"F29*'datos de entrada'!$H$14","v":0},{"$f":"G29*'datos de entrada'!$H$14","v":0},{"$f":"H29*'datos de entrada'!$H$14","v":0},0,{"$f":"C$50*'datos de entrada'!H14*(1-(B71+C71+D71+E71+F71))+B245","v":0},{"$f":"+'datos de entrada'!$H14*(D$50+($F$71+$E$71+$D$71+$C$71+$B$71)*(C$50-D$50))","v":0},{"$f":"+'datos de entrada'!$H14*(E$50+($F$71+$E$71+$D$71+$C$71+$B$71)*(D$50-E$50))","v":0},{"$f":"+'datos de entrada'!$H14*(F$50+($F$71+$E$71+$D$71+$C$71+$B$71)*(E$50-F$50))","v":0}]
[]
[{"$f":"A11","v":0}]
["  CONTADO:",{"$f":"B30*'datos de entrada'!$C$15","v":0},{"$f":"C30*'datos de entrada'!$C$15","v":0},{"$f":"D30*'datos de entrada'!$C$15","v":0},{"$f":"E30*'datos de entrada'!$C$15","v":0},{"$f":"F30*'datos de entrada'!$C$15","v":0},{"$f":"G30*'datos de entrada'!$C$15","v":0},{"$f":"H30*'datos de entrada'!$C$15","v":0},{"$f":"I30*'datos de entrada'!$C$15","v":0},{"$f":"J30*'datos de entrada'!$C$15","v":0},{"$f":"K30*'datos de entrada'!$C$15","v":0},{"$f":"L30*'datos de entrada'!$C$15","v":0},{"$f":"M30*'datos de entrada'!$C$15","v":0},{"$f":"SUM(B100:M100)","v":0},{"$f":"C$51*'datos de entrada'!$C15","v":0},{"$f":"D$51*'datos de entrada'!$C15","v":0},{"$f":"E$51*'datos de entrada'!$C15","v":0},{"$f":"F$51*'datos de entrada'!$C15","v":0}]
["  30 DIAS:",null,{"$f":"B30*'datos de entrada'!$D$15","v":0},{"$f":"C30*'datos de entrada'!$D$15","v":0},{"$f":"D30*'datos de entrada'!$D$15","v":0},{"$f":"E30*'datos de entrada'!$D$15","v":0},{"$f":"F30*'datos de entrada'!$D$15","v":0},{"$f":"G30*'datos de entrada'!$D$15","v":0},{"$f":"H30*'datos de entrada'!$D$15","v":0},{"$f":"I30*'datos de entrada'!$D$15","v":0},{"$f":"J30*'datos de entrada'!$D$15","v":0},{"$f":"K30*'datos de entrada'!$D$15","v":0},{"$f":"L30*'datos de entrada'!$D$15","v":0},0,{"$f":"C$51*'datos de entrada'!D15*(1-F72)+C241","v":0},{"$f":"+'datos de entrada'!$D15*(D$51+($F$72)*(C$51-D$51))","v":0},{"$f":"+'datos de entrada'!$D15*(E$51+($F$72)*(D$51-E$51))","v":0},{"$f":"+'datos de entrada'!$D15*(F$51+($F$72)*(E$51-F$51))","v":0}]
[" 60 DIAS:",null,null,{"$f":"B30*'datos de entrada'!$E$15","v":0},{"$f":"C30*'datos de entrada'!$E$15","v":0},{"$f":"D30*'datos de entrada'!$E$15","v":0},{"$f":"E30*'datos de entrada'!$E$15","v":0},{"$f":"F30*'datos de entrada'!$E$15","v":0},{"$f":"G30*'datos de entrada'!$E$15","v":0},{"$f":"H30*'datos de entrada'!$E$15","v":0},{"$f":"I30*'datos de entrada'!$E$15","v":0},{"$f":"J30*'datos de entrada'!$E$15","v":0},{"$f":"K30*'datos de entrada'!$E$15","v":0},0,{"$f":"C$51*'datos de entrada'!E15*(1-(F72+E72))+C242","v":0},{"$f":"+'datos de entrada'!$E15*(D$51+($F$72+$E$72)*(C$51-D$51))","v":0},{"$f":"+'datos de entrada'!$E15*(E$51+($F$72+$E$72)*(D$51-E$51))","v":0},{"$f":"+'datos de entrada'!$E15*(F$51+($F$72+$E$72)*(E$51-F$51))","v":0}]
[" 90 DIAS:",{"$nulls":3},{"$f":"B30*'datos de entrada'!$F$15","v":0},{"$f":"C30*'datos de entrada'!$F$15","v":0},{"$f":"D30*'datos de entrada'!$F$15","v":0},{"$f":"E30*'datos de entrada'!$F$15","v":0},{"$f":"F30*'datos de entrada'!$F$15","v":0},{"$f":"G30*'datos de entrada'!$F$15","v":0},{"$f":"H30*'datos de entrada'!$F$15","v":0},{"$f":"I30*'datos de entrada'!$F$15","v":0},{"$f":"J30*'datos de entrada'!$F$15","v":0},0,{"$f":"C$51*'datos de entrada'!F15*(1-(F72+E72+D72))+C243","v":0},{"$f":"+'datos de entrada'!$F15*(D$51+($F$72+$E$72+$D$72)*(C$51-D$51))","v":0},{"$f":"+'datos de entrada'!$F15*(E$51+($F$72+$E$72+$D$72)*(D$51-E$51))","v":0},{"$f":"+'datos de entrada'!$F15*(F$51+($F$72+$E$72+$D$72)*(E$51-F$51))","v":0}]
[" 120 DIAS:",{"$nulls":4},{"$f":"B30*'datos de entrada'!$G$15","v":0},{"$f":"C30*'datos de entrada'!$G$15","v":0},{"$f":"D30*'datos de entrada'!$G$15","v":0},{"$f":"E30*'datos de entrada'!$G$15","v":0},{"$f":"F30*'datos de entrada'!$G$15","v":0},{"$f":"G30*'datos de entrada'!$G$15","v":0},{"$f":"H30*'datos de entrada'!$G$15","v":0},{"$f":"I30*'datos de entrada'!$G$15","v":0},0,{"$f":"C$51*'datos de entrada'!G15*(1-(F72+E72+D72+C72))+C244","v":0},{"$f":"+'datos de entrada'!$G15*(D$51+($F$72+$D$72+$E$72+$C$72)*(C$51-D$51))","v":0},{"$f":"+'datos de entrada'!$G15*(E$51+($F$72+$D$72+$E$72+$C$72)*(D$51-E$51))","v":0},{"$f":"+'datos de entrada'!$G15*(F$51+($F$72+$D$72+$E$72+$C$72)*(E$51-F$51))","v":0}]
[" 150 DIAS:",{"$nulls":5},{"$f":"B30*'datos de entrada'!$H$15","v":0},{"$f":"C30*'datos de entrada'!$H$15","v":0},{"$f":"D30*'datos de entrada'!$H$15","v":0},{"$f":"E30*'datos de entrada'!$H$15","v":0},{"$f":"F30*'datos de entrada'!$H$15","v":0},{"$f":"G30*'datos de entrada'!$H$15","v":0},{"$f":"H30*'datos de entrada'!$H$15","v":0},0,{"$f":"C$51*'datos de entrada'!H15*(1-(F72+E72+D72+C72+B72))+C245","v":0},{"$f":"+'datos de entrada'!$H15*(D$51+($F$72+$E$72+$D$72+$C$72+$B$72)*(C$51-D$51))","v":0},{"$f":"+'datos de entrada'!$H15*(E$51+($F$72+$E$72+$D$72+$C$72+$B$72)*(D$51-E$51))","v":0},{"$f":"+'datos de entrada'!$H15*(F$51+($F$72+$E$72+$D$72+$C$72+$B$72)*(E$51-F$51))","v":0}]
[]
[{"$f":"A12","v":0}]
["  CONTADO:",{"$f":"B31*'datos de entrada'!$C$16","v":0},{"$f":"C31*'datos de entrada'!$C$16","v":0},{"$f":"D31*'datos de entrada'!$C$16","v":0},{"$f":"E31*'datos de entrada'!$C$16","v":0},{"$f":"F31*'datos de entrada'!$C$16","v":0},{"$f":"G31*'datos de entrada'!$C$16","v":0},{"$f":"H31*'datos de entrada'!$C$16","v":0},{"$f":"I31*'datos de entrada'!$C$16","v":0},{"$f":"J31*'datos de entrada'!$C$16","v":0},{"$f":"K31*'datos de entrada'!$C$16","v":0},{"$f":"L31*'datos de entrada'!$C$16","v":0},{"$f":"M31*'datos de entrada'!$C$16","v":0},{"$f":"SUM(B108:M108)","v":0},{"$f":"C$52*'datos de entrada'!$C16","v":0},{"$f":"D$52*'datos de entrada'!$C16","v":0},{"$f":"E$52*'datos de entrada'!$C16","v":0},{"$f":"F$52*'datos de entrada'!$C16","v":0}]
["  30 DIAS:",null,{"$f":"B31*'datos de entrada'!$D$16","v":0},{"$f":"C31*'datos de entrada'!$D$16","v":0},{"$f":"D31*'datos de entrada'!$D$16","v":0},{"$f":"E31*'datos de entrada'!$D$16","v":0},{"$f":"F31*'datos de entrada'!$D$16","v":0},{"$f":"G31*'datos de entrada'!$D$16","v":0},{"$f":"H31*'datos de entrada'!$D$16","v":0},{"$f":"I31*'datos de entrada'!$D$16","v":0},{"$f":"J31*'datos de entrada'!$D$16","v":0},{"$f":"K31*'datos de entrada'!$D$16","v":0},{"$f":"L31*'datos de entrada'!$D$16","v":0},0,{"$f":"C$52*'datos de entrada'!D16*(1-F73)+D241","v":0},{"$f":"+'datos de entrada'!$D16*(D$52+($F$73)*(C$52-D$52))","v":0},{"$f":"+'datos de entrada'!$D16*(E$52+($F$73)*(D$52-E$52))","v":0},{"$f":"+'datos de entrada'!$D16*(F$52+($F$73)*(E$52-F$52))","v":0}]
[" 60 DIAS:",null,null,{"$f":"B31*'datos de entrada'!$E$16","v":0},{"$f":"C31*'datos de entrada'!$E$16","v":0},{"$f":"D31*'datos de entrada'!$E$16","v":0},{"$f":"E31*'datos de entrada'!$E$16","v":0},{"$f":"F31*'datos de entrada'!$E$16","v":0},{"$f":"G31*'datos de entrada'!$E$16","v":0},{"$f":"H31*'datos de entrada'!$E$16","v":0},{"$f":"I31*'datos de entrada'!$E$16","v":0},{"$f":"J31*'datos de entrada'!$E$16","v":0},{"$f":"K31*'datos de entrada'!$E$16","v":0},0,{"$f":"C$52*'datos de entrada'!E16*(1-(F73+E73))+D242","v":0},{"$f":"+'datos de entrada'!$E16*(D$52+($F$73+$E$73)*(C$52-D$52))","v":0},{"$f":"+'datos de entrada'!$E16*(E$52+($F$73+$E$73)*(D$52-E$52))","v":0},{"$f":"+'datos de entrada'!$E16*(F$52+($F$73+$E$73)*(E$52-F$52))","v":0}]
[" 90 DIAS:",{"$nulls":3},{"$f":"B31*'datos de entrada'!$F$16","v":0},{"$f":"C31*'datos de entrada'!$F$16","v":0},{"$f":"D31*'datos de entrada'!$F$16","v":0},{"$f":"E31*'datos de entrada'!$F$16","v":0},{"$f":"F31*'datos de entrada'!$F$16","v":0},{"$f":"G31*'datos de entrada'!$F$16","v":0},{"$f":"H31*'datos de entrada'!$F$16","v":0},{"$f":"I31*'datos de entrada'!$F$16","v":0},{"$f":"J31*'datos de entrada'!$F$16","v":0},0,{"$f":"C$52*'datos de entrada'!F16*(1-(F73+E73+D73))+D243","v":0},{"$f":"+'datos de entrada'!$F16*(D$52+($F$73+$E$73+$D$73)*(C$52-D$52))","v":0},{"$f":"+'datos de entrada'!$F16*(E$52+($F$73+$E$73+$D$73)*(D$52-E$52))","v":0},{"$f":"+'datos de entrada'!$F16*(F$52+($F$73+$E$73+$D$73)*(E$52-F$52))","v":0}]
[" 120 DIAS:",{"$nulls":4},{"$f":"B31*'datos de entrada'!$G$16","v":0},{"$f":"C31*'datos de entrada'!$G$16","v":0},{"$f":"D31*'datos de entrada'!$G$16","v":0},{"$f":"E31*'datos de entrada'!$G$16","v":0},{"$f":"F31*'datos de entrada'!$G$16","v":0},{"$f":"G31*'datos de entrada'!$G$16","v":0},{"$f":"H31*'datos de entrada'!$G$16","v":0},{"$f":"I31*'datos de entrada'!$G$16","v":0},0,{"$f":"C$52*'datos de entrada'!G16*(1-(F73+E73+D73+C73))+D244","v":0},{"$f":"+'datos de entrada'!$G16*(D$52+($F$73+$E$73+$D$73+$C$73)*(C$52-D$52))","v":0},{"$f":"+'datos de entrada'!$G16*(E$52+($F$73+$E$73+$D$73+$C$73)*(D$52-E$52))","v":0},{"$f":"+'datos de entrada'!$G16*(F$52+($F$73+$E$73+$D$73+$C$73)*(E$52-F$52))","v":0}]
[" 150 DIAS:",{"$nulls":5},{"$f":"B31*'datos de entrada'!$H$16","v":0},{"$f":"C31*'datos de entrada'!$H$16","v":0},{"$f":"D31*'datos de entrada'!$H$16","v":0},{"$f":"E31*'datos de entrada'!$H$16","v":0},{"$f":"F31*'datos de entrada'!$H$16","v":0},{"$f":"G31*'datos de entrada'!$H$16","v":0},{"$f":"H31*'datos de entrada'!$H$16","v":0},0,{"$f":"C$52*'datos de entrada'!H16*(1-(F73+E73+D73+C73+B73))+D245","v":0},{"$f":"+'datos de entrada'!$H16*(D$52+($B$73+$C$73+$D$73+$E$73+$F$73)*(C$52-D$52))","v":0},{"$f":"+'datos de entrada'!$H16*(E$52+($B$73+$C$73+$D$73+$E$73+$F$73)*(D$52-E$52))","v":0},{"$f":"+'datos de entrada'!$H16*(F$52+($B$73+$C$73+$D$73+$E$73+$F$73)*(E$52-F$52))","v":0}]
[]
[{"$f":"A13","v":0}]
["  CONTADO:",{"$f":"B32*'datos de entrada'!$C$17","v":0},{"$f":"C32*'datos de entrada'!$C$17","v":0},{"$f":"D32*'datos de entrada'!$C$17","v":0},{"$f":"E32*'datos de entrada'!$C$17","v":0},{"$f":"F32*'datos de entrada'!$C$17","v":0},{"$f":"G32*'datos de entrada'!$C$17","v":0},{"$f":"H32*'datos de entrada'!$C$17","v":0},{"$f":"I32*'datos de entrada'!$C$17","v":0},{"$f":"J32*'datos de entrada'!$C$17","v":0},{"$f":"K32*'datos de entrada'!$C$17","v":0},{"$f":"L32*'datos de entrada'!$C$17","v":0},{"$f":"M32*'datos de entrada'!$C$17","v":0},{"$f":"SUM(B116:M116)","v":0},{"$f":"C$53*'datos de entrada'!$C17","v":0},{"$f":"D$53*'datos de entrada'!$C17","v":0},{"$f":"E$53*'datos de entrada'!$C17","v":0},{"$f":"F$53*'datos de entrada'!$C17","v":0}]
["  30 DIAS:",null,{"$f":"B32*'datos de entrada'!$D$17","v":0},{"$f":"C32*'datos de entrada'!$D$17","v":0},{"$f":"D32*'datos de entrada'!$D$17","v":0},{"$f":"E32*'datos de entrada'!$D$17","v":0},{"$f":"F32*'datos de entrada'!$D$17","v":0},{"$f":"G32*'datos de entrada'!$D$17","v":0},{"$f":"H32*'datos de entrada'!$D$17","v":0},{"$f":"I32*'datos de entrada'!$D$17","v":0},{"$f":"J32*'datos de entrada'!$D$17","v":0},{"$f":"K32*'datos de entrada'!$D$17","v":0},{"$f":"L32*'datos de entrada'!$D$17","v":0},0,{"$f":"C$53*'datos de entrada'!D17*(1-F74)+E241","v":0},{"$f":"+'datos de entrada'!$D17*(D$53+($F$74)*(C$53-D$53))","v":0},{"$f":"+'datos de entrada'!$D17*(E$53+($F$74)*(D$53-E$53))","v":0},{"$f":"+'datos de entrada'!$D17*(F$53+($F$74)*(E$53-F$53))","v":0}]
[" 60 DIAS:",null,null,{"$f":"B32*'datos de entrada'!$E$17","v":0},{"$f":"C32*'datos de entrada'!$E$17","v":0},{"$f":"D32*'datos de entrada'!$E$17","v":0},{"$f":"E32*'datos de entrada'!$E$17","v":0},{"$f":"F32*'datos de entrada'!$E$17","v":0},{"$f":"G32*'datos de entrada'!$E$17","v":0},{"$f":"H32*'datos de entrada'!$E$17","v":0},{"$f":"I32*'datos de entrada'!$E$17","v":0},{"$f":"J32*'datos de entrada'!$E$17","v":0},{"$f":"K32*'datos de entrada'!$E$17","v":0},0,{"$f":"C$53*'datos de entrada'!E17*(1-(F74+E74))+E242","v":0},{"$f":"+'datos de entrada'!$E17*(D$53+($F$74+$E$74)*(C$53-D$53))","v":0},{"$f":"+'datos de entrada'!$E17*(E$53+($F$74+$E$74)*(D$53-E$53))","v":0},{"$f":"+'datos de entrada'!$E17*(F$53+($F$74+$E$74)*(E$53-F$53))","v":0}]
[" 90 DIAS:",{"$nulls":3},{"$f":"B32*'datos de entrada'!$F$17","v":0},{"$f":"C32*'datos de entrada'!$F$17","v":0},{"$f":"D32*'datos de entrada'!$F$17","v":0},{"$f":"E32*'datos de entrada'!$F$17","v":0},{"$f":"F32*'datos de entrada'!$F$17","v":0},{"$f":"G32*'datos de entrada'!$F$17","v":0},{"$f":"H32*'datos de entrada'!$F$17","v":0},{"$f":"I32*'datos de entrada'!$F$17","v":0},{"$f":"J32*'datos de entrada'!$F$17","v":0},0,{"$f":"C$53*'datos de entrada'!F17*(1-(F74+E74+D74))+E243","v":0},{"$f":"+'datos de entrada'!$F17*(D$53+($F$74+$E$74+$D$74)*(C$53-D$53))","v":0},{"$f":"+'datos de entrada'!$F17*(E$53+($F$74+$E$74+$D$74)*(D$53-E$53))","v":0},{"$f":"+'datos de entrada'!$F17*(F$53+($F$74+$E$74+$D$74)*(E$53-F$53))","v":0}]
[" 120 DIAS:",{"$nulls":4},{"$f":"B32*'datos de entrada'!$G$17","v":0},{"$f":"C32*'datos de entrada'!$G$17","v":0},{"$f":"D32*'datos de entrada'!$G$17","v":0},{"$f":"E32*'datos de entrada'!$G$17","v":0},{"$f":"F32*'datos de entrada'!$G$17","v":0},{"$f":"G32*'datos de entrada'!$G$17","v":0},{"$f":"H32*'datos de entrada'!$G$17","v":0},{"$f":"I32*'datos de entrada'!$G$17","v":0},0,{"$f":"C$53*'datos de entrada'!G17*(1-(F74+E74+D74+C74))+E244","v":0},{"$f":"+'datos de entrada'!$G17*(D$53+($F$74+$E$74+$D$74+$C$74)*(C$53-D$53))","v":0},{"$f":"+'datos de entrada'!$G17*(E$53+($F$74+$E$74+$D$74+$C$74)*(D$53-E$53))","v":0},{"$f":"+'datos de entrada'!$G17*(F$53+($F$74+$E$74+$D$74+$C$74)*(E$53-F$53))","v":0}]
[" 150 DIAS:",{"$nulls":5},{"$f":"B32*'datos de entrada'!$H$17","v":0},{"$f":"C32*'datos de entrada'!$H$17","v":0},{"$f":"D32*'datos de entrada'!$H$17","v":0},{"$f":"E32*'datos de entrada'!$H$17","v":0},{"$f":"F32*'datos de entrada'!$H$17","v":0},{"$f":"G32*'datos de entrada'!$H$17","v":0},{"$f":"H32*'datos de entrada'!$H$17","v":0},0,{"$f":"C$53*'datos de entrada'!H17*(1-(F74+E74+D74+C74+B74))+E245","v":0},{"$f":"+'datos de entrada'!$H$17*(D$53+($F$74+$E$74+$D$74+$C$74+$B$74)*(C$53-D$53))","v":0},{"$f":"+'datos de entrada'!$H$17*(E$53+($F$74+$E$74+$D$74+$C$74+$B$74)*(D$53-E$53))","v":0},{"$f":"+'datos de entrada'!$H$17*(F$53+($F$74+$E$74+$D$74+$C$74+$B$74)*(E$53-F$53))","v":0}]
[]
[{"$f":"A14","v":0}]
["  CONTADO:",{"$f":"$B$33*'datos de entrada'!C$18","v":0},{"$f":"C33*'datos de entrada'!$C$18","v":0},{"$f":"D33*'datos de entrada'!$C$18","v":0},{"$f":"E33*'datos de entrada'!$C$18","v":0},{"$f":"F33*'datos de entrada'!$C$18","v":0},{"$f":"G33*'datos de entrada'!$C$18","v":0},{"$f":"H33*'datos de entrada'!$C$18","v":0},{"$f":"I33*'datos de entrada'!$C$18","v":0},{"$f":"J33*'datos de entrada'!$C$18","v":0},{"$f":"K33*'datos de entrada'!$C$18","v":0},{"$f":"L33*'datos de entrada'!$C$18","v":0},{"$f":"M33*'datos de entrada'!$C$18","v":0},{"$f":"SUM(B124:M124)","v":0},{"$f":"C$54*'datos de entrada'!$C18","v":0},{"$f":"D$54*'datos de entrada'!$C18","v":0},{"$f":"E$54*'datos de entrada'!$C18","v":0},{"$f":"F$54*'datos de entrada'!$C18","v":0}]
["  30 DIAS:",null,{"$f":"B33*'datos de entrada'!$D$18","v":0},{"$f":"C33*'datos de entrada'!$D$18","v":0},{"$f":"D33*'datos de entrada'!$D$18","v":0},{"$f":"E33*'datos de entrada'!$D$18","v":0},{"$f":"F33*'datos de entrada'!$D$18","v":0},{"$f":"G33*'datos de entrada'!$D$18","v":0},{"$f":"H33*'datos de entrada'!$D$18","v":0},{"$f":"I33*'datos de entrada'!$D$18","v":0},{"$f":"J33*'datos de entrada'!$D$18","v":0},{"$f":"K33*'datos de entrada'!$D$18","v":0},{"$f":"L33*'datos de entrada'!$D$18","v":0},0,{"$f":"C$54*'datos de entrada'!D18*(1-F75)+F241","v":0},{"$f":"+'datos de entrada'!$D18*(D$54+($F$75)*(C$54-D$54))","v":0},{"$f":"+'datos de entrada'!$D18*(E$54+($F$75)*(D$54-E$54))","v":0},{"$f":"+'datos de entrada'!$D18*(F$54+($F$75)*(E$54-F$54))","v":0}]
[" 60 DIAS:",null,null,{"$f":"B33*'datos de entrada'!$E$18","v":0},{"$f":"C33*'datos de entrada'!$E$18","v":0},{"$f":"D33*'datos de entrada'!$E$18","v":0},{"$f":"E33*'datos de entrada'!$E$18","v":0},{"$f":"F33*'datos de entrada'!$E$18","v":0},{"$f":"G33*'datos de entrada'!$E$18","v":0},{"$f":"H33*'datos de entrada'!$E$18","v":0},{"$f":"I33*'datos de entrada'!$E$18","v":0},{"$f":"J33*'datos de entrada'!$E$18","v":0},{"$f":"K33*'datos de entrada'!$E$18","v":0},0,{"$f":"C$54*'datos de entrada'!E18*(1-(F75+E75))+F242","v":0},{"$f":"+'datos de entrada'!$E$18*(D$54+($F$75+$E$75)*(C$54-D$54))","v":0},{"$f":"+'datos de entrada'!$E$18*(E$54+($F$75+$E$75)*(D$54-E$54))","v":0},{"$f":"+'datos de entrada'!$E$18*(F$54+($F$75+$E$75)*(E$54-F$54))","v":0}]
[" 90 DIAS:",{"$nulls":3},{"$f":"B33*'datos de entrada'!$F$18","v":0},{"$f":"C33*'datos de entrada'!$F$18","v":0},{"$f":"D33*'datos de entrada'!$F$18","v":0},{"$f":"E33*'datos de entrada'!$F$18","v":0},{"$f":"F33*'datos de entrada'!$F$18","v":0},{"$f":"G33*'datos de entrada'!$F$18","v":0},{"$f":"H33*'datos de entrada'!$F$18","v":0},{"$f":"I33*'datos de entrada'!$F$18","v":0},{"$f":"J33*'datos de entrada'!$F$18","v":0},0,{"$f":"C$54*'datos de entrada'!F18*(1-(D75+E75+F75))+F243","v":0},{"$f":"+'datos de entrada'!$F$18*(D$54+($D$75+$E$75+$F$75)*(C$54-D$54))","v":0},{"$f":"+'datos de entrada'!$F$18*(E$54+($D$75+$E$75+$F$75)*(D$54-E$54))","v":0},{"$f":"+'datos de entrada'!$F$18*(F$54+($D$75+$E$75+$F$75)*(E$54-F$54))","v":0}]
[" 120 DIAS:",{"$nulls":4},{"$f":"B33*'datos de entrada'!$G$18","v":0},{"$f":"C33*'datos de entrada'!$G$18","v":0},{"$f":"D33*'datos de entrada'!$G$18","v":0},{"$f":"E33*'datos de entrada'!$G$18","v":0},{"$f":"F33*'datos de entrada'!$G$18","v":0},{"$f":"G33*'datos de entrada'!$G$18","v":0},{"$f":"H33*'datos de entrada'!$G$18","v":0},{"$f":"I33*'datos de entrada'!$G$18","v":0},0,{"$f":"C$54*'datos de entrada'!G18*(1-(F75+D75+E75+C75))+F244","v":0},{"$f":"+'datos de entrada'!$G18*(D$54+($C$75+$D$75+$E$75+$F$75)*(C$54-D$54))","v":0},{"$f":"+'datos de entrada'!$G18*(E$54+($C$75+$D$75+$E$75+$F$75)*(D$54-E$54))","v":0},{"$f":"+'datos de entrada'!$G18*(F$54+($C$75+$D$75+$E$75+$F$75)*(E$54-F$54))","v":0}]
[" 150 DIAS:",{"$nulls":5},{"$f":"B33*'datos de entrada'!$H$18","v":0},{"$f":"C33*'datos de entrada'!$H$18","v":0},{"$f":"D33*'datos de entrada'!$H$18","v":0},{"$f":"E33*'datos de entrada'!$H$18","v":0},{"$f":"F33*'datos de entrada'!$H$18","v":0},{"$f":"G33*'datos de entrada'!$H$18","v":0},{"$f":"H33*'datos de entrada'!$H$18","v":0},0,{"$f":"C$54*'datos de entrada'!H18*(1-(B75+C75+D75+E75+F75))+F245","v":0},{"$f":"+'datos de entrada'!$H18*(D$54+($B$75+$C$75+$D$75+$E$75+$F$75)*(C$54-D$54))","v":0},{"$f":"+'datos de entrada'!$H18*(E$54+($B$75+$C$75+$D$75+$E$75+$F$75)*(D$54-E$54))","v":0},{"$f":"+'datos de entrada'!$H18*(F$54+($B$75+$C$75+$D$75+$E$75+$F$75)*(E$54-F$54))","v":0}]
[]
[{"$f":"A15","v":0}]
["  CONTADO:",{"$f":"$B$34*'datos de entrada'!C$19","v":0},{"$f":"C34*'datos de entrada'!$C$19","v":0},{"$f":"D34*'datos de entrada'!$C$19","v":0},{"$f":"E34*'datos de entrada'!$C$19","v":0},{"$f":"F34*'datos de entrada'!$C$19","v":0},{"$f":"G34*'datos de entrada'!$C$19","v":0},{"$f":"H34*'datos de entrada'!$C$19","v":0},{"$f":"I34*'datos de entrada'!$C$19","v":0},{"$f":"J34*'datos de entrada'!$C$19","v":0},{"$f":"K34*'datos de entrada'!$C$19","v":0},{"$f":"L34*'datos de entrada'!$C$19","v":0},{"$f":"M34*'datos de entrada'!$C$19","v":0},{"$f":"SUM(B132:M132)","v":0},{"$f":"C$55*'datos de entrada'!$C19","v":0},{"$f":"D$55*'datos de entrada'!$C19","v":0},{"$f":"E$55*'datos de entrada'!$C19","v":0},{"$f":"F$55*'datos de entrada'!$C19","v":0}]
["  30 DIAS:",null,{"$f":"$B$34*'datos de entrada'!D$19","v":0},{"$f":"C34*'datos de entrada'!$D$19","v":0},{"$f":"D34*'datos de entrada'!$D$19","v":0},{"$f":"E34*'datos de entrada'!$D$19","v":0},{"$f":"F34*'datos de entrada'!$D$19","v":0},{"$f":"G34*'datos de entrada'!$D$19","v":0},{"$f":"H34*'datos de entrada'!$D$19","v":0},{"$f":"I34*'datos de entrada'!$D$19","v":0},{"$f":"J34*'datos de entrada'!$D$19","v":0},{"$f":"K34*'datos de entrada'!$D$19","v":0},{"$f":"L34*'datos de entrada'!$D$19","v":0},0,{"$f":"C$55*'datos de entrada'!D19*(1-F76)+G241","v":0},{"$f":"+'datos de entrada'!$D$19*(D$55+($F$76)*(C$55-D$55))","v":0},{"$f":"+'datos de entrada'!$D$19*(E$55+($F$76)*(D$55-E$55))","v":0},{"$f":"+'datos de entrada'!$D$19*(F$55+($F$76)*(E$55-F$55))","v":0}]
[" 60 DIAS:",null,null,{"$f":"$B$34*'datos de entrada'!E$19","v":0},{"$f":"C34*'datos de entrada'!$E$19","v":0},{"$f":"D34*'datos de entrada'!$E$19","v":0},{"$f":"E34*'datos de entrada'!$E$19","v":0},{"$f":"F34*'datos de entrada'!$E$19","v":0},{"$f":"G34*'datos de entrada'!$E$19","v":0},{"$f":"H34*'datos de entrada'!$E$19","v":0},{"$f":"I34*'datos de entrada'!$E$19","v":0},{"$f":"J34*'datos de entrada'!$E$19","v":0},{"$f":"K34*'datos de entrada'!$E$19","v":0},0,{"$f":"C$55*'datos de entrada'!E19*(1-(F76+E76))+G242","v":0},{"$f":"+'datos de entrada'!$E$19*(D$55+($F$76+$E$76)*(C$55-D$55))","v":0},{"$f":"+'datos de entrada'!$E$19*(E$55+($F$76+$E$76)*(D$55-E$55))","v":0},{"$f":"+'datos de entrada'!$E$19*(F$55+($F$76+$E$76)*(E$55-F$55))","v":0}]
[" 90 DIAS:",{"$nulls":3},{"$f":"$B$34*'datos de entrada'!F$19","v":0},{"$f":"C34*'datos de entrada'!$F$19","v":0},{"$f":"D34*'datos de entrada'!$F$19","v":0},{"$f":"E34*'datos de entrada'!$F$19","v":0},{"$f":"F34*'datos de entrada'!$F$19","v":0},{"$f":"G34*'datos de entrada'!$F$19","v":0},{"$f":"H34*'datos de entrada'!$F$19","v":0},{"$f":"I34*'datos de entrada'!$F$19","v":0},{"$f":"J34*'datos de entrada'!$F$19","v":0},0,{"$f":"C$55*'datos de entrada'!F19*(1-(F76+E76+D76))+G243","v":0},{"$f":"+'datos de entrada'!$F$19*(D$55+($D$76+$E$76+$F$76)*(C$55-D$55))","v":0},{"$f":"+'datos de entrada'!$F$19*(E$55+($D$76+$E$76+$F$76)*(D$55-E$55))","v":0},{"$f":"+'datos de entrada'!$F$19*(F$55+($D$76+$E$76+$F$76)*(E$55-F$55))","v":0}]
[" 120 DIAS:",{"$nulls":4},{"$f":"$B$34*'datos de entrada'!G$19","v":0},{"$f":"C34*'datos de entrada'!$G$19","v":0},{"$f":"D34*'datos de entrada'!$G$19","v":0},{"$f":"E34*'datos de entrada'!$G$19","v":0},{"$f":"F34*'datos de entrada'!$G$19","v":0},{"$f":"G34*'datos de entrada'!$G$19","v":0},{"$f":"H34*'datos de entrada'!$G$19","v":0},{"$f":"I34*'datos de entrada'!$G$19","v":0},0,{"$f":"C$55*'datos de entrada'!G19*(1-(D76+E76+F76+C76))+G244","v":0},{"$f":"+'datos de entrada'!$G$19*(D$55+($C$76+$D$76+$E$76+$F$76)*(C$55-D$55))","v":0},{"$f":"+'datos de entrada'!$G$19*(E$55+($C$76+$D$76+$E$76+$F$76)*(D$55-E$55))","v":0},{"$f":"+'datos de entrada'!$G$19*(F$55+($C$76+$D$76+$E$76+$F$76)*(E$55-F$55))","v":0}]
[" 150 DIAS:",{"$nulls":5},{"$f":"$B$34*'datos de entrada'!H$19","v":0},{"$f":"C34*'datos de entrada'!$H$19","v":0},{"$f":"D34*'datos de entrada'!$H$19","v":0},{"$f":"E34*'datos de entrada'!$H$19","v":0},{"$f":"F34*'datos de entrada'!$H$19","v":0},{"$f":"G34*'datos de entrada'!$H$19","v":0},{"$f":"H34*'datos de entrada'!$H$19","v":0},0,{"$f":"C$55*'datos de entrada'!H19*(1-(B76+C76+D76+E76+F76))+G245","v":0},{"$f":"+'datos de entrada'!$H$19*(D$55+($B$76+$C$76+$D$76+$E$76+$F$76)*(C$55-D$55))","v":0},{"$f":"+'datos de entrada'!$H$19*(E$55+($B$76+$C$76+$D$76+$E$76+$F$76)*(D$55-E$55))","v":0},{"$f":"+'datos de entrada'!$H$19*(F$55+($B$76+$C$76+$D$76+$E$76+$F$76)*(E$55-F$55))","v":0}]
[]
[{"$f":"+A16","v":0}]
["  CONTADO:",{"$f":"B$35*'datos de entrada'!$C$20","v":0},{"$f":"C$35*'datos de entrada'!$C$20","v":0},{"$f":"D$35*'datos de entrada'!$C$20","v":0},{"$f":"E$35*'datos de entrada'!$C$20","v":0},{"$f":"F$35*'datos de entrada'!$C$20","v":0},{"$f":"G$35*'datos de entrada'!$C$20","v":0},{"$f":"H$35*'datos de entrada'!$C$20","v":0},{"$f":"I$35*'datos de entrada'!$C$20","v":0},{"$f":"J$35*'datos de entrada'!$C$20","v":0},{"$f":"K$35*'datos de entrada'!$C$20","v":0},{"$f":"L$35*'datos de entrada'!$C$20","v":0},{"$f":"M$35*'datos de entrada'!$C$20","v":0},{"$f":"SUM(B140:M140)","v":0},{"$f":"$C$56*'datos de entrada'!$C$20","v":0},{"$f":"D$56*'datos de entrada'!$C20","v":0},{"$f":"E$56*'datos de entrada'!$C20","v":0},{"$f":"F$56*'datos de entrada'!$C20","v":0}]
["  30 DIAS:",null,{"$f":"B$35*'datos de entrada'!$D$20","v":0},{"$f":"C$35*'datos de entrada'!$D$20","v":0},{"$f":"D$35*'datos de entrada'!$D$20","v":0},{"$f":"E$35*'datos de entrada'!$D$20","v":0},{"$f":"F$35*'datos de entrada'!$D$20","v":0},{"$f":"G$35*'datos de entrada'!$D$20","v":0},{"$f":"H$35*'datos de entrada'!$D$20","v":0},{"$f":"I$35*'datos de entrada'!$D$20","v":0},{"$f":"J$35*'datos de entrada'!$D$20","v":0},{"$f":"K$35*'datos de entrada'!$D$20","v":0},{"$f":"L$35*'datos de entrada'!$D$20","v":0},0,{"$f":"$C$56*'datos de entrada'!$D$20*(1-$F$77)+$H$241","v":0},{"$f":"+'datos de entrada'!$D$20*(D$56+($F$77)*(C$56-D$56))","v":0},{"$f":"+'datos de entrada'!$D$20*(E$56+($F$77)*(D$56-E$56))","v":0},{"$f":"+'datos de entrada'!$D$20*(F$56+($F$77)*(E$56-F$56))","v":0}]
[" 60 DIAS:",null,null,{"$f":"B$35*'datos de entrada'!$E$20","v":0},{"$f":"C$35*'datos de entrada'!$E$20","v":0},{"$f":"D$35*'datos de entrada'!$E$20","v":0},{"$f":"E$35*'datos de entrada'!$E$20","v":0},{"$f":"F$35*'datos de entrada'!$E$20","v":0},{"$f":"G$35*'datos de entrada'!$E$20","v":0},{"$f":"H$35*'datos de entrada'!$E$20","v":0},{"$f":"I$35*'datos de entrada'!$E$20","v":0},{"$f":"J$35*'datos de entrada'!$E$20","v":0},{"$f":"K$35*'datos de entrada'!$E$20","v":0},0,{"$f":"$C$56*'datos de entrada'!$E$20*(1-($F$77+$E$77))+$H$242","v":0},{"$f":"+'datos de entrada'!$E$20*(D$56+($F$77+$E$77)*(C$56-D$56))","v":0},{"$f":"+'datos de entrada'!$E$20*(E$56+($F$77+$E$77)*(D$56-E$56))","v":0},{"$f":"+'datos de entrada'!$E$20*(F$56+($F$77+$E$77)*(E$56-F$56))","v":0}]
[" 90 DIAS:",{"$nulls":3},{"$f":"B$35*'datos de entrada'!$F$20","v":0},{"$f":"C$35*'datos de entrada'!$F$20","v":0},{"$f":"D$35*'datos de entrada'!$F$20","v":0},{"$f":"E$35*'datos de entrada'!$F$20","v":0},{"$f":"F$35*'datos de entrada'!$F$20","v":0},{"$f":"G$35*'datos de entrada'!$F$20","v":0},{"$f":"H$35*'datos de entrada'!$F$20","v":0},{"$f":"I$35*'datos de entrada'!$F$20","v":0},{"$f":"J$35*'datos de entrada'!$F$20","v":0},0,{"$f":"$C$56*'datos de entrada'!$F$20*(1-($F$77+$E$77+$D$77))+$H$243","v":0},{"$f":"+'datos de entrada'!$F$20*(D$56+($D$77+$E$77+$F$77)*(C$56-D$56))","v":0},{"$f":"+'datos de entrada'!$F$20*(E$56+($D$77+$E$77+$F$77)*(D$56-E$56))","v":0},{"$f":"+'datos de entrada'!$F$20*(F$56+($D$77+$E$77+$F$77)*(E$56-F$56))","v":0}]
[" 120 DIAS:",{"$nulls":4},{"$f":"B$35*'datos de entrada'!$G$20","v":0},{"$f":"C$35*'datos de entrada'!$G$20","v":0},{"$f":"D$35*'datos de entrada'!$G$20","v":0},{"$f":"E$35*'datos de entrada'!$G$20","v":0},{"$f":"F$35*'datos de entrada'!$G$20","v":0},{"$f":"G$35*'datos de entrada'!$G$20","v":0},{"$f":"H$35*'datos de entrada'!$G$20","v":0},{"$f":"I$35*'datos de entrada'!$G$20","v":0},0,{"$f":"$C$56*'datos de entrada'!$G$20*(1-($D$77+$E$77+$F$77+$C$77))+$H$244","v":0},{"$f":"+'datos de entrada'!$G$20*(D$56+($C$77+$D$77+$E$77+$F$77)*(C$56-D$56))","v":0},{"$f":"+'datos de entrada'!$G$20*(E$56+($C$77+$D$77+$E$77+$F$77)*(D$56-E$56))","v":0},{"$f":"+'datos de entrada'!$G$20*(F$56+($C$77+$D$77+$E$77+$F$77)*(E$56-F$56))","v":0}]
[" 150 DIAS:",{"$nulls":5},{"$f":"B$35*'datos de entrada'!$H$20","v":0},{"$f":"C$35*'datos de entrada'!$H$20","v":0},{"$f":"D$35*'datos de entrada'!$H$20","v":0},{"$f":"E$35*'datos de entrada'!$H$20","v":0},{"$f":"F$35*'datos de entrada'!$H$20","v":0},{"$f":"G$35*'datos de entrada'!$H$20","v":0},{"$f":"H$35*'datos de entrada'!$H$20","v":0},0,{"$f":"$C$56*'datos de entrada'!$H$20*(1-($B$77+$C$77+$D$77+$E$77+$F$77))+$H$245","v":0},{"$f":"+'datos de entrada'!$H$20*(D$56+($B$77+$C$77+$D$77+$E$77+$F$77)*(C$56-D$56))","v":0},{"$f":"+'datos de entrada'!$H$20*(E$56+($B$77+$C$77+$D$77+$E$77+$F$77)*(D$56-E$56))","v":0},{"$f":"+'datos de entrada'!$H$20*(F$56+($B$77+$C$77+$D$77+$E$77+$F$77)*(E$56-F$56))","v":0}]
[]
[{"$f":"+A17","v":0}]
["  CONTADO:",{"$f":"B$36*'datos de entrada'!$C$21","v":0},{"$f":"C$36*'datos de entrada'!$C$21","v":0},{"$f":"D$36*'datos de entrada'!$C$21","v":0},{"$f":"E$36*'datos de entrada'!$C$21","v":0},{"$f":"F$36*'datos de entrada'!$C$21","v":0},{"$f":"G$36*'datos de entrada'!$C$21","v":0},{"$f":"H$36*'datos de entrada'!$C$21","v":0},{"$f":"I$36*'datos de entrada'!$C$21","v":0},{"$f":"J$36*'datos de entrada'!$C$21","v":0},{"$f":"K$36*'datos de entrada'!$C$21","v":0},{"$f":"L$36*'datos de entrada'!$C$21","v":0},{"$f":"M$36*'datos de entrada'!$C$21","v":0},{"$f":"SUM(B148:M148)","v":0},{"$f":"$C$57*'datos de entrada'!$C$21","v":0},{"$f":"D$57*'datos de entrada'!$C21","v":0},{"$f":"E$57*'datos de entrada'!$C21","v":0},{"$f":"F$57*'datos de entrada'!$C21","v":0}]
["  30 DIAS:",null,{"$f":"B$36*'datos de entrada'!$D$21","v":0},{"$f":"C$36*'datos de entrada'!$D$21","v":0},{"$f":"D$36*'datos de entrada'!$D$21","v":0},{"$f":"E$36*'datos de entrada'!$D$21","v":0},{"$f":"F$36*'datos de entrada'!$D$21","v":0},{"$f":"G$36*'datos de entrada'!$D$21","v":0},{"$f":"H$36*'datos de entrada'!$D$21","v":0},{"$f":"I$36*'datos de entrada'!$D$21","v":0},{"$f":"J$36*'datos de entrada'!$D$21","v":0},{"$f":"K$36*'datos de entrada'!$D$21","v":0},{"$f":"L$36*'datos de entrada'!$D$21","v":0},0,{"$f":"$C$57*'datos de entrada'!$D$21*(1-$F$78)+$I$241","v":0},{"$f":"+'datos de entrada'!$D21*(D$57+($F$78)*(C$57-D$57))","v":0},{"$f":"+'datos de entrada'!$D21*(E$57+($F$78)*(D$57-E$57))","v":0},{"$f":"+'datos de entrada'!$D21*(F$57+($F$78)*(E$57-F$57))","v":0}]
[" 60 DIAS:",null,null,{"$f":"B$36*'datos de entrada'!$E$21","v":0},{"$f":"C$36*'datos de entrada'!$E$21","v":0},{"$f":"D$36*'datos de entrada'!$E$21","v":0},{"$f":"E$36*'datos de entrada'!$E$21","v":0},{"$f":"F$36*'datos de entrada'!$E$21","v":0},{"$f":"G$36*'datos de entrada'!$E$21","v":0},{"$f":"H$36*'datos de entrada'!$E$21","v":0},{"$f":"I$36*'datos de entrada'!$E$21","v":0},{"$f":"J$36*'datos de entrada'!$E$21","v":0},{"$f":"K$36*'datos de entrada'!$E$21","v":0},0,{"$f":"$C$57*'datos de entrada'!$E$21*(1-($F$78+$E$78))+$I$242","v":0},{"$f":"+'datos de entrada'!$E21*(D$57+($F$78+$E$78)*(C$57-D$57))","v":0},{"$f":"+'datos de entrada'!$E21*(E$57+($F$78+$E$78)*(D$57-E$57))","v":0},{"$f":"+'datos de entrada'!$E21*(F$57+($F$78+$E$78)*(E$57-F$57))","v":0}]
[" 90 DIAS:",{"$nulls":3},{"$f":"B$36*'datos de entrada'!$F$21","v":0},{"$f":"C$36*'datos de entrada'!$F$21","v":0},{"$f":"D$36*'datos de entrada'!$F$21","v":0},{"$f":"E$36*'datos de entrada'!$F$21","v":0},{"$f":"F$36*'datos de entrada'!$F$21","v":0},{"$f":"G$36*'datos de entrada'!$F$21","v":0},{"$f":"H$36*'datos de entrada'!$F$21","v":0},{"$f":"I$36*'datos de entrada'!$F$21","v":0},{"$f":"J$36*'datos de entrada'!$F$21","v":0},0,{"$f":"$C$57*'datos de entrada'!$F$21*(1-($F$78+$E$78+$D$78))+$I$243","v":0},{"$f":"+'datos de entrada'!$F21*(D$57+($F$78+$E$78+$D$78)*(C$57-D$57))","v":0},{"$f":"+'datos de entrada'!$F21*(E$57+($F$78+$E$78+$D$78)*(D$57-E$57))","v":0},{"$f":"+'datos de entrada'!$F21*(F$57+($F$78+$E$78+$D$78)*(E$57-F$57))","v":0}]
[" 120 DIAS:",{"$nulls":4},{"$f":"B$36*'datos de entrada'!$G$21","v":0},{"$f":"C$36*'datos de entrada'!$G$21","v":0},{"$f":"D$36*'datos de entrada'!$G$21","v":0},{"$f":"E$36*'datos de entrada'!$G$21","v":0},{"$f":"F$36*'datos de entrada'!$G$21","v":0},{"$f":"G$36*'datos de entrada'!$G$21","v":0},{"$f":"H$36*'datos de entrada'!$G$21","v":0},{"$f":"I$36*'datos de entrada'!$G$21","v":0},0,{"$f":"$C$57*'datos de entrada'!$G$21*(1-($D$78+$E$78+$F$78+$C$78))+$I$244","v":0},{"$f":"+'datos de entrada'!$G21*(D$57+($F$78+$E$78+$D$78+$C$78)*(C$57-D$57))","v":0},{"$f":"+'datos de entrada'!$G21*(E$57+($F$78+$E$78+$D$78+$C$78)*(D$57-E$57))","v":0},{"$f":"+'datos de entrada'!$G21*(F$57+($F$78+$E$78+$D$78+$C$78)*(E$57-F$57))","v":0}]
[" 150 DIAS:",{"$nulls":5},{"$f":"B$36*'datos de entrada'!$H$21","v":0},{"$f":"C$36*'datos de entrada'!$H$21","v":0},{"$f":"D$36*'datos de entrada'!$H$21","v":0},{"$f":"E$36*'datos de entrada'!$H$21","v":0},{"$f":"F$36*'datos de entrada'!$H$21","v":0},{"$f":"G$36*'datos de entrada'!$H$21","v":0},{"$f":"H$36*'datos de entrada'!$H$21","v":0},0,{"$f":"$C$57*'datos de entrada'!$H$21*(1-($B$78+$C$78+$D$78+$E$78+$F$78))+$I$245","v":0},{"$f":"+'datos de entrada'!$H21*(D$57+($F$78+$E$78+$D$78+$C$78+$B$78)*(C$57-D$57))","v":0},{"$f":"+'datos de entrada'!$H21*(E$57+($F$78+$E$78+$D$78+$C$78+$B$78)*(D$57-E$57))","v":0},{"$f":"+'datos de entrada'!$H21*(F$57+($F$78+$E$78+$D$78+$C$78+$B$78)*(E$57-F$57))","v":0}]
[]
[{"$f":"+A18","v":0}]
["  CONTADO:",{"$f":"B$37*'datos de entrada'!$C$22","v":0},{"$f":"C$37*'datos de entrada'!$C$22","v":0},{"$f":"D$37*'datos de entrada'!$C$22","v":0},{"$f":"E$37*'datos de entrada'!$C$22","v":0},{"$f":"F$37*'datos de entrada'!$C$22","v":0},{"$f":"G$37*'datos de entrada'!$C$22","v":0},{"$f":"H$37*'datos de entrada'!$C$22","v":0},{"$f":"I$37*'datos de entrada'!$C$22","v":0},{"$f":"J$37*'datos de entrada'!$C$22","v":0},{"$f":"K$37*'datos de entrada'!$C$22","v":0},{"$f":"L$37*'datos de entrada'!$C$22","v":0},{"$f":"M$37*'datos de entrada'!$C$22","v":0},{"$f":"SUM(B156:M156)","v":0},{"$f":"$C$58*'datos de entrada'!$C$22","v":0},{"$f":"D$58*'datos de entrada'!$C22","v":0},{"$f":"E$58*'datos de entrada'!$C22","v":0},{"$f":"F$58*'datos de entrada'!$C22","v":0}]
["  30 DIAS:",null,{"$f":"B$37*'datos de entrada'!$D$22","v":0},{"$f":"C$37*'datos de entrada'!$D$22","v":0},{"$f":"D$37*'datos de entrada'!$D$22","v":0},{"$f":"E$37*'datos de entrada'!$D$22","v":0},{"$f":"F$37*'datos de entrada'!$D$22","v":0},{"$f":"G$37*'datos de entrada'!$D$22","v":0},{"$f":"H$37*'datos de entrada'!$D$22","v":0},{"$f":"I$37*'datos de entrada'!$D$22","v":0},{"$f":"J$37*'datos de entrada'!$D$22","v":0},{"$f":"K$37*'datos de entrada'!$D$22","v":0},{"$f":"L$37*'datos de entrada'!$D$22","v":0},0,{"$f":"$C$58*'datos de entrada'!$D$22*(1-$F$79)+$J$241","v":0},{"$f":"+'datos de entrada'!$D22*(D$58+($F$79)*(C$58-D$58))","v":0},{"$f":"+'datos de entrada'!$D22*(E$58+($F$79)*(D$58-E$58))","v":0},{"$f":"+'datos de entrada'!$D22*(F$58+($F$79)*(E$58-F$58))","v":0}]
[" 60 DIAS:",null,null,{"$f":"B$37*'datos de entrada'!$E$22","v":0},{"$f":"C$37*'datos de entrada'!$E$22","v":0},{"$f":"D$37*'datos de entrada'!$E$22","v":0},{"$f":"E$37*'datos de entrada'!$E$22","v":0},{"$f":"F$37*'datos de entrada'!$E$22","v":0},{"$f":"G$37*'datos de entrada'!$E$22","v":0},{"$f":"H$37*'datos de entrada'!$E$22","v":0},{"$f":"I$37*'datos de entrada'!$E$22","v":0},{"$f":"J$37*'datos de entrada'!$E$22","v":0},{"$f":"K$37*'datos de entrada'!$E$22","v":0},0,{"$f":"$C$58*'datos de entrada'!$E$22*(1-($F$79+$E$79))+$J$242","v":0},{"$f":"+'datos de entrada'!$E22*(D$58+($F$79+$E$79)*(C$58-D$58))","v":0},{"$f":"+'datos de entrada'!$E22*(E$58+($F$79+$E$79)*(D$58-E$58))","v":0},{"$f":"+'datos de entrada'!$E22*(F$58+($F$79+$E$79)*(E$58-F$58))","v":0}]
[" 90 DIAS:",{"$nulls":3},{"$f":"B$37*'datos de entrada'!$F$22","v":0},{"$f":"C$37*'datos de entrada'!$F$22","v":0},{"$f":"D$37*'datos de entrada'!$F$22","v":0},{"$f":"E$37*'datos de entrada'!$F$22","v":0},{"$f":"F$37*'datos de entrada'!$F$22","v":0},{"$f":"G$37*'datos de entrada'!$F$22","v":0},{"$f":"H$37*'datos de entrada'!$F$22","v":0},{"$f":"I$37*'datos de entrada'!$F$22","v":0},{"$f":"J$37*'datos de entrada'!$F$22","v":0},0,{"$f":"$C$58*'datos de entrada'!$F$22*(1-($F$79+$E$79+$D$79))+$J$243","v":0},{"$f":"+'datos de entrada'!$F22*(D$58+($F$79+$E$79+$D$79)*(C$58-D$58))","v":0},{"$f":"+'datos de entrada'!$F22*(E$58+($F$79+$E$79+$D$79)*(D$58-E$58))","v":0},{"$f":"+'datos de entrada'!$F22*(F$58+($F$79+$E$79+$D$79)*(E$58-F$58))","v":0}]
[" 120 DIAS:",{"$nulls":4},{"$f":"B$37*'datos de entrada'!$G$22","v":0},{"$f":"C$37*'datos de entrada'!$G$22","v":0},{"$f":"D$37*'datos de entrada'!$G$22","v":0},{"$f":"E$37*'datos de entrada'!$G$22","v":0},{"$f":"F$37*'datos de entrada'!$G$22","v":0},{"$f":"G$37*'datos de entrada'!$G$22","v":0},{"$f":"H$37*'datos de entrada'!$G$22","v":0},{"$f":"I$37*'datos de entrada'!$G$22","v":0},0,{"$f":"$C$58*'datos de entrada'!$G$22*(1-($D$79+$E$79+$F$79+$C$79))+$J$244","v":0},{"$f":"+'datos de entrada'!$G22*(D$58+($F$79+$E$79+$D$79+$C$79)*(C$58-D$58))","v":0},{"$f":"+'datos de entrada'!$G22*(E$58+($F$79+$E$79+$D$79+$C$79)*(D$58-E$58))","v":0},{"$f":"+'datos de entrada'!$G22*(F$58+($F$79+$E$79+$D$79+$C$79)*(E$58-F$58))","v":0}]
[" 150 DIAS:",{"$nulls":5},{"$f":"B$37*'datos de entrada'!$H$22","v":0},{"$f":"C$37*'datos de entrada'!$H$22","v":0},{"$f":"D$37*'datos de entrada'!$H$22","v":0},{"$f":"E$37*'datos de entrada'!$H$22","v":0},{"$f":"F$37*'datos de entrada'!$H$22","v":0},{"$f":"G$37*'datos de entrada'!$H$22","v":0},{"$f":"H$37*'datos de entrada'!$H$22","v":0},0,{"$f":"$C$58*'datos de entrada'!$H$22*(1-($B$79+$C$79+$D$79+$E$79+$F$79))+$J$245","v":0},{"$f":"+'datos de entrada'!$H22*(D$58+($F$79+$E$79+$D$79+$C$79+$B$79)*(C$58-D$58))","v":0},{"$f":"+'datos de entrada'!$H22*(E$58+($F$79+$E$79+$D$79+$C$79+$B$79)*(D$58-E$58))","v":0},{"$f":"+'datos de entrada'!$H22*(F$58+($F$79+$E$79+$D$79+$C$79+$B$79)*(E$58-F$58))","v":0}]
[]
[{"$f":"+A17","v":0}]
["  CONTADO:",{"$f":"B$38*'datos de entrada'!$C$23","v":0},{"$f":"C$38*'datos de entrada'!$C$23","v":0},{"$f":"D$38*'datos de entrada'!$C$23","v":0},{"$f":"E$38*'datos de entrada'!$C$23","v":0},{"$f":"F$38*'datos de entrada'!$C$23","v":0},{"$f":"G$38*'datos de entrada'!$C$23","v":0},{"$f":"H$38*'datos de entrada'!$C$23","v":0},{"$f":"I$38*'datos de entrada'!$C$23","v":0},{"$f":"J$38*'datos de entrada'!$C$23","v":0},{"$f":"K$38*'datos de entrada'!$C$23","v":0},{"$f":"L$38*'datos de entrada'!$C$23","v":0},{"$f":"M$38*'datos de entrada'!$C$23","v":0},{"$f":"SUM(B164:M164)","v":0},{"$f":"$C$59*'datos de entrada'!$C$23","v":0},{"$f":"D$59*'datos de entrada'!$C23","v":0},{"$f":"E$59*'datos de entrada'!$C23","v":0},{"$f":"F$59*'datos de entrada'!$C23","v":0}]
["  30 DIAS:",null,{"$f":"B38*'datos de entrada'!$D$23","v":0},{"$f":"C38*'datos de entrada'!$D$23","v":0},{"$f":"D38*'datos de entrada'!$D$23","v":0},{"$f":"E38*'datos de entrada'!$D$23","v":0},{"$f":"F38*'datos de entrada'!$D$23","v":0},{"$f":"G38*'datos de entrada'!$D$23","v":0},{"$f":"H38*'datos de entrada'!$D$23","v":0},{"$f":"I38*'datos de entrada'!$D$23","v":0},{"$f":"J38*'datos de entrada'!$D$23","v":0},{"$f":"K38*'datos de entrada'!$D$23","v":0},{"$f":"L38*'datos de entrada'!$D$23","v":0},0,{"$f":"$C$59*'datos de entrada'!$D$23*(1-$F$80)+$K$241","v":0},{"$f":"+'datos de entrada'!$D23*(D$59+($F$80)*(C$59-D$59))","v":0},{"$f":"+'datos de entrada'!$D23*(E$59+($F$80)*(D$59-E$59))","v":0},{"$f":"+'datos de entrada'!$D23*(F$59+($F$80)*(E$59-F$59))","v":0}]
[" 60 DIAS:",null,null,{"$f":"B38*'datos de entrada'!$E$23","v":0},{"$f":"C38*'datos de entrada'!$E$23","v":0},{"$f":"D38*'datos de entrada'!$E$23","v":0},{"$f":"E38*'datos de entrada'!$E$23","v":0},{"$f":"F38*'datos de entrada'!$E$23","v":0},{"$f":"G38*'datos de entrada'!$E$23","v":0},{"$f":"H38*'datos de entrada'!$E$23","v":0},{"$f":"I38*'datos de entrada'!$E$23","v":0},{"$f":"J38*'datos de entrada'!$E$23","v":0},{"$f":"K38*'datos de entrada'!$E$23","v":0},0,{"$f":"$C$59*'datos de entrada'!$E$23*(1-($F$80+$E$80))+$K$242","v":0},{"$f":"+'datos de entrada'!$E23*(D$59+($F$80+$E$80)*(C$59-D$59))","v":0},{"$f":"+'datos de entrada'!$E23*(E$59+($F$80+$E$80)*(D$59-E$59))","v":0},{"$f":"+'datos de entrada'!$E23*(F$59+($F$80+$E$80)*(E$59-F$59))","v":0}]
[" 90 DIAS:",{"$nulls":3},{"$f":"B38*'datos de entrada'!$F$23","v":0},{"$f":"C38*'datos de entrada'!$F$23","v":0},{"$f":"D38*'datos de entrada'!$F$23","v":0},{"$f":"E38*'datos de entrada'!$F$23","v":0},{"$f":"F38*'datos de entrada'!$F$23","v":0},{"$f":"G38*'datos de entrada'!$F$23","v":0},{"$f":"H38*'datos de entrada'!$F$23","v":0},{"$f":"I38*'datos de entrada'!$F$23","v":0},{"$f":"J38*'datos de entrada'!$F$23","v":0},0,{"$f":"$C$59*'datos de entrada'!$F$23*(1-($F$80+$E$80+$D$80))+$K$243","v":0},{"$f":"+'datos de entrada'!$F23*(D$59+($F$80+$E$80+$D$80)*(C$59-D$59))","v":0},{"$f":"+'datos de entrada'!$F23*(E$59+($F$80+$E$80+$D$80)*(D$59-E$59))","v":0},{"$f":"+'datos de entrada'!$F23*(F$59+($F$80+$E$80+$D$80)*(E$59-F$59))","v":0}]
[" 120 DIAS:",{"$nulls":4},{"$f":"B38*'datos de entrada'!$G$23","v":0},{"$f":"C38*'datos de entrada'!$G$23","v":0},{"$f":"D38*'datos de entrada'!$G$23","v":0},{"$f":"E38*'datos de entrada'!$G$23","v":0},{"$f":"F38*'datos de entrada'!$G$23","v":0},{"$f":"G38*'datos de entrada'!$G$23","v":0},{"$f":"H38*'datos de entrada'!$G$23","v":0},{"$f":"I38*'datos de entrada'!$G$23","v":0},0,{"$f":"$C$59*'datos de entrada'!$G$23*(1-($D$80+$E$80+$F$80+$C$80))+$K$244","v":0},{"$f":"+'datos de entrada'!$G23*(D$59+($F$80+$E$80+$D$80+$C$80)*(C$59-D$59))","v":0},{"$f":"+'datos de entrada'!$G23*(E$59+($F$80+$E$80+$D$80+$C$80)*(D$59-E$59))","v":0},{"$f":"+'datos de entrada'!$G23*(F$59+($F$80+$E$80+$D$80+$C$80)*(E$59-F$59))","v":0}]
[" 150 DIAS:",{"$nulls":5},{"$f":"B38*'datos de entrada'!$H$23","v":0},{"$f":"C38*'datos de entrada'!$H$23","v":0},{"$f":"D38*'datos de entrada'!$H$23","v":0},{"$f":"E38*'datos de entrada'!$H$23","v":0},{"$f":"F38*'datos de entrada'!$H$23","v":0},{"$f":"G38*'datos de entrada'!$H$23","v":0},{"$f":"H38*'datos de entrada'!$H$23","v":0},0,{"$f":"$C$59*'datos de entrada'!$H$23*(1-($B$80+$C$80+$D$80+$E$80+$F$80))+$K$245","v":0},{"$f":"+'datos de entrada'!$H23*(D$59+($F$80+$E$80+$D$80+$C$80+$B$80)*(C$59-D$59))","v":0},{"$f":"+'datos de entrada'!$H23*(E$59+($F$80+$E$80+$D$80+$C$80+$B$80)*(D$59-E$59))","v":0},{"$f":"+'datos de entrada'!$H23*(F$59+($F$80+$E$80+$D$80+$C$80+$B$80)*(E$59-F$59))","v":0}]
[]
[{"$f":"+A20","v":0}]
["  CONTADO:",{"$f":"B$39*'datos de entrada'!$C$24","v":0},{"$f":"C$39*'datos de entrada'!$C$24","v":0},{"$f":"D$39*'datos de entrada'!$C$24","v":0},{"$f":"E$39*'datos de entrada'!$C$24","v":0},{"$f":"F$39*'datos de entrada'!$C$24","v":0},{"$f":"G$39*'datos de entrada'!$C$24","v":0},{"$f":"H$39*'datos de entrada'!$C$24","v":0},{"$f":"I$39*'datos de entrada'!$C$24","v":0},{"$f":"J$39*'datos de entrada'!$C$24","v":0},{"$f":"K$39*'datos de entrada'!$C$24","v":0},{"$f":"L$39*'datos de entrada'!$C$24","v":0},{"$f":"M$39*'datos de entrada'!$C$24","v":0},{"$f":"SUM(B172:M172)","v":0},{"$f":"C$60*'datos de entrada'!$C$24","v":0},{"$f":"D$60*'datos de entrada'!$C$24","v":0},{"$f":"E$60*'datos de entrada'!$C$24","v":0},{"$f":"F$60*'datos de entrada'!$C$24","v":0}]
["  30 DIAS:",null,{"$f":"B39*'datos de entrada'!$D$24","v":0},{"$f":"C39*'datos de entrada'!$D$24","v":0},{"$f":"D39*'datos de entrada'!$D$24","v":0},{"$f":"E39*'datos de entrada'!$D$24","v":0},{"$f":"F39*'datos de entrada'!$D$24","v":0},{"$f":"G39*'datos de entrada'!$D$24","v":0},{"$f":"H39*'datos de entrada'!$D$24","v":0},{"$f":"I39*'datos de entrada'!$D$24","v":0},{"$f":"J39*'datos de entrada'!$D$24","v":0},{"$f":"K39*'datos de entrada'!$D$24","v":0},{"$f":"L39*'datos de entrada'!$D$24","v":0},0,{"$f":"$C$60*'datos de entrada'!$D$24*(1-$F$81)+$L$241","v":0},{"$f":"+'datos de entrada'!$D24*(D$60+($F$81)*(C$60-D$60))","v":0},{"$f":"+'datos de entrada'!$D24*(E$60+($F$81)*(D$60-E$60))","v":0},{"$f":"+'datos de entrada'!$D24*(F$60+($F$81)*(E$60-F$60))","v":0}]
[" 60 DIAS:",null,null,{"$f":"B39*'datos de entrada'!$E$24","v":0},{"$f":"C39*'datos de entrada'!$E$24","v":0},{"$f":"D39*'datos de entrada'!$E$24","v":0},{"$f":"E39*'datos de entrada'!$E$24","v":0},{"$f":"F39*'datos de entrada'!$E$24","v":0},{"$f":"G39*'datos de entrada'!$E$24","v":0},{"$f":"H39*'datos de entrada'!$E$24","v":0},{"$f":"I39*'datos de entrada'!$E$24","v":0},{"$f":"J39*'datos de entrada'!$E$24","v":0},{"$f":"K39*'datos de entrada'!$E$24","v":0},0,{"$f":"$C$60*'datos de entrada'!$E$24*(1-($F$81+$E$81))+$L$242","v":0},{"$f":"+'datos de entrada'!$E24*(D$60+($F$81+$E$81)*(C$60-D$60))","v":0},{"$f":"+'datos de entrada'!$E24*(E$60+($F$81+$E$81)*(D$60-E$60))","v":0},{"$f":"+'datos de entrada'!$E24*(F$60+($F$81+$E$81)*(E$60-F$60))","v":0}]
[" 90 DIAS:",{"$nulls":3},{"$f":"B39*'datos de entrada'!$F$24","v":0},{"$f":"C39*'datos de entrada'!$F$24","v":0},{"$f":"D39*'datos de entrada'!$F$24","v":0},{"$f":"E39*'datos de entrada'!$F$24","v":0},{"$f":"F39*'datos de entrada'!$F$24","v":0},{"$f":"G39*'datos de entrada'!$F$24","v":0},{"$f":"H39*'datos de entrada'!$F$24","v":0},{"$f":"I39*'datos de entrada'!$F$24","v":0},{"$f":"J39*'datos de entrada'!$F$24","v":0},0,{"$f":"$C$60*'datos de entrada'!$F$24*(1-($F$81+$E$81+$D$81))+$L$243","v":0},{"$f":"+'datos de entrada'!$F24*(D$60+($F$81+$E$81+$D$81)*(C$60-D$60))","v":0},{"$f":"+'datos de entrada'!$F24*(E$60+($F$81+$E$81+$D$81)*(D$60-E$60))","v":0},{"$f":"+'datos de entrada'!$F24*(F$60+($F$81+$E$81+$D$81)*(E$60-F$60))","v":0}]
[" 120 DIAS:",{"$nulls":4},{"$f":"B39*'datos de entrada'!$G$24","v":0},{"$f":"C39*'datos de entrada'!$G$24","v":0},{"$f":"D39*'datos de entrada'!$G$24","v":0},{"$f":"E39*'datos de entrada'!$G$24","v":0},{"$f":"F39*'datos de entrada'!$G$24","v":0},{"$f":"G39*'datos de entrada'!$G$24","v":0},{"$f":"H39*'datos de entrada'!$G$24","v":0},{"$f":"I39*'datos de entrada'!$G$24","v":0},0,{"$f":"$C$60*'datos de entrada'!$G$24*(1-($D$81+$E$81+$F$81+$C$81))+$L$244","v":0},{"$f":"+'datos de entrada'!$G24*(D$60+($F$81+$E$81+$D$81+$C$81)*(C$60-D$60))","v":0},{"$f":"+'datos de entrada'!$G24*(E$60+($F$81+$E$81+$D$81+$C$81)*(D$60-E$60))","v":0},{"$f":"+'datos de entrada'!$G24*(F$60+($F$81+$E$81+$D$81+$C$81)*(E$60-F$60))","v":0}]
[" 150 DIAS:",{"$nulls":5},{"$f":"B39*'datos de entrada'!$H$24","v":0},{"$f":"C39*'datos de entrada'!$H$24","v":0},{"$f":"D39*'datos de entrada'!$H$24","v":0},{"$f":"E39*'datos de entrada'!$H$24","v":0},{"$f":"F39*'datos de entrada'!$H$24","v":0},{"$f":"G39*'datos de entrada'!$H$24","v":0},{"$f":"H39*'datos de entrada'!$H$24","v":0},0,{"$f":"$C$60*'datos de entrada'!$H$24*(1-($B$81+$C$81+$D$81+$E$81+$F$81))+$L$245","v":0},{"$f":"+'datos de entrada'!$H24*(D$60+($F$81+$E$81+$D$81+$C$81+$B$81)*(C$60-D$60))","v":0},{"$f":"+'datos de entrada'!$H24*(E$60+($F$81+$E$81+$D$81+$C$81+$B$81)*(D$60-E$60))","v":0},{"$f":"+'datos de entrada'!$H24*(F$60+($F$81+$E$81+$D$81+$C$81+$B$81)*(E$60-F$60))","v":0}]
[]
[{"$f":"+A21","v":0}]
["  CONTADO:",{"$f":"B$40*'datos de entrada'!$C$25","v":0},{"$f":"C$40*'datos de entrada'!$C$25","v":0},{"$f":"D$40*'datos de entrada'!$C$25","v":0},{"$f":"E$40*'datos de entrada'!$C$25","v":0},{"$f":"F$40*'datos de entrada'!$C$25","v":0},{"$f":"G$40*'datos de entrada'!$C$25","v":0},{"$f":"H$40*'datos de entrada'!$C$25","v":0},{"$f":"I$40*'datos de entrada'!$C$25","v":0},{"$f":"J$40*'datos de entrada'!$C$25","v":0},{"$f":"K$40*'datos de entrada'!$C$25","v":0},{"$f":"L$40*'datos de entrada'!$C$25","v":0},{"$f":"M$40*'datos de entrada'!$C$25","v":0},{"$f":"SUM(B180:M180)","v":0},{"$f":"C$61*'datos de entrada'!$C$25","v":0},{"$f":"D$61*'datos de entrada'!$C$25","v":0},{"$f":"E$61*'datos de entrada'!$C$25","v":0},{"$f":"F$61*'datos de entrada'!$C$25","v":0}]
["  30 DIAS:",null,{"$f":"B40*'datos de entrada'!$D$25","v":0},{"$f":"C40*'datos de entrada'!$D$25","v":0},{"$f":"D40*'datos de entrada'!$D$25","v":0},{"$f":"E40*'datos de entrada'!$D$25","v":0},{"$f":"F40*'datos de entrada'!$D$25","v":0},{"$f":"G40*'datos de entrada'!$D$25","v":0},{"$f":"H40*'datos de entrada'!$D$25","v":0},{"$f":"I40*'datos de entrada'!$D$25","v":0},{"$f":"J40*'datos de entrada'!$D$25","v":0},{"$f":"K40*'datos de entrada'!$D$25","v":0},{"$f":"L40*'datos de entrada'!$D$25","v":0},0,{"$f":"$C$61*'datos de entrada'!$D$25*(1-$F$82)+$M$241","v":0},{"$f":"+'datos de entrada'!$D25*(D$61+($F$82)*(C$61-D$61))","v":0},{"$f":"+'datos de entrada'!$D25*(E$61+($F$82)*(D$61-E$61))","v":0},{"$f":"+'datos de entrada'!$D25*(F$61+($F$82)*(E$61-F$61))","v":0}]
[" 60 DIAS:",null,null,{"$f":"B40*'datos de entrada'!$E$25","v":0},{"$f":"C40*'datos de entrada'!$E$25","v":0},{"$f":"D40*'datos de entrada'!$E$25","v":0},{"$f":"E40*'datos de entrada'!$E$25","v":0},{"$f":"F40*'datos de entrada'!$E$25","v":0},{"$f":"G40*'datos de entrada'!$E$25","v":0},{"$f":"H40*'datos de entrada'!$E$25","v":0},{"$f":"I40*'datos de entrada'!$E$25","v":0},{"$f":"J40*'datos de entrada'!$E$25","v":0},{"$f":"K40*'datos de entrada'!$E$25","v":0},0,{"$f":"$C$61*'datos de entrada'!$E$25*(1-($F$82+$E$82))+$M$242","v":0},{"$f":"+'datos de entrada'!$E25*(D$61+($F$82+$E$82)*(C$61-D$61))","v":0},{"$f":"+'datos de entrada'!$E25*(E$61+($F$82+$E$82)*(D$61-E$61))","v":0},{"$f":"+'datos de entrada'!$E25*(F$61+($F$82+$E$82)*(E$61-F$61))","v":0}]
[" 90 DIAS:",{"$nulls":3},{"$f":"B40*'datos de entrada'!$F$25","v":0},{"$f":"C40*'datos de entrada'!$F$25","v":0},{"$f":"D40*'datos de entrada'!$F$25","v":0},{"$f":"E40*'datos de entrada'!$F$25","v":0},{"$f":"F40*'datos de entrada'!$F$25","v":0},{"$f":"G40*'datos de entrada'!$F$25","v":0},{"$f":"H40*'datos de entrada'!$F$25","v":0},{"$f":"I40*'datos de entrada'!$F$25","v":0},{"$f":"J40*'datos de entrada'!$F$25","v":0},0,{"$f":"$C$61*'datos de entrada'!$F$25*(1-($F$82+$E$82+$D$82))+$M$243","v":0},{"$f":"+'datos de entrada'!$F25*(D$61+($F$82+$E$82+$D$82)*(C$61-D$61))","v":0},{"$f":"+'datos de entrada'!$F25*(E$61+($F$82+$E$82+$D$82)*(D$61-E$61))","v":0},{"$f":"+'datos de entrada'!$F25*(F$61+($F$82+$E$82+$D$82)*(E$61-F$61))","v":0}]
[" 120 DIAS:",{"$nulls":4},{"$f":"B40*'datos de entrada'!$G$25","v":0},{"$f":"C40*'datos de entrada'!$G$25","v":0},{"$f":"D40*'datos de entrada'!$G$25","v":0},{"$f":"E40*'datos de entrada'!$G$25","v":0},{"$f":"F40*'datos de entrada'!$G$25","v":0},{"$f":"G40*'datos de entrada'!$G$25","v":0},{"$f":"H40*'datos de entrada'!$G$25","v":0},{"$f":"I40*'datos de entrada'!$G$25","v":0},0,{"$f":"$C$61*'datos de entrada'!$G$25*(1-($D$82+$E$82+$F$82+$C$82))+$M$244","v":0},{"$f":"+'datos de entrada'!$G25*(D$61+($F$82+$E$82+$D$82+$C$82)*(C$61-D$61))","v":0},{"$f":"+'datos de entrada'!$G25*(E$61+($F$82+$E$82+$D$82+$C$82)*(D$61-E$61))","v":0},{"$f":"+'datos de entrada'!$G25*(F$61+($F$82+$E$82+$D$82+$C$82)*(E$61-F$61))","v":0}]
[" 150 DIAS:",{"$nulls":5},{"$f":"B40*'datos de entrada'!$H$25","v":0},{"$f":"C40*'datos de entrada'!$H$25","v":0},{"$f":"D40*'datos de entrada'!$H$25","v":0},{"$f":"E40*'datos de entrada'!$H$25","v":0},{"$f":"F40*'datos de entrada'!$H$25","v":0},{"$f":"G40*'datos de entrada'!$H$25","v":0},{"$f":"H40*'datos de entrada'!$H$25","v":0},0,{"$f":"$C$61*'datos de entrada'!$H$25*(1-($B$82+$C$82+$D$82+$E$82+$F$82))+$M$245","v":0},{"$f":"+'datos de entrada'!$H25*(D$61+($F$82+$E$82+$D$82+$C$82+$B$82)*(C$61-D$61))","v":0},{"$f":"+'datos de entrada'!$H25*(E$61+($F$82+$E$82+$D$82+$C$82+$B$82)*(D$61-E$61))","v":0},{"$f":"+'datos de entrada'!$H25*(F$61+($F$82+$E$82+$D$82+$C$82+$B$82)*(E$61-F$61))","v":0}]
["TOTAL",{"$f":"B92+B100+B108+B116+B124+B132+B140+B180+B148+B156+B164+B172","v":0},0,0,0,0,0,0,0,0,0,0,0,0,0,0,0,0]
[null,0,0,0,0,0,0,0,0,0,0,0,0,0,0,0,0,0]
[null,0,0,0,0,0,0,0,0,0,0,0,0,0,0,0,0,0]
[null,0,0,0,0,0,0,0,0,0,0,0,0,0,0,0,0,0]
[null,0,0,0,0,0,0,0,0,0,0,0,0,0,0,0,0,0]
[null,0,0,0,0,0,0,0,0,0,0,0,0,0,0,0,0,0]
["TOTAL",{"$f":"SUM(B186:B191)","v":0},0,0,0,0,0,0,0,0,0,0,0,0,0,0,0,0]
["=","=","=","=","=","=","=","=","=","=","=","=","=","=","=","=","=","="]
[]
[]
["INGRESOS NETOS EN PESOS POR MES Y ANO  POR PRODUCTO"]
["=","=","=","=","=","=","=","=","=","=","=","=","=","=","=","=","=","="]
[null,"MES 1","MES 2","MES 3","MES 4","MES 5","MES 6","MES 7","MES 8","MES 9","MES 10 ","MES 11","MES 12","ANO 1","ANO 2","ANO 3","ANO 4","ANO 5"]
["-","-","-","-","-","-","-","-","-","-","-","-","-","-","-","-","-","-"]
[{"$f":"A10","v":0},{"$f":"SUM(B92:B97)","v":0},0,0,0,0,0,0,0,0,0,0,0,0,0,0,0,0]
[0,{"$f":"SUM(B100:B105)","v":0},0,0,0,0,0,0,0,0,0,0,0,0,0,0,0,0]
[0,{"$f":"SUM(B108:B113)","v":0},0,0,0,0,0,0,0,0,0,0,0,0,0,0,0,0]
[0,{"$f":"SUM(B116:B121)","v":0},0,0,0,0,0,0,0,0,0,0,0,0,0,0,0,0]
[0,{"$f":"SUM(B124:B129)","v":0},0,0,0,0,0,0,0,0,0,0,0,0,0,0,0,0]
[0,{"$f":"SUM(B132:B137)","v":0},0,0,0,0,0,0,0,0,0,0,0,0,0,0,0,0]
[0,{"$f":"SUM(B140:B145)","v":0},{"$f":"SUM(C140:C145)","v":0},0,0,0,0,0,0,0,0,0,0,{"$f":"SUM(N140:N145)","v":0},{"$f":"SUM(O140:O145)","v":0},{"$f":"SUM(P140:P145)","v":0},{"$f":"SUM(Q140:Q145)","v":0},{"$f":"SUM(R140:R145)","v":0}]
[0,{"$f":"SUM(B148:B153)","v":0},{"$f":"SUM(C148:C153)","v":0},0,0,0,0,0,0,0,0,0,0,{"$f":"SUM(N148:N153)","v":0},{"$f":"SUM(O148:O153)","v":0},{"$f":"SUM(P148:P153)","v":0},{"$f":"SUM(Q148:Q153)","v":0},{"$f":"SUM(R148:R153)","v":0}]
[0,{"$f":"SUM(B156:B161)","v":0},{"$f":"SUM(C156:C161)","v":0},0,0,0,0,0,0,0,0,0,0,{"$f":"SUM(N156:N161)","v":0},{"$f":"SUM(O156:O161)","v":0},{"$f":"SUM(P156:P161)","v":0},{"$f":"SUM(Q156:Q161)","v":0},{"$f":"SUM(R156:R161)","v":0}]
[0,{"$f":"SUM(B164:B169)","v":0},{"$f":"SUM(C164:C169)","v":0},0,0,0,0,0,0,0,0,0,0,{"$f":"SUM(N164:N169)","v":0},{"$f":"SUM(O164:O169)","v":0},{"$f":"SUM(P164:P169)","v":0},{"$f":"SUM(Q164:Q169)","v":0},{"$f":"SUM(R164:R169)","v":0}]
[0,{"$f":"SUM(B172:B177)","v":0},{"$f":"SUM(C172:C177)","v":0},0,0,0,0,0,0,0,0,0,0,{"$f":"SUM(N172:N177)","v":0},{"$f":"SUM(O172:O177)","v":0},{"$f":"SUM(P172:P177)","v":0},{"$f":"SUM(Q172:Q177)","v":0},{"$f":"SUM(R172:R177)","v":0}]
[0,{"$f":"SUM(B180:B185)","v":0},{"$f":"SUM(C180:C185)","v":0},0,0,0,0,0,0,0,0,0,0,{"$f":"SUM(N180:N185)","v":0},{"$f":"SUM(O180:O185)","v":0},{"$f":"SUM(P180:P185)","v":0},{"$f":"SUM(Q180:Q185)","v":0},{"$f":"SUM(R180:R185)","v":0}]
["-","-","-","-","-","-","-","-","-","-","-","-","-","-","-","-","-","-"]
["TOTAL",{"$f":"SUM(B200:B211)","v":0},0,0,0,0,0,0,0,0,0,0,0,0,0,0,0,0]
["=","=","=","=","=","=","=","=","=","=","=","=","=","=","=","=","=","="]
[]
["INGRESOS NETOS EN PESOS"]
["=","=","=","=","=","=","=","=","=","=","=","=","=","=","=","=","=","="]
["PRODUCTOS","MES 1","MES 2","MES 3","MES 4","MES 5","MES 6","MES 7","MES 8","MES 9","MES 10 ","MES 11","MES 12","ANO 1","ANO 2","ANO 3","ANO 4","ANO 5"]
["-","-","-","-","-","-","-","-","-","-","-","-","-","-","-","-","-","-"]
[{"$f":"A10","v":0},{"$f":"B29*'datos de entrada'!C14","v":0},{"$f":"C29*'datos de entrada'!C14+B29*'datos de entrada'!D14","v":0},{"$f":"D29*'datos de entrada'!C14+C29*'datos de entrada'!D14+B29*'datos de entrada'!E14","v":0},{"$f":"E29*'datos de entrada'!C14+D29*'datos de entrada'!D14+C29*'datos de entrada'!E14+B29*'datos de entrada'!F14","v":0},{"$f":"F29*'datos de entrada'!C14+E29*'datos de entrada'!D14+D29*'datos de entrada'!E14+C29*'datos de entrada'!F14+B29*'datos de entrada'!G14","v":0},{"$f":"G29*'datos de entrada'!C14+F29*'datos de entrada'!D14+E29*'datos de entrada'!E14+D29*'datos de entrada'!F14+C29*'datos de entrada'!G14+B29*'datos de entrada'!H14","v":0},{"$f":"H29*'datos de entrada'!C14+G29*'datos de entrada'!D14+F29*'datos de entrada'!E14+E29*'datos de entrada'!F14+D29*'datos de entrada'!G14+D29*'datos de entrada'!H14","v":0},{"$f":"I29*'datos de entrada'!C14+H29*'datos de entrada'!D14+G29*'datos de entrada'!E14+F29*'datos de entrada'!F14+E29*'datos de entrada'!G14+D29*'datos de entrada'!H14","v":0},{"$f":"J29*'datos de entrada'!C14+I29*'datos de entrada'!D14+H29*'datos de entrada'!E14+G29*'datos de entrada'!F14+F29*'datos de entrada'!G14+E29*'datos de entrada'!H14","v":0},{"$f":"K29*'datos de entrada'!C14+J29*'datos de entrada'!D14+I29*'datos de entrada'!E14+H29*'datos de entrada'!F14+G29*'datos de entrada'!G14+F29*'datos de entrada'!H14","v":0},{"$f":"L29*'datos de entrada'!C14+K29*'datos de entrada'!D14+J29*'datos de entrada'!E14+I29*'datos de entrada'!F14+H29*'datos de entrada'!G14+G29*'datos de entrada'!H14","v":0},{"$f":"M29*'datos de entrada'!C14+L29*'datos de entrada'!D14+K29*'datos de entrada'!E14+J29*'datos de entrada'!F14+I29*'datos de entrada'!G14+H29*'datos de entrada'!H14","v":0},{"$f":"SUM(B220:M220)","v":0},{"$f":"O200","v":0},0,0,0]
[0,{"$f":"B30*'datos de entrada'!C15","v":0},{"$f":"C30*'datos de entrada'!C15+B30*'datos de entrada'!D15","v":0},{"$f":"D30*'datos de entrada'!C15+C30*'datos de entrada'!D15+B30*'datos de entrada'!E15","v":0},{"$f":"E30*'datos de entrada'!C15+D30*'datos de entrada'!D15+C30*'datos de entrada'!E15+B30*'datos de entrada'!F15","v":0},{"$f":"F30*'datos de entrada'!C15+E30*'datos de entrada'!D15+D30*'datos de entrada'!E15+C30*'datos de entrada'!F15+B30*'datos de entrada'!G15","v":0},{"$f":"G30*'datos de entrada'!C15+F30*'datos de entrada'!D15+E30*'datos de entrada'!E15+D30*'datos de entrada'!F15+C30*'datos de entrada'!G15+B30*'datos de entrada'!H15","v":0},{"$f":"H30*'datos de entrada'!C15+G30*'datos de entrada'!D15+F30*'datos de entrada'!E15+E30*'datos de entrada'!F15+D30*'datos de entrada'!G15+D30*'datos de entrada'!H15","v":0},{"$f":"I30*'datos de entrada'!C15+H30*'datos de entrada'!D15+G30*'datos de entrada'!E15+F30*'datos de entrada'!F15+E30*'datos de entrada'!G15+D30*'datos de entrada'!H15","v":0},{"$f":"J30*'datos de entrada'!C15+I30*'datos de entrada'!D15+H30*'datos de entrada'!E15+G30*'datos de entrada'!F15+F30*'datos de entrada'!G15+E30*'datos de entrada'!H15","v":0},{"$f":"K30*'datos de entrada'!C15+J30*'datos de entrada'!D15+I30*'datos de entrada'!E15+H30*'datos de entrada'!F15+G30*'datos de entrada'!G15+F30*'datos de entrada'!H15","v":0},{"$f":"L30*'datos de entrada'!C15+K30*'datos de entrada'!D15+J30*'datos de entrada'!E15+I30*'datos de entrada'!F15+H30*'datos de entrada'!G15+G30*'datos de entrada'!H15","v":0},{"$f":"M30*'datos de entrada'!C15+L30*'datos de entrada'!D15+K30*'datos de entrada'!E15+J30*'datos de entrada'!F15+I30*'datos de entrada'!G15+H30*'datos de entrada'!H15","v":0},0,0,0,0,0]
[0,{"$f":"B31*'datos de entrada'!C16","v":0},{"$f":"C31*'datos de entrada'!C16+B31*'datos de entrada'!D16","v":0},{"$f":"D31*'datos de entrada'!C16+C31*'datos de entrada'!D16+B31*'datos de entrada'!E16","v":0},{"$f":"E31*'datos de entrada'!C16+D31*'datos de entrada'!D16+C31*'datos de entrada'!E16+B31*'datos de entrada'!F16","v":0},{"$f":"F31*'datos de entrada'!C16+E31*'datos de entrada'!D16+D31*'datos de entrada'!E16+C31*'datos de entrada'!F16+B31*'datos de entrada'!G16","v":0},{"$f":"G31*'datos de entrada'!C16+F31*'datos de entrada'!D16+E31*'datos de entrada'!E16+D31*'datos de entrada'!F16+C31*'datos de entrada'!G16+B31*'datos de entrada'!H16","v":0},{"$f":"H31*'datos de entrada'!C16+G31*'datos de entrada'!D16+F31*'datos de entrada'!E16+E31*'datos de entrada'!F16+D31*'datos de entrada'!G16+D31*'datos de entrada'!H16","v":0},{"$f":"I31*'datos de entrada'!C16+H31*'datos de entrada'!D16+G31*'datos de entrada'!E16+F31*'datos de entrada'!F16+E31*'datos de entrada'!G16+D31*'datos de entrada'!H16","v":0},{"$f":"J31*'datos de entrada'!C16+I31*'datos de entrada'!D16+H31*'datos de entrada'!E16+G31*'datos de entrada'!F16+F31*'datos de entrada'!G16+E31*'datos de entrada'!H16","v":0},{"$f":"K31*'datos de entrada'!C16+J31*'datos de entrada'!D16+I31*'datos de entrada'!E16+H31*'datos de entrada'!F16+G31*'datos de entrada'!G16+F31*'datos de entrada'!H16","v":0},{"$f":"L31*'datos de entrada'!C16+K31*'datos de entrada'!D16+J31*'datos de entrada'!E16+I31*'datos de entrada'!F16+H31*'datos de entrada'!G16+G31*'datos de entrada'!H16","v":0},{"$f":"M31*'datos de entrada'!C16+L31*'datos de entrada'!D16+K31*'datos de entrada'!E16+J31*'datos de entrada'!F16+I31*'datos de entrada'!G16+H31*'datos de entrada'!H16","v":0},0,0,0,0,0]
[0,{"$f":"B32*'datos de entrada'!C17","v":0},{"$f":"C32*'datos de entrada'!C17+B32*'datos de entrada'!D17","v":0},{"$f":"D32*'datos de entrada'!C17+C32*'datos de entrada'!D17+B32*'datos de entrada'!E17","v":0},{"$f":"E32*'datos de entrada'!C17+D32*'datos de entrada'!D17+C32*'datos de entrada'!E17+B32*'datos de entrada'!F17","v":0},{"$f":"F32*'datos de entrada'!C17+E32*'datos de entrada'!D17+D32*'datos de entrada'!E17+C32*'datos de entrada'!F17+B32*'datos de entrada'!G17","v":0},{"$f":"G32*'datos de entrada'!C17+F32*'datos de entrada'!D17+E32*'datos de entrada'!E17+D32*'datos de entrada'!F17+C32*'datos de entrada'!G17+B32*'datos de entrada'!H17","v":0},{"$f":"H32*'datos de entrada'!C17+G32*'datos de entrada'!D17+F32*'datos de entrada'!E17+E32*'datos de entrada'!F17+D32*'datos de entrada'!G17+D32*'datos de entrada'!H17","v":0},{"$f":"I32*'datos de entrada'!C17+H32*'datos de entrada'!D17+G32*'datos de entrada'!E17+F32*'datos de entrada'!F17+E32*'datos de entrada'!G17+D32*'datos de entrada'!H17","v":0},{"$f":"J32*'datos de entrada'!C17+I32*'datos de entrada'!D17+H32*'datos de entrada'!E17+G32*'datos de entrada'!F17+F32*'datos de entrada'!G17+E32*'datos de entrada'!H17","v":0},{"$f":"K32*'datos de entrada'!C17+J32*'datos de entrada'!D17+I32*'datos de entrada'!E17+H32*'datos de entrada'!F17+G32*'datos de entrada'!G17+F32*'datos de entrada'!H17","v":0},{"$f":"L32*'datos de entrada'!C17+K32*'datos de entrada'!D17+J32*'datos de entrada'!E17+I32*'datos de entrada'!F17+H32*'datos de entrada'!G17+G32*'datos de entrada'!H17","v":0},{"$f":"M32*'datos de entrada'!C17+L32*'datos de entrada'!D17+K32*'datos de entrada'!E17+J32*'datos de entrada'!F17+I32*'datos de entrada'!G17+H32*'datos de entrada'!H17","v":0},0,0,0,0,0]
[0,{"$f":"B33*'datos de entrada'!C18","v":0},{"$f":"C33*'datos de entrada'!C18+B33*'datos de entrada'!D18","v":0},{"$f":"D33*'datos de entrada'!C18+C33*'datos de entrada'!D18+B33*'datos de entrada'!E18","v":0},{"$f":"E33*'datos de entrada'!C18+D33*'datos de entrada'!D18+C33*'datos de entrada'!E18+B33*'datos de entrada'!F18","v":0},{"$f":"F33*'datos de entrada'!C18+E33*'datos de entrada'!D18+D33*'datos de entrada'!E18+C33*'datos de entrada'!F18+B33*'datos de entrada'!G18","v":0},{"$f":"G33*'datos de entrada'!C18+F33*'datos de entrada'!D18+E33*'datos de entrada'!E18+D33*'datos de entrada'!F18+C33*'datos de entrada'!G18+B33*'datos de entrada'!H18","v":0},{"$f":"H33*'datos de entrada'!C18+G33*'datos de entrada'!D18+F33*'datos de entrada'!E18+E33*'datos de entrada'!F18+D33*'datos de entrada'!G18+D33*'datos de entrada'!H18","v":0},{"$f":"I33*'datos de entrada'!C18+H33*'datos de entrada'!D18+G33*'datos de entrada'!E18+F33*'datos de entrada'!F18+E33*'datos de entrada'!G18+D33*'datos de entrada'!H18","v":0},{"$f":"J33*'datos de entrada'!C18+I33*'datos de entrada'!D18+H33*'datos de entrada'!E18+G33*'datos de entrada'!F18+F33*'datos de entrada'!G18+E33*'datos de entrada'!H18","v":0},{"$f":"K33*'datos de entrada'!C18+J33*'datos de entrada'!D18+I33*'datos de entrada'!E18+H33*'datos de entrada'!F18+G33*'datos de entrada'!G18+F33*'datos de entrada'!H18","v":0},{"$f":"L33*'datos de entrada'!C18+K33*'datos de entrada'!D18+J33*'datos de entrada'!E18+I33*'datos de entrada'!F18+H33*'datos de entrada'!G18+G33*'datos de entrada'!H18","v":0},{"$f":"M33*'datos de entrada'!C18+L33*'datos de entrada'!D18+K33*'datos de entrada'!E18+J33*'datos de entrada'!F18+I33*'datos de entrada'!G18+H33*'datos de entrada'!H18","v":0},0,0,0,0,0]
[0,{"$f":"B34*'datos de entrada'!C19","v":0},{"$f":"C34*'datos de entrada'!C19+B34*'datos de entrada'!D19","v":0},{"$f":"D34*'datos de entrada'!C19+C34*'datos de entrada'!D19+B34*'datos de entrada'!E19","v":0},{"$f":"E34*'datos de entrada'!C19+D34*'datos de entrada'!D19+C34*'datos de entrada'!E19+B34*'datos de entrada'!F19","v":0},{"$f":"F34*'datos de entrada'!C19+E34*'datos de entrada'!D19+D34*'datos de entrada'!E19+C34*'datos de entrada'!F19+B34*'datos de entrada'!G19","v":0},{"$f":"G34*'datos de entrada'!C19+F34*'datos de entrada'!D19+E34*'datos de entrada'!E19+D34*'datos de entrada'!F19+C34*'datos de entrada'!G19+B34*'datos de entrada'!H19","v":0},{"$f":"H34*'datos de entrada'!C19+G34*'datos de entrada'!D19+F34*'datos de entrada'!E19+E34*'datos de entrada'!F19+D34*'datos de entrada'!G19+C34*'datos de entrada'!H19","v":0},{"$f":"I34*'datos de entrada'!C19+H34*'datos de entrada'!D19+G34*'datos de entrada'!E19+F34*'datos de entrada'!F19+E34*'datos de entrada'!G19+D34*'datos de entrada'!H19","v":0},{"$f":"J34*'datos de entrada'!C19+I34*'datos de entrada'!D19+H34*'datos de entrada'!E19+G34*'datos de entrada'!F19+F34*'datos de entrada'!G19+E34*'datos de entrada'!H19","v":0},{"$f":"K34*'datos de entrada'!C19+J34*'datos de entrada'!D19+I34*'datos de entrada'!E19+H34*'datos de entrada'!F19+G34*'datos de entrada'!G19+F34*'datos de entrada'!H19","v":0},{"$f":"L34*'datos de entrada'!C19+K34*'datos de entrada'!D19+J34*'datos de entrada'!E19+I34*'datos de entrada'!F19+H34*'datos de entrada'!G19+G34*'datos de entrada'!H19","v":0},{"$f":"M34*'datos de entrada'!C19+L34*'datos de entrada'!D19+K34*'datos de entrada'!E19+J34*'datos de entrada'!F19+I34*'datos de entrada'!G19+H34*'datos de entrada'!H19","v":0},0,0,0,0,0]
[0,{"$f":"B35*'datos de entrada'!C20","v":0},{"$f":"C35*'datos de entrada'!C20+B35*'datos de entrada'!D20","v":0},{"$f":"D35*'datos de entrada'!C20+C35*'datos de entrada'!D20+B35*'datos de entrada'!E20","v":0},{"$f":"E35*'datos de entrada'!C20+D35*'datos de entrada'!D20+C35*'datos de entrada'!E20+B35*'datos de entrada'!F20","v":0},{"$f":"F35*'datos de entrada'!C20+E35*'datos de entrada'!D20+D35*'datos de entrada'!E20+C35*'datos de entrada'!F20+B35*'datos de entrada'!G20","v":0},{"$f":"G35*'datos de entrada'!C20+F35*'datos de entrada'!D20+E35*'datos de entrada'!E20+D35*'datos de entrada'!F20+C35*'datos de entrada'!G20+B35*'datos de entrada'!H20","v":0},{"$f":"H35*'datos de entrada'!C20+G35*'datos de entrada'!D20+F35*'datos de entrada'!E20+E35*'datos de entrada'!F20+D35*'datos de entrada'!G20+C35*'datos de entrada'!H20","v":0},{"$f":"I35*'datos de entrada'!C20+H35*'datos de entrada'!D20+G35*'datos de entrada'!E20+F35*'datos de entrada'!F20+E35*'datos de entrada'!G20+D35*'datos de entrada'!H20","v":0},{"$f":"J35*'datos de entrada'!C20+I35*'datos de entrada'!D20+H35*'datos de entrada'!E20+G35*'datos de entrada'!F20+F35*'datos de entrada'!G20+E35*'datos de entrada'!H20","v":0},{"$f":"K35*'datos de entrada'!C20+J35*'datos de entrada'!D20+I35*'datos de entrada'!E20+H35*'datos de entrada'!F20+G35*'datos de entrada'!G20+F35*'datos de entrada'!H20","v":0},{"$f":"L35*'datos de entrada'!C20+K35*'datos de entrada'!D20+J35*'datos de entrada'!E20+I35*'datos de entrada'!F20+H35*'datos de entrada'!G20+G35*'datos de entrada'!H20","v":0},{"$f":"M35*'datos de entrada'!C20+L35*'datos de entrada'!D20+K35*'datos de entrada'!E20+J35*'datos de entrada'!F20+I35*'datos de entrada'!G20+H35*'datos de entrada'!H20","v":0},0]
[0,{"$f":"B36*'datos de entrada'!C21","v":0},{"$f":"C36*'datos de entrada'!C21+B36*'datos de entrada'!D21","v":0},{"$f":"D36*'datos de entrada'!C21+C36*'datos de entrada'!D21+B36*'datos de entrada'!E21","v":0},{"$f":"E36*'datos de entrada'!C21+D36*'datos de entrada'!D21+C36*'datos de entrada'!E21+B36*'datos de entrada'!F21","v":0},{"$f":"F36*'datos de entrada'!C21+E36*'datos de entrada'!D21+D36*'datos de entrada'!E21+C36*'datos de entrada'!F21+B36*'datos de entrada'!G21","v":0},{"$f":"G36*'datos de entrada'!C21+F36*'datos de entrada'!D21+E36*'datos de entrada'!E21+D36*'datos de entrada'!F21+C36*'datos de entrada'!G21+B36*'datos de entrada'!H21","v":0},{"$f":"H36*'datos de entrada'!C21+G36*'datos de entrada'!D21+F36*'datos de entrada'!E21+E36*'datos de entrada'!F21+D36*'datos de entrada'!G21+C36*'datos de entrada'!H21","v":0},{"$f":"I36*'datos de entrada'!C21+H36*'datos de entrada'!D21+G36*'datos de entrada'!E21+F36*'datos de entrada'!F21+E36*'datos de entrada'!G21+D36*'datos de entrada'!H21","v":0},{"$f":"J36*'datos de entrada'!C21+I36*'datos de entrada'!D21+H36*'datos de entrada'!E21+G36*'datos de entrada'!F21+F36*'datos de entrada'!G21+E36*'datos de entrada'!H21","v":0},{"$f":"K36*'datos de entrada'!C21+J36*'datos de entrada'!D21+I36*'datos de entrada'!E21+H36*'datos de entrada'!F21+G36*'datos de entrada'!G21+F36*'datos de entrada'!H21","v":0},{"$f":"L36*'datos de entrada'!C21+K36*'datos de entrada'!D21+J36*'datos de entrada'!E21+I36*'datos de entrada'!F21+H36*'datos de entrada'!G21+G36*'datos de entrada'!H21","v":0},{"$f":"M36*'datos de entrada'!C21+L36*'datos de entrada'!D21+K36*'datos de entrada'!E21+J36*'datos de entrada'!F21+I36*'datos de entrada'!G21+H36*'datos de entrada'!H21","v":0},0]
[0,{"$f":"B37*'datos de entrada'!C22","v":0},{"$f":"C37*'datos de entrada'!C22+B37*'datos de entrada'!D22","v":0},{"$f":"D37*'datos de entrada'!C22+C37*'datos de entrada'!D22+B37*'datos de entrada'!E22","v":0},{"$f":"E37*'datos de entrada'!C22+D37*'datos de entrada'!D22+C37*'datos de entrada'!E22+B37*'datos de entrada'!F22","v":0},{"$f":"F37*'datos de entrada'!C22+E37*'datos de entrada'!D22+D37*'datos de entrada'!E22+C37*'datos de entrada'!F22+B37*'datos de entrada'!G22","v":0},{"$f":"G37*'datos de entrada'!C22+F37*'datos de entrada'!D22+E37*'datos de entrada'!E22+D37*'datos de entrada'!F22+C37*'datos de entrada'!G22+B37*'datos de entrada'!H22","v":0},{"$f":"H37*'datos de entrada'!C22+G37*'datos de entrada'!D22+F37*'datos de entrada'!E22+E37*'datos de entrada'!F22+D37*'datos de entrada'!G22+C37*'datos de entrada'!H22","v":0},{"$f":"I37*'datos de entrada'!C22+H37*'datos de entrada'!D22+G37*'datos de entrada'!E22+F37*'datos de entrada'!F22+E37*'datos de entrada'!G22+D37*'datos de entrada'!H22","v":0},{"$f":"J37*'datos de entrada'!C22+I37*'datos de entrada'!D22+H37*'datos de entrada'!E22+G37*'datos de entrada'!F22+F37*'datos de entrada'!G22+E37*'datos de entrada'!H22","v":0},{"$f":"K37*'datos de entrada'!C22+J37*'datos de entrada'!D22+I37*'datos de entrada'!E22+H37*'datos de entrada'!F22+G37*'datos de entrada'!G22+F37*'datos de entrada'!H22","v":0},{"$f":"L37*'datos de entrada'!C22+K37*'datos de entrada'!D22+J37*'datos de entrada'!E22+I37*'datos de entrada'!F22+H37*'datos de entrada'!G22+G37*'datos de entrada'!H22","v":0},{"$f":"M37*'datos de entrada'!C22+L37*'datos de entrada'!D22+K37*'datos de entrada'!E22+J37*'datos de entrada'!F22+I37*'datos de entrada'!G22+H37*'datos de entrada'!H22","v":0},0]
[0,{"$f":"B38*'datos de entrada'!C23","v":0},{"$f":"C38*'datos de entrada'!C23+B38*'datos de entrada'!D23","v":0},{"$f":"D38*'datos de entrada'!C23+C38*'datos de entrada'!D23+B38*'datos de entrada'!E23","v":0},{"$f":"E38*'datos de entrada'!C23+D38*'datos de entrada'!D23+C38*'datos de entrada'!E23+B38*'datos de entrada'!F23","v":0},{"$f":"F38*'datos de entrada'!C23+E38*'datos de entrada'!D23+D38*'datos de entrada'!E23+C38*'datos de entrada'!F23+B38*'datos de entrada'!G23","v":0},{"$f":"G38*'datos de entrada'!C23+F38*'datos de entrada'!D23+E38*'datos de entrada'!E23+D38*'datos de entrada'!F23+C38*'datos de entrada'!G23+B38*'datos de entrada'!H23","v":0},{"$f":"H38*'datos de entrada'!C23+G38*'datos de entrada'!D23+F38*'datos de entrada'!E23+E38*'datos de entrada'!F23+D38*'datos de entrada'!G23+C38*'datos de entrada'!H23","v":0},{"$f":"I38*'datos de entrada'!C23+H38*'datos de entrada'!D23+G38*'datos de entrada'!E23+F38*'datos de entrada'!F23+E38*'datos de entrada'!G23+D38*'datos de entrada'!H23","v":0},{"$f":"J38*'datos de entrada'!C23+I38*'datos de entrada'!D23+H38*'datos de entrada'!E23+G38*'datos de entrada'!F23+F38*'datos de entrada'!G23+E38*'datos de entrada'!H23","v":0},{"$f":"K38*'datos de entrada'!C23+J38*'datos de entrada'!D23+I38*'datos de entrada'!E23+H38*'datos de entrada'!F23+G38*'datos de entrada'!G23+F38*'datos de entrada'!H23","v":0},{"$f":"L38*'datos de entrada'!C23+K38*'datos de entrada'!D23+J38*'datos de entrada'!E23+I38*'datos de entrada'!F23+H38*'datos de entrada'!G23+G38*'datos de entrada'!H23","v":0},{"$f":"M38*'datos de entrada'!C23+L38*'datos de entrada'!D23+K38*'datos de entrada'!E23+J38*'datos de entrada'!F23+I38*'datos de entrada'!G23+H38*'datos de entrada'!H23","v":0},0]
[0,{"$f":"B39*'datos de entrada'!C24","v":0},{"$f":"C39*'datos de entrada'!C24+B39*'datos de entrada'!D24","v":0},{"$f":"D39*'datos de entrada'!C24+C39*'datos de entrada'!D24+B39*'datos de entrada'!E24","v":0},{"$f":"E39*'datos de entrada'!C24+D39*'datos de entrada'!D24+C39*'datos de entrada'!E24+B39*'datos de entrada'!F24","v":0},{"$f":"F39*'datos de entrada'!C24+E39*'datos de entrada'!D24+D39*'datos de entrada'!E24+C39*'datos de entrada'!F24+B39*'datos de entrada'!G24","v":0},{"$f":"G39*'datos de entrada'!C24+F39*'datos de entrada'!D24+E39*'datos de entrada'!E24+D39*'datos de entrada'!F24+C39*'datos de entrada'!G24+B39*'datos de entrada'!H24","v":0},{"$f":"H39*'datos de entrada'!C24+G39*'datos de entrada'!D24+F39*'datos de entrada'!E24+E39*'datos de entrada'!F24+D39*'datos de entrada'!G24+C39*'datos de entrada'!H24","v":0},{"$f":"I39*'datos de entrada'!C24+H39*'datos de entrada'!D24+G39*'datos de entrada'!E24+F39*'datos de entrada'!F24+E39*'datos de entrada'!G24+D39*'datos de entrada'!H24","v":0},{"$f":"J39*'datos de entrada'!C24+I39*'datos de entrada'!D24+H39*'datos de entrada'!E24+G39*'datos de entrada'!F24+F39*'datos de entrada'!G24+E39*'datos de entrada'!H24","v":0},{"$f":"K39*'datos de entrada'!C24+J39*'datos de entrada'!D24+I39*'datos de entrada'!E24+H39*'datos de entrada'!F24+G39*'datos de entrada'!G24+F39*'datos de entrada'!H24","v":0},{"$f":"L39*'datos de entrada'!C24+K39*'datos de entrada'!D24+J39*'datos de entrada'!E24+I39*'datos de entrada'!F24+H39*'datos de entrada'!G24+G39*'datos de entrada'!H24","v":0},{"$f":"M39*'datos de entrada'!C24+L39*'datos de entrada'!D24+K39*'datos de entrada'!E24+J39*'datos de entrada'!F24+I39*'datos de entrada'!G24+H39*'datos de entrada'!H24","v":0},0]
[0,{"$f":"B40*'datos de entrada'!C25","v":0},{"$f":"C40*'datos de entrada'!C25+B40*'datos de entrada'!D25","v":0},{"$f":"D40*'datos de entrada'!C25+C40*'datos de entrada'!D25+B40*'datos de entrada'!E25","v":0},{"$f":"E40*'datos de entrada'!C25+D40*'datos de entrada'!D25+C40*'datos de entrada'!E25+B40*'datos de entrada'!F25","v":0},{"$f":"F40*'datos de entrada'!C25+E40*'datos de entrada'!D25+D40*'datos de entrada'!E25+C40*'datos de entrada'!F25+B40*'datos de entrada'!G25","v":0},{"$f":"G40*'datos de entrada'!C25+F40*'datos de entrada'!D25+E40*'datos de entrada'!E25+D40*'datos de entrada'!F25+C40*'datos de entrada'!G25+B40*'datos de entrada'!H25","v":0},{"$f":"H40*'datos de entrada'!C25+G40*'datos de entrada'!D25+F40*'datos de entrada'!E25+E40*'datos de entrada'!F25+D40*'datos de entrada'!G25+C40*'datos de entrada'!H25","v":0},{"$f":"I40*'datos de entrada'!C25+H40*'datos de entrada'!D25+G40*'datos de entrada'!E25+F40*'datos de entrada'!F25+E40*'datos de entrada'!G25+D40*'datos de entrada'!H25","v":0},{"$f":"J40*'datos de entrada'!C25+I40*'datos de entrada'!D25+H40*'datos de entrada'!E25+G40*'datos de entrada'!F25+F40*'datos de entrada'!G25+E40*'datos de entrada'!H25","v":0},{"$f":"K40*'datos de entrada'!C25+J40*'datos de entrada'!D25+I40*'datos de entrada'!E25+H40*'datos de entrada'!F25+G40*'datos de entrada'!G25+F40*'datos de entrada'!H25","v":0},{"$f":"L40*'datos de entrada'!C25+K40*'datos de entrada'!D25+J40*'datos de entrada'!E25+I40*'datos de entrada'!F25+H40*'datos de entrada'!G25+G40*'datos de entrada'!H25","v":0},{"$f":"M40*'datos de entrada'!C25+L40*'datos de entrada'!D25+K40*'datos de entrada'!E25+J40*'datos de entrada'!F25+I40*'datos de entrada'!G25+H40*'datos de entrada'!H25","v":0},0]
["-","-","-","-","-","-","-","-","-","-","-","-","-","-","-","-","-","-"]
["TOTAL",{"$f":"SUM(B220:B232)","v":0},0,0,0,0,0,0,0,0,0,0,0,0,0,0,0,0]
["=","=","=","=","=","=","=","=","=","=","=","=","=","=","=","=","=","="]
[]
["CUENTAS POR COBRAR POR ANO POR PRODUCTO"]
["=","=","=","=","=","=","=","="]
[null,{"$f":"A10","v":0},{"$f":"A11","v":0},{"$f":"A12","v":0},{"$f":"A13","v":0},{"$f":"A14","v":0},{"$f":"A15","v":0},{"$f":"+A16","v":0},{"$f":"+A17","v":0},{"$f":"+A18","v":0},{"$f":"+A19","v":0},{"$f":"+A20","v":0},{"$f":"+A21","v":0},"TOTAL"]
["-","-","-","-","-","-","-",{"$nulls":6},"-"]
["ANO 1"]
["  30 DIAS:",{"$f":"'datos de entrada'!D14*M29","v":0},{"$f":"+'datos de entrada'!D15*M30","v":0},{"$f":"+'datos de entrada'!D16*M31","v":0},{"$f":"+'datos de entrada'!D17*M32","v":0},{"$f":"+'datos de entrada'!D18*M33","v":0},{"$f":"+'datos de entrada'!D19*M34","v":0},{"$f":"+'datos de entrada'!D20*M35","v":0},{"$f":"+'datos de entrada'!D21*M36","v":0},{"$f":"+'datos de entrada'!D22*M37","v":0},{"$f":"+'datos de entrada'!D23*M38","v":0},{"$f":"+'datos de entrada'!D24*M39","v":0},{"$f":"+'datos de entrada'!D25*M40","v":0}]
[" 60 DIAS:",{"$f":"+'datos de entrada'!E14*(M29+L29)","v":0},{"$f":"+'datos de entrada'!E15*(L30+M30)","v":0},{"$f":"+'datos de entrada'!E16*(M31+L31)","v":0},{"$f":"+'datos de entrada'!E17*(M32+L32)","v":0},{"$f":"+'datos de entrada'!E18*(M33+L33)","v":0},{"$f":"+'datos de entrada'!E19*(M34+L34)","v":0},{"$f":"+'datos de entrada'!E20*(L35+M35)","v":0},{"$f":"+'datos de entrada'!E21*(M36+L36)","v":0},{"$f":"+'datos de entrada'!E22*(M37+L37)","v":0},{"$f":"+'datos de entrada'!E23*(M38+L38)","v":0},{"$f":"+'datos de entrada'!E24*(M39+L39)","v":0},{"$f":"+'datos de entrada'!E25*(L40+M40)","v":0}]
[" 90 DIAS:",{"$f":"+'datos de entrada'!F14*(K29+L29+M29)","v":0},{"$f":"+'datos de entrada'!F15*(K30+L30+M30)","v":0},{"$f":"+'datos de entrada'!F16*(K31+L31+M31)","v":0},{"$f":"+'datos de entrada'!F17*(K32+L32+M32)","v":0},{"$f":"+'datos de entrada'!F18*(K33+L33+M33)","v":0},{"$f":"+'datos de entrada'!F19*(K34+L34+M34)","v":0},{"$f":"+'datos de entrada'!F20*(L35+M35+K35)","v":0},{"$f":"+'datos de entrada'!F21*(M36+K36+L36)","v":0},{"$f":"+'datos de entrada'!F22*(M37+L37+K37)","v":0},{"$f":"+'datos de entrada'!F23*(L38+M38+K38)","v":0},{"$f":"+'datos de entrada'!F24*(K39+M39+L39)","v":0},{"$f":"+'datos de entrada'!F25*(L40+M40+K40)","v":0}]
[" 120 DIAS:",{"$f":"+'datos de entrada'!G14*(J29+K29+L29+M29)","v":0},{"$f":"+'datos de entrada'!G15*(J30+K30+L30+M30)","v":0},{"$f":"+'datos de entrada'!G16*(J31+K31+L31+M31)","v":0},{"$f":"+'datos de entrada'!G17*(J32+K32+L32+M32)","v":0},{"$f":"+'datos de entrada'!G18*(J33+K33+L33+M33)","v":0},{"$f":"+'datos de entrada'!G19*(J34+K34+L34+M34)","v":0},{"$f":"+'datos de entrada'!G20*(K35+L35+M35+J35)","v":0},{"$f":"+'datos de entrada'!G21*(L36+M36+K36+J36)","v":0},{"$f":"+'datos de entrada'!G22*(M37+L37+K37+J37)","v":0},{"$f":"+'datos de entrada'!G23*(L38+M38+J38+K38)","v":0},{"$f":"+'datos de entrada'!G24*(M39+L39+K39+J39)","v":0},{"$f":"+'datos de entrada'!G25*(M40+J40+K40+L40)","v":0}]
[" 150 DIAS:",{"$f":"+'datos de entrada'!H14*(I29+J29+K29+L29+M29)","v":0},{"$f":"+'datos de entrada'!H15*(I30+J30+K30+L30+M30)","v":0},{"$f":"+'datos de entrada'!H16*(I31+J31+K31+L31+M31)","v":0},{"$f":"+'datos de entrada'!H17*(I32+J32+K32+L32+M32)","v":0},{"$f":"+'datos de entrada'!H18*(I33+J33+K33+L33+M33)","v":0},{"$f":"+'datos de entrada'!H19*(I34+J34+K34+L34+M34)","v":0},{"$f":"+'datos de entrada'!H20*(J35+K35+L35+M35+I35)","v":0},{"$f":"+'datos de entrada'!H21*(K36+L36+M36+J36+I36)","v":0},{"$f":"+'datos de entrada'!H22*(L37+M37+K37+J37+I37)","v":0},{"$f":"+'datos de entrada'!H23*(M38+L38+K38+J38+I38)","v":0},{"$f":"+'datos de entrada'!H24*(M39+L39+J39+K39+I39)","v":0},{"$f":"+'datos de entrada'!H25*(L40+J40+M40+I40+K40)","v":0}]
["   TOTAL",{"$f":"SUM(B241:B245)","v":0},0,0,0,0,0,0,0,0,0,0,0,{"$f":"SUM(B246:M246)","v":0}]
["ANO 2"]
["  30 DIAS:",{"$f":"$C$50*'datos de entrada'!D14*(F71)","v":0},{"$f":"$C$51*'datos de entrada'!D15*(F72)","v":0},{"$f":"$C$52*'datos de entrada'!D16*(F73)","v":0},{"$f":"$C$53*'datos de entrada'!D17*(F74)","v":0},{"$f":"$C$54*'datos de entrada'!D18*(F75)","v":0},{"$f":"$C$55*'datos de entrada'!$D$19*($F$76)","v":0},{"$f":"$C$56*'datos de entrada'!$D$20*($F$77)","v":0},{"$f":"$C$57*'datos de entrada'!$D$21*($F$78)","v":0},{"$f":"$C$58*'datos de entrada'!$D$22*($F$79)","v":0},{"$f":"$C$59*'datos de entrada'!$D$23*($F$80)","v":0},{"$f":"$C$60*'datos de entrada'!$D$24*($F$81)","v":0},{"$f":"$C$61*'datos de entrada'!$D$25*($F$82)","v":0}]
[" 60 DIAS:",{"$f":"$C$50*'datos de entrada'!E14*(F71+E71)","v":0},{"$f":"$C$51*'datos de entrada'!E15*(F72+E72)","v":0},{"$f":"$C$52*'datos de entrada'!E16*(F73+E73)","v":0},{"$f":"$C$53*'datos de entrada'!E17*(F74+E74)","v":0},{"$f":"$C$54*'datos de entrada'!E18*(F75+E75)","v":0},{"$f":"$C$55*'datos de entrada'!$E$19*($F$76+$E$76)","v":0},{"$f":"$C$56*'datos de entrada'!$E$20*($F$77+$E$77)","v":0},{"$f":"$C$57*'datos de entrada'!$E$21*($F$78+$E$78)","v":0},{"$f":"$C$58*'datos de entrada'!$E$22*($F$79+$E$79)","v":0},{"$f":"$C$59*'datos de entrada'!$E$23*($F$80+$E$80)","v":0},{"$f":"$C$60*'datos de entrada'!$E$24*($F$81+$E$81)","v":0},{"$f":"$C$61*'datos de entrada'!$E$25*($F$82+$E$82)","v":0}]
[" 90 DIAS:",{"$f":"$C$50*'datos de entrada'!F14*(F71+E71+D71)","v":0},{"$f":"$C$51*'datos de entrada'!F15*(F72+E72+D72)","v":0},{"$f":"$C$52*'datos de entrada'!F16*(F73+E73+D73)","v":0},{"$f":"$C$53*'datos de entrada'!F17*(F74+E74+D74)","v":0},{"$f":"$C$54*'datos de entrada'!F18*(F75+E75+D75)","v":0},{"$f":"$C$55*'datos de entrada'!$F$19*($F$76+$E$76+$D$76)","v":0},{"$f":"$C$56*'datos de entrada'!$F$20*($F$77+$E$77+$D$77)","v":0},{"$f":"$C$57*'datos de entrada'!$F$21*($F$78+$E$78+$D$78)","v":0},{"$f":"$C$58*'datos de entrada'!$F$22*($F$79+$E$79+$D$79)","v":0},{"$f":"$C$59*'datos de entrada'!$F$23*($F$80+$E$80+$D$80)","v":0},{"$f":"$C$60*'datos de entrada'!$F$24*($F$81+$E$81+$D$81)","v":0},{"$f":"$C$61*'datos de entrada'!$F$25*($F$82+$E$82+$D$82)","v":0}]
[" 120 DIAS:",{"$f":"$C$50*'datos de entrada'!G14*(F71+E71+D71+C71)","v":0},{"$f":"$C$51*'datos de entrada'!G15*(F72+E72+D72+C72)","v":0},{"$f":"$C$52*'datos de entrada'!G16*(F73+E73+D73+C73)","v":0},{"$f":"$C$53*'datos de entrada'!G17*(F74+E74+D74+C74)","v":0},{"$f":"$C$54*'datos de entrada'!G18*(F75+E75+D75+C75)","v":0},{"$f":"$C$55*'datos de entrada'!$G$19*($F$76+$E$76+$D$76+C76)","v":0},{"$f":"$C$56*'datos de entrada'!$G$20*($F$77+$E$77+$D$77+C77)","v":0},{"$f":"$C$57*'datos de entrada'!$G$21*($F$78+$E$78+$D$78+C78)","v":0},{"$f":"$C$58*'datos de entrada'!$G$22*($F$79+$E$79+$D$79+C79)","v":0},{"$f":"$C$59*'datos de entrada'!$G$23*($F$80+$E$80+$D$80+C80)","v":0},{"$f":"$C$60*'datos de entrada'!$G$24*($F$81+$E$81+$D$81+C81)","v":0},{"$f":"$C$61*'datos de entrada'!$G$25*($F$82+$E$82+$D$82+C82)","v":0}]
[" 150 DIAS:",{"$f":"$C$50*'datos de entrada'!H14*(B71+C71+D71+E71+F71)","v":0},{"$f":"$C$51*'datos de entrada'!H15*(B72+C72+D72+E72+F72)","v":0},{"$f":"$C$52*'datos de entrada'!H16*(F73+E73+D73+C73+B73)","v":0},{"$f":"$C$53*'datos de entrada'!H17*(F74+E74+C74+D74+B74)","v":0},{"$f":"$C$54*'datos de entrada'!H18*(F75+E75+D75+C75+B75)","v":0},{"$f":"$C$55*'datos de entrada'!$H$19*($F$76+$E$76+$D$76+$C$76+$B$76)","v":0},{"$f":"$C$56*'datos de entrada'!$H$20*($F$77+$E$77+$D$77+$C$77+$B$77)","v":0},{"$f":"$C$57*'datos de entrada'!$H$21*($F$78+$E$78+$D$78+$C$78+$B$78)","v":0},{"$f":"$C$58*'datos de entrada'!$H$22*($F$79+$E$79+$D$79+$C$79+$B$79)","v":0},{"$f":"$C$59*'datos de entrada'!$H$23*($F$80+$E$80+$D$80+$C$80+$B$80)","v":0},{"$f":"$C$60*'datos de entrada'!$H$24*($F$81+$E$81+$D$81+$C$81+$B$81)","v":0},{"$f":"$C$61*'datos de entrada'!$H$25*($F$82+$E$82+$D$82+$C$82+$B$82)","v":0}]
["  TOTAL",{"$f":"SUM(B248:B252)","v":0},0,0,0,0,0,0,0,0,0,0,0,{"$f":"SUM(B253:M253)","v":0}]
["ANO 3"]
["  30 DIAS:",{"$f":"+'datos de entrada'!D14*$F$71*$D$50","v":0},{"$f":"+'datos de entrada'!D15*$F$72*$D$51","v":0},{"$f":"+'datos de entrada'!D16*$F$73*$D$52","v":0},{"$f":"+'datos de entrada'!D17*$F$74*$D$53","v":0},{"$f":"+'datos de entrada'!D18*$F$75*$D$54","v":0},{"$f":"+'datos de entrada'!$D$19*$F$76*$D$55","v":0},{"$f":"+'datos de entrada'!$D$20*$F$77*$D$56","v":0},{"$f":"+'datos de entrada'!$D$21*$F$78*$D$57","v":0},{"$f":"+'datos de entrada'!D22*$F$79*$D$58","v":0},{"$f":"+'datos de entrada'!D23*$F$80*$D$59","v":0},{"$f":"+'datos de entrada'!D24*$F$81*$D$60","v":0},{"$f":"+'datos de entrada'!$D$25*$F$82*$D$61","v":0}]
[" 60 DIAS:",{"$f":"+'datos de entrada'!E14*($F$71+$E$71)*$D$50","v":0},{"$f":"+'datos de entrada'!E15*($F$72+$E$72)*$D$51","v":0},{"$f":"+'datos de entrada'!E16*($E$73+$F$73)*$D$52","v":0},{"$f":"+'datos de entrada'!E17*($F$74+$E$74)*$D$53","v":0},{"$f":"+'datos de entrada'!E18*($F$75+$E$75)*$D$54","v":0},{"$f":"+'datos de entrada'!$E$19*($F$76+$E$76)*$D$55","v":0},{"$f":"+'datos de entrada'!$E$20*($F$77+$E$77)*$D$56","v":0},{"$f":"+'datos de entrada'!$E$21*($F$78+$E$78)*$D$57","v":0},{"$f":"+'datos de entrada'!E22*($E$79+$F$79)*$D$58","v":0},{"$f":"+'datos de entrada'!E23*($F$80+$E$80)*$D$59","v":0},{"$f":"+'datos de entrada'!E24*($F$81+$E$81)*$D$60","v":0},{"$f":"+'datos de entrada'!$E$25*($F$82+$E$82)*$D$61","v":0}]
[" 90 DIAS:",{"$f":"+'datos de entrada'!F14*($F$71+$E$71+$D$71)*$D$50","v":0},{"$f":"+'datos de entrada'!F15*($F$72+$E$72+$D$72)*$D$51","v":0},{"$f":"+'datos de entrada'!F16*($E$73+$F$73+$D$73)*$D$52","v":0},{"$f":"+'datos de entrada'!F17*($F$74+$E$74+$D$74)*$D$53","v":0},{"$f":"+'datos de entrada'!F18*($F$75+$E$75+$D$75)*$D$54","v":0},{"$f":"+'datos de entrada'!F19*($F$76+$E$76+$D$76)*$D$55","v":0},{"$f":"+'datos de entrada'!F20*($F$77+$E$77+$D$77)*$D$56","v":0},{"$f":"+'datos de entrada'!$F$21*($F$78+$E$78+$D$78)*$D$57","v":0},{"$f":"+'datos de entrada'!F22*($E$79+$F$79+$D$79)*$D$58","v":0},{"$f":"+'datos de entrada'!F23*($F$80+$E$80+$D$80)*$D$59","v":0},{"$f":"+'datos de entrada'!F24*($F$81+$E$81+$D$81)*$D$60","v":0},{"$f":"+'datos de entrada'!F25*($F$82+$E$82+$D$82)*$D$61","v":0}]
[" 120 DIAS:",{"$f":"+'datos de entrada'!G14*($F$71+$E$71+$D$71+$C$71)*$D$50","v":0},{"$f":"+'datos de entrada'!G15*($F$72+$E$72+$D$72+$C$72)*$D$51","v":0},{"$f":"+'datos de entrada'!G16*($E$73+$F$73+$D$73+$C$73)*$D$52","v":0},{"$f":"+'datos de entrada'!G17*($F$74+$E$74+$D$74+$C$74)*$D$53","v":0},{"$f":"+'datos de entrada'!G18*($F$75+$E$75+$D$75+$C$75)*$D$54","v":0},{"$f":"+'datos de entrada'!$G$19*($F$76+$E$76+$D$76+$C$76)*$D$55","v":0},{"$f":"+'datos de entrada'!$G$20*($F$77+$E$77+$D$77+$C$77)*$D$56","v":0},{"$f":"+'datos de entrada'!$G$21*($F$78+$E$78+$D$78+$C$78)*$D$57","v":0},{"$f":"+'datos de entrada'!G22*($E$79+$F$79+$D$79+$C$79)*$D$58","v":0},{"$f":"+'datos de entrada'!G23*($F$80+$E$80+$D$80+$C$80)*$D$59","v":0},{"$f":"+'datos de entrada'!G24*($F$81+$E$81+$D$81+$C$81)*$D$60","v":0},{"$f":"+'datos de entrada'!$G$25*($F$82+$E$82+$D$82+$C$82)*$D$61","v":0}]
[" 150 DIAS:",{"$f":"+'datos de entrada'!H14*($F$71+$E$71+$D$71+$C$71+$B$71)*$D$50","v":0},{"$f":"+'datos de entrada'!H15*($F$72+$E$72+$D$72+$C$72+$B$72)*$D$51","v":0},{"$f":"+'datos de entrada'!H16*($E$73+$F$73+$D$73+$C$73+$B$73)*$D$52","v":0},{"$f":"+'datos de entrada'!H17*($F$74+$E$74+$D$74+$C$74+$B$74)*$D$53","v":0},{"$f":"+'datos de entrada'!H18*($F$75+$E$75+$D$75+$C$75+$B$75)*$D$54","v":0},{"$f":"+'datos de entrada'!$H$19*($F$76+$E$76+$D$76+$C$76+$B$76)*$D$55","v":0},{"$f":"+'datos de entrada'!$H$20*($F$77+$E$77+$D$77+$C$77+$B$77)*$D$56","v":0},{"$f":"+'datos de entrada'!$H$21*($F$78+$E$78+$D$78+$C$78+$B$78)*$D$57","v":0},{"$f":"+'datos de entrada'!H22*($E$79+$F$79+$D$79+$C$79+$B$79)*$D$58","v":0},{"$f":"+'datos de entrada'!H23*($F$80+$E$80+$D$80+$C$80+$B$80)*$D$59","v":0},{"$f":"+'datos de entrada'!H24*($F$81+$E$81+$D$81+$C$81+$B$81)*$D$60","v":0},{"$f":"+'datos de entrada'!$H$25*($F$82+$E$82+$D$82+$C$82+$B$82)*$D$61","v":0}]
["   TOTAL",{"$f":"SUM(B255:B259)","v":0},0,0,0,0,0,0,{"$f":"SUM(I255:I259)","v":0},{"$f":"SUM(J255:J259)","v":0},{"$f":"SUM(K255:K259)","v":0},{"$f":"SUM(L255:L259)","v":0},{"$f":"SUM(M255:M259)","v":0},{"$f":"SUM(B260:M260)","v":0}]
["ANO 4"]
["  30 DIAS:",{"$f":"+'datos de entrada'!D14*($F$71)*$E$50","v":0},{"$f":"+'datos de entrada'!D15*($F$72)*$E$51","v":0},{"$f":"+'datos de entrada'!D16*($F$73)*$E$52","v":0},{"$f":"+'datos de entrada'!D17*($F$74)*$E$53","v":0},{"$f":"+'datos de entrada'!D18*($F$75)*$E$54","v":0},{"$f":"+'datos de entrada'!D19*($F$76)*$E$55","v":0},{"$f":"+'datos de entrada'!$D$20*($F$77)*$E$56","v":0},{"$f":"+'datos de entrada'!$D$21*$F$78*$E$57","v":0},{"$f":"+'datos de entrada'!D22*($F$79)*$E$58","v":0},{"$f":"+'datos de entrada'!D23*($F80)*$E$59","v":0},{"$f":"+'datos de entrada'!D24*($F$81)*$E$60","v":0},{"$f":"+'datos de entrada'!D25*($F$82)*$E$61","v":0}]
[" 60 DIAS:",{"$f":"+'datos de entrada'!E14*($F$71+$E$71)*$E$50","v":0},{"$f":"+'datos de entrada'!E15*($F$72+$E$72)*$E$51","v":0},{"$f":"+'datos de entrada'!E16*($F$73+$E$73)*$E$52","v":0},{"$f":"+'datos de entrada'!E17*($F$74+$E$74)*$E$53","v":0},{"$f":"+'datos de entrada'!E18*($F$75+$E$75)*$E$54","v":0},{"$f":"+'datos de entrada'!E19*($F$76+$E$76)*$E$55","v":0},{"$f":"+'datos de entrada'!$E$20*($F$77+$E$77)*$E$56","v":0},{"$f":"+'datos de entrada'!$E$21*($F$78+$E$78)*$E$57","v":0},{"$f":"+'datos de entrada'!E22*($F$79+$E$79)*$E$58","v":0},{"$f":"+'datos de entrada'!E23*($F$80+$E$80)*$E$59","v":0},{"$f":"+'datos de entrada'!E24*($F$81+$E$81)*$E$60","v":0},{"$f":"+'datos de entrada'!E25*($F$82+$E$82)*$E$61","v":0}]
[" 90 DIAS:",{"$f":"+'datos de entrada'!F14*($F$71+$E$71+$D$71)*$E$50","v":0},{"$f":"+'datos de entrada'!F15*($F$72+$E$72+$D$72)*$E$51","v":0},{"$f":"+'datos de entrada'!F16*($F$73+$E$73+$D$73)*$E$52","v":0},{"$f":"+'datos de entrada'!F17*($F$74+$E$74+$D$74)*$E$53","v":0},{"$f":"+'datos de entrada'!F18*($F$75+$E$75+$D$75)*$E$54","v":0},{"$f":"+'datos de entrada'!F19*($F$76+$E$76+$D$76)*$E$55","v":0},{"$f":"+'datos de entrada'!$F$20*($F$77+$E$77+$D$77)*$E$56","v":0},{"$f":"+'datos de entrada'!$F$21*($F$78+$E$78+$D$78)*$E$57","v":0},{"$f":"+'datos de entrada'!F22*($F$79+$E$79+$D$79)*$E$58","v":0},{"$f":"+'datos de entrada'!F23*($F$80+$E$80+$D$80)*$E$59","v":0},{"$f":"+'datos de entrada'!F24*($F$81+$E$81+$D$81)*$E$60","v":0},{"$f":"+'datos de entrada'!F25*($F$82+$E$82+$D$82)*$E$61","v":0}]
[" 120 DIAS:",{"$f":"+'datos de entrada'!G14*($F$71+$E$71+$D$71+$C$71)*$E$50","v":0},{"$f":"+'datos de entrada'!G15*($F$72+$E$72+$D$72+$C$72)*$E$51","v":0},{"$f":"+'datos de entrada'!G16*($F$73+$E$73+$D$73+$C$73)*$E$52","v":0},{"$f":"+'datos de entrada'!G17*($F$74+$E$74+$D$74+$C$74)*$E$53","v":0},{"$f":"+'datos de entrada'!G18*($F$75+$E$75+$D$75+$C$75)*$E$54","v":0},{"$f":"+'datos de entrada'!G19*($F$76+$E$76+$D$76+$C$76)*$E$55","v":0},{"$f":"+'datos de entrada'!$G$20*($F$77+$E$77+$D$77+$C$77)*$E$56","v":0},{"$f":"+'datos de entrada'!$G$21*($F$78+$E$78+$D$78+$C$78)*$E$57","v":0},{"$f":"+'datos de entrada'!G22*($F$79+$E$79+$D$79+$C$79)*$E$58","v":0},{"$f":"+'datos de entrada'!G23*($F$80+$E$80+$D$80+$C$80)*$E$59","v":0},{"$f":"+'datos de entrada'!G24*($F$81+$E$81+$D$81+$C$81)*$E$60","v":0},{"$f":"+'datos de entrada'!G25*($F$82+$E$82+$D$82+$C$82)*$E$61","v":0}]
[" 150 DIAS:",{"$f":"+'datos de entrada'!H14*($F$71+$E$71+$D$71+$C$71+$B$71)*$E$50","v":0},{"$f":"+'datos de entrada'!H15*($F$72+$E$72+$D$72+$C$72+$B$72)*$E$51","v":0},{"$f":"+'datos de entrada'!H16*($F$73+$E$73+$D$73+$C$73+$B$73)*$E$52","v":0},{"$f":"+'datos de entrada'!H17*($F$74+$E$74+$D$74+$C$74+$B$74)*$E$53","v":0},{"$f":"+'datos de entrada'!H18*($F$75+$E$75+$D$75+$C$75+$B$75)*$E$54","v":0},{"$f":"+'datos de entrada'!H19*($F$76+$E$76+$D$76+$C$76+$B$76)*$E$55","v":0},{"$f":"+'datos de entrada'!$H$20*($F$77+$E$77+$D$77+$C$77+$B$77)*$E$56","v":0},{"$f":"+'datos de entrada'!$H$21*($F$78+$E$78+$D$78+$C$78+$B$78)*$E$57","v":0},{"$f":"+'datos de entrada'!H22*($F$79+$E$79+$D$79+$C$79+$B$79)*$E$58","v":0},{"$f":"+'datos de entrada'!H23*($F$80+$E$80+$D$80+$C$80+$B$80)*$E$59","v":0},{"$f":"+'datos de entrada'!H24*($F$81+$E$81+$D$81+$C$81+$B$81)*$E$60","v":0},{"$f":"+'datos de entrada'!H25*($F$82+$E$82+$D$82+$C$82+$B$82)*$E$61","v":0}]
["  TOTAL",{"$f":"SUM(B262:B266)","v":0},0,0,0,0,0,0,{"$f":"SUM(I262:I266)","v":0},{"$f":"SUM(J262:J266)","v":0},{"$f":"SUM(K262:K266)","v":0},{"$f":"SUM(L262:L266)","v":0},{"$f":"SUM(M262:M266)","v":0},{"$f":"SUM(B267:M267)","v":0}]
["ANO 5"]
["  30 DIAS:",{"$f":"+'datos de entrada'!D14*($F$71)*$F$50","v":0},{"$f":"+'datos de entrada'!D15*($F$72)*$F$51","v":0},{"$f":"+'datos de entrada'!D16*($F$73)*$F$52","v":0},{"$f":"+'datos de entrada'!D17*($F$74)*$F$53","v":0},{"$f":"+'datos de entrada'!D18*($F$75)*$F$54","v":0},{"$f":"+'datos de entrada'!D19*($F$76)*$F$55","v":0},{"$f":"+'datos de entrada'!$D$20*($F$77)*$F$56","v":0},{"$f":"+'datos de entrada'!D21*($F$78)*$F$57","v":0},{"$f":"+'datos de entrada'!D22*($F$79)*$F$58","v":0},{"$f":"+'datos de entrada'!D23*($F$80)*$F$59","v":0},{"$f":"+'datos de entrada'!D24*($F$81)*$F$60","v":0},{"$f":"+'datos de entrada'!D25*($F$82)*$F$61","v":0}]
[" 60 DIAS:",{"$f":"+'datos de entrada'!E14*($F$71+$E$71)*$F$50","v":0},{"$f":"+'datos de entrada'!E15*($F$72+$E$72)*$F$51","v":0},{"$f":"+'datos de entrada'!E16*($F$73+$E$73)*$F$52","v":0},{"$f":"+'datos de entrada'!E17*($F$74+$E$74)*$F$53","v":0},{"$f":"+'datos de entrada'!E18*($F$75+$E$75)*$F$54","v":0},{"$f":"+'datos de entrada'!E19*($F$76+$E$76)*$F$55","v":0},{"$f":"+'datos de entrada'!$E$20*($F$77+$E$77)*$F$56","v":0},{"$f":"+'datos de entrada'!E21*($F$78+$E$78)*$F$57","v":0},{"$f":"+'datos de entrada'!E22*($F$79+$E$79)*$F$58","v":0},{"$f":"+'datos de entrada'!E23*($F$80+$E$80)*$F$59","v":0},{"$f":"+'datos de entrada'!E24*($F$81+$E$81)*$F$60","v":0},{"$f":"+'datos de entrada'!E25*($F$82+$E$82)*$F$61","v":0}]
[" 90 DIAS:",{"$f":"+'datos de entrada'!F14*($F$71+$E$71+$D$71)*$F$50","v":0},{"$f":"+'datos de entrada'!F15*($F$72+$E$72+$D$72)*$F$51","v":0},{"$f":"+'datos de entrada'!F16*($F$73+$E$73+$D$73)*$F$52","v":0},{"$f":"+'datos de entrada'!F17*($F$74+$E$74+$D$74)*$F$53","v":0},{"$f":"+'datos de entrada'!F18*($F$75+$E$75+$D$75)*$F$54","v":0},{"$f":"+'datos de entrada'!F19*($F$76+$E$76+$D$76)*$F$55","v":0},{"$f":"+'datos de entrada'!$F$20*($F$77+$E$77+$D$77)*$F$56","v":0},{"$f":"+'datos de entrada'!F21*($F$78+$E$78+$D$78)*$F$57","v":0},{"$f":"+'datos de entrada'!F22*($F$79+$E$79+$D$79)*$F$58","v":0},{"$f":"+'datos de entrada'!F23*($F$80+$E$80+$D$80)*$F$59","v":0},{"$f":"+'datos de entrada'!F24*($F$81+$E$81+$D$81)*$F$60","v":0},{"$f":"+'datos de entrada'!F25*($F$82+$E$82+$D$82)*$F$61","v":0}]
[" 120 DIAS:",{"$f":"+'datos de entrada'!G14*($F$71+$E$71+$D$71+$C$71)*$F$50","v":0},{"$f":"+'datos de entrada'!G15*($F$72+$E$72+$D$72+$C$72)*$F$51","v":0},{"$f":"+'datos de entrada'!G16*($F$73+$E$73+$D$73+$C$73)*$F$52","v":0},{"$f":"+'datos de entrada'!G17*($F$74+$E$74+$D$74+$C$74)*$F$53","v":0},{"$f":"+'datos de entrada'!G18*($F$75+$E$75+$D$75+$C$75)*$F$54","v":0},{"$f":"+'datos de entrada'!G19*($F$76+$E$76+$D$76+$C$76)*$F$55","v":0},{"$f":"+'datos de entrada'!$G$20*($F$77+$E$77+$D$77+$C$77)*$F$56","v":0},{"$f":"+'datos de entrada'!G21*($F$78+$E$78+$D$78+$C$78)*$F$57","v":0},{"$f":"+'datos de entrada'!G22*($F$79+$E$79+$D$79+$C$79)*$F$58","v":0},{"$f":"+'datos de entrada'!G23*($F$80+$E$80+$D$80+$C$80)*$F$59","v":0},{"$f":"+'datos de entrada'!G24*($F$81+$E$81+$D$81+$C$81)*$F$60","v":0},{"$f":"+'datos de entrada'!G25*($F$82+$E$82+$D$82+$C$82)*$F$61","v":0}]
[" 150 DIAS:",{"$f":"+'datos de entrada'!H14*($F$71+$E$71+$D$71+$C$71+$B$71)*$F$50","v":0},{"$f":"+'datos de entrada'!H15*($F$72+$E$72+$D$72+$C$72+$B$72)*$F$51","v":0},{"$f":"+'datos de entrada'!H16*($F$73+$E$73+$D$73+$C$73+$B$73)*$F$52","v":0},{"$f":"+'datos de entrada'!H17*($F$74+$E$74+$D$74+$C$74+$B$74)*$F$53","v":0},{"$f":"+'datos de entrada'!H18*($F$75+$E$75+$D$75+$C$75+$B$75)*$F$54","v":0},{"$f":"+'datos de entrada'!H19*($F$76+$E$76+$D$76+$C$76+$B$76)*$F$55","v":0},{"$f":"+'datos de entrada'!$H$20*($F$77+$E$77+$D$77+$C$77+$B$77)*$F$56","v":0},{"$f":"+'datos de entrada'!H21*($F$78+$E$78+$D$78+$C$78+$B$78)*$F$57","v":0},{"$f":"+'datos de entrada'!H22*($F$79+$E$79+$D$79+$C$79+$B$79)*$F$58","v":0},{"$f":"+'datos de entrada'!H23*($F$80+$E$80+$D$80+$C$80+$B$80)*$F$59","v":0},{"$f":"+'datos de entrada'!H24*($F$81+$E$81+$D$81+$C$81+$B$81)*$F$60","v":0},{"$f":"+'datos de entrada'!H25*($F$82+$E$82+$D$82+$C$82+$B$82)*$F$61","v":0}]
["  TOTAL",{"$f":"SUM(B269:B273)","v":0},0,0,0,0,0,0,{"$f":"SUM(I269:I273)","v":0},{"$f":"SUM(J269:J273)","v":0},{"$f":"SUM(K269:K273)","v":0},{"$f":"SUM(L269:L273)","v":0},{"$f":"SUM(M269:M273)","v":0},{"$f":"SUM(B274:M274)","v":0}]
["=","=","=","=","=","=","=",{"$nulls":6},"="]
[]
["GASTOS MENSUALES DE VENTA"]
["=","=","=","=","=","=","=","=","=","=","=","=","="]
["COMISIONES:",{"$f":"+'datos de entrada'!B327","v":{"v":0,"d":"0.00%"}}]
["FLETES Y GTOS.:",{"$f":"+'datos de entrada'!B328","v":{"v":0,"d":"0.00%"}}]
["TOTAL:",{"$f":"B280+B279","v":{"v":0,"d":"0.00%"}}]
["-","-","-","-","-","-","-","-","-","-","-","-","-"]
["PRODUCTOS","MES 1","MES 2","MES 3","MES 4","MES 5","MES 6","MES 7","MES 8","MES 9","MES 10 ","MES 11","MES 12"]
["-","-","-","-","-","-","-","-","-","-","-","-","-"]
[{"$f":"A10","v":0},{"$f":"B29*$J305","v":0},{"$f":"C29*$J305","v":0},0,0,0,0,0,0,0,0,0,0]
[0,{"$f":"B30*$J306","v":0},0,0,0,0,0,0,0,0,0,0,0]
[0,{"$f":"B31*$J307","v":0},0,0,0,0,0,0,0,0,0,0,0]
[0,{"$f":"B32*$J308","v":0},0,0,0,0,0,0,0,0,0,0,0]
[0,{"$f":"B33*$J309","v":0},0,0,0,0,0,0,0,0,0,0,0]
[0,{"$f":"B34*$J310","v":0},0,0,0,0,0,0,0,0,0,0,0]
[0,{"$f":"B35*$J311","v":0},0,0,0,0,0,0,0,0,0,0,0]
[0,{"$f":"B36*$J312","v":0},0,0,0,0,0,0,0,0,0,0,0]
[0,{"$f":"B37*$J313","v":0},0,0,0,0,0,0,0,0,0,0,0]
[0,{"$f":"B38*$J314","v":0},0,0,0,0,0,0,0,0,0,0,0]
[0,{"$f":"B39*$J315","v":0},0,0,0,0,0,0,0,0,0,0,0]
[0,{"$f":"B40*$J316","v":0},0,0,0,0,0,0,0,0,0,0,0]
["-","-","-","-","-","-","-","-","-","-","-","-","-"]
["TOTAL",{"$f":"SUM(B284:B296)","v":0},0,0,0,0,0,0,0,0,0,0,0]
["=","=","=","=","=","=","=","=","=","=","=","=","="]
[]
["GASTOS ANUALES DE VENTA"]
["=","=","=","=","=","="]
["PRODUCTOS","ANO 1","ANO 2","ANO 3","ANO 4","ANO 5"]
["-","-","-","-","-","-"]
[{"$f":"A10","v":0},{"$f":"B50*$J305","v":0},0,0,0,0,null,{"$f":"+'datos de entrada'!B31","v":{"v":0,"d":"0%"}},{"$f":"+B280","v":{"v":0,"d":"0%"}},{"$f":"+H305+$I$305","v":{"v":0,"d":"0%"}}]
[0,0,0,0,0,0,null,{"$f":"+'datos de entrada'!B32","v":{"v":0,"d":"0%"}},null,{"$f":"+H306+$I$305","v":{"v":0,"d":"0%"}}]
[0,0,0,0,0,0,null,{"$f":"+'datos de entrada'!B33","v":{"v":0,"d":"0%"}},null,{"v":0,"d":"0%"}]
[0,0,0,0,0,0,null,{"$f":"+'datos de entrada'!B34","v":{"v":0,"d":"0%"}},null,{"v":0,"d":"0%"}]
[0,0,0,0,0,0,null,{"$f":"+'datos de entrada'!B35","v":{"v":0,"d":"0%"}},null,{"v":0,"d":"0%"}]
[0,0,0,0,0,0,null,{"$f":"+'datos de entrada'!B36","v":{"v":0,"d":"0%"}},null,{"v":0,"d":"0%"}]
[0,0,0,0,0,0,null,{"$f":"+'datos de entrada'!B37","v":{"v":0,"d":"0%"}},null,{"v":0,"d":"0%"}]
[0,0,0,0,0,0,null,{"$f":"+'datos de entrada'!B38","v":{"v":0,"d":"0%"}},null,{"v":0,"d":"0%"}]
[0,0,0,0,0,0,null,{"$f":"+'datos de entrada'!B39","v":{"v":0,"d":"0%"}},null,{"v":0,"d":"0%"}]
[0,0,0,0,0,0,null,{"$f":"+'datos de entrada'!B40","v":{"v":0,"d":"0%"}},null,{"v":0,"d":"0%"}]
[0,{"$f":"B60*$J315","v":0},0,0,0,0,null,{"$f":"+'datos de entrada'!B41","v":{"v":0,"d":"0%"}},null,{"v":0,"d":"0%"}]
[0,0,0,0,0,0,null,{"$f":"+'datos de entrada'!B42","v":{"v":0,"d":"0%"}},null,{"v":0,"d":"0%"}]
["-","-","-","-","-","-"]
["TOTAL",{"$f":"SUM(B305:B316)","v":0},{"$f":"SUM(C305:C316)","v":0},{"$f":"SUM(D305:D316)","v":0},{"$f":"SUM(E305:E316)","v":0},{"$f":"SUM(F305:F316)","v":0}]
["=","=","=","=","=","="]
[]
["COMPORTAMIENTO DE CARTERA"]
["=","=","=","=","=","=","="]
["PRODUCTOS","CONTADO",30,60,90,120,150]
["-","-","-","-","-","-","-"]
[{"$f":"A10","v":0},{"$f":"$N29*'datos de entrada'!C14","v":{"$error":"#DIV/0!"}},{"$f":"$N29*'datos de entrada'!D14","v":{"$error":"#DIV/0!"}},{"$f":"$N29*'datos de entrada'!E14","v":{"$error":"#DIV/0!"}},{"$f":"$N29*'datos de entrada'!F14","v":{"$error":"#DIV/0!"}},{"$f":"$N29*'datos de entrada'!G14","v":{"$error":"#DIV/0!"}},{"$f":"$N29*'datos de entrada'!H14","v":{"$error":"#DIV/0!"}}]
[0,{"$f":"$N30*'datos de entrada'!C15","v":{"$error":"#DIV/0!"}},{"$f":"$N30*'datos de entrada'!D15","v":{"$error":"#DIV/0!"}},{"$f":"$N30*'datos de entrada'!E15","v":{"$error":"#DIV/0!"}},{"$f":"$N30*'datos de entrada'!F15","v":{"$error":"#DIV/0!"}},{"$f":"$N30*'datos de entrada'!G15","v":{"$error":"#DIV/0!"}},{"$f":"$N30*'datos de entrada'!H15","v":{"$error":"#DIV/0!"}}]
[0,{"$f":"$N31*'datos de entrada'!C16","v":{"$error":"#DIV/0!"}},{"$f":"$N31*'datos de entrada'!D16","v":{"$error":"#DIV/0!"}},{"$f":"$N31*'datos de entrada'!E16","v":{"$error":"#DIV/0!"}},{"$f":"$N31*'datos de entrada'!F16","v":{"$error":"#DIV/0!"}},{"$f":"$N31*'datos de entrada'!G16","v":{"$error":"#DIV/0!"}},{"$f":"$N31*'datos de entrada'!H16","v":{"$error":"#DIV/0!"}}]
[0,{"$f":"$N32*'datos de entrada'!C17","v":{"$error":"#DIV/0!"}},{"$f":"$N32*'datos de entrada'!D17","v":{"$error":"#DIV/0!"}},{"$f":"$N32*'datos de entrada'!E17","v":{"$error":"#DIV/0!"}},{"$f":"$N32*'datos de entrada'!F17","v":{"$error":"#DIV/0!"}},{"$f":"$N32*'datos de entrada'!G17","v":{"$error":"#DIV/0!"}},{"$f":"$N32*'datos de entrada'!H17","v":{"$error":"#DIV/0!"}}]
[0,{"$f":"$N33*'datos de entrada'!C18","v":{"$error":"#DIV/0!"}},{"$f":"$N33*'datos de entrada'!D18","v":{"$error":"#DIV/0!"}},{"$f":"$N33*'datos de entrada'!E18","v":{"$error":"#DIV/0!"}},{"$f":"$N33*'datos de entrada'!F18","v":{"$error":"#DIV/0!"}},{"$f":"$N33*'datos de entrada'!G18","v":{"$error":"#DIV/0!"}},{"$f":"$N33*'datos de entrada'!H18","v":{"$error":"#DIV/0!"}}]
[0,{"$f":"$N34*'datos de entrada'!C19","v":{"$error":"#DIV/0!"}},{"$f":"$N34*'datos de entrada'!D19","v":{"$error":"#DIV/0!"}},{"$f":"$N34*'datos de entrada'!E19","v":{"$error":"#DIV/0!"}},{"$f":"$N34*'datos de entrada'!F19","v":{"$error":"#DIV/0!"}},{"$f":"$N34*'datos de entrada'!G19","v":{"$error":"#DIV/0!"}},{"$f":"$N34*'datos de entrada'!H19","v":{"$error":"#DIV/0!"}}]
[0,{"$f":"$N35*'datos de entrada'!C20","v":{"$error":"#DIV/0!"}},{"$f":"$N35*'datos de entrada'!D20","v":{"$error":"#DIV/0!"}},{"$f":"$N35*'datos de entrada'!E20","v":{"$error":"#DIV/0!"}},{"$f":"$N35*'datos de entrada'!F20","v":{"$error":"#DIV/0!"}},{"$f":"$N35*'datos de entrada'!G20","v":{"$error":"#DIV/0!"}},{"$f":"$N35*'datos de entrada'!H20","v":{"$error":"#DIV/0!"}}]
[0,{"$f":"$N36*'datos de entrada'!C21","v":{"$error":"#DIV/0!"}},{"$f":"$N36*'datos de entrada'!D21","v":{"$error":"#DIV/0!"}},{"$f":"$N36*'datos de entrada'!E21","v":{"$error":"#DIV/0!"}},{"$f":"$N36*'datos de entrada'!F21","v":{"$error":"#DIV/0!"}},{"$f":"$N36*'datos de entrada'!G21","v":{"$error":"#DIV/0!"}},{"$f":"$N36*'datos de entrada'!H21","v":{"$error":"#DIV/0!"}}]
[0,{"$f":"$N37*'datos de entrada'!C22","v":{"$error":"#DIV/0!"}},{"$f":"$N37*'datos de entrada'!D22","v":{"$error":"#DIV/0!"}},{"$f":"$N37*'datos de entrada'!E22","v":{"$error":"#DIV/0!"}},{"$f":"$N37*'datos de entrada'!F22","v":{"$error":"#DIV/0!"}},{"$f":"$N37*'datos de entrada'!G22","v":{"$error":"#DIV/0!"}},{"$f":"$N37*'datos de entrada'!H22","v":{"$error":"#DIV/0!"}}]
[0,{"$f":"$N38*'datos de entrada'!C23","v":{"$error":"#DIV/0!"}},{"$f":"$N38*'datos de entrada'!D23","v":{"$error":"#DIV/0!"}},{"$f":"$N38*'datos de entrada'!E23","v":{"$error":"#DIV/0!"}},{"$f":"$N38*'datos de entrada'!F23","v":{"$error":"#DIV/0!"}},{"$f":"$N38*'datos de entrada'!G23","v":{"$error":"#DIV/0!"}},{"$f":"$N38*'datos de entrada'!H23","v":{"$error":"#DIV/0!"}}]
[0,{"$f":"$N39*'datos de entrada'!C24","v":{"$error":"#DIV/0!"}},{"$f":"$N39*'datos de entrada'!D24","v":{"$error":"#DIV/0!"}},{"$f":"$N39*'datos de entrada'!E24","v":{"$error":"#DIV/0!"}},{"$f":"$N39*'datos de entrada'!F24","v":{"$error":"#DIV/0!"}},{"$f":"$N39*'datos de entrada'!G24","v":{"$error":"#DIV/0!"}},{"$f":"$N39*'datos de entrada'!H24","v":{"$error":"#DIV/0!"}}]
[0,{"$f":"$N40*'datos de entrada'!C25","v":{"$error":"#DIV/0!"}},{"$f":"$N40*'datos de entrada'!D25","v":{"$error":"#DIV/0!"}},{"$f":"$N40*'datos de entrada'!E25","v":{"$error":"#DIV/0!"}},{"$f":"$N40*'datos de entrada'!F25","v":{"$error":"#DIV/0!"}},{"$f":"$N40*'datos de entrada'!G25","v":{"$error":"#DIV/0!"}},{"$f":"$N40*'datos de entrada'!H25","v":{"$error":"#DIV/0!"}}]
["-","-","-","-","-","-","-"]
["TOTAL",{"$f":"SUM(B325:B337)","v":{"$error":"#DIV/0!"}},{"$error":"#DIV/0!"},{"$error":"#DIV/0!"},{"$error":"#DIV/0!"},{"$error":"#DIV/0!"},{"$error":"#DIV/0!"},{"$f":"SUM(B338:G338)","v":{"$error":"#DIV/0!"}}]
["=","=","=","=","=","=","="]

{"sheet":"inver y financ","index":5,"n_rows":331,"n_cols":72,"rows_kept":331,"hidden":true}
[]
["INFORMACION DE INVERSION Y FINANCIACION"]
[]
["PROYECTO:",{"$f":"+'datos de entrada'!B4","v":0}]
[]
["INVERSION EN EL PROYECTO"]
[]
["1. INVERSION CON RECURSOS PROPIOS"]
[]
["ACTIVOS FIJOS"]
["-","-","-","-"]
["CONCEPTO","COSTO","DEPRECIACION","DEPRECIACION","AÑO 1","AÑO 2","AÑO 3","AÑO 4","AÑO 5"]
["-","-","-","ANUAL",1,2,3,4,5]
[{"$f":"+'datos de entrada'!A144","v":"TERRENOS"},{"$f":"+'datos de entrada'!B144","v":0},{"$f":"+'datos de entrada'!C144","v":{"v":100000000,"d":"100,000,000"}},{"$f":"+B14/C14","v":0},{"$f":"IF($C14>0,IF($E$13<=$C14,$B14/$C14,0),$B14/10)","v":0},{"$f":"IF($C14>0,IF($F$13<=$C14,$B14/$C14,0),$B14/10)","v":0},{"$f":"IF($C14>0,IF($G$13<=$C14,$B14/$C14,0),$B14/10)","v":0},{"$f":"IF($C14>0,IF($H$13<=$C14,$B14/$C14,0),$B14/10)","v":0},{"$f":"IF($C14>0,IF($I$13<=$C14,$B14/$C14,0),$B14/10)","v":0}]
[{"$f":"+'datos de entrada'!A145","v":"EDIFICIOS"},{"$f":"+'datos de entrada'!B145","v":0},{"$f":"+'datos de entrada'!C145","v":20},{"$f":"+B15/C15","v":0},{"$f":"IF(C15>0,IF($E$13<=$C15,$B15/$C15,0),B15/10)","v":0},{"$f":"IF($C15>0,IF($F$13<=$C15,$B15/$C15,0),$B15/10)","v":0},{"$f":"IF($C15>0,IF($G$13<=$C15,$B15/$C15,0),$B15/10)","v":0},{"$f":"IF($C15>0,IF($H$13<=$C15,$B15/$C15,0),$B15/10)","v":0},{"$f":"IF($C15>0,IF($I$13<=$C15,$B15/$C15,0),$B15/10)","v":0}]
[{"$f":"+'datos de entrada'!A146","v":"MAQUINAS"},{"$f":"+'datos de entrada'!B146","v":0},{"$f":"+'datos de entrada'!C146","v":10},0,0,0,0,0,0]
[{"$f":"+'datos de entrada'!A147","v":"EQUIPOS"},{"$f":"+'datos de entrada'!B147","v":0},{"$f":"+'datos de entrada'!C147","v":5},0,0,0,0,0,0]
[{"$f":"+'datos de entrada'!A148","v":"VEHICULOS"},{"$f":"+'datos de entrada'!B148","v":0},{"$f":"+'datos de entrada'!C148","v":5},0,0,0,0,0,0]
[{"$f":"+'datos de entrada'!A149","v":"MUEBLES Y ENSERES"},{"$f":"+'datos de entrada'!B149","v":0},{"$f":"+'datos de entrada'!C149","v":10},0,0,0,0,0,0]
[{"$f":"+'datos de entrada'!A150","v":"HERRAMIENTAS"},{"$f":"+'datos de entrada'!B150","v":0},{"$f":"+'datos de entrada'!C150","v":1},0,0,0,0,0,0]
[{"$f":"+'datos de entrada'!A151","v":"COMPUTAD. PRODUC."},{"$f":"+'datos de entrada'!B151","v":0},{"$f":"+'datos de entrada'!C151","v":3},0,0,0,0,0,0]
[{"$f":"+'datos de entrada'!A152","v":"COMPUTAD. ADMON."},{"$f":"+'datos de entrada'!B152","v":0},{"$f":"+'datos de entrada'!C152","v":3},0,0,0,0,0,0]
[{"$f":"+'datos de entrada'!A153","v":0},{"$f":"+'datos de entrada'!B153","v":0},{"$f":"+'datos de entrada'!C153","v":0},{"$error":"#DIV/0!"},0,0,0,0,0]
[{"$f":"+'datos de entrada'!A154","v":0},{"$f":"+'datos de entrada'!B154","v":0},{"$f":"+'datos de entrada'!C154","v":0},{"$error":"#DIV/0!"},0,0,0,0,0]
["-","-","-","-"]
["TOTAL APORTES EN ACTIVOS FIJOS",null,null,{"$f":"SUM(B13:B24)","v":0},{"$f":"SUM(E14:E24)","v":0},{"$f":"SUM(F14:F24)","v":0},{"$f":"SUM(G14:G24)","v":0},{"$f":"SUM(H14:H24)","v":0},{"$f":"SUM(I14:I24)","v":0}]
[]
["CAPITAL DE TRABAJO",null,null,{"$f":"+'datos de entrada'!B196","v":0}]
["-","-","-","-"]
["TOTAL APORTES",null,null,{"$f":"D28+D26","v":0}]
["-","-","-","-"]
[]
["2. INVERSION CON RECURSOS DE UN CREDITO"]
[]
["ACTIVOS FIJOS"]
["-","-","-","-"]
["CONCEPTO","COSTO","DEPRECIACION","DEPRECIACION ANUAL","AÑO 1","AÑO 2","AÑO 3","AÑO 4","AÑO 5","plazo","tasa","tipo","GRACIA"]
["-","-","-","ANUAL",1,2,3,4,5]
[{"$f":"+'datos de entrada'!A161","v":"TERRENOS"},{"$f":"+'datos de entrada'!B161","v":0},{"$f":"+'datos de entrada'!C161","v":{"v":1000000,"d":"1,000,000"}},{"$f":"+B39/C39","v":0},{"$f":"IF($C39>0,IF($E$13<=$C39,$B39/$C39,0),$B39/10)","v":0},{"$f":"IF($C39>0,IF($F$13<=$C39,$B39/$C39,0),$B39/10)","v":0},{"$f":"IF($C39>0,IF($G$13<=$C39,$B39/$C39,0),$B39/10)","v":0},{"$f":"IF($C39>0,IF($H$13<=$C39,$B39/$C39,0),$B39/10)","v":0},{"$f":"IF($C39>0,IF($I$13<=$C39,$B39/$C39,0),$B39/10)","v":0},{"$f":"+'datos de entrada'!$B$206","v":0},{"$f":"+'datos de entrada'!$B$208","v":{"v":0,"d":"0.00%"}},0,{"$f":"+'datos de entrada'!$B$207","v":0}]
[{"$f":"+'datos de entrada'!A162","v":"EDIFICIOS"},{"$f":"+'datos de entrada'!B162","v":0},{"$f":"+'datos de entrada'!C162","v":20},{"$f":"+B40/C40","v":0},{"$f":"IF(C40>0,IF($E$13<=$C40,$B40/$C40,0),B40/10)","v":0},{"$f":"IF($C40>0,IF($F$13<=$C40,$B40/$C40,0),$B40/10)","v":0},{"$f":"IF($C40>0,IF($G$13<=$C40,$B40/$C40,0),$B40/10)","v":0},{"$f":"IF($C40>0,IF($H$13<=$C40,$B40/$C40,0),$B40/10)","v":0},{"$f":"IF($C40>0,IF($I$13<=$C40,$B40/$C40,0),$B40/10)","v":0},{"$f":"+'datos de entrada'!$B$206","v":0},{"$f":"+'datos de entrada'!$B$208","v":{"v":0,"d":"0.00%"}},0,{"$f":"+'datos de entrada'!$B$207","v":0}]
[{"$f":"+'datos de entrada'!A163","v":"MAQUINAS"},{"$f":"+'datos de entrada'!B163","v":0},{"$f":"+'datos de entrada'!C163","v":10},0,0,0,0,0,0,{"$f":"+'datos de entrada'!$B$206","v":0},{"$f":"+'datos de entrada'!$B$208","v":{"v":0,"d":"0.00%"}},0,{"$f":"+'datos de entrada'!$B$207","v":0}]
[{"$f":"+'datos de entrada'!A164","v":"EQUIPOS"},{"$f":"+'datos de entrada'!B164","v":0},{"$f":"+'datos de entrada'!C164","v":5},0,0,0,0,0,0,{"$f":"+'datos de entrada'!$B$206","v":0},{"$f":"+'datos de entrada'!$B$208","v":{"v":0,"d":"0.00%"}},0,{"$f":"+'datos de entrada'!$B$207","v":0}]
[{"$f":"+'datos de entrada'!A165","v":"VEHICULOS"},{"$f":"+'datos de entrada'!B165","v":0},{"$f":"+'datos de entrada'!C165","v":5},0,0,0,0,0,0,{"$f":"+'datos de entrada'!$B$206","v":0},{"$f":"+'datos de entrada'!$B$208","v":{"v":0,"d":"0.00%"}},0,{"$f":"+'datos de entrada'!$B$207","v":0}]
[{"$f":"+'datos de entrada'!A166","v":"MUEBLES Y ENSERES"},{"$f":"+'datos de entrada'!B166","v":0},{"$f":"+'datos de entrada'!C166","v":10},0,0,0,0,0,0,{"$f":"+'datos de entrada'!$B$206","v":0},{"$f":"+'datos de entrada'!$B$208","v":{"v":0,"d":"0.00%"}},0,{"$f":"+'datos de entrada'!$B$207","v":0}]
[{"$f":"+'datos de entrada'!A167","v":"HERRAMIENTAS"},{"$f":"+'datos de entrada'!B167","v":0},{"$f":"+'datos de entrada'!C167","v":1},0,0,0,0,0,0,{"$f":"+'datos de entrada'!$B$206","v":0},{"$f":"+'datos de entrada'!$B$208","v":{"v":0,"d":"0.00%"}},0,{"$f":"+'datos de entrada'!$B$207","v":0}]
[{"$f":"+'datos de entrada'!A168","v":"COMPUTAD. PRODUC."},{"$f":"+'datos de entrada'!B168","v":0},{"$f":"+'datos de entrada'!C168","v":3},0,0,0,0,0,0,{"$f":"+'datos de entrada'!$B$206","v":0},{"$f":"+'datos de entrada'!$B$208","v":{"v":0,"d":"0.00%"}},0,{"$f":"+'datos de entrada'!$B$207","v":0}]
[{"$f":"+'datos de entrada'!A169","v":"COMPUTAD. ADMON."},{"$f":"+'datos de entrada'!B169","v":0},{"$f":"+'datos de entrada'!C169","v":3},0,0,0,0,0,0,{"$f":"+'datos de entrada'!$B$206","v":0},{"$f":"+'datos de entrada'!$B$208","v":{"v":0,"d":"0.00%"}},0,{"$f":"+'datos de entrada'!$B$207","v":0}]
[{"$f":"+'datos de entrada'!A170","v":0},{"$f":"+'datos de entrada'!B170","v":0},{"$f":"+'datos de entrada'!C170","v":0},{"$error":"#DIV/0!"},0,0,0,0,0,{"$f":"+'datos de entrada'!$B$206","v":0},{"$f":"+'datos de entrada'!$B$208","v":{"v":0,"d":"0.00%"}},0,{"$f":"+'datos de entrada'!$B$207","v":0}]
[{"$f":"+'datos de entrada'!A171","v":0},{"$f":"+'datos de entrada'!B171","v":0},{"$f":"+'datos de entrada'!C171","v":0},{"$error":"#DIV/0!"},0,0,0,0,0,{"$f":"+'datos de entrada'!$B$206","v":0},{"$f":"+'datos de entrada'!$B$208","v":{"v":0,"d":"0.00%"}},0,{"$f":"+'datos de entrada'!$B$207","v":0}]
["-","-","-","-"]
["TOTAL ACTIVOS FIJOS CON CREDITO",null,null,{"$f":"SUM(B36:B49)","v":0},{"$f":"SUM(E39:E49)","v":0},{"$f":"SUM(F39:F49)","v":0},{"$f":"SUM(G39:G49)","v":0},{"$f":"SUM(H39:H49)","v":0},{"$f":"SUM(I39:I49)","v":0}]
[{"$nulls":3},{"$f":"+'datos de entrada'!B193","v":0},{"$f":"+'datos de entrada'!$B$216","v":0},{"$f":"+'datos de entrada'!$B$218","v":{"v":0,"d":"0.00%"}},{"$f":"+'datos de entrada'!E193","v":0},{"$f":"+'datos de entrada'!$B$217","v":0}]
["CAPITAL DE TRABAJO",null,null,{"$f":"+'datos de entrada'!B194","v":0},{"$f":"+'datos de entrada'!$B$216","v":0},{"$f":"+'datos de entrada'!$B$218","v":{"v":0,"d":"0.00%"}},{"$f":"+'datos de entrada'!E194","v":0},{"$f":"+'datos de entrada'!$B$217","v":0}]
["-","-","-",{"$f":"+'datos de entrada'!$B$195","v":0},{"$f":"+'datos de entrada'!$B$216","v":0},{"$f":"+'datos de entrada'!$B$218","v":{"v":0,"d":"0.00%"}},{"$f":"+'datos de entrada'!E195","v":0},{"$f":"+'datos de entrada'!$B$217","v":0}]
["TOTAL APORTES",null,null,{"$f":"+D56+D51","v":0}]
["-","-","-",{"$f":"SUM(D52:D54)","v":0}]
[]
["3. INVERSION DE subvenciones o donaciones"]
[]
["ACTIVOS FIJOS"]
["-","-","-","-"]
["CONCEPTO","COSTO","DEPRECIACION","DEPRECIACION ANUAL","AÑO 1","AÑO 2","AÑO 3","AÑO 4","AÑO 5"]
["-","-","-","-",1,2,3,4,5]
[{"$f":"+'datos de entrada'!A178","v":"TERRENOS"},{"$f":"+'datos de entrada'!B178","v":0},{"$f":"+'datos de entrada'!C178","v":{"v":1000000,"d":"1,000,000"}},{"$f":"+B64/C64","v":0},{"$f":"IF($C64>0,IF($E$13<=$C64,$B64/$C64,0),$B64/10)","v":0},{"$f":"IF($C64>0,IF($F$13<=$C64,$B64/$C64,0),$B64/10)","v":0},{"$f":"IF($C64>0,IF($G$13<=$C64,$B64/$C64,0),$B64/10)","v":0},{"$f":"IF($C64>0,IF($H$13<=$C64,$B64/$C64,0),$B64/10)","v":0},{"$f":"IF($C64>0,IF($I$13<=$C64,$B64/$C64,0),$B64/10)","v":0}]
[{"$f":"+'datos de entrada'!A179","v":"EDIFICIOS"},{"$f":"+'datos de entrada'!B179","v":0},{"$f":"+'datos de entrada'!C179","v":20},{"$f":"+B65/C65","v":0},{"$f":"IF(C65>0,IF($E$13<=$C65,$B65/$C65,0),B65/10)","v":0},{"$f":"IF($C65>0,IF($F$13<=$C65,$B65/$C65,0),$B65/10)","v":0},{"$f":"IF($C65>0,IF($G$13<=$C65,$B65/$C65,0),$B65/10)","v":0},{"$f":"IF($C65>0,IF($H$13<=$C65,$B65/$C65,0),$B65/10)","v":0},{"$f":"IF($C65>0,IF($I$13<=$C65,$B65/$C65,0),$B65/10)","v":0}]
[{"$f":"+'datos de entrada'!A180","v":"MAQUINAS"},{"$f":"+'datos de entrada'!B180","v":0},{"$f":"+'datos de entrada'!C180","v":10},0,0,0,0,0,0]
[{"$f":"+'datos de entrada'!A181","v":"EQUIPOS"},{"$f":"+'datos de entrada'!B181","v":0},{"$f":"+'datos de entrada'!C181","v":5},0,0,0,0,0,0]
[{"$f":"+'datos de entrada'!A182","v":"VEHICULOS"},{"$f":"+'datos de entrada'!B182","v":0},{"$f":"+'datos de entrada'!C182","v":5},0,0,0,0,0,0]
[{"$f":"+'datos de entrada'!A183","v":"MUEBLES Y ENSERES"},{"$f":"+'datos de entrada'!B183","v":0},{"$f":"+'datos de entrada'!C183","v":10},0,0,0,0,0,0]
[{"$f":"+'datos de entrada'!A184","v":"HERRAMIENTAS"},{"$f":"+'datos de entrada'!B184","v":0},{"$f":"+'datos de entrada'!C184","v":1},0,0,0,0,0,0]
[{"$f":"+'datos de entrada'!A185","v":"COMPUTAD. PRODUC."},{"$f":"+'datos de entrada'!B185","v":0},{"$f":"+'datos de entrada'!C185","v":3},0,0,0,0,0,0]
[{"$f":"+'datos de entrada'!A186","v":"COMPUTAD. ADMON."},{"$f":"+'datos de entrada'!B186","v":0},{"$f":"+'datos de entrada'!C186","v":3},0,0,0,0,0,0]
[{"$f":"+'datos de entrada'!A187","v":0},{"$f":"+'datos de entrada'!B187","v":0},{"$f":"+'datos de entrada'!C187","v":0},{"$error":"#DIV/0!"},0,0,0,0,0]
[{"$f":"+'datos de entrada'!A188","v":0},{"$f":"+'datos de entrada'!B188","v":0},{"$f":"+'datos de entrada'!C188","v":0},{"$error":"#DIV/0!"},0,0,0,0,0]
["-","-","-","-"]
["TOTAL ACTIVOS FIJOS CON APORTE DE subvenciones o donaciones",null,null,{"$f":"SUM(B61:B74)","v":0},{"$f":"SUM(E64:E74)","v":0},{"$f":"SUM(F64:F74)","v":0},{"$f":"SUM(G64:G74)","v":0},{"$f":"SUM(H64:H74)","v":0},{"$f":"SUM(I64:I74)","v":0}]
[]
["CAPITAL DE TRABAJO",null,null,{"$f":"+'datos de entrada'!B197","v":0}]
["-","-","-","-"]
["TOTAL APORTES subvenciones o donaciones",null,null,{"$f":"D78+D76","v":0}]
["-","-","-","-"]
[]
[]
["4. RESUMEN DE INVERSION Y FINANCIACION"]
["-","-","-","-","-","-","-","-","-"]
[null,"RECURSOS PROPIOS",null,"CREDITO",null,"No reembolsables",null,"TOTAL"]
["-","-","-","-","-","-","-","-","-"]
["ACTIVOS FIJOS",{"$f":"D26","v":0},{"$f":"IF(B$91=0,0,+B88/B$91)","v":0},{"$f":"D51","v":0},{"$f":"IF(D$91=0,0,+D88/D$91)","v":0},{"$f":"D76","v":0},{"$f":"IF(F$91=0,0,+F88/F$91)","v":0},{"$f":"B88+D88+F88","v":0},{"$f":"H88/H$91","v":{"$error":"#DIV/0!"}}]
["CAPITAL DE TRABAJO",{"$f":"D28","v":0},{"$f":"IF(B$91=0,0,+B89/B$91)","v":0},{"$f":"D56","v":0},{"$f":"IF(D$91=0,0,+D89/D$91)","v":0},{"$f":"D78","v":0},{"$f":"IF(F$91=0,0,+F89/F$91)","v":0},{"$f":"B89+D89+F89","v":0},{"$f":"H89/H$91","v":{"$error":"#DIV/0!"}}]
["-","-","-","-","-","-","-","-","-"]
[null,{"$f":"B88+B89","v":0},null,{"$f":"D88+D89","v":0},null,{"$f":"F88+F89","v":0},null,{"$f":"H88+H89","v":0}]
["-","-","-","-","-","-","-","-","-"]
["DISTRIBUCION INVERSION",{"$f":"B91/$H$91","v":{"$error":"#DIV/0!"}},null,{"$f":"D91/$H$91","v":{"$error":"#DIV/0!"}},null,{"$f":"F91/$H$91","v":{"$error":"#DIV/0!"}},null,{"$f":"H91/$H$91","v":{"$error":"#DIV/0!"}}]
["-","-","-","-","-","-","-","-","-"]
[]
["5. FINANCIACION"]
[]
["5.1. CONDICIONES DE LA FINANCIACION"]
["-","-","-"]
[null,"ACT.FIJOS","CAP.TRABAJO"]
["-","-","-"]
["LINEA:",{"$f":"+'datos de entrada'!B204","v":0},{"$f":"+'datos de entrada'!B214","v":0}]
["MONTO: (cuota fija)",{"$f":"SUMIF('datos de entrada'!$F$161:$F$171,0,'datos de entrada'!$B$161:$B$171)","v":0},{"$f":"SUMIF('datos de entrada'!$E$193:$E$195,0,'datos de entrada'!$B$193:$B$195)","v":0}]
["       (cuota variable)",{"$f":"SUMIF('datos de entrada'!$F$161:$F$171,1,'datos de entrada'!$B$161:$B$171)","v":0},{"$f":"SUMIF('datos de entrada'!$E$193:$E$195,1,'datos de entrada'!$B$193:$B$195)","v":0}]
["PLAZO:",{"$f":"+'datos de entrada'!B206","v":0},{"$f":"+'datos de entrada'!B216","v":0}]
["PERIODO DE GRACIA:",{"$f":"+'datos de entrada'!B207","v":0},{"$f":"+'datos de entrada'!B217","v":0}]
["INTERES N.A.",{"$f":"+'datos de entrada'!B208","v":{"v":0,"d":"0.00%"}},{"$f":"+'datos de entrada'!B218","v":{"v":0,"d":"0.00%"}}]
["INTERES EFECTIVO:",{"$f":"POWER((1+B107/12),12)-1","v":{"v":0,"d":"0.00%"}},{"$f":"POWER((1+C107/12),12)-1","v":{"v":0,"d":"0.00%"}}]
["INTERES MES VENCIDO:",{"$f":"+B107/12","v":{"v":0,"d":"0.00%"}},{"$f":"+C107/12","v":{"v":0,"d":"0.00%"}},{"$f":"+C109*12","v":{"v":0,"d":"0.00%"}}]
["FORMA DE LIQUIDAR",{"$f":"+'datos de entrada'!B209","v":{"v":0,"d":"0.00%"}},{"$f":"+'datos de entrada'!B219","v":{"v":0,"d":"0.00%"}}]
["-","-","-"]
[]
["TABLA DE PAGOS ACTIVO FIJO",null,null,{"$f":"PMT(J117/12,I117-H117,L117)","v":{"$error":"#DIV/0!"}}]
["CUOTAS DE PAGO FIJA / AMORTIZACION VARIABLE",{"$nulls":5},"Inicio del proyecto",{"$nulls":5},"AÑO 1  Trimestre 2",{"$nulls":5},"AÑO 1  trimestre 3",{"$nulls":5},"AÑO 1  trimestre 4",{"$nulls":5},"AÑO 2  semestre 1",{"$nulls":5},"AÑO 2  semestre 2",{"$nulls":5},"AÑO 3  semestre 1",{"$nulls":5},"AÑO 3  semestre 2",{"$nulls":5},1,{"$nulls":5},2,{"$nulls":5},3]
["-","-","-","-","-","-","tipo","GRACIA","PLAZO","TASA",null,"MONTO","tipo","GRACIA","PLAZO","TASA",null,"MONTO","tipo","GRACIA","PLAZO","TASA",null,"MONTO","tipo","GRACIA","PLAZO","TASA",null,"MONTO","tipo","GRACIA","PLAZO","TASA",null,"MONTO","tipo","GRACIA","PLAZO","TASA",null,"MONTO","tipo","GRACIA","PLAZO","TASA",null,"MONTO","tipo","GRACIA","PLAZO","TASA",null,"MONTO","tipo","GRACIA","PLAZO","TASA",null,"MONTO","tipo","GRACIA","PLAZO","TASA",null,"MONTO","tipo","GRACIA","PLAZO","TASA",null,"MONTO"]
["PERIODO","CUOTA","AMORTIZACION","INTERES","SEGURO","SALDO","PERIODO","CUOTA","AMORTIZACION","INTERES","SEGURO","SALDO","PERIODO","CUOTA","AMORTIZACION","INTERES","SEGURO","SALDO","PERIODO","CUOTA","AMORTIZACION","INTERES","SEGURO","SALDO","PERIODO","CUOTA","AMORTIZACION","INTERES","SEGURO","SALDO","PERIODO","CUOTA","AMORTIZACION","INTERES","SEGURO","SALDO","PERIODO","CUOTA","AMORTIZACION","INTERES","SEGURO","SALDO","PERIODO","CUOTA","AMORTIZACION","INTERES","SEGURO","SALDO","PERIODO","CUOTA","AMORTIZACION","INTERES","SEGURO","SALDO","PERIODO","CUOTA","AMORTIZACION","INTERES","SEGURO","SALDO","PERIODO","CUOTA","AMORTIZACION","INTERES","SEGURO","SALDO","PERIODO","CUOTA","AMORTIZACION","INTERES","SEGURO","SALDO"]
["-","-","-","-","-","-",{"$f":"+L39","v":0},{"$f":"+$M$39","v":0},{"$f":"+$J$39","v":0},{"$f":"+K39","v":{"v":0,"d":"0.00%"}},null,{"$f":"+L118","v":0},{"$f":"+L40","v":0},{"$f":"+M40","v":0},{"$f":"+J40","v":0},{"$f":"+K40","v":{"v":0,"d":"0.00%"}},null,{"$f":"+R118","v":0},{"$f":"+L41","v":0},{"$f":"+M41","v":0},{"$f":"+J41","v":0},{"$f":"+K41","v":{"v":0,"d":"0.00%"}},null,{"$f":"+X118","v":0},{"$f":"+L42","v":0},{"$f":"+M42","v":0},{"$f":"+J42","v":0},{"$f":"+K42","v":{"v":0,"d":"0.00%"}},null,{"$f":"+AD118","v":0},{"$f":"+L43","v":0},{"$f":"+M43","v":0},{"$f":"+J43","v":0},{"$f":"+K43","v":{"v":0,"d":"0.00%"}},null,{"$f":"+AJ118","v":0},{"$f":"+L44","v":0},{"$f":"+M44","v":0},{"$f":"+J44","v":0},{"$f":"+K44","v":{"v":0,"d":"0.00%"}},null,{"$f":"+AP118","v":0},{"$f":"+L45","v":0},{"$f":"+M45","v":0},{"$f":"+J45","v":0},{"$f":"+K45","v":{"v":0,"d":"0.00%"}},null,{"$f":"+AV118","v":0},{"$f":"+L46","v":0},{"$f":"+M46","v":0},{"$f":"+J46","v":0},{"$f":"+K46","v":{"v":0,"d":"0.00%"}},null,{"$f":"+BB118","v":0},{"$f":"+L47","v":0},{"$f":"+M47","v":0},{"$f":"+J47","v":0},{"$f":"+K47","v":{"v":0,"d":"0.00%"}},null,{"$f":"+BH118","v":0},{"$f":"+L48","v":0},{"$f":"+M48","v":0},{"$f":"+J48","v":0},{"$f":"+K48","v":{"v":0,"d":"0.00%"}},null,{"$f":"+BN118","v":0},{"$f":"+L49","v":0},{"$f":"+M49","v":0},{"$f":"+J49","v":0},{"$f":"+K49","v":{"v":0,"d":"0.00%"}},null,{"$f":"+BT118","v":0}]
[{"$nulls":5},{"$f":"+L118+R118+X118+AD118+AJ118+AP118+AV118+BB118+BH118+BN118+BT118","v":0},null,null,{"$f":"IF(L117=0,0,IF(G117=1,(L117/(I117-H117)),IF(G117=0,-PMT(J117/12,(I117-H117),L117),0)))","v":0},null,null,{"$f":"+'inversion af'!C115","v":0},null,null,{"$f":"IF(R117=0,0,IF(M117=1,(R117/(O117-N117)),IF(M117=0,-PMT(P117/12,(O117-N117),R117),0)))","v":0},null,null,{"$f":"+'inversion af'!D115","v":0},null,null,{"$f":"IF(X117=0,0,IF(S117=1,(X117/(U117-T117)),IF(S117=0,-PMT(V117/12,(U117-T117),X117),0)))","v":0},null,null,{"$f":"+'inversion af'!E115","v":0},null,null,{"$f":"IF(AD117=0,0,IF(Y117=1,(AD117/(AA117-Z117)),IF(Y117=0,-PMT(AB117/12,(AA117-Z117),AD117),0)))","v":0},null,null,{"$f":"+'inversion af'!F115","v":0},null,null,{"$f":"IF(AJ117=0,0,IF(AE117=1,(AJ117/(AG117-AF117)),IF(AE117=0,-PMT(AH117/12,(AG117-AF117),AJ117),0)))","v":0},null,null,{"$f":"+'inversion af'!G115","v":0},null,null,{"$f":"IF(AP117=0,0,IF(AK117=1,(AP117/(AM117-AL117)),IF(AK117=0,-PMT(AN117/12,(AM117-AL117),AP117),0)))","v":0},null,null,{"$f":"+'inversion af'!H115","v":0},null,null,{"$f":"IF(AV117=0,0,IF(AQ117=1,(AV117/(AS117-AR117)),IF(AQ117=0,-PMT(AT117/12,(AS117-AR117),AV117),0)))","v":0},null,null,{"$f":"+'inversion af'!I115","v":0},null,null,{"$f":"IF(BB117=0,0,IF(AW117=1,(BB117/(AY117-AX117)),IF(AW117=0,-PMT(AZ117/12,(AY117-AX117),BB117),0)))","v":0},null,null,{"$f":"+'inversion af'!J115","v":0},null,null,{"$f":"IF(BH117=0,0,IF(BC117=1,(BH117/(BE117-BD117)),IF(BC117=0,-PMT(BF117/12,(BE117-BD117),BH117),0)))","v":0},{"$nulls":5},{"$f":"IF(BN117=0,0,IF(BI117=1,(BN117/(BK117-BJ117)),IF(BI117=0,-PMT(BL117/12,(BK117-BJ117),BN117),0)))","v":0},null,null,{"$f":"+$B$48","v":0},null,null,{"$f":"IF(BT117=0,0,IF(BO117=1,(BT117/(BQ117-BP117)),IF(BO117=0,-PMT(BR117/12,(BQ117-BP117),BT117),0)))","v":0},null,null,{"$f":"+$B$49","v":0}]
[1,{"$f":"+H119","v":0},0,0,0,0,1,{"$f":"IF(L118=0,0,IF(G119>I$117,0,J119+I119))","v":0},{"$f":"IF(L$118=0,0,IF(G119>I$117,0,IF(G$117=1,IF(H$117=0,I$118,IF(H$117<G119,I$118,0)),IF(H$117=0,I$118-J119,IF(H$117>=G119,0,I$118-J119)))))","v":0},{"$f":"IF(G119>I$117,0,L118*J$117/12)","v":0},null,{"$f":"+L118-I119","v":0},1,{"$f":"IF(R118=0,0,IF(M119>O$117,0,P119+O119))","v":0},{"$f":"IF(R$118=0,0,IF(M119>O$117,0,IF(M$117=1,IF(N$117=0,O$118,IF(N$117<M119,O$118,0)),IF(N$117=0,O$118-P119,IF(N$117>=M119,0,O$118-P119)))))","v":0},{"$f":"IF(M119>O$117,0,R118*P$117/12)","v":0},null,{"$f":"+R118-O119","v":0},1,{"$f":"IF(X118=0,0,IF(S119>U$117,0,V119+U119))","v":0},{"$f":"IF(X$118=0,0,IF(S119>U$117,0,IF(S$117=1,IF(T$117=0,U$118,IF(T$117<S119,U$118,0)),IF(T$117=0,U$118-V119,IF(T$117>=S119,0,U$118-V119)))))","v":0},{"$f":"IF(S119>U$117,0,X118*V$117/12)","v":0},null,{"$f":"+X118-U119","v":0},1,{"$f":"IF(AD118=0,0,IF(Y119>AA$117,0,AB119+AA119))","v":0},{"$f":"IF(AD$118=0,0,IF(Y119>AA$117,0,IF(Y$117=1,IF(Z$117=0,AA$118,IF(Z$117<Y119,AA$118,0)),IF(Z$117=0,AA$118-AB119,IF(Z$117>=Y119,0,AA$118-AB119)))))","v":0},{"$f":"IF(Y119>AA$117,0,AD118*AB$117/12)","v":0},null,{"$f":"+AD118-AA119","v":0},1,{"$f":"IF(AJ118=0,0,IF(AE119>AG$117,0,AH119+AG119))","v":0},{"$f":"IF(AJ$118=0,0,IF(AE119>AG$117,0,IF(AE$117=1,IF(AF$117=0,AG$118,IF(AF$117<AE119,AG$118,0)),IF(AF$117=0,AG$118-AH119,IF(AF$117>=AE119,0,AG$118-AH119)))))","v":0},{"$f":"IF(AE119>AG$117,0,AJ118*AH$117/12)","v":0},null,{"$f":"+AJ118-AG119","v":0},1,{"$f":"IF(AP118=0,0,IF(AK119>AM$117,0,AN119+AM119))","v":0},{"$f":"IF(AP$118=0,0,IF(AK119>AM$117,0,IF(AK$117=1,IF(AL$117=0,AM$118,IF(AL$117<AK119,AM$118,0)),IF(AL$117=0,AM$118-AN119,IF(AL$117>=AK119,0,AM$118-AN119)))))","v":0},{"$f":"IF(AK119>AM$117,0,AP118*AN$117/12)","v":0},null,{"$f":"+AP118-AM119","v":0},1,{"$f":"IF(AV118=0,0,IF(AQ119>AS$117,0,AT119+AS119))","v":0},{"$f":"IF(AV$118=0,0,IF(AQ119>AS$117,0,IF(AQ$117=1,IF(AR$117=0,AS$118,IF(AR$117<AQ119,AS$118,0)),IF(AR$117=0,AS$118-AT119,IF(AR$117>=AQ119,0,AS$118-AT119)))))","v":0},{"$f":"IF(AQ119>AS$117,0,AV118*AT$117/12)","v":0},null,{"$f":"+AV118-AS119","v":0},1,{"$f":"IF(BB118=0,0,IF(AW119>AY$117,0,AZ119+AY119))","v":0},{"$f":"IF(BB$118=0,0,IF(AW119>AY$117,0,IF(AW$117=1,IF(AX$117=0,AY$118,IF(AX$117<AW119,AY$118,0)),IF(AX$117=0,AY$118-AZ119,IF(AX$117>=AW119,0,AY$118-AZ119)))))","v":0},{"$f":"IF(AW119>AY$117,0,BB118*AZ$117/12)","v":0},null,{"$f":"+BB118-AY119","v":0},1,{"$f":"IF(BH118=0,0,IF(BC119>BE$117,0,BF119+BE119))","v":0},{"$f":"IF(BH$118=0,0,IF(BC119>BE$117,0,IF(BC$117=1,IF(BD$117=0,BE$118,IF(BD$117<BC119,BE$118,0)),IF(BD$117=0,BE$118-BF119,IF(BD$117>=BC119,0,BE$118-BF119)))))","v":0},{"$f":"IF(BC119>BE$117,0,BH118*BF$117/12)","v":0},null,{"$f":"+BH118-BE119","v":0},1,{"$f":"IF(BN118=0,0,IF(BI119>BK$117,0,BL119+BK119))","v":0},{"$f":"IF(BN$118=0,0,IF(BI119>BK$117,0,IF(BI$117=1,IF(BJ$117=0,BK$118,IF(BJ$117<BI119,BK$118,0)),IF(BJ$117=0,BK$118-BL119,IF(BJ$117>=BI119,0,BK$118-BL119)))))","v":0},{"$f":"IF(BI119>BK$117,0,BN118*BL$117/12)","v":0},null,{"$f":"+BN118-BK119","v":0},1,{"$f":"IF(BT118=0,0,IF(BO119>BQ$117,0,BR119+BQ119))","v":0},{"$f":"IF(BT$118=0,0,IF(BO119>BQ$117,0,IF(BO$117=1,IF(BP$117=0,BQ$118,IF(BP$117<BO119,BQ$118,0)),IF(BP$117=0,BQ$118-BR119,IF(BP$117>=BO119,0,BQ$118-BR119)))))","v":0},{"$f":"IF(BO119>BQ$117,0,BT118*BR$117/12)","v":0},null,{"$f":"+BT118-BQ119","v":0}]
[2,0,0,0,0,0,2,{"$f":"IF(L119=0,0,IF(G120>I$117,0,J120+I120))","v":0},{"$f":"IF(L$118=0,0,IF(G120>I$117,0,IF(G$117=1,IF(H$117=0,I$118,IF(H$117<G120,I$118,0)),IF(H$117=0,I$118-J120,IF(H$117>=G120,0,I$118-J120)))))","v":0},{"$f":"IF(G120>I$117,0,L119*J$117/12)","v":0},null,{"$f":"+L119-I120","v":0},2,{"$f":"IF(R119=0,0,IF(M120>O$117,0,P120+O120))","v":0},{"$f":"IF(R$118=0,0,IF(M120>O$117,0,IF(M$117=1,IF(N$117=0,O$118,IF(N$117<M120,O$118,0)),IF(N$117=0,O$118-P120,IF(N$117>=M120,0,O$118-P120)))))","v":0},{"$f":"IF(M120>O$117,0,R119*P$117/12)","v":0},null,{"$f":"+R119-O120","v":0},2,{"$f":"IF(X119=0,0,IF(S120>U$117,0,V120+U120))","v":0},{"$f":"IF(X$118=0,0,IF(S120>U$117,0,IF(S$117=1,IF(T$117=0,U$118,IF(T$117<S120,U$118,0)),IF(T$117=0,U$118-V120,IF(T$117>=S120,0,U$118-V120)))))","v":0},{"$f":"IF(S120>U$117,0,X119*V$117/12)","v":0},null,{"$f":"+X119-U120","v":0},2,{"$f":"IF(AD119=0,0,IF(Y120>AA$117,0,AB120+AA120))","v":0},{"$f":"IF(AD$118=0,0,IF(Y120>AA$117,0,IF(Y$117=1,IF(Z$117=0,AA$118,IF(Z$117<Y120,AA$118,0)),IF(Z$117=0,AA$118-AB120,IF(Z$117>=Y120,0,AA$118-AB120)))))","v":0},{"$f":"IF(Y120>AA$117,0,AD119*AB$117/12)","v":0},null,{"$f":"+AD119-AA120","v":0},2,{"$f":"IF(AJ119=0,0,IF(AE120>AG$117,0,AH120+AG120))","v":0},{"$f":"IF(AJ$118=0,0,IF(AE120>AG$117,0,IF(AE$117=1,IF(AF$117=0,AG$118,IF(AF$117<AE120,AG$118,0)),IF(AF$117=0,AG$118-AH120,IF(AF$117>=AE120,0,AG$118-AH120)))))","v":0},{"$f":"IF(AE120>AG$117,0,AJ119*AH$117/12)","v":0},null,{"$f":"+AJ119-AG120","v":0},2,{"$f":"IF(AP119=0,0,IF(AK120>AM$117,0,AN120+AM120))","v":0},{"$f":"IF(AP$118=0,0,IF(AK120>AM$117,0,IF(AK$117=1,IF(AL$117=0,AM$118,IF(AL$117<AK120,AM$118,0)),IF(AL$117=0,AM$118-AN120,IF(AL$117>=AK120,0,AM$118-AN120)))))","v":0},{"$f":"IF(AK120>AM$117,0,AP119*AN$117/12)","v":0},null,{"$f":"+AP119-AM120","v":0},2,{"$f":"IF(AV119=0,0,IF(AQ120>AS$117,0,AT120+AS120))","v":0},{"$f":"IF(AV$118=0,0,IF(AQ120>AS$117,0,IF(AQ$117=1,IF(AR$117=0,AS$118,IF(AR$117<AQ120,AS$118,0)),IF(AR$117=0,AS$118-AT120,IF(AR$117>=AQ120,0,AS$118-AT120)))))","v":0},{"$f":"IF(AQ120>AS$117,0,AV119*AT$117/12)","v":0},null,{"$f":"+AV119-AS120","v":0},2,{"$f":"IF(BB119=0,0,IF(AW120>AY$117,0,AZ120+AY120))","v":0},{"$f":"IF(BB$118=0,0,IF(AW120>AY$117,0,IF(AW$117=1,IF(AX$117=0,AY$118,IF(AX$117<AW120,AY$118,0)),IF(AX$117=0,AY$118-AZ120,IF(AX$117>=AW120,0,AY$118-AZ120)))))","v":0},{"$f":"IF(AW120>AY$117,0,BB119*AZ$117/12)","v":0},null,{"$f":"+BB119-AY120","v":0},2,{"$f":"IF(BH119=0,0,IF(BC120>BE$117,0,BF120+BE120))","v":0},{"$f":"IF(BH$118=0,0,IF(BC120>BE$117,0,IF(BC$117=1,IF(BD$117=0,BE$118,IF(BD$117<BC120,BE$118,0)),IF(BD$117=0,BE$118-BF120,IF(BD$117>=BC120,0,BE$118-BF120)))))","v":0},{"$f":"IF(BC120>BE$117,0,BH119*BF$117/12)","v":0},null,{"$f":"+BH119-BE120","v":0},2,{"$f":"IF(BN119=0,0,IF(BI120>BK$117,0,BL120+BK120))","v":0},{"$f":"IF(BN$118=0,0,IF(BI120>BK$117,0,IF(BI$117=1,IF(BJ$117=0,BK$118,IF(BJ$117<BI120,BK$118,0)),IF(BJ$117=0,BK$118-BL120,IF(BJ$117>=BI120,0,BK$118-BL120)))))","v":0},{"$f":"IF(BI120>BK$117,0,BN119*BL$117/12)","v":0},null,{"$f":"+BN119-BK120","v":0},2,{"$f":"IF(BT119=0,0,IF(BO120>BQ$117,0,BR120+BQ120))","v":0},{"$f":"IF(BT$118=0,0,IF(BO120>BQ$117,0,IF(BO$117=1,IF(BP$117=0,BQ$118,IF(BP$117<BO120,BQ$118,0)),IF(BP$117=0,BQ$118-BR120,IF(BP$117>=BO120,0,BQ$118-BR120)))))","v":0},{"$f":"IF(BO120>BQ$117,0,BT119*BR$117/12)","v":0},null,{"$f":"+BT119-BQ120","v":0}]
[3,0,0,0,0,0,3,0,0,0,null,{"$f":"+L120-I121","v":0},3,0,0,0,null,0,3,0,0,0,null,0,3,0,0,0,null,0,3,0,0,0,null,0,3,0,0,0,null,0,3,0,0,0,null,0,3,0,0,0,null,0,3,0,0,0,null,0,3,0,0,0,null,0,3,0,0,0,null,0]
[4,{"$f":"+H122+N119","v":0},0,0,0,0,4,0,0,0,null,0,4,0,0,0,null,0,4,0,0,0,null,0,4,0,0,0,null,0,4,0,0,0,null,0,4,0,0,0,null,0,4,0,0,0,null,0,4,0,0,0,null,0,4,0,0,0,null,0,4,0,0,0,null,0,4,0,0,0,null,0]
[5,0,0,0,0,0,5,0,0,0,null,0,5,0,0,0,null,0,5,0,0,0,null,0,5,0,0,0,null,0,5,0,0,0,null,0,5,0,0,0,null,0,5,0,0,0,null,0,5,0,0,0,null,0,5,0,0,0,null,0,5,0,0,0,null,0,5,0,0,0,null,0]
[6,0,0,0,0,0,6,0,0,0,null,0,6,0,0,0,null,0,6,0,0,0,null,0,6,0,0,0,null,0,6,0,0,0,null,0,6,0,0,0,null,0,6,0,0,0,null,0,6,0,0,0,null,0,6,0,0,0,null,0,6,0,0,0,null,0,6,0,0,0,null,0]
[7,{"$f":"+H125+N122+T119","v":0},0,0,0,0,7,0,0,0,null,0,7,0,0,0,null,0,7,0,0,0,null,0,7,0,0,0,null,0,7,0,0,0,null,0,7,0,0,0,null,0,7,0,0,0,null,0,7,0,0,0,null,0,7,0,0,0,null,0,7,0,0,0,null,0,7,0,0,0,null,0]
[8,0,0,0,0,0,8,0,0,0,null,0,8,0,0,0,null,0,8,0,0,0,null,0,8,0,0,0,null,0,8,0,0,0,null,0,8,0,0,0,null,0,8,0,0,0,null,0,8,0,0,0,null,0,8,0,0,0,null,0,8,0,0,0,null,0,8,0,0,0,null,0]
[9,0,0,0,0,0,9,0,0,0,null,0,9,0,0,0,null,0,9,0,0,0,null,0,9,0,0,0,null,0,9,0,0,0,null,0,9,0,0,0,null,0,9,0,0,0,null,0,9,0,0,0,null,0,9,0,0,0,null,0,9,0,0,0,null,0,9,0,0,0,null,0]
[10,{"$f":"+H128+N125+T122+Z119","v":0},0,0,0,0,10,0,0,0,null,0,10,0,0,0,null,0,10,0,0,0,null,0,10,0,0,0,null,0,10,0,0,0,null,0,10,0,0,0,null,0,10,0,0,0,null,0,10,0,0,0,null,0,10,0,0,0,null,0,10,0,0,0,null,0,10,0,0,0,null,0]
[11,0,0,0,0,0,11,0,0,0,null,0,11,0,0,0,null,0,11,0,0,0,null,0,11,0,0,0,null,0,11,0,0,0,null,0,11,0,0,0,null,0,11,0,0,0,null,0,11,0,0,0,null,0,11,0,0,0,null,0,11,0,0,0,null,0,11,0,0,0,null,0]
[12,0,0,0,0,0,12,0,0,0,null,0,12,0,0,0,null,0,12,0,0,0,null,0,12,0,0,0,null,0,12,0,0,0,null,0,12,0,0,0,null,0,12,0,0,0,null,0,12,0,0,0,null,0,12,0,0,0,null,0,12,0,0,0,null,0,12,0,0,0,null,0]
[13,{"$f":"+H131+N128+T125+Z122+AF119","v":0},0,0,0,0,13,0,0,0,null,0,13,0,0,0,null,0,13,0,0,0,null,0,13,0,0,0,null,0,13,0,0,0,null,0,13,0,0,0,null,0,13,0,0,0,null,0,13,0,0,0,null,0,13,0,0,0,null,0,13,0,0,0,null,0,13,0,0,0,null,0]
[14,0,0,0,0,0,14,0,0,0,null,0,14,0,0,0,null,0,14,0,0,0,null,0,14,0,0,0,null,0,14,0,0,0,null,0,14,0,0,0,null,0,14,0,0,0,null,0,14,0,0,0,null,0,14,0,0,0,null,0,14,0,0,0,null,0,14,0,0,0,null,0]
[15,0,0,0,0,0,15,0,0,0,null,0,15,0,0,0,null,0,15,0,0,0,null,0,15,0,0,0,null,0,15,0,0,0,null,0,15,0,0,0,null,0,15,0,0,0,null,0,15,0,0,0,null,0,15,0,0,0,null,0,15,0,0,0,null,0,15,0,0,0,null,0]
[16,0,0,0,0,0,16,0,0,0,null,0,16,0,0,0,null,0,16,0,0,0,null,0,16,0,0,0,null,0,16,0,0,0,null,0,16,0,0,0,null,0,16,0,0,0,null,0,16,0,0,0,null,0,16,0,0,0,null,0,16,0,0,0,null,0,16,0,0,0,null,0]
[17,0,0,0,0,0,17,0,0,0,null,0,17,0,0,0,null,0,17,0,0,0,null,0,17,0,0,0,null,0,17,0,0,0,null,0,17,0,0,0,null,0,17,0,0,0,null,0,17,0,0,0,null,0,17,0,0,0,null,0,17,0,0,0,null,0,17,0,0,0,null,0]
[18,0,0,0,0,0,18,0,0,0,null,0,18,0,0,0,null,0,18,0,0,0,null,0,18,0,0,0,null,0,18,0,0,0,null,0,18,0,0,0,null,0,18,0,0,0,null,0,18,0,0,0,null,0,18,0,0,0,null,0,18,0,0,0,null,0,18,0,0,0,null,0]
[19,{"$f":"+H137+N134+T131+Z128+AF125+AL119","v":0},0,0,0,0,19,0,0,0,null,0,19,0,0,0,null,0,19,0,0,0,null,0,19,0,0,0,null,0,19,0,0,0,null,0,19,0,0,0,null,0,19,0,0,0,null,0,19,0,0,0,null,0,19,0,0,0,null,0,19,0,0,0,null,0,19,0,0,0,null,0]
[20,0,0,0,0,0,20,0,0,0,null,0,20,0,0,0,null,0,20,0,0,0,null,0,20,0,0,0,null,0,20,0,0,0,null,0,20,0,0,0,null,0,20,0,0,0,null,0,20,0,0,0,null,0,20,0,0,0,null,0,20,0,0,0,null,0,20,0,0,0,null,0]
[21,0,0,0,0,0,21,0,0,0,null,0,21,0,0,0,null,0,21,0,0,0,null,0,21,0,0,0,null,0,21,0,0,0,null,0,21,0,0,0,null,0,21,0,0,0,null,0,21,0,0,0,null,0,21,0,0,0,null,0,21,0,0,0,null,0,21,0,0,0,null,0]
[22,0,0,0,0,0,22,0,0,0,null,0,22,0,0,0,null,0,22,0,0,0,null,0,22,0,0,0,null,0,22,0,0,0,null,0,22,0,0,0,null,0,22,0,0,0,null,0,22,0,0,0,null,0,22,0,0,0,null,0,22,0,0,0,null,0,22,0,0,0,null,0]
[23,0,0,0,0,0,23,0,0,0,null,0,23,0,0,0,null,0,23,0,0,0,null,0,23,0,0,0,null,0,23,0,0,0,null,0,23,0,0,0,null,0,23,0,0,0,null,0,23,0,0,0,null,0,23,0,0,0,null,0,23,0,0,0,null,0,23,0,0,0,null,0]
[24,0,0,0,0,0,24,0,0,0,null,0,24,0,0,0,null,0,24,0,0,0,null,0,24,0,0,0,null,0,24,0,0,0,null,0,24,0,0,0,null,0,24,0,0,0,null,0,24,0,0,0,null,0,24,0,0,0,null,0,24,0,0,0,null,0,24,0,0,0,null,0]
[25,{"$f":"+H143+N140+T137+Z134+AF131+AL125+AR119","v":0},0,0,0,0,25,0,0,0,null,0,25,0,0,0,null,0,25,0,0,0,null,0,25,0,0,0,null,0,25,0,0,0,null,0,25,0,0,0,null,0,25,0,0,0,null,0,25,0,0,0,null,0,25,0,0,0,null,0,25,0,0,0,null,0,25,0,0,0,null,0]
[26,0,0,0,0,0,26,0,0,0,null,0,26,0,0,0,null,0,26,0,0,0,null,0,26,0,0,0,null,0,26,0,0,0,null,0,26,0,0,0,null,0,26,0,0,0,null,0,26,0,0,0,null,0,26,0,0,0,null,0,26,0,0,0,null,0,26,0,0,0,null,0]
[27,0,0,0,0,0,27,0,0,0,null,0,27,0,0,0,null,0,27,0,0,0,null,0,27,0,0,0,null,0,27,0,0,0,null,0,27,0,0,0,null,0,27,0,0,0,null,0,27,0,0,0,null,0,27,0,0,0,null,0,27,0,0,0,null,0,27,0,0,0,null,0]
[28,0,0,0,0,0,28,0,0,0,null,0,28,0,0,0,null,0,28,0,0,0,null,0,28,0,0,0,null,0,28,0,0,0,null,0,28,0,0,0,null,0,28,0,0,0,null,0,28,0,0,0,null,0,28,0,0,0,null,0,28,0,0,0,null,0,28,0,0,0,null,0]
[29,0,0,0,0,0,29,0,0,0,null,0,29,0,0,0,null,0,29,0,0,0,null,0,29,0,0,0,null,0,29,0,0,0,null,0,29,0,0,0,null,0,29,0,0,0,null,0,29,0,0,0,null,0,29,0,0,0,null,0,29,0,0,0,null,0,29,0,0,0,null,0]
[30,0,0,0,0,0,30,0,0,0,null,0,30,0,0,0,null,0,30,0,0,0,null,0,30,0,0,0,null,0,30,0,0,0,null,0,30,0,0,0,null,0,30,0,0,0,null,0,30,0,0,0,null,0,30,0,0,0,null,0,30,0,0,0,null,0,30,0,0,0,null,0]
[31,{"$f":"+H149+N146+T143+Z140+AF137+AL131+AR125+AX119","v":0},{"$f":"+I149+O146+U143+AA140+AG137+AM131+AS125+AY119","v":0},{"$f":"+J149+P146+V143+AB140+AH137+AN131+AT125+AZ119","v":0},{"$f":"+K149+Q146+W143+AC140+AI137+AO131+AU125+BA119","v":0},{"$f":"+L149+R146+X143+AD140+AJ137+AP131+AV125+BB119","v":0},31,0,0,0,null,0,31,0,0,0,null,0,31,0,0,0,null,0,31,0,0,0,null,0,31,0,0,0,null,0,31,0,0,0,null,0,31,0,0,0,null,0,31,0,0,0,null,0,31,0,0,0,null,0,31,0,0,0,null,0,31,0,0,0,null,0]
[32,{"$f":"+H150+N147+T144+Z141+AF138+AL132+AR126+AX120","v":0},0,0,0,0,32,0,0,0,null,0,32,0,0,0,null,0,32,0,0,0,null,0,32,0,0,0,null,0,32,0,0,0,null,0,32,0,0,0,null,0,32,0,0,0,null,0,32,0,0,0,null,0,32,0,0,0,null,0,32,0,0,0,null,0,32,0,0,0,null,0]
[33,0,0,0,0,0,33,0,0,0,null,0,33,0,0,0,null,0,33,0,0,0,null,0,33,0,0,0,null,0,33,0,0,0,null,0,33,0,0,0,null,0,33,0,0,0,null,0,33,0,0,0,null,0,33,0,0,0,null,0,33,0,0,0,null,0,33,0,0,0,null,0]
[34,0,0,0,0,0,34,0,0,0,null,0,34,0,0,0,null,0,34,0,0,0,null,0,34,0,0,0,null,0,34,0,0,0,null,0,34,0,0,0,null,0,34,0,0,0,null,0,34,0,0,0,null,0,34,0,0,0,null,0,34,0,0,0,null,0,34,0,0,0,null,0]
[35,0,0,0,0,0,35,0,0,0,null,0,35,0,0,0,null,0,35,0,0,0,null,0,35,0,0,0,null,0,35,0,0,0,null,0,35,0,0,0,null,0,35,0,0,0,null,0,35,0,0,0,null,0,35,0,0,0,null,0,35,0,0,0,null,0,35,0,0,0,null,0]
[36,0,0,0,0,0,36,0,0,0,null,0,36,0,0,0,null,0,36,0,0,0,null,0,36,0,0,0,null,0,36,0,0,0,null,0,36,0,0,0,null,0,36,0,0,0,null,0,36,0,0,0,null,0,36,0,0,0,null,0,36,0,0,0,null,0,36,0,0,0,null,0]
[37,0,0,0,0,0,37,0,0,0,null,0,37,0,0,0,null,0,37,0,0,0,null,0,37,0,0,0,null,0,37,0,0,0,null,0,37,0,0,0,null,0,37,0,0,0,null,0,37,0,0,0,null,0,37,0,0,0,null,0,37,0,0,0,null,0,37,0,0,0,null,0]
[38,0,0,0,0,0,38,0,0,0,null,0,38,0,0,0,null,0,38,0,0,0,null,0,38,0,0,0,null,0,38,0,0,0,null,0,38,0,0,0,null,0,38,0,0,0,null,0,38,0,0,0,null,0,38,0,0,0,null,0,38,0,0,0,null,0,38,0,0,0,null,0]
[39,0,0,0,0,0,39,0,0,0,null,0,39,0,0,0,null,0,39,0,0,0,null,0,39,0,0,0,null,0,39,0,0,0,null,0,39,0,0,0,null,0,39,0,0,0,null,0,39,0,0,0,null,0,39,0,0,0,null,0,39,0,0,0,null,0,39,0,0,0,null,0]
[40,0,0,0,0,0,40,0,0,0,null,0,40,0,0,0,null,0,40,0,0,0,null,0,40,0,0,0,null,0,40,0,0,0,null,0,40,0,0,0,null,0,40,0,0,0,null,0,40,0,0,0,null,0,40,0,0,0,null,0,40,0,0,0,null,0,40,0,0,0,null,0]
[41,0,0,0,0,0,41,0,0,0,null,0,41,0,0,0,null,0,41,0,0,0,null,0,41,0,0,0,null,0,41,0,0,0,null,0,41,0,0,0,null,0,41,0,0,0,null,0,41,0,0,0,null,0,41,0,0,0,null,0,41,0,0,0,null,0,41,0,0,0,null,0]
[42,0,0,0,0,0,42,0,0,0,null,0,42,0,0,0,null,0,42,0,0,0,null,0,42,0,0,0,null,0,42,0,0,0,null,0,42,0,0,0,null,0,42,0,0,0,null,0,42,0,0,0,null,0,42,0,0,0,null,0,42,0,0,0,null,0,42,0,0,0,null,0]
[43,0,0,0,0,0,43,0,0,0,null,0,43,0,0,0,null,0,43,0,0,0,null,0,43,0,0,0,null,0,43,0,0,0,null,0,43,0,0,0,null,0,43,0,0,0,null,0,43,0,0,0,null,0,43,0,0,0,null,0,43,0,0,0,null,0,43,0,0,0,null,0]
[44,0,0,0,0,0,44,0,0,0,null,0,44,0,0,0,null,0,44,0,0,0,null,0,44,0,0,0,null,0,44,0,0,0,null,0,44,0,0,0,null,0,44,0,0,0,null,0,44,0,0,0,null,0,44,0,0,0,null,0,44,0,0,0,null,0,44,0,0,0,null,0]
[45,0,0,0,0,0,45,0,0,0,null,0,45,0,0,0,null,0,45,0,0,0,null,0,45,0,0,0,null,0,45,0,0,0,null,0,45,0,0,0,null,0,45,0,0,0,null,0,45,0,0,0,null,0,45,0,0,0,null,0,45,0,0,0,null,0,45,0,0,0,null,0]
[46,0,0,0,0,0,46,0,0,0,null,0,46,0,0,0,null,0,46,0,0,0,null,0,46,0,0,0,null,0,46,0,0,0,null,0,46,0,0,0,null,0,46,0,0,0,null,0,46,0,0,0,null,0,46,0,0,0,null,0,46,0,0,0,null,0,46,0,0,0,null,0]
[47,0,0,0,0,0,47,0,0,0,null,0,47,0,0,0,null,0,47,0,0,0,null,0,47,0,0,0,null,0,47,0,0,0,null,0,47,0,0,0,null,0,47,0,0,0,null,0,47,0,0,0,null,0,47,0,0,0,null,0,47,0,0,0,null,0,47,0,0,0,null,0]
[48,0,0,0,0,0,48,0,0,0,null,0,48,0,0,0,null,0,48,0,0,0,null,0,48,0,0,0,null,0,48,0,0,0,null,0,48,0,0,0,null,0,48,0,0,0,null,0,48,0,0,0,null,0,48,0,0,0,null,0,48,0,0,0,null,0,48,0,0,0,null,0]
[49,0,0,0,0,0,49,0,0,0,null,0,49,0,0,0,null,0,49,0,0,0,null,0,49,0,0,0,null,0,49,0,0,0,null,0,49,0,0,0,null,0,49,0,0,0,null,0,49,0,0,0,null,0,49,0,0,0,null,0,49,0,0,0,null,0,49,0,0,0,null,0]
[50,0,0,0,0,0,50,0,0,0,null,0,50,0,0,0,null,0,50,0,0,0,null,0,50,0,0,0,null,0,50,0,0,0,null,0,50,0,0,0,null,0,50,0,0,0,null,0,50,0,0,0,null,0,50,0,0,0,null,0,50,0,0,0,null,0,50,0,0,0,null,0]
[51,0,0,0,0,0,51,0,0,0,null,0,51,0,0,0,null,0,51,0,0,0,null,0,51,0,0,0,null,0,51,0,0,0,null,0,51,0,0,0,null,0,51,0,0,0,null,0,51,0,0,0,null,0,51,0,0,0,null,0,51,0,0,0,null,0,51,0,0,0,null,0]
[52,0,0,0,0,0,52,0,0,0,null,0,52,0,0,0,null,0,52,0,0,0,null,0,52,0,0,0,null,0,52,0,0,0,null,0,52,0,0,0,null,0,52,0,0,0,null,0,52,0,0,0,null,0,52,0,0,0,null,0,52,0,0,0,null,0,52,0,0,0,null,0]
[53,0,0,0,0,0,53,0,0,0,null,0,53,0,0,0,null,0,53,0,0,0,null,0,53,0,0,0,null,0,53,0,0,0,null,0,53,0,0,0,null,0,53,0,0,0,null,0,53,0,0,0,null,0,53,0,0,0,null,0,53,0,0,0,null,0,53,0,0,0,null,0]
[54,0,0,0,0,0,54,0,0,0,null,0,54,0,0,0,null,0,54,0,0,0,null,0,54,0,0,0,null,0,54,0,0,0,null,0,54,0,0,0,null,0,54,0,0,0,null,0,54,0,0,0,null,0,54,0,0,0,null,0,54,0,0,0,null,0,54,0,0,0,null,0]
[55,0,0,0,0,0,55,0,0,0,null,0,55,0,0,0,null,0,55,0,0,0,null,0,55,0,0,0,null,0,55,0,0,0,null,0,55,0,0,0,null,0,55,0,0,0,null,0,55,0,0,0,null,0,55,0,0,0,null,0,55,0,0,0,null,0,55,0,0,0,null,0]
[56,0,0,0,0,0,56,0,0,0,null,0,56,0,0,0,null,0,56,0,0,0,null,0,56,0,0,0,null,0,56,0,0,0,null,0,56,0,0,0,null,0,56,0,0,0,null,0,56,0,0,0,null,0,56,0,0,0,null,0,56,0,0,0,null,0,56,0,0,0,null,0]
[57,0,0,0,0,0,57,0,0,0,null,0,57,0,0,0,null,0,57,0,0,0,null,0,57,0,0,0,null,0,57,0,0,0,null,0,57,0,0,0,null,0,57,0,0,0,null,0,57,0,0,0,null,0,57,0,0,0,null,0,57,0,0,0,null,0,57,0,0,0,null,0]
[58,0,0,0,0,0,58,0,0,0,null,0,58,0,0,0,null,0,58,0,0,0,null,0,58,0,0,0,null,0,58,0,0,0,null,0,58,0,0,0,null,0,58,0,0,0,null,0,58,0,0,0,null,0,58,0,0,0,null,0,58,0,0,0,null,0,58,0,0,0,null,0]
[59,0,0,0,0,0,59,0,0,0,null,0,59,0,0,0,null,0,59,0,0,0,null,0,59,0,0,0,null,0,59,0,0,0,null,0,59,0,0,0,null,0,59,0,0,0,null,0,59,0,0,0,null,0,59,0,0,0,null,0,59,0,0,0,null,0,59,0,0,0,null,0]
[60,0,0,0,0,0,60,0,0,0,null,0,60,0,0,0,null,0,60,0,0,0,null,0,60,0,0,0,null,0,60,0,0,0,null,0,60,0,0,0,null,0,60,0,0,0,null,0,60,0,0,0,null,0,60,0,0,0,null,0,60,0,0,0,null,0,60,0,0,0,null,0]
["-","-","-","-","-","-"]
["TABLA DE PAGOS CAPITAL DE TRABAJO"]
["CUOTAS DE PAGO FIJA / AMORTIZACION VARIABLE",{"$nulls":23},"AÑO 1  trimestre 4",{"$nulls":5},"AÑO 2  semestre 1",{"$nulls":5},"AÑO 2  semestre 2",{"$nulls":5},"AÑO 3  semestre 1",{"$nulls":5},"AÑO 3  semestre 2"]
["-","-","-","-","-","-","tipo","GRACIA","PLAZO","TASA",null,"MONTO","tipo","GRACIA","PLAZO","TASA",null,"MONTO","tipo","GRACIA","PLAZO","TASA",null,"MONTO","tipo","GRACIA","PLAZO","TASA",null,"MONTO","tipo","GRACIA","PLAZO","TASA",null,"MONTO","tipo","GRACIA","PLAZO","TASA",null,"MONTO","tipo","GRACIA","PLAZO","TASA",null,"MONTO","tipo","GRACIA","PLAZO","TASA",null,"MONTO"]
["PERIODO","CUOTA","AMORTIZACION","INTERES","SEGURO","SALDO","PERIODO","CUOTA","AMORTIZACION","INTERES","SEGURO","SALDO","PERIODO","CUOTA","AMORTIZACION","INTERES","SEGURO","SALDO","PERIODO","CUOTA","AMORTIZACION","INTERES","SEGURO","SALDO","PERIODO","CUOTA","AMORTIZACION","INTERES","SEGURO","SALDO","PERIODO","CUOTA","AMORTIZACION","INTERES","SEGURO","SALDO","PERIODO","CUOTA","AMORTIZACION","INTERES","SEGURO","SALDO","PERIODO","CUOTA","AMORTIZACION","INTERES","SEGURO","SALDO","PERIODO","CUOTA","AMORTIZACION","INTERES","SEGURO","SALDO"]
["-","-","-","-","-","-",{"$f":"+'datos de entrada'!$B$209","v":0},{"$f":"+H52","v":0},{"$f":"+E52","v":0},{"$f":"+F52","v":{"v":0,"d":"0.00%"}},null,{"$f":"+L185","v":0},{"$f":"+'datos de entrada'!$B$209","v":0},{"$f":"+H53","v":0},{"$f":"+E53","v":0},{"$f":"+F53","v":{"v":0,"d":"0.00%"}},null,{"$f":"+R185","v":0},{"$f":"+'datos de entrada'!$B$209","v":0},{"$f":"+$H$54","v":0},{"$f":"+$E$54","v":0},{"$f":"+$F$54","v":{"v":0,"d":"0.00%"}},null,{"$f":"+X185","v":0},{"$f":"+'datos de entrada'!$B$209","v":0},{"$f":"+$H$54","v":0},{"$f":"+$E$54","v":0},{"$f":"+$F$54","v":{"v":0,"d":"0.00%"}},null,{"$f":"+AD185","v":0},{"$f":"+'datos de entrada'!$B$209","v":0},{"$f":"+$H$54","v":0},{"$f":"+$E$54","v":0},{"$f":"+$F$54","v":{"v":0,"d":"0.00%"}},null,{"$f":"+AJ185","v":0},{"$f":"+'datos de entrada'!$B$209","v":0},{"$f":"+$H$54","v":0},{"$f":"+$E$54","v":0},{"$f":"+$F$54","v":{"v":0,"d":"0.00%"}},null,{"$f":"+AP185","v":0},{"$f":"+'datos de entrada'!$B$209","v":0},{"$f":"+$H$54","v":0},{"$f":"+$E$54","v":0},{"$f":"+$F$54","v":{"v":0,"d":"0.00%"}},null,{"$f":"+AV185","v":0},{"$f":"+'datos de entrada'!$B$209","v":0},{"$f":"+$H$54","v":0},{"$f":"+$E$54","v":0},{"$f":"+$F$54","v":{"v":0,"d":"0.00%"}},null,{"$f":"+BB185","v":0}]
[{"$nulls":5},{"$f":"+L185+R185+X185+AD185+AL185+AP185+AV185+BB185","v":0},null,null,{"$f":"IF(L184=0,0,IF(G184=1,(L184/(I184-H184)),IF(G184=0,-PMT(J184/12,(I184-H184),L184),0)))","v":0},null,null,{"$f":"+'inversion af'!$C$178","v":0},null,null,{"$f":"IF(R184=0,0,IF(M184=1,(R184/(O184-N184)),IF(M184=0,-PMT(P184/12,(O184-N184),R184),0)))","v":0},null,null,{"$f":"+'inversion af'!$D$178","v":0},null,null,{"$f":"IF(X184=0,0,IF(S184=1,(X184/(U184-T184)),IF(S184=0,-PMT(V184/12,(U184-T184),X184),0)))","v":0},null,null,{"$f":"+'inversion af'!E178","v":0},null,null,{"$f":"IF(AD184=0,0,IF(Y184=1,(AD184/(AA184-Z184)),IF(Y184=0,-PMT(AB184/12,(AA184-Z184),AD184),0)))","v":0},null,null,{"$f":"+'inversion af'!F178","v":0},null,null,{"$f":"IF(AJ184=0,0,IF(AE184=1,(AJ184/(AG184-AF184)),IF(AE184=0,-PMT(AH184/12,(AG184-AF184),AJ184),0)))","v":0},null,null,{"$f":"+'inversion af'!G178","v":0},null,null,{"$f":"IF(AP184=0,0,IF(AK184=1,(AP184/(AM184-AL184)),IF(AK184=0,-PMT(AN184/12,(AM184-AL184),AP184),0)))","v":0},null,null,{"$f":"+'inversion af'!H178","v":0},null,null,{"$f":"IF(AV184=0,0,IF(AQ184=1,(AV184/(AS184-AR184)),IF(AQ184=0,-PMT(AT184/12,(AS184-AR184),AV184),0)))","v":0},null,null,{"$f":"+'inversion af'!I178","v":0},null,null,{"$f":"IF(BB184=0,0,IF(AW184=1,(BB184/(AY184-AX184)),IF(AW184=0,-PMT(AZ184/12,(AY184-AX184),BB184),0)))","v":0},null,null,{"$f":"+'inversion af'!J178","v":0}]
[1,{"$f":"+H186","v":0},0,0,0,0,1,{"$f":"IF(L185=0,0,IF(G186>I$184,0,J186+I186))","v":0},{"$f":"IF(L$185=0,0,IF(G186>I$184,0,IF(G$184=1,IF(H$184=0,I$185,IF(H$184<G186,I$185,0)),IF(H$184=0,I$185-J186,IF(H$184>=G186,0,I$185-J186)))))","v":0},{"$f":"IF(G186>I$184,0,L185*J$184/12)","v":0},null,{"$f":"+L185-I186","v":0},1,{"$f":"IF(R185=0,0,IF(M186>O$184,0,P186+O186))","v":0},{"$f":"IF(R$185=0,0,IF(M186>O$184,0,IF(M$184=1,IF(N$184=0,O$185,IF(N$184<M186,O$185,0)),IF(N$184=0,O$185-P186,IF(N$184>=M186,0,O$185-P186)))))","v":0},{"$f":"IF(M186>O$184,0,R185*P$184/12)","v":0},null,{"$f":"+R185-O186","v":0},1,{"$f":"IF(X185=0,0,IF(S186>U$184,0,V186+U186))","v":0},{"$f":"IF(X$185=0,0,IF(S186>U$184,0,IF(S$184=1,IF(T$184=0,U$185,IF(T$184<S186,U$185,0)),IF(T$184=0,U$185-V186,IF(T$184>=S186,0,U$185-V186)))))","v":0},{"$f":"IF(S186>U$184,0,X185*V$184/12)","v":0},null,{"$f":"+X185-U186","v":0},1,{"$f":"IF(AD185=0,0,IF(Y186>AA$184,0,AB186+AA186))","v":0},{"$f":"IF(AD$185=0,0,IF(Y186>AA$184,0,IF(Y$184=1,IF(Z$184=0,AA$185,IF(Z$184<Y186,AA$185,0)),IF(Z$184=0,AA$185-AB186,IF(Z$184>=Y186,0,AA$185-AB186)))))","v":0},{"$f":"IF(Y186>AA$184,0,AD185*AB$184/12)","v":0},null,{"$f":"+AD185-AA186","v":0},1,{"$f":"IF(AJ185=0,0,IF(AE186>AG$184,0,AH186+AG186))","v":0},{"$f":"IF(AJ$185=0,0,IF(AE186>AG$184,0,IF(AE$184=1,IF(AF$184=0,AG$185,IF(AF$184<AE186,AG$185,0)),IF(AF$184=0,AG$185-AH186,IF(AF$184>=AE186,0,AG$185-AH186)))))","v":0},{"$f":"IF(AE186>AG$184,0,AJ185*AH$184/12)","v":0},null,{"$f":"+AJ185-AG186","v":0},1,{"$f":"IF(AP185=0,0,IF(AK186>AM$184,0,AN186+AM186))","v":0},{"$f":"IF(AP$185=0,0,IF(AK186>AM$184,0,IF(AK$184=1,IF(AL$184=0,AM$185,IF(AL$184<AK186,AM$185,0)),IF(AL$184=0,AM$185-AN186,IF(AL$184>=AK186,0,AM$185-AN186)))))","v":0},{"$f":"IF(AK186>AM$184,0,AP185*AN$184/12)","v":0},null,{"$f":"+AP185-AM186","v":0},1,{"$f":"IF(AV185=0,0,IF(AQ186>AS$184,0,AT186+AS186))","v":0},{"$f":"IF(AV$185=0,0,IF(AQ186>AS$184,0,IF(AQ$184=1,IF(AR$184=0,AS$185,IF(AR$184<AQ186,AS$185,0)),IF(AR$184=0,AS$185-AT186,IF(AR$184>=AQ186,0,AS$185-AT186)))))","v":0},{"$f":"IF(AQ186>AS$184,0,AV185*AT$184/12)","v":0},null,{"$f":"+AV185-AS186","v":0},1,{"$f":"IF(BB185=0,0,IF(AW186>AY$184,0,AZ186+AY186))","v":0},{"$f":"IF(BB$185=0,0,IF(AW186>AY$184,0,IF(AW$184=1,IF(AX$184=0,AY$185,IF(AX$184<AW186,AY$185,0)),IF(AX$184=0,AY$185-AZ186,IF(AX$184>=AW186,0,AY$185-AZ186)))))","v":0},{"$f":"IF(AW186>AY$184,0,BB185*AZ$184/12)","v":0},null,{"$f":"+BB185-AY186","v":0}]
[2,0,0,0,0,0,2,{"$f":"IF(L186=0,0,IF(G187>I$184,0,J187+I187))","v":0},{"$f":"IF(L$185=0,0,IF(G187>I$184,0,IF(G$184=1,IF(H$184=0,I$185,IF(H$184<G187,I$185,0)),IF(H$184=0,I$185-J187,IF(H$184>=G187,0,I$185-J187)))))","v":0},{"$f":"IF(G187>I$184,0,L186*J$184/12)","v":0},null,{"$f":"+L186-I187","v":0},2,{"$f":"IF(R186=0,0,IF(M187>O$184,0,P187+O187))","v":0},{"$f":"IF(R$185=0,0,IF(M187>O$184,0,IF(M$184=1,IF(N$184=0,O$185,IF(N$184<M187,O$185,0)),IF(N$184=0,O$185-P187,IF(N$184>=M187,0,O$185-P187)))))","v":0},{"$f":"IF(M187>O$184,0,R186*P$184/12)","v":0},null,{"$f":"+R186-O187","v":0},2,{"$f":"IF(X186=0,0,IF(S187>U$184,0,V187+U187))","v":0},{"$f":"IF(X$185=0,0,IF(S187>U$184,0,IF(S$184=1,IF(T$184=0,U$185,IF(T$184<S187,U$185,0)),IF(T$184=0,U$185-V187,IF(T$184>=S187,0,U$185-V187)))))","v":0},{"$f":"IF(S187>U$184,0,X186*V$184/12)","v":0},null,{"$f":"+X186-U187","v":0},2,{"$f":"IF(AD186=0,0,IF(Y187>AA$184,0,AB187+AA187))","v":0},{"$f":"IF(AD$185=0,0,IF(Y187>AA$184,0,IF(Y$184=1,IF(Z$184=0,AA$185,IF(Z$184<Y187,AA$185,0)),IF(Z$184=0,AA$185-AB187,IF(Z$184>=Y187,0,AA$185-AB187)))))","v":0},{"$f":"IF(Y187>AA$184,0,AD186*AB$184/12)","v":0},null,{"$f":"+AD186-AA187","v":0},2,{"$f":"IF(AJ186=0,0,IF(AE187>AG$184,0,AH187+AG187))","v":0},{"$f":"IF(AJ$185=0,0,IF(AE187>AG$184,0,IF(AE$184=1,IF(AF$184=0,AG$185,IF(AF$184<AE187,AG$185,0)),IF(AF$184=0,AG$185-AH187,IF(AF$184>=AE187,0,AG$185-AH187)))))","v":0},{"$f":"IF(AE187>AG$184,0,AJ186*AH$184/12)","v":0},null,{"$f":"+AJ186-AG187","v":0},2,{"$f":"IF(AP186=0,0,IF(AK187>AM$184,0,AN187+AM187))","v":0},{"$f":"IF(AP$185=0,0,IF(AK187>AM$184,0,IF(AK$184=1,IF(AL$184=0,AM$185,IF(AL$184<AK187,AM$185,0)),IF(AL$184=0,AM$185-AN187,IF(AL$184>=AK187,0,AM$185-AN187)))))","v":0},{"$f":"IF(AK187>AM$184,0,AP186*AN$184/12)","v":0},null,{"$f":"+AP186-AM187","v":0},2,{"$f":"IF(AV186=0,0,IF(AQ187>AS$184,0,AT187+AS187))","v":0},{"$f":"IF(AV$185=0,0,IF(AQ187>AS$184,0,IF(AQ$184=1,IF(AR$184=0,AS$185,IF(AR$184<AQ187,AS$185,0)),IF(AR$184=0,AS$185-AT187,IF(AR$184>=AQ187,0,AS$185-AT187)))))","v":0},{"$f":"IF(AQ187>AS$184,0,AV186*AT$184/12)","v":0},null,{"$f":"+AV186-AS187","v":0},2,{"$f":"IF(BB186=0,0,IF(AW187>AY$184,0,AZ187+AY187))","v":0},{"$f":"IF(BB$185=0,0,IF(AW187>AY$184,0,IF(AW$184=1,IF(AX$184=0,AY$185,IF(AX$184<AW187,AY$185,0)),IF(AX$184=0,AY$185-AZ187,IF(AX$184>=AW187,0,AY$185-AZ187)))))","v":0},{"$f":"IF(AW187>AY$184,0,BB186*AZ$184/12)","v":0},null,{"$f":"+BB186-AY187","v":0}]
[3,0,0,0,0,0,3,0,0,0,null,{"$f":"+L187-I188","v":0},3,0,0,0,null,0,3,0,0,0,null,0,3,0,0,0,null,0,3,0,0,0,null,0,3,0,0,0,null,0,3,0,0,0,null,0,3,0,0,0,null,0]
[4,{"$f":"+H189+N186","v":0},0,0,0,0,4,0,0,0,null,0,4,0,0,0,null,0,4,0,0,0,null,0,4,0,0,0,null,0,4,0,0,0,null,0,4,0,0,0,null,0,4,0,0,0,null,0,4,0,0,0,null,0]
[5,0,0,0,0,0,5,0,0,0,null,0,5,0,0,0,null,0,5,0,0,0,null,0,5,0,0,0,null,0,5,0,0,0,null,0,5,0,0,0,null,0,5,0,0,0,null,0,5,0,0,0,null,0]
[6,0,0,0,0,0,6,0,0,0,null,0,6,0,0,0,null,0,6,0,0,0,null,0,6,0,0,0,null,0,6,0,0,0,null,0,6,0,0,0,null,0,6,0,0,0,null,0,6,0,0,0,null,0]
[7,{"$f":"+H192+N189+T186","v":0},0,0,0,0,7,0,0,0,null,0,7,0,0,0,null,0,7,0,0,0,null,0,7,0,0,0,null,0,7,0,0,0,null,0,7,0,0,0,null,0,7,0,0,0,null,0,7,0,0,0,null,0]
[8,0,0,0,0,0,8,0,0,0,null,0,8,0,0,0,null,0,8,0,0,0,null,0,8,0,0,0,null,0,8,0,0,0,null,0,8,0,0,0,null,0,8,0,0,0,null,0,8,0,0,0,null,0]
[9,0,0,0,0,0,9,0,0,0,null,0,9,0,0,0,null,0,9,0,0,0,null,0,9,0,0,0,null,0,9,0,0,0,null,0,9,0,0,0,null,0,9,0,0,0,null,0,9,0,0,0,null,0]
[10,{"$f":"+H195+N192+T189+Z186","v":0},0,0,0,0,10,0,0,0,null,0,10,0,0,0,null,0,10,0,0,0,null,0,10,0,0,0,null,0,10,0,0,0,null,0,10,0,0,0,null,0,10,0,0,0,null,0,10,0,0,0,null,0]
[11,0,0,0,0,0,11,0,0,0,null,0,11,0,0,0,null,0,11,0,0,0,null,0,11,0,0,0,null,0,11,0,0,0,null,0,11,0,0,0,null,0,11,0,0,0,null,0,11,0,0,0,null,0]
[12,0,0,0,0,0,12,0,0,0,null,0,12,0,0,0,null,0,12,0,0,0,null,0,12,0,0,0,null,0,12,0,0,0,null,0,12,0,0,0,null,0,12,0,0,0,null,0,12,0,0,0,null,0]
[13,{"$f":"+H198+N195+T192+Z189+AF186","v":0},0,0,0,0,13,0,0,0,null,0,13,0,0,0,null,0,13,0,0,0,null,0,13,0,0,0,null,0,13,0,0,0,null,0,13,0,0,0,null,0,13,0,0,0,null,0,13,0,0,0,null,0]
[14,0,0,0,0,0,14,0,0,0,null,0,14,0,0,0,null,0,14,0,0,0,null,0,14,0,0,0,null,0,14,0,0,0,null,0,14,0,0,0,null,0,14,0,0,0,null,0,14,0,0,0,null,0]
[15,0,0,0,0,0,15,0,0,0,null,0,15,0,0,0,null,0,15,0,0,0,null,0,15,0,0,0,null,0,15,0,0,0,null,0,15,0,0,0,null,0,15,0,0,0,null,0,15,0,0,0,null,0]
[16,0,0,0,0,0,16,0,0,0,null,0,16,0,0,0,null,0,16,0,0,0,null,0,16,0,0,0,null,0,16,0,0,0,null,0,16,0,0,0,null,0,16,0,0,0,null,0,16,0,0,0,null,0]
[17,0,0,0,0,0,17,0,0,0,null,0,17,0,0,0,null,0,17,0,0,0,null,0,17,0,0,0,null,0,17,0,0,0,null,0,17,0,0,0,null,0,17,0,0,0,null,0,17,0,0,0,null,0]
[18,0,0,0,0,0,18,0,0,0,null,0,18,0,0,0,null,0,18,0,0,0,null,0,18,0,0,0,null,0,18,0,0,0,null,0,18,0,0,0,null,0,18,0,0,0,null,0,18,0,0,0,null,0]
[19,{"$f":"+H204+N201+T198+Z195+AF192+AL186","v":0},0,0,0,0,19,0,0,0,null,0,19,0,0,0,null,0,19,0,0,0,null,0,19,0,0,0,null,0,19,0,0,0,null,0,19,0,0,0,null,0,19,0,0,0,null,0,19,0,0,0,null,0]
[20,0,0,0,0,0,20,0,0,0,null,0,20,0,0,0,null,0,20,0,0,0,null,0,20,0,0,0,null,0,20,0,0,0,null,0,20,0,0,0,null,0,20,0,0,0,null,0,20,0,0,0,null,0]
[21,0,0,0,0,0,21,0,0,0,null,0,21,0,0,0,null,0,21,0,0,0,null,0,21,0,0,0,null,0,21,0,0,0,null,0,21,0,0,0,null,0,21,0,0,0,null,0,21,0,0,0,null,0]
[22,0,0,0,0,0,22,0,0,0,null,0,22,0,0,0,null,0,22,0,0,0,null,0,22,0,0,0,null,0,22,0,0,0,null,0,22,0,0,0,null,0,22,0,0,0,null,0,22,0,0,0,null,0]
[23,0,0,0,0,0,23,0,0,0,null,0,23,0,0,0,null,0,23,0,0,0,null,0,23,0,0,0,null,0,23,0,0,0,null,0,23,0,0,0,null,0,23,0,0,0,null,0,23,0,0,0,null,0]
[24,0,0,0,0,0,24,0,0,0,null,0,24,0,0,0,null,0,24,0,0,0,null,0,24,0,0,0,null,0,24,0,0,0,null,0,24,0,0,0,null,0,24,0,0,0,null,0,24,0,0,0,null,0]
[25,{"$f":"+H210+N207+T204+Z201+AF198+AL192+AR186","v":0},0,0,0,0,25,0,0,0,null,0,25,0,0,0,null,0,25,0,0,0,null,0,25,0,0,0,null,0,25,0,0,0,null,0,25,0,0,0,null,0,25,0,0,0,null,0,25,0,0,0,null,0]
[26,0,0,0,0,0,26,0,0,0,null,0,26,0,0,0,null,0,26,0,0,0,null,0,26,0,0,0,null,0,26,0,0,0,null,0,26,0,0,0,null,0,26,0,0,0,null,0,26,0,0,0,null,0]
[27,0,0,0,0,0,27,0,0,0,null,0,27,0,0,0,null,0,27,0,0,0,null,0,27,0,0,0,null,0,27,0,0,0,null,0,27,0,0,0,null,0,27,0,0,0,null,0,27,0,0,0,null,0]
[28,0,0,0,0,0,28,0,0,0,null,0,28,0,0,0,null,0,28,0,0,0,null,0,28,0,0,0,null,0,28,0,0,0,null,0,28,0,0,0,null,0,28,0,0,0,null,0,28,0,0,0,null,0]
[29,0,0,0,0,0,29,0,0,0,null,0,29,0,0,0,null,0,29,0,0,0,null,0,29,0,0,0,null,0,29,0,0,0,null,0,29,0,0,0,null,0,29,0,0,0,null,0,29,0,0,0,null,0]
[30,0,0,0,0,0,30,0,0,0,null,0,30,0,0,0,null,0,30,0,0,0,null,0,30,0,0,0,null,0,30,0,0,0,null,0,30,0,0,0,null,0,30,0,0,0,null,0,30,0,0,0,null,0]
[31,{"$f":"+H216+N213+T210+Z207+AF204+AL198+AR192+AX186","v":0},{"$f":"+I216+O213+U210+AA207+AG204+AM198+AS192+AY186","v":0},{"$f":"+J216+P213+V210+AB207+AH204+AN198+AT192+AZ186","v":0},{"$f":"+K216+Q213+W210+AC207+AI204+AO198+AU192+BA186","v":0},{"$f":"+L216+R213+X210+AD207+AJ204+AP198+AV192+BB186","v":0},31,0,0,0,null,0,31,0,0,0,null,0,31,0,0,0,null,0,31,0,0,0,null,0,31,0,0,0,null,0,31,0,0,0,null,0,31,0,0,0,null,0,31,0,0,0,null,0]
[32,{"$f":"+H217+N214+T211+Z208+AF205+AL199+AR193+AX187","v":0},0,0,0,0,32,0,0,0,null,0,32,0,0,0,null,0,32,0,0,0,null,0,32,0,0,0,null,0,32,0,0,0,null,0,32,0,0,0,null,0,32,0,0,0,null,0,32,0,0,0,null,0]
[33,0,0,0,0,0,33,0,0,0,null,0,33,0,0,0,null,0,33,0,0,0,null,0,33,0,0,0,null,0,33,0,0,0,null,0,33,0,0,0,null,0,33,0,0,0,null,0,33,0,0,0,null,0]
[34,0,0,0,0,0,34,0,0,0,null,0,34,0,0,0,null,0,34,0,0,0,null,0,34,0,0,0,null,0,34,0,0,0,null,0,34,0,0,0,null,0,34,0,0,0,null,0,34,0,0,0,null,0]
[35,0,0,0,0,0,35,0,0,0,null,0,35,0,0,0,null,0,35,0,0,0,null,0,35,0,0,0,null,0,35,0,0,0,null,0,35,0,0,0,null,0,35,0,0,0,null,0,35,0,0,0,null,0]
[36,0,0,0,0,0,36,0,0,0,null,0,36,0,0,0,null,0,36,0,0,0,null,0,36,0,0,0,null,0,36,0,0,0,null,0,36,0,0,0,null,0,36,0,0,0,null,0,36,0,0,0,null,0]
[37,0,0,0,0,0,37,0,0,0,null,0,37,0,0,0,null,0,37,0,0,0,null,0,37,0,0,0,null,0,37,0,0,0,null,0,37,0,0,0,null,0,37,0,0,0,null,0,37,0,0,0,null,0]
[38,0,0,0,0,0,38,0,0,0,null,0,38,0,0,0,null,0,38,0,0,0,null,0,38,0,0,0,null,0,38,0,0,0,null,0,38,0,0,0,null,0,38,0,0,0,null,0,38,0,0,0,null,0]
[39,0,0,0,0,0,39,0,0,0,null,0,39,0,0,0,null,0,39,0,0,0,null,0,39,0,0,0,null,0,39,0,0,0,null,0,39,0,0,0,null,0,39,0,0,0,null,0,39,0,0,0,null,0]
[40,0,0,0,0,0,40,0,0,0,null,0,40,0,0,0,null,0,40,0,0,0,null,0,40,0,0,0,null,0,40,0,0,0,null,0,40,0,0,0,null,0,40,0,0,0,null,0,40,0,0,0,null,0]
[41,0,0,0,0,0,41,0,0,0,null,0,41,0,0,0,null,0,41,0,0,0,null,0,41,0,0,0,null,0,41,0,0,0,null,0,41,0,0,0,null,0,41,0,0,0,null,0,41,0,0,0,null,0]
[42,0,0,0,0,0,42,0,0,0,null,0,42,0,0,0,null,0,42,0,0,0,null,0,42,0,0,0,null,0,42,0,0,0,null,0,42,0,0,0,null,0,42,0,0,0,null,0,42,0,0,0,null,0]
[43,0,0,0,0,0,43,0,0,0,null,0,43,0,0,0,null,0,43,0,0,0,null,0,43,0,0,0,null,0,43,0,0,0,null,0,43,0,0,0,null,0,43,0,0,0,null,0,43,0,0,0,null,0]
[44,0,0,0,0,0,44,0,0,0,null,0,44,0,0,0,null,0,44,0,0,0,null,0,44,0,0,0,null,0,44,0,0,0,null,0,44,0,0,0,null,0,44,0,0,0,null,0,44,0,0,0,null,0]
[45,0,0,0,0,0,45,0,0,0,null,0,45,0,0,0,null,0,45,0,0,0,null,0,45,0,0,0,null,0,45,0,0,0,null,0,45,0,0,0,null,0,45,0,0,0,null,0,45,0,0,0,null,0]
[46,0,0,0,0,0,46,0,0,0,null,0,46,0,0,0,null,0,46,0,0,0,null,0,46,0,0,0,null,0,46,0,0,0,null,0,46,0,0,0,null,0,46,0,0,0,null,0,46,0,0,0,null,0]
[47,0,0,0,0,0,47,0,0,0,null,0,47,0,0,0,null,0,47,0,0,0,null,0,47,0,0,0,null,0,47,0,0,0,null,0,47,0,0,0,null,0,47,0,0,0,null,0,47,0,0,0,null,0]
[48,0,0,0,0,0,48,0,0,0,null,0,48,0,0,0,null,0,48,0,0,0,null,0,48,0,0,0,null,0,48,0,0,0,null,0,48,0,0,0,null,0,48,0,0,0,null,0,48,0,0,0,null,0]
[49,0,0,0,0,0,49,0,0,0,null,0,49,0,0,0,null,0,49,0,0,0,null,0,49,0,0,0,null,0,49,0,0,0,null,0,49,0,0,0,null,0,49,0,0,0,null,0,49,0,0,0,null,0]
[50,0,0,0,0,0,50,0,0,0,null,0,50,0,0,0,null,0,50,0,0,0,null,0,50,0,0,0,null,0,50,0,0,0,null,0,50,0,0,0,null,0,50,0,0,0,null,0,50,0,0,0,null,0]
[51,0,0,0,0,0,51,0,0,0,null,0,51,0,0,0,null,0,51,0,0,0,null,0,51,0,0,0,null,0,51,0,0,0,null,0,51,0,0,0,null,0,51,0,0,0,null,0,51,0,0,0,null,0]
[52,0,0,0,0,0,52,0,0,0,null,0,52,0,0,0,null,0,52,0,0,0,null,0,52,0,0,0,null,0,52,0,0,0,null,0,52,0,0,0,null,0,52,0,0,0,null,0,52,0,0,0,null,0]
[53,0,0,0,0,0,53,0,0,0,null,0,53,0,0,0,null,0,53,0,0,0,null,0,53,0,0,0,null,0,53,0,0,0,null,0,53,0,0,0,null,0,53,0,0,0,null,0,53,0,0,0,null,0]
[54,0,0,0,0,0,54,0,0,0,null,0,54,0,0,0,null,0,54,0,0,0,null,0,54,0,0,0,null,0,54,0,0,0,null,0,54,0,0,0,null,0,54,0,0,0,null,0,54,0,0,0,null,0]
[55,0,0,0,0,0,55,0,0,0,null,0,55,0,0,0,null,0,55,0,0,0,null,0,55,0,0,0,null,0,55,0,0,0,null,0,55,0,0,0,null,0,55,0,0,0,null,0,55,0,0,0,null,0]
[56,0,0,0,0,0,56,0,0,0,null,0,56,0,0,0,null,0,56,0,0,0,null,0,56,0,0,0,null,0,56,0,0,0,null,0,56,0,0,0,null,0,56,0,0,0,null,0,56,0,0,0,null,0]
[57,0,0,0,0,0,57,0,0,0,null,0,57,0,0,0,null,0,57,0,0,0,null,0,57,0,0,0,null,0,57,0,0,0,null,0,57,0,0,0,null,0,57,0,0,0,null,0,57,0,0,0,null,0]
[58,0,0,0,0,0,58,0,0,0,null,0,58,0,0,0,null,0,58,0,0,0,null,0,58,0,0,0,null,0,58,0,0,0,null,0,58,0,0,0,null,0,58,0,0,0,null,0,58,0,0,0,null,0]
[59,0,0,0,0,0,59,0,0,0,null,0,59,0,0,0,null,0,59,0,0,0,null,0,59,0,0,0,null,0,59,0,0,0,null,0,59,0,0,0,null,0,59,0,0,0,null,0,59,0,0,0,null,0]
[60,0,0,0,0,0,60,0,0,0,null,0,60,0,0,0,null,0,60,0,0,0,null,0,60,0,0,0,null,0,60,0,0,0,null,0,60,0,0,0,null,0,60,0,0,0,null,0,60,0,0,0,null,0]
["TABLA RESUMEN DE PAGOS DE CREDITOS"]
["PERIODO","CUOTA","AMORTIZACION","INTERES","SEGURO","SALDO","INT + SEG."]
["-","-","-","-","-","-","-"]
[{"$nulls":5},{"$f":"F118+F185","v":0}]
[1,{"$f":"B119+B186","v":0},0,0,0,0,{"$f":"D250+E250","v":0}]
[2,0,0,0,0,0,{"$f":"D251+E251","v":0}]
[3,0,0,0,0,0,0]
[4,0,0,0,0,0,0]
[5,0,0,0,0,0,0]
[6,0,0,0,0,0,0]
[7,0,0,0,0,0,0]
[8,0,0,0,0,0,0]
[9,0,0,0,0,0,0]
[10,0,0,0,0,0,0]
[11,0,0,0,0,0,0]
[12,0,0,0,0,0,0]
[13,0,0,0,0,0,0]
[14,0,0,0,0,0,0]
[15,0,0,0,0,0,0]
[16,0,0,0,0,0,0]
[17,{"$f":"B135+B202","v":0},0,0,0,0,0]
[18,0,0,0,0,0,0]
[19,0,0,0,0,0,0]
[20,0,0,0,0,0,0]
[21,0,0,0,0,0,0]
[22,0,0,0,0,0,0]
[23,0,0,0,0,0,0]
[24,0,0,0,0,0,0]
[25,0,0,0,0,0,0]
[26,0,0,0,0,0,0]
[27,0,0,0,0,0,0]
[28,0,0,0,0,0,0]
[29,0,0,0,0,0,0]
[30,0,0,0,0,0,0]
[31,0,0,0,0,0,0]
[32,0,0,0,0,0,0]
[33,{"$f":"B151+B218","v":0},0,0,0,0,0]
[34,0,0,0,0,0,0]
[35,0,0,0,0,0,0]
[36,0,0,0,0,0,0]
[37,0,0,0,0,0,0]
[38,0,0,0,0,0,0]
[39,0,0,0,0,0,0]
[40,0,0,0,0,0,0]
[41,0,0,0,0,0,0]
[42,0,0,0,0,0,0]
[43,0,0,0,0,0,0]
[44,0,0,0,0,0,0]
[45,0,0,0,0,0,0]
[46,0,0,0,0,0,0]
[47,0,0,0,0,0,0]
[48,0,0,0,0,0,0]
[49,{"$f":"B167+B234","v":0},0,0,0,0,0]
[50,0,0,0,0,0,0]
[51,0,0,0,0,0,0]
[52,0,0,0,0,0,0]
[53,0,0,0,0,0,0]
[54,0,0,0,0,0,0]
[55,0,0,0,0,0,0]
[56,0,0,0,0,0,0]
[57,0,0,0,0,0,0]
[58,0,0,0,0,0,0]
[59,0,0,0,0,0,0]
[60,0,0,0,0,0,0]
["-","-","-","-","-","-","-"]
[]
["RESUMEN DE LA  FINANCIACION"]
[]
["-","-","-","-","-","-","-"]
[null,"ANO 1","ANO 2","ANO 3","ANO 4","ANO 5","TOTAL"]
["-","-","-","-","-","-","-"]
["SALDO",{"$f":"F261","v":0},{"$f":"F273","v":0},{"$f":"F285","v":0},{"$f":"F297","v":0},{"$f":"F309","v":0}]
["AMORTIZACION",{"$f":"SUM(C250:C261)","v":0},{"$f":"SUM(C262:C273)","v":0},{"$f":"SUM(C274:C285)","v":0},{"$f":"SUM(C286:C297)","v":0},{"$f":"SUM(C298:C309)","v":0},{"$f":"SUM(B318:F318)","v":0}]
["INTERES",{"$f":"SUM(D250:E261)","v":0},{"$f":"SUM(D262:E273)","v":0},{"$f":"SUM(D274:E285)","v":0},{"$f":"SUM(D286:E297)","v":0},{"$f":"SUM(D298:E309)","v":0},{"$f":"SUM(B319:F319)","v":0}]
["-","-","-","-","-","-","-"]
["TOTAL PAGO DEUDA",{"$f":"B319+B318","v":0},0,0,0,0,0]
["-","-","-","-","-","-","-"]
[]
["CALCULO DE LA DEPRECIACION"]
["-","-","AÑO 1","AÑO 2","AÑO 3","AÑO 4","AÑO 5"]
["MONTO DEPRECIABLE",{"$f":"H88","v":0}]
["FACTOR DE DEPRECIACION",0]
["DEPRECIACION ANUAL",{"$f":"B327*B326","v":0},{"$f":"+'inversion af'!C174","v":0},{"$f":"+'inversion af'!D174","v":0},{"$f":"+'inversion af'!E174","v":0},{"$f":"+H26+H51+H76","v":0},{"$f":"+I26+I51+I76","v":0}]
["-","-"]
[]
["CUOTA MAXIMA:",{"$f":"MAX(B250:B309)","v":0}]

{"sheet":"inversion af","index":6,"n_rows":420,"n_cols":22,"rows_kept":420,"hidden":true}
["CONCEPTO","Q","COSTO UNITARIO","CLASIFICAR COMO","COSTO TOTAL","FUENTE DE RECURSOS","AÑOS VIDA UTIL","ADQUIRIDOS EN EL:"]
[{"$nulls":4},{"$f":"+B2*C2","v":0},null,{"$f":"IF(ISERROR(VLOOKUP(D2,$C$188:$D$197,2,FALSE))=TRUE,\"\",VLOOKUP(D2,$C$188:$D$197,2,FALSE))","v":""},null,{"$f":"IF(ISERROR(VLOOKUP(U2,$I$188:$J$211,2,FALSE))=TRUE,\"\",VLOOKUP(U2,$I$188:$J$211,2,FALSE))","v":""},null,null,{"$f":"IF(F2=\"APORTE DE SOCIOS\",E2,0)","v":0},{"$f":"IF(ISERROR(IF(F2=\"CREDITO\",IF(I2=0,E2,0),0))=TRUE,0,IF(F2=\"CREDITO\",IF(I2=0,E2,0),0))","v":0},{"$f":"IF(F2=\"NO REEMBOLSABLES\",E2,IF(F2=\"DONACIONES\",E2,0))","v":0},{"$f":"IF(H2=\"CREDITO\",G2,0)","v":0},{"$f":"VLOOKUP(H2,$G$188:$I$203,2,FALSE)","v":{"$error":"#N/A"}},{"$f":"VLOOKUP(F2,$E$188:$F$191,2,FALSE)","v":{"$error":"#N/A"}},{"$f":"VLOOKUP(D2,$A$188:$B$196,2,FALSE)","v":{"$error":"#N/A"}},{"$f":"CONCATENATE(P2,Q2,R2)","v":{"$error":"#N/A"}},{"$f":"IF(I2=0,E2,0)","v":0},{"$f":"VALUE(CONCATENATE(Q2,P2))","v":{"$error":"#N/A"}}]
[{"$nulls":4},0,null,"",null,"",null,null,0,0,0,null,{"$error":"#N/A"},{"$error":"#N/A"},{"$error":"#N/A"},{"$error":"#N/A"},0,{"$error":"#N/A"}]
[{"$nulls":4},0,null,"",null,"",null,null,0,0,0,null,{"$error":"#N/A"},{"$error":"#N/A"},{"$error":"#N/A"},{"$error":"#N/A"},0,{"$error":"#N/A"}]
[{"$nulls":4},0,null,"",null,"",null,null,0,0,0,null,{"$error":"#N/A"},{"$error":"#N/A"},{"$error":"#N/A"},{"$error":"#N/A"},0,{"$error":"#N/A"}]
[{"$nulls":4},0,null,"",null,"",null,null,0,0,0,null,{"$error":"#N/A"},{"$error":"#N/A"},{"$error":"#N/A"},{"$error":"#N/A"},0,{"$error":"#N/A"}]
[{"$nulls":4},0,null,"",null,"",null,null,0,0,0,null,{"$error":"#N/A"},{"$error":"#N/A"},{"$error":"#N/A"},{"$error":"#N/A"},0,{"$error":"#N/A"}]
[{"$nulls":4},0,null,"",null,"",null,null,0,0,0,null,{"$error":"#N/A"},{"$error":"#N/A"},{"$error":"#N/A"},{"$error":"#N/A"},0,{"$error":"#N/A"}]
[{"$nulls":4},0,null,"",null,"",null,null,0,0,0,null,{"$error":"#N/A"},{"$error":"#N/A"},{"$error":"#N/A"},{"$error":"#N/A"},0,{"$error":"#N/A"}]
[{"$nulls":4},0,null,"",null,"",null,null,0,0,0,null,{"$error":"#N/A"},{"$error":"#N/A"},{"$error":"#N/A"},{"$error":"#N/A"},0,{"$error":"#N/A"}]
[{"$nulls":4},0,null,"",null,"",null,null,0,0,0,null,{"$error":"#N/A"},{"$error":"#N/A"},{"$error":"#N/A"},{"$error":"#N/A"},0,{"$error":"#N/A"}]
[{"$nulls":4},0,null,"",null,"",null,null,0,0,0,null,{"$error":"#N/A"},{"$error":"#N/A"},{"$error":"#N/A"},{"$error":"#N/A"},0,{"$error":"#N/A"}]
[{"$nulls":4},0,null,"",null,"",null,null,0,0,0,null,{"$error":"#N/A"},{"$error":"#N/A"},{"$error":"#N/A"},{"$error":"#N/A"},0,{"$error":"#N/A"}]
[{"$nulls":4},0,null,"",null,"",null,null,0,0,0,null,{"$error":"#N/A"},{"$error":"#N/A"},{"$error":"#N/A"},{"$error":"#N/A"},0,{"$error":"#N/A"}]
[{"$nulls":4},0,null,"",null,"",null,null,0,0,0,null,{"$error":"#N/A"},{"$error":"#N/A"},{"$error":"#N/A"},{"$error":"#N/A"},0,{"$error":"#N/A"}]
[{"$nulls":4},0,null,"",null,"",null,null,0,0,0,null,{"$error":"#N/A"},{"$error":"#N/A"},{"$error":"#N/A"},{"$error":"#N/A"},0,{"$error":"#N/A"}]
[{"$nulls":4},0,null,"",null,"",null,null,0,0,0,null,{"$error":"#N/A"},{"$error":"#N/A"},{"$error":"#N/A"},{"$error":"#N/A"},0,{"$error":"#N/A"}]
[{"$nulls":4},0,null,"",null,"",null,null,0,0,0,null,{"$error":"#N/A"},{"$error":"#N/A"},{"$error":"#N/A"},{"$error":"#N/A"},0,{"$error":"#N/A"}]
[{"$nulls":4},0,null,"",null,"",null,null,0,0,0,null,{"$error":"#N/A"},{"$error":"#N/A"},{"$error":"#N/A"},{"$error":"#N/A"},0,{"$error":"#N/A"}]
[{"$nulls":4},0,null,"",null,"",null,null,0,0,0,null,{"$error":"#N/A"},{"$error":"#N/A"},{"$error":"#N/A"},{"$error":"#N/A"},0,{"$error":"#N/A"}]
[{"$nulls":4},0,null,"",null,"",null,null,0,0,0,null,{"$error":"#N/A"},{"$error":"#N/A"},{"$error":"#N/A"},{"$error":"#N/A"},0,{"$error":"#N/A"}]
[{"$nulls":4},0,null,"",null,"",null,null,0,0,0,null,{"$error":"#N/A"},{"$error":"#N/A"},{"$error":"#N/A"},{"$error":"#N/A"},0,{"$error":"#N/A"}]
[{"$nulls":4},0,null,"",null,"",null,null,0,0,0,null,{"$error":"#N/A"},{"$error":"#N/A"},{"$error":"#N/A"},{"$error":"#N/A"},0,{"$error":"#N/A"}]
[{"$nulls":4},0,null,"",null,"",null,null,0,0,0,null,{"$error":"#N/A"},{"$error":"#N/A"},{"$error":"#N/A"},{"$error":"#N/A"},0,{"$error":"#N/A"}]
[{"$nulls":4},0,null,"",null,"",null,null,0,0,0,null,{"$error":"#N/A"},{"$error":"#N/A"},{"$error":"#N/A"},{"$error":"#N/A"},0,{"$error":"#N/A"}]
[{"$nulls":4},0,null,"",null,"",null,null,0,0,0,null,{"$error":"#N/A"},{"$error":"#N/A"},{"$error":"#N/A"},{"$error":"#N/A"},0,{"$error":"#N/A"}]
[{"$nulls":4},0,null,"",null,"",null,null,0,0,0,null,{"$error":"#N/A"},{"$error":"#N/A"},{"$error":"#N/A"},{"$error":"#N/A"},0,{"$error":"#N/A"}]
[{"$nulls":4},0,null,"",null,"",null,null,0,0,0,null,{"$error":"#N/A"},{"$error":"#N/A"},{"$error":"#N/A"},{"$error":"#N/A"},0,{"$error":"#N/A"}]
[{"$nulls":4},0,null,"",null,"",null,null,0,0,0,null,{"$error":"#N/A"},{"$error":"#N/A"},{"$error":"#N/A"},{"$error":"#N/A"},0,{"$error":"#N/A"}]
[{"$nulls":4},0,null,"",null,"",null,null,0,0,0,null,{"$error":"#N/A"},{"$error":"#N/A"},{"$error":"#N/A"},{"$error":"#N/A"},0,{"$error":"#N/A"}]
[{"$nulls":4},0,null,"",null,"",null,null,0,0,0,null,{"$error":"#N/A"},{"$error":"#N/A"},{"$error":"#N/A"},{"$error":"#N/A"},0,{"$error":"#N/A"}]
[{"$nulls":4},0,null,"",null,"",null,null,0,0,0,null,{"$error":"#N/A"},{"$error":"#N/A"},{"$error":"#N/A"},{"$error":"#N/A"},0,{"$error":"#N/A"}]
[{"$nulls":4},0,null,"",null,"",null,null,0,0,0,null,{"$error":"#N/A"},{"$error":"#N/A"},{"$error":"#N/A"},{"$error":"#N/A"},0,{"$error":"#N/A"}]
[{"$nulls":4},0,null,"",null,"",null,{"$f":"IF(ISERROR(IF(D34=\"CREDITO\",IF(G34=0,C34,0),0))=TRUE,0,IF(D34=\"CREDITO\",IF(G34=0,C34,0),0))","v":0},0,0,0,null,{"$error":"#N/A"},{"$error":"#N/A"},{"$error":"#N/A"},{"$error":"#N/A"},0,{"$error":"#N/A"}]
[{"$nulls":4},0,null,"",null,"",null,null,0,0,0,null,{"$error":"#N/A"},{"$error":"#N/A"},{"$error":"#N/A"},{"$error":"#N/A"},0,{"$error":"#N/A"}]
[{"$nulls":4},0,null,"",null,"",null,null,0,0,0,null,{"$error":"#N/A"},{"$error":"#N/A"},{"$error":"#N/A"},{"$error":"#N/A"},0,{"$error":"#N/A"}]
[{"$nulls":4},0,null,"",null,"",null,null,0,0,0,null,{"$error":"#N/A"},{"$error":"#N/A"},{"$error":"#N/A"},{"$error":"#N/A"},0,{"$error":"#N/A"}]
[{"$nulls":4},0,null,"",null,"",null,null,0,0,0,null,{"$error":"#N/A"},{"$error":"#N/A"},{"$error":"#N/A"},{"$error":"#N/A"},0,{"$error":"#N/A"}]
[{"$nulls":4},0,null,"",null,"",null,null,0,0,0,null,{"$error":"#N/A"},{"$error":"#N/A"},{"$error":"#N/A"},{"$error":"#N/A"},0,{"$error":"#N/A"}]
[{"$nulls":4},0,null,"",null,"",null,null,0,0,0,null,{"$error":"#N/A"},{"$error":"#N/A"},{"$error":"#N/A"},{"$error":"#N/A"},0,{"$error":"#N/A"}]
[{"$nulls":4},0,null,"",null,"",null,null,0,0,0,null,{"$error":"#N/A"},{"$error":"#N/A"},{"$error":"#N/A"},{"$error":"#N/A"},0,{"$error":"#N/A"}]
[{"$nulls":4},0,null,"",null,"",null,null,0,0,0,null,{"$error":"#N/A"},{"$error":"#N/A"},{"$error":"#N/A"},{"$error":"#N/A"},0,{"$error":"#N/A"}]
[{"$nulls":4},0,null,"",null,"",null,{"$f":"IF(C43=\"NO REEMBOLSABLES\",B43,IF(C43=\"DONACIONES\",B43,0))","v":0},0,0,0,null,{"$error":"#N/A"},{"$error":"#N/A"},{"$error":"#N/A"},{"$error":"#N/A"},0,{"$error":"#N/A"}]
[{"$nulls":4},0,null,"",null,"",null,{"$f":"IF(C44=\"NO REEMBOLSABLES\",B44,IF(C44=\"DONACIONES\",B44,0))","v":0},0,0,0,null,{"$error":"#N/A"},{"$error":"#N/A"},{"$error":"#N/A"},{"$error":"#N/A"},0,{"$error":"#N/A"}]
[{"$nulls":4},0,null,"",null,"",null,0,0,0,0,null,{"$error":"#N/A"},{"$error":"#N/A"},{"$error":"#N/A"},{"$error":"#N/A"},0,{"$error":"#N/A"}]
[{"$nulls":4},0,null,"",null,"",null,0,0,0,0,null,{"$error":"#N/A"},{"$error":"#N/A"},{"$error":"#N/A"},{"$error":"#N/A"},0,{"$error":"#N/A"}]
[{"$nulls":4},0,null,"",null,"",null,0,0,0,0,null,{"$error":"#N/A"},{"$error":"#N/A"},{"$error":"#N/A"},{"$error":"#N/A"},0,{"$error":"#N/A"}]
[{"$nulls":4},0,null,"",null,"",null,0,0,0,0,null,{"$error":"#N/A"},{"$error":"#N/A"},{"$error":"#N/A"},{"$error":"#N/A"},0,{"$error":"#N/A"}]
[{"$nulls":4},0,null,"",null,"",null,0,0,0,0,null,{"$error":"#N/A"},{"$error":"#N/A"},{"$error":"#N/A"},{"$error":"#N/A"},0,{"$error":"#N/A"}]
[{"$nulls":4},0,null,"",null,"",null,0,0,0,0,null,{"$error":"#N/A"},{"$error":"#N/A"},{"$error":"#N/A"},{"$error":"#N/A"},0,{"$error":"#N/A"}]
[{"$nulls":4},0,null,"",null,"",null,0,0,0,0,null,{"$error":"#N/A"},{"$error":"#N/A"},{"$error":"#N/A"},{"$error":"#N/A"},0,{"$error":"#N/A"}]
[{"$nulls":4},0,null,"",null,"",null,0,0,0,0,null,{"$error":"#N/A"},{"$error":"#N/A"},{"$error":"#N/A"},{"$error":"#N/A"},0,{"$error":"#N/A"}]
[{"$nulls":4},0,null,"",null,"",null,0,0,0,0,null,{"$error":"#N/A"},{"$error":"#N/A"},{"$error":"#N/A"},{"$error":"#N/A"},0,{"$error":"#N/A"}]
[{"$nulls":4},0,null,"",null,"",null,0,0,0,0,null,{"$error":"#N/A"},{"$error":"#N/A"},{"$error":"#N/A"},{"$error":"#N/A"},0,{"$error":"#N/A"}]
[{"$nulls":4},0,null,"",null,"",null,0,0,0,0,null,{"$error":"#N/A"},{"$error":"#N/A"},{"$error":"#N/A"},{"$error":"#N/A"},0,{"$error":"#N/A"}]
[{"$nulls":4},0,null,"",null,"",null,0,0,0,0,null,{"$error":"#N/A"},{"$error":"#N/A"},{"$error":"#N/A"},{"$error":"#N/A"},0,{"$error":"#N/A"}]
[{"$nulls":4},0,null,"",null,"",null,0,0,0,0,null,{"$error":"#N/A"},{"$error":"#N/A"},{"$error":"#N/A"},{"$error":"#N/A"},0,{"$error":"#N/A"}]
[{"$nulls":4},0,null,"",null,"",null,0,0,0,0,null,{"$error":"#N/A"},{"$error":"#N/A"},{"$error":"#N/A"},{"$error":"#N/A"},0,{"$error":"#N/A"}]
[{"$nulls":4},0,null,"",null,"",null,0,0,0,0,null,{"$error":"#N/A"},{"$error":"#N/A"},{"$error":"#N/A"},{"$error":"#N/A"},0,{"$error":"#N/A"}]
[{"$nulls":4},0,null,"",null,"",null,0,0,0,0,null,{"$error":"#N/A"},{"$error":"#N/A"},{"$error":"#N/A"},{"$error":"#N/A"},0,{"$error":"#N/A"}]
[{"$nulls":4},0,null,"",null,"",null,0,0,0,0,null,{"$error":"#N/A"},{"$error":"#N/A"},{"$error":"#N/A"},{"$error":"#N/A"},0,{"$error":"#N/A"}]
[{"$nulls":4},0,{"$nulls":3},"",null,0,0,0,0,null,{"$error":"#N/A"},{"$error":"#N/A"},{"$error":"#N/A"},{"$error":"#N/A"},0,{"$error":"#N/A"}]
[{"$nulls":4},0,{"$nulls":3},"",null,0,0,0,0,null,{"$error":"#N/A"},{"$error":"#N/A"},{"$error":"#N/A"},{"$error":"#N/A"},0,{"$error":"#N/A"}]
[{"$nulls":4},0,{"$nulls":3},"",null,0,0,0,0,null,{"$error":"#N/A"},{"$error":"#N/A"},{"$error":"#N/A"},{"$error":"#N/A"},0,{"$error":"#N/A"}]
[{"$nulls":4},0,{"$nulls":3},"",null,0,0,0,0,null,{"$error":"#N/A"},{"$error":"#N/A"},{"$error":"#N/A"},{"$error":"#N/A"},0,{"$error":"#N/A"}]
[{"$nulls":4},{"$f":"+B66*C66","v":0},{"$nulls":3},{"$f":"IF(ISERROR(VLOOKUP(U66,$I$188:$J$211,2,FALSE))=TRUE,\"\",VLOOKUP(U66,$I$188:$J$211,2,FALSE))","v":""},null,0,{"$f":"IF(F66=\"APORTE DE SOCIOS\",E66,0)","v":0},{"$f":"IF(ISERROR(IF(F66=\"CREDITO\",IF(I66=0,E66,0),0))=TRUE,0,IF(F66=\"CREDITO\",IF(I66=0,E66,0),0))","v":0},{"$f":"IF(F66=\"NO REEMBOLSABLES\",E66,IF(F66=\"DONACIONES\",E66,0))","v":0},null,{"$f":"VLOOKUP(H66,$G$188:$I$203,2,FALSE)","v":{"$error":"#N/A"}},{"$f":"VLOOKUP(F66,$E$188:$F$191,2,FALSE)","v":{"$error":"#N/A"}},{"$f":"VLOOKUP(D66,$A$188:$B$196,2,FALSE)","v":{"$error":"#N/A"}},{"$f":"CONCATENATE(P66,Q66,R66)","v":{"$error":"#N/A"}},{"$f":"IF(I66=0,E66,0)","v":0},{"$f":"VALUE(CONCATENATE(Q66,P66))","v":{"$error":"#N/A"}}]
[{"$nulls":4},{"$f":"+B67*C67","v":0},{"$nulls":3},{"$f":"IF(ISERROR(VLOOKUP(U67,$I$188:$J$211,2,FALSE))=TRUE,\"\",VLOOKUP(U67,$I$188:$J$211,2,FALSE))","v":""},null,0,0,0,0,null,{"$error":"#N/A"},{"$error":"#N/A"},{"$f":"VLOOKUP(D67,$A$188:$B$196,2,FALSE)","v":{"$error":"#N/A"}},{"$error":"#N/A"},0,{"$error":"#N/A"}]
[{"$nulls":4},{"$f":"+B68*C68","v":0},{"$nulls":3},{"$f":"IF(ISERROR(VLOOKUP(U68,$I$188:$J$211,2,FALSE))=TRUE,\"\",VLOOKUP(U68,$I$188:$J$211,2,FALSE))","v":""},null,0,0,0,0,null,{"$error":"#N/A"},{"$error":"#N/A"},{"$f":"VLOOKUP(D68,$A$188:$B$196,2,FALSE)","v":{"$error":"#N/A"}},{"$error":"#N/A"},0,{"$error":"#N/A"}]
[{"$nulls":4},{"$f":"+B69*C69","v":0},{"$nulls":3},{"$f":"IF(ISERROR(VLOOKUP(U69,$I$188:$J$211,2,FALSE))=TRUE,\"\",VLOOKUP(U69,$I$188:$J$211,2,FALSE))","v":""},null,0,0,0,0,null,{"$error":"#N/A"},{"$error":"#N/A"},{"$f":"VLOOKUP(D69,$A$188:$B$196,2,FALSE)","v":{"$error":"#N/A"}},{"$error":"#N/A"},0,{"$error":"#N/A"}]
[{"$nulls":4},{"$f":"+B70*C70","v":0},{"$nulls":3},{"$f":"IF(ISERROR(VLOOKUP(U70,$I$188:$J$211,2,FALSE))=TRUE,\"\",VLOOKUP(U70,$I$188:$J$211,2,FALSE))","v":""},null,0,0,0,0,null,{"$error":"#N/A"},{"$error":"#N/A"},{"$f":"VLOOKUP(D70,$A$188:$B$196,2,FALSE)","v":{"$error":"#N/A"}},{"$error":"#N/A"},0,{"$error":"#N/A"}]
[{"$nulls":3},"CAPITAL DE TRABAJO",{"$f":"+'datos de entrada'!G193","v":0},{"$f":"+'datos de entrada'!H193","v":0},null,{"$f":"+'datos de entrada'!I193","v":{"v":0,"d":"0 "}},{"$nulls":3},0,0,0,{"$f":"IF(H71=\"CREDITO\",G71,0)","v":0},{"$error":"#N/A"},{"$error":"#N/A"},0,{"$error":"#N/A"},0,{"$error":"#N/A"},71]
[{"$nulls":3},"CAPITAL DE TRABAJO",{"$f":"+'datos de entrada'!G194","v":0},{"$f":"+'datos de entrada'!H194","v":0},null,{"$f":"+'datos de entrada'!I194","v":{"v":0,"d":"0 "}},{"$nulls":3},0,0,0,{"$f":"IF(H72=\"CREDITO\",G72,0)","v":0},{"$error":"#N/A"},{"$error":"#N/A"},0,{"$error":"#N/A"},0,{"$error":"#N/A"}]
[{"$nulls":3},"CAPITAL DE TRABAJO",{"$f":"+'datos de entrada'!G195","v":0},{"$f":"+'datos de entrada'!H195","v":0},null,{"$f":"+'datos de entrada'!I195","v":{"v":0,"d":"0 "}},{"$nulls":3},0,0,0,{"$f":"IF(H73=\"CREDITO\",G73,0)","v":0},{"$error":"#N/A"},{"$error":"#N/A"},0,{"$error":"#N/A"},0,{"$error":"#N/A"}]
[{"$nulls":3},"CAPITAL DE TRABAJO",{"$f":"+'datos de entrada'!G196","v":0},{"$f":"+'datos de entrada'!H196","v":0},null,{"$f":"+'datos de entrada'!I196","v":{"v":0,"d":"0 "}},{"$nulls":3},0,0,0,{"$f":"IF(H74=\"CREDITO\",G74,0)","v":0},{"$error":"#N/A"},{"$error":"#N/A"},0,{"$error":"#N/A"},0,{"$error":"#N/A"}]
[{"$nulls":3},"CAPITAL DE TRABAJO",{"$f":"+'datos de entrada'!G197","v":0},{"$f":"+'datos de entrada'!H197","v":0},null,{"$f":"+'datos de entrada'!I197","v":{"v":0,"d":"0 "}},{"$nulls":3},0,0,0,{"$f":"IF(H75=\"CREDITO\",G75,0)","v":0},{"$error":"#N/A"},{"$error":"#N/A"},0,{"$error":"#N/A"},0,{"$error":"#N/A"}]
["depreciacion",1,2,3,4,5,6,7,8,9,10,11,12,1,1.5,2,2.5,3]
["TERRENOS",{"$nulls":17},"AÑO 1","AÑO 2","AÑO 3"]
["EDIFICIOS",{"$f":"+C129/240","v":0},{"$f":"+B78","v":0},{"$f":"+C78","v":0},{"$f":"+D78+D129/240","v":0},{"$f":"+E78","v":0},{"$f":"+F78","v":0},{"$f":"+G78+E129/240","v":0},{"$f":"+H78","v":0},0,{"$f":"+J78+F129/240","v":0},{"$f":"+K78","v":0},{"$f":"+L78","v":0},{"$f":"SUM(B78:M78)","v":0},{"$f":"(G129/240)*6","v":{"v":0,"d":"$ 0"}},{"$f":"(O78+H129/40)","v":{"v":0,"d":"$ 0"}},{"$f":"(I129/240)*6","v":{"v":0,"d":"$ 0"}},{"$f":"(Q78+J129/40)","v":0},{"$f":"+N78","v":0},{"$f":"+O78+P78+M78*12","v":0},{"$f":"+M78*12+O78*6+P78*6+Q78+R78","v":0}]
["MAQUINAS",{"$f":"+C130/120","v":0},{"$f":"+B79","v":0},0,{"$f":"+D79+D130/120","v":0},{"$f":"+E79","v":0},0,{"$f":"+G79+E130/120","v":0},0,0,{"$f":"+J79+F130/120","v":0},{"$f":"+K79","v":0},0,{"$f":"SUM(B79:M79)","v":0},{"$f":"(G130/120)*6","v":{"v":0,"d":"$ 0"}},{"$f":"(O79+H130/20)","v":{"v":0,"d":"$ 0"}},{"$f":"(I130/120)*6","v":{"v":0,"d":"$ 0"}},{"$f":"(Q79+J130/20)","v":0},{"$f":"+N79","v":0},{"$f":"+O79+P79+M79*12","v":0},0]
["EQUIPOS",{"$f":"+C131/60","v":0},0,0,{"$f":"+D80+D131/60","v":0},0,0,{"$f":"+G80+E131/60","v":0},0,0,{"$f":"+J80+F131/60","v":0},0,0,0,{"$f":"(G131/60)*6","v":{"v":0,"d":"$ 0"}},{"$f":"(O80+H131/10)","v":{"v":0,"d":"$ 0"}},{"$f":"(I131/60)*6","v":{"v":0,"d":"$ 0"}},{"$f":"(Q80+J131/10)","v":0},0,{"$f":"+M80*12+O80+P80","v":0},0]
["VEHICULOS",{"$f":"+C132/60","v":0},0,0,{"$f":"+D81+D132/60","v":0},0,0,{"$f":"+G81+E132/60","v":0},0,0,{"$f":"+J81+F132/60","v":0},0,0,0,{"$f":"(G132/60)*6","v":{"v":0,"d":"$ 0"}},{"$f":"(O81+H132/10)","v":{"v":0,"d":"$ 0"}},{"$f":"(I132/60)*6","v":{"v":0,"d":"$ 0"}},{"$f":"(Q81+J132/10)","v":0},0,{"$f":"+O81+P81+M81*12","v":0},0]
["MUEBLES Y ENSERES",{"$f":"+C133/120","v":0},0,0,{"$f":"+D82+D133/120","v":0},0,0,{"$f":"+G82+E133/120","v":0},0,0,{"$f":"+J82+F133/120","v":0},0,0,0,{"$f":"(G133/120)*6","v":{"v":0,"d":"$ 0"}},{"$f":"(O82+H133/20)","v":{"v":0,"d":"$ 0"}},{"$f":"(I133/120)*6","v":{"v":0,"d":"$ 0"}},{"$f":"(Q82+J133/20)","v":0},0,{"$f":"+O82+P82+M82*12","v":0},0]
["HERRAMIENTAS",{"$f":"+C134/12","v":0},0,0,{"$f":"+D83+D134/12","v":0},0,0,{"$f":"+G83+E134/12","v":0},0,0,{"$f":"+J83+F134/12","v":0},0,0,0,{"$f":"(G134/12)*6","v":{"v":0,"d":"$ 0"}},{"$f":"(O83+H134/2)","v":{"v":0,"d":"$ 0"}},{"$f":"(I134/12)*6","v":{"v":0,"d":"$ 0"}},{"$f":"(Q83+J134/2)","v":0},0,{"$f":"+O83+P83+M83*12","v":0},0]
["COMPUTAD. PRODUC.",{"$f":"+C135/36","v":0},0,0,{"$f":"+D84+D135/36","v":0},0,0,{"$f":"+G84+E135/36","v":0},0,0,{"$f":"+J84+F135/36","v":0},0,0,0,{"$f":"(G135/36)*6","v":{"v":0,"d":"$ 0"}},{"$f":"(O84+H135/6)","v":{"v":0,"d":"$ 0"}},{"$f":"(I135/36)*6","v":{"v":0,"d":"$ 0"}},{"$f":"(Q84+J135/6)","v":0},0,{"$f":"+O84+P84+M84*12","v":0},0]
["COMPUTAD. ADMON.",{"$f":"+C136/36","v":0},0,0,{"$f":"+D85+D136/36","v":0},0,0,{"$f":"+G85+E136/36","v":0},0,0,{"$f":"+J85+F136/36","v":0},0,0,0,{"$f":"(G136/36)*6","v":{"v":0,"d":"$ 0"}},{"$f":"(O85+H136/6)","v":{"v":0,"d":"$ 0"}},{"$f":"(I136/36)*6","v":{"v":0,"d":"$ 0"}},{"$f":"(Q85+J136/6)","v":0},0,{"$f":"+O85+P85+M85*12","v":0},0]
[]
[]
[]
[]
[]
[]
["CALCULO DE LA INVERSION",null,1,{"v":1.25,"d":"1"},{"v":1.5,"d":"2"},{"v":1.75,"d":"2"},2,{"v":2.5,"d":"3"},3,{"v":3.5,"d":"4"},{"$nulls":7},{"v":7.5,"d":"8"}]
["aportes",null,11,12,13,14,21,22,31,32,{"$nulls":7},72]
["aportes",1,"Inicio del proyecto","AÑO 1  trimestre 2","AÑO 1  trimestre 3","AÑO 1  trimestre 4","AÑO 2  semestre 1","AÑO 2  semestre 2","AÑO 3  semestre 1","AÑO 3  semestre 2",{"$nulls":8},"total","TOTAL AÑO 1","TOTAL AÑO 2","TOTAL AÑO 3"]
["TERRENOS",{"v":1,"d":"$ 1"},{"$f":"SUMIF('inversion af'!$S$2:$T$70,CONCATENATE(C$93,$B$94,$B95),'inversion af'!$T$2:$T$70)","v":{"v":0,"d":"$ 0"}},{"$f":"SUMIF('inversion af'!$S$2:$T$70,CONCATENATE(D$93,$B$94,$B95),'inversion af'!$T$2:$T$70)","v":{"v":0,"d":"$ 0"}},{"$f":"SUMIF('inversion af'!$S$2:$T$70,CONCATENATE(E$93,B$94,$B95),'inversion af'!$T$2:$T$70)","v":{"v":0,"d":"$ 0"}},{"$f":"SUMIF('inversion af'!$S$2:$T$70,CONCATENATE(F$93,B$94,$B95),'inversion af'!$T$2:$T$70)","v":{"v":0,"d":"$ 0"}},{"$f":"SUMIF('inversion af'!$S$2:$T$70,CONCATENATE(G$93,B$94,$B95),'inversion af'!$T$2:$T$70)","v":{"v":0,"d":"$ 0"}},{"$f":"SUMIF('inversion af'!$S$2:$T$70,CONCATENATE(H$93,B$94,$B95),'inversion af'!$T$2:$T$70)","v":{"v":0,"d":"$ 0"}},{"$f":"SUMIF('inversion af'!$S$2:$T$70,CONCATENATE(I$93,$B$94,$B95),'inversion af'!$T$2:$T$70)","v":{"v":0,"d":"$ 0"}},{"$f":"SUMIF('inversion af'!$S$2:$T$70,CONCATENATE(J$93,$B$94,$B95),'inversion af'!$T$2:$T$70)","v":{"v":0,"d":"$ 0"}},{"$f":"SUM(C95:J95)","v":{"v":0,"d":"$ 0"}},{"$nulls":7},{"$f":"SUM(C95:R95)","v":{"v":0,"d":"$ 0"}},{"$f":"SUM(C95:F95)","v":{"v":0,"d":"$ 0"}},{"$f":"SUM(G95:H95)","v":{"v":0,"d":"$ 0"}},{"$f":"SUM(I95:J95)","v":{"v":0,"d":"$ 0"}}]
["EDIFICIOS",{"v":2,"d":"$ 2"},{"$f":"SUMIF('inversion af'!$S$2:$T$70,CONCATENATE(C$93,$B$94,$B96),'inversion af'!$T$2:$T$70)","v":{"v":0,"d":"$ 0"}},{"$f":"SUMIF('inversion af'!$S$2:$T$70,CONCATENATE(D$93,$B$94,$B96),'inversion af'!$T$2:$T$70)","v":{"v":0,"d":"$ 0"}},{"$f":"SUMIF('inversion af'!$S$2:$T$70,CONCATENATE(E$93,B$94,$B96),'inversion af'!$T$2:$T$70)","v":{"v":0,"d":"$ 0"}},{"$f":"SUMIF('inversion af'!$S$2:$T$70,CONCATENATE(F$93,B$94,$B96),'inversion af'!$T$2:$T$70)","v":{"v":0,"d":"$ 0"}},{"$f":"SUMIF('inversion af'!$S$2:$T$70,CONCATENATE(G$93,B$94,$B96),'inversion af'!$T$2:$T$70)","v":{"v":0,"d":"$ 0"}},{"$f":"SUMIF('inversion af'!$S$2:$T$70,CONCATENATE(H$93,B$94,$B96),'inversion af'!$T$2:$T$70)","v":{"v":0,"d":"$ 0"}},{"$f":"SUMIF('inversion af'!$S$2:$T$70,CONCATENATE(I$93,$B$94,$B96),'inversion af'!$T$2:$T$70)","v":{"v":0,"d":"$ 0"}},{"$f":"SUMIF('inversion af'!$S$2:$T$70,CONCATENATE(J$93,$B$94,$B96),'inversion af'!$T$2:$T$70)","v":{"v":0,"d":"$ 0"}},{"$f":"SUM(C96:J96)","v":{"v":0,"d":"$ 0"}},{"$nulls":7},{"v":0,"d":"$ 0"},{"v":0,"d":"$ 0"},{"v":0,"d":"$ 0"},{"v":0,"d":"$ 0"}]
["MAQUINAS",{"v":3,"d":"$ 3"},{"$f":"SUMIF('inversion af'!$S$2:$T$70,CONCATENATE(C$93,$B$94,$B97),'inversion af'!$T$2:$T$70)","v":{"v":0,"d":"$ 0"}},{"$f":"SUMIF('inversion af'!$S$2:$T$70,CONCATENATE(D$93,$B$94,$B97),'inversion af'!$T$2:$T$70)","v":{"v":0,"d":"$ 0"}},{"$f":"SUMIF('inversion af'!$S$2:$T$70,CONCATENATE(E$93,B$94,$B97),'inversion af'!$T$2:$T$70)","v":{"v":0,"d":"$ 0"}},{"$f":"SUMIF('inversion af'!$S$2:$T$70,CONCATENATE(F$93,B$94,$B97),'inversion af'!$T$2:$T$70)","v":{"v":0,"d":"$ 0"}},{"$f":"SUMIF('inversion af'!$S$2:$T$70,CONCATENATE(G$93,B$94,$B97),'inversion af'!$T$2:$T$70)","v":{"v":0,"d":"$ 0"}},{"$f":"SUMIF('inversion af'!$S$2:$T$70,CONCATENATE(H$93,B$94,$B97),'inversion af'!$T$2:$T$70)","v":{"v":0,"d":"$ 0"}},{"$f":"SUMIF('inversion af'!$S$2:$T$70,CONCATENATE(I$93,$B$94,$B97),'inversion af'!$T$2:$T$70)","v":{"v":0,"d":"$ 0"}},{"$f":"SUMIF('inversion af'!$S$2:$T$70,CONCATENATE(J$93,$B$94,$B97),'inversion af'!$T$2:$T$70)","v":{"v":0,"d":"$ 0"}},{"v":0,"d":"$ 0"},{"$nulls":7},{"v":0,"d":"$ 0"},{"v":0,"d":"$ 0"},{"v":0,"d":"$ 0"},{"v":0,"d":"$ 0"}]
["EQUIPOS",{"v":4,"d":"$ 4"},{"$f":"SUMIF('inversion af'!$S$2:$T$70,CONCATENATE(C$93,$B$94,$B98),'inversion af'!$T$2:$T$70)","v":{"v":0,"d":"$ 0"}},{"$f":"SUMIF('inversion af'!$S$2:$T$70,CONCATENATE(D$93,$B$94,$B98),'inversion af'!$T$2:$T$70)","v":{"v":0,"d":"$ 0"}},{"$f":"SUMIF('inversion af'!$S$2:$T$70,CONCATENATE(E$93,B$94,$B98),'inversion af'!$T$2:$T$70)","v":{"v":0,"d":"$ 0"}},{"$f":"SUMIF('inversion af'!$S$2:$T$70,CONCATENATE(F$93,B$94,$B98),'inversion af'!$T$2:$T$70)","v":{"v":0,"d":"$ 0"}},{"$f":"SUMIF('inversion af'!$S$2:$T$70,CONCATENATE(G$93,B$94,$B98),'inversion af'!$T$2:$T$70)","v":{"v":0,"d":"$ 0"}},{"$f":"SUMIF('inversion af'!$S$2:$T$70,CONCATENATE(H$93,B$94,$B98),'inversion af'!$T$2:$T$70)","v":{"v":0,"d":"$ 0"}},{"$f":"SUMIF('inversion af'!$S$2:$T$70,CONCATENATE(I$93,$B$94,$B98),'inversion af'!$T$2:$T$70)","v":{"v":0,"d":"$ 0"}},{"$f":"SUMIF('inversion af'!$S$2:$T$70,CONCATENATE(J$93,$B$94,$B98),'inversion af'!$T$2:$T$70)","v":{"v":0,"d":"$ 0"}},{"v":0,"d":"$ 0"},{"$nulls":7},{"v":0,"d":"$ 0"},{"v":0,"d":"$ 0"},{"v":0,"d":"$ 0"},{"v":0,"d":"$ 0"}]
["VEHICULOS",{"v":5,"d":"$ 5"},{"$f":"SUMIF('inversion af'!$S$2:$T$70,CONCATENATE(C$93,$B$94,$B99),'inversion af'!$T$2:$T$70)","v":{"v":0,"d":"$ 0"}},{"$f":"SUMIF('inversion af'!$S$2:$T$70,CONCATENATE(D$93,$B$94,$B99),'inversion af'!$T$2:$T$70)","v":{"v":0,"d":"$ 0"}},{"$f":"SUMIF('inversion af'!$S$2:$T$70,CONCATENATE(E$93,B$94,$B99),'inversion af'!$T$2:$T$70)","v":{"v":0,"d":"$ 0"}},{"$f":"SUMIF('inversion af'!$S$2:$T$70,CONCATENATE(F$93,B$94,$B99),'inversion af'!$T$2:$T$70)","v":{"v":0,"d":"$ 0"}},{"$f":"SUMIF('inversion af'!$S$2:$T$70,CONCATENATE(G$93,B$94,$B99),'inversion af'!$T$2:$T$70)","v":{"v":0,"d":"$ 0"}},{"$f":"SUMIF('inversion af'!$S$2:$T$70,CONCATENATE(H$93,B$94,$B99),'inversion af'!$T$2:$T$70)","v":{"v":0,"d":"$ 0"}},{"$f":"SUMIF('inversion af'!$S$2:$T$70,CONCATENATE(I$93,$B$94,$B99),'inversion af'!$T$2:$T$70)","v":{"v":0,"d":"$ 0"}},{"$f":"SUMIF('inversion af'!$S$2:$T$70,CONCATENATE(J$93,$B$94,$B99),'inversion af'!$T$2:$T$70)","v":{"v":0,"d":"$ 0"}},{"v":0,"d":"$ 0"},{"$nulls":7},{"v":0,"d":"$ 0"},{"v":0,"d":"$ 0"},{"v":0,"d":"$ 0"},{"v":0,"d":"$ 0"}]
["MUEBLES Y ENSERES",{"v":6,"d":"$ 6"},{"$f":"SUMIF('inversion af'!$S$2:$T$70,CONCATENATE(C$93,$B$94,$B100),'inversion af'!$T$2:$T$70)","v":{"v":0,"d":"$ 0"}},{"$f":"SUMIF('inversion af'!$S$2:$T$70,CONCATENATE(D$93,$B$94,$B100),'inversion af'!$T$2:$T$70)","v":{"v":0,"d":"$ 0"}},{"$f":"SUMIF('inversion af'!$S$2:$T$70,CONCATENATE(E$93,B$94,$B100),'inversion af'!$T$2:$T$70)","v":{"v":0,"d":"$ 0"}},{"$f":"SUMIF('inversion af'!$S$2:$T$70,CONCATENATE(F$93,B$94,$B100),'inversion af'!$T$2:$T$70)","v":{"v":0,"d":"$ 0"}},{"$f":"SUMIF('inversion af'!$S$2:$T$70,CONCATENATE(G$93,B$94,$B100),'inversion af'!$T$2:$T$70)","v":{"v":0,"d":"$ 0"}},{"$f":"SUMIF('inversion af'!$S$2:$T$70,CONCATENATE(H$93,B$94,$B100),'inversion af'!$T$2:$T$70)","v":{"v":0,"d":"$ 0"}},{"$f":"SUMIF('inversion af'!$S$2:$T$70,CONCATENATE(I$93,$B$94,$B100),'inversion af'!$T$2:$T$70)","v":{"v":0,"d":"$ 0"}},{"$f":"SUMIF('inversion af'!$S$2:$T$70,CONCATENATE(J$93,$B$94,$B100),'inversion af'!$T$2:$T$70)","v":{"v":0,"d":"$ 0"}},{"v":0,"d":"$ 0"},{"$nulls":7},{"v":0,"d":"$ 0"},{"v":0,"d":"$ 0"},{"v":0,"d":"$ 0"},{"v":0,"d":"$ 0"}]
["HERRAMIENTAS",{"v":7,"d":"$ 7"},{"$f":"SUMIF('inversion af'!$S$2:$T$70,CONCATENATE(C$93,$B$94,$B101),'inversion af'!$T$2:$T$70)","v":{"v":0,"d":"$ 0"}},{"$f":"SUMIF('inversion af'!$S$2:$T$70,CONCATENATE(D$93,$B$94,$B101),'inversion af'!$T$2:$T$70)","v":{"v":0,"d":"$ 0"}},{"$f":"SUMIF('inversion af'!$S$2:$T$70,CONCATENATE(E$93,B$94,$B101),'inversion af'!$T$2:$T$70)","v":{"v":0,"d":"$ 0"}},{"$f":"SUMIF('inversion af'!$S$2:$T$70,CONCATENATE(F$93,B$94,$B101),'inversion af'!$T$2:$T$70)","v":{"v":0,"d":"$ 0"}},{"$f":"SUMIF('inversion af'!$S$2:$T$70,CONCATENATE(G$93,B$94,$B101),'inversion af'!$T$2:$T$70)","v":{"v":0,"d":"$ 0"}},{"$f":"SUMIF('inversion af'!$S$2:$T$70,CONCATENATE(H$93,B$94,$B101),'inversion af'!$T$2:$T$70)","v":{"v":0,"d":"$ 0"}},{"$f":"SUMIF('inversion af'!$S$2:$T$70,CONCATENATE(I$93,$B$94,$B101),'inversion af'!$T$2:$T$70)","v":{"v":0,"d":"$ 0"}},{"$f":"SUMIF('inversion af'!$S$2:$T$70,CONCATENATE(J$93,$B$94,$B101),'inversion af'!$T$2:$T$70)","v":{"v":0,"d":"$ 0"}},{"v":0,"d":"$ 0"},{"$nulls":7},{"v":0,"d":"$ 0"},{"v":0,"d":"$ 0"},{"v":0,"d":"$ 0"},{"v":0,"d":"$ 0"}]
["COMPUTAD. PRODUC.",{"v":8,"d":"$ 8"},{"$f":"SUMIF('inversion af'!$S$2:$T$70,CONCATENATE(C$93,$B$94,$B102),'inversion af'!$T$2:$T$70)","v":{"v":0,"d":"$ 0"}},{"$f":"SUMIF('inversion af'!$S$2:$T$70,CONCATENATE(D$93,$B$94,$B102),'inversion af'!$T$2:$T$70)","v":{"v":0,"d":"$ 0"}},{"$f":"SUMIF('inversion af'!$S$2:$T$70,CONCATENATE(E$93,B$94,$B102),'inversion af'!$T$2:$T$70)","v":{"v":0,"d":"$ 0"}},{"$f":"SUMIF('inversion af'!$S$2:$T$70,CONCATENATE(F$93,B$94,$B102),'inversion af'!$T$2:$T$70)","v":{"v":0,"d":"$ 0"}},{"$f":"SUMIF('inversion af'!$S$2:$T$70,CONCATENATE(G$93,B$94,$B102),'inversion af'!$T$2:$T$70)","v":{"v":0,"d":"$ 0"}},{"$f":"SUMIF('inversion af'!$S$2:$T$70,CONCATENATE(H$93,B$94,$B102),'inversion af'!$T$2:$T$70)","v":{"v":0,"d":"$ 0"}},{"$f":"SUMIF('inversion af'!$S$2:$T$70,CONCATENATE(I$93,$B$94,$B102),'inversion af'!$T$2:$T$70)","v":{"v":0,"d":"$ 0"}},{"$f":"SUMIF('inversion af'!$S$2:$T$70,CONCATENATE(J$93,$B$94,$B102),'inversion af'!$T$2:$T$70)","v":{"v":0,"d":"$ 0"}},{"v":0,"d":"$ 0"},{"$nulls":7},{"v":0,"d":"$ 0"},{"v":0,"d":"$ 0"},{"v":0,"d":"$ 0"},{"v":0,"d":"$ 0"}]
["COMPUTAD. ADMON.",{"v":9,"d":"$ 9"},{"$f":"SUMIF('inversion af'!$S$2:$T$70,CONCATENATE(C$93,$B$94,$B103),'inversion af'!$T$2:$T$70)","v":{"v":0,"d":"$ 0"}},{"$f":"SUMIF('inversion af'!$S$2:$T$70,CONCATENATE(D$93,$B$94,$B103),'inversion af'!$T$2:$T$70)","v":{"v":0,"d":"$ 0"}},{"$f":"SUMIF('inversion af'!$S$2:$T$70,CONCATENATE(E$93,B$94,$B103),'inversion af'!$T$2:$T$70)","v":{"v":0,"d":"$ 0"}},{"$f":"SUMIF('inversion af'!$S$2:$T$70,CONCATENATE(F$93,B$94,$B103),'inversion af'!$T$2:$T$70)","v":{"v":0,"d":"$ 0"}},{"$f":"SUMIF('inversion af'!$S$2:$T$70,CONCATENATE(G$93,B$94,$B103),'inversion af'!$T$2:$T$70)","v":{"v":0,"d":"$ 0"}},{"$f":"SUMIF('inversion af'!$S$2:$T$70,CONCATENATE(H$93,B$94,$B103),'inversion af'!$T$2:$T$70)","v":{"v":0,"d":"$ 0"}},{"$f":"SUMIF('inversion af'!$S$2:$T$70,CONCATENATE(I$93,$B$94,$B103),'inversion af'!$T$2:$T$70)","v":{"v":0,"d":"$ 0"}},{"$f":"SUMIF('inversion af'!$S$2:$T$70,CONCATENATE(J$93,$B$94,$B103),'inversion af'!$T$2:$T$70)","v":{"v":0,"d":"$ 0"}},{"v":0,"d":"$ 0"},{"$nulls":7},{"v":0,"d":"$ 0"},{"v":0,"d":"$ 0"},{"v":0,"d":"$ 0"},{"v":0,"d":"$ 0"}]
[null,null,{"$f":"SUM(C95:C103)","v":{"v":0,"d":"$ 0"}},{"v":0,"d":"$ 0"},{"v":0,"d":"$ 0"},{"v":0,"d":"$ 0"},{"v":0,"d":"$ 0"},{"v":0,"d":"$ 0"},{"v":0,"d":"$ 0"},{"v":0,"d":"$ 0"},"recuros de socios",{"$f":"SUM(C104:J104)","v":{"v":0,"d":"$ 0"}},{"$nulls":6},{"$f":"SUM(S95:S103)","v":{"v":0,"d":"$ 0"}},{"$f":"SUM(T95:T103)","v":{"v":0,"d":"$ 0"}},{"$f":"SUM(U95:U103)","v":{"v":0,"d":"$ 0"}},{"$f":"SUM(V95:V103)","v":{"v":0,"d":"$ 0"}}]
["credito",2,2,{"$nulls":16},{"$f":"SUM(T95:T103)","v":0},{"$f":"SUM(U95:U103)","v":0},{"$f":"SUM(V95:V103)","v":0}]
["TERRENOS",{"v":1,"d":"$ 1"},{"$f":"SUMIF('inversion af'!$S$2:$T$70,CONCATENATE(C$93,$B$105,$B106),'inversion af'!$T$2:$T$70)","v":{"v":0,"d":"$ 0"}},{"$f":"SUMIF('inversion af'!$S$2:$T$70,CONCATENATE(D$93,$B$105,$B106),'inversion af'!$T$2:$T$70)","v":{"v":0,"d":"$ 0"}},{"$f":"SUMIF('inversion af'!$S$2:$T$70,CONCATENATE(E$93,$B$105,$B106),'inversion af'!$T$2:$T$70)","v":{"v":0,"d":"$ 0"}},{"$f":"SUMIF('inversion af'!$S$2:$T$70,CONCATENATE(F$93,$B$105,$B106),'inversion af'!$T$2:$T$70)","v":{"v":0,"d":"$ 0"}},{"$f":"SUMIF('inversion af'!$S$2:$T$70,CONCATENATE(G$93,$B$105,$B106),'inversion af'!$T$2:$T$70)","v":{"v":0,"d":"$ 0"}},{"$f":"SUMIF('inversion af'!$S$2:$T$70,CONCATENATE(H$93,$B$105,$B106),'inversion af'!$T$2:$T$70)","v":{"v":0,"d":"$ 0"}},{"$f":"SUMIF('inversion af'!$S$2:$T$70,CONCATENATE(I$93,$B$105,$B106),'inversion af'!$T$2:$T$70)","v":{"v":0,"d":"$ 0"}},{"$f":"SUMIF('inversion af'!$S$2:$T$70,CONCATENATE(J$93,$B$105,$B106),'inversion af'!$T$2:$T$70)","v":{"v":0,"d":"$ 0"}},{"$f":"SUM(C106:J106)","v":{"v":0,"d":"$ 0"}},{"$nulls":7},{"$f":"SUM(C106:R106)","v":{"v":0,"d":"$ 0"}},{"$f":"SUM(C106:F106)","v":{"v":0,"d":"$ 0"}},{"$f":"SUM(G106:H106)","v":{"v":0,"d":"$ 0"}},{"$f":"SUM(I106:J106)","v":{"v":0,"d":"$ 0"}}]
["EDIFICIOS",{"v":2,"d":"$ 2"},{"$f":"SUMIF('inversion af'!$S$2:$T$70,CONCATENATE(C$93,$B$105,$B107),'inversion af'!$T$2:$T$70)","v":{"v":0,"d":"$ 0"}},{"$f":"SUMIF('inversion af'!$S$2:$T$70,CONCATENATE(D$93,$B$105,$B107),'inversion af'!$T$2:$T$70)","v":{"v":0,"d":"$ 0"}},{"$f":"SUMIF('inversion af'!$S$2:$T$70,CONCATENATE(E$93,$B$105,$B107),'inversion af'!$T$2:$T$70)","v":{"v":0,"d":"$ 0"}},{"$f":"SUMIF('inversion af'!$S$2:$T$70,CONCATENATE(F$93,$B$105,$B107),'inversion af'!$T$2:$T$70)","v":{"v":0,"d":"$ 0"}},{"$f":"SUMIF('inversion af'!$S$2:$T$70,CONCATENATE(G$93,$B$105,$B107),'inversion af'!$T$2:$T$70)","v":{"v":0,"d":"$ 0"}},{"$f":"SUMIF('inversion af'!$S$2:$T$70,CONCATENATE(H$93,$B$105,$B107),'inversion af'!$T$2:$T$70)","v":{"v":0,"d":"$ 0"}},{"$f":"SUMIF('inversion af'!$S$2:$T$70,CONCATENATE(I$93,$B$105,$B107),'inversion af'!$T$2:$T$70)","v":{"v":0,"d":"$ 0"}},{"$f":"SUMIF('inversion af'!$S$2:$T$70,CONCATENATE(J$93,$B$105,$B107),'inversion af'!$T$2:$T$70)","v":{"v":0,"d":"$ 0"}},{"$f":"SUM(C107:J107)","v":{"v":0,"d":"$ 0"}},{"$nulls":7},{"v":0,"d":"$ 0"},{"v":0,"d":"$ 0"},{"v":0,"d":"$ 0"},{"v":0,"d":"$ 0"}]
["MAQUINAS",{"v":3,"d":"$ 3"},{"$f":"SUMIF('inversion af'!$S$2:$T$70,CONCATENATE(C$93,$B$105,$B108),'inversion af'!$T$2:$T$70)","v":{"v":0,"d":"$ 0"}},{"$f":"SUMIF('inversion af'!$S$2:$T$70,CONCATENATE(D$93,$B$105,$B108),'inversion af'!$T$2:$T$70)","v":{"v":0,"d":"$ 0"}},{"$f":"SUMIF('inversion af'!$S$2:$T$70,CONCATENATE(E$93,$B$105,$B108),'inversion af'!$T$2:$T$70)","v":{"v":0,"d":"$ 0"}},{"$f":"SUMIF('inversion af'!$S$2:$T$70,CONCATENATE(F$93,$B$105,$B108),'inversion af'!$T$2:$T$70)","v":{"v":0,"d":"$ 0"}},{"$f":"SUMIF('inversion af'!$S$2:$T$70,CONCATENATE(G$93,$B$105,$B108),'inversion af'!$T$2:$T$70)","v":{"v":0,"d":"$ 0"}},{"$f":"SUMIF('inversion af'!$S$2:$T$70,CONCATENATE(H$93,$B$105,$B108),'inversion af'!$T$2:$T$70)","v":{"v":0,"d":"$ 0"}},{"$f":"SUMIF('inversion af'!$S$2:$T$70,CONCATENATE(I$93,$B$105,$B108),'inversion af'!$T$2:$T$70)","v":{"v":0,"d":"$ 0"}},{"$f":"SUMIF('inversion af'!$S$2:$T$70,CONCATENATE(J$93,$B$105,$B108),'inversion af'!$T$2:$T$70)","v":{"v":0,"d":"$ 0"}},{"v":0,"d":"$ 0"},{"$nulls":7},{"v":0,"d":"$ 0"},{"v":0,"d":"$ 0"},{"v":0,"d":"$ 0"},{"v":0,"d":"$ 0"}]
["EQUIPOS",{"v":4,"d":"$ 4"},{"$f":"SUMIF('inversion af'!$S$2:$T$70,CONCATENATE(C$93,$B$105,$B109),'inversion af'!$T$2:$T$70)","v":{"v":0,"d":"$ 0"}},{"$f":"SUMIF('inversion af'!$S$2:$T$70,CONCATENATE(D$93,$B$105,$B109),'inversion af'!$T$2:$T$70)","v":{"v":0,"d":"$ 0"}},{"$f":"SUMIF('inversion af'!$S$2:$T$70,CONCATENATE(E$93,$B$105,$B109),'inversion af'!$T$2:$T$70)","v":{"v":0,"d":"$ 0"}},{"$f":"SUMIF('inversion af'!$S$2:$T$70,CONCATENATE(F$93,$B$105,$B109),'inversion af'!$T$2:$T$70)","v":{"v":0,"d":"$ 0"}},{"$f":"SUMIF('inversion af'!$S$2:$T$70,CONCATENATE(G$93,$B$105,$B109),'inversion af'!$T$2:$T$70)","v":{"v":0,"d":"$ 0"}},{"$f":"SUMIF('inversion af'!$S$2:$T$70,CONCATENATE(H$93,$B$105,$B109),'inversion af'!$T$2:$T$70)","v":{"v":0,"d":"$ 0"}},{"$f":"SUMIF('inversion af'!$S$2:$T$70,CONCATENATE(I$93,$B$105,$B109),'inversion af'!$T$2:$T$70)","v":{"v":0,"d":"$ 0"}},{"$f":"SUMIF('inversion af'!$S$2:$T$70,CONCATENATE(J$93,$B$105,$B109),'inversion af'!$T$2:$T$70)","v":{"v":0,"d":"$ 0"}},{"v":0,"d":"$ 0"},{"$nulls":7},{"v":0,"d":"$ 0"},{"v":0,"d":"$ 0"},{"v":0,"d":"$ 0"},{"v":0,"d":"$ 0"}]
["VEHICULOS",{"v":5,"d":"$ 5"},{"$f":"SUMIF('inversion af'!$S$2:$T$70,CONCATENATE(C$93,$B$105,$B110),'inversion af'!$T$2:$T$70)","v":{"v":0,"d":"$ 0"}},{"$f":"SUMIF('inversion af'!$S$2:$T$70,CONCATENATE(D$93,$B$105,$B110),'inversion af'!$T$2:$T$70)","v":{"v":0,"d":"$ 0"}},{"$f":"SUMIF('inversion af'!$S$2:$T$70,CONCATENATE(E$93,$B$105,$B110),'inversion af'!$T$2:$T$70)","v":{"v":0,"d":"$ 0"}},{"$f":"SUMIF('inversion af'!$S$2:$T$70,CONCATENATE(F$93,$B$105,$B110),'inversion af'!$T$2:$T$70)","v":{"v":0,"d":"$ 0"}},{"$f":"SUMIF('inversion af'!$S$2:$T$70,CONCATENATE(G$93,$B$105,$B110),'inversion af'!$T$2:$T$70)","v":{"v":0,"d":"$ 0"}},{"$f":"SUMIF('inversion af'!$S$2:$T$70,CONCATENATE(H$93,$B$105,$B110),'inversion af'!$T$2:$T$70)","v":{"v":0,"d":"$ 0"}},{"$f":"SUMIF('inversion af'!$S$2:$T$70,CONCATENATE(I$93,$B$105,$B110),'inversion af'!$T$2:$T$70)","v":{"v":0,"d":"$ 0"}},{"$f":"SUMIF('inversion af'!$S$2:$T$70,CONCATENATE(J$93,$B$105,$B110),'inversion af'!$T$2:$T$70)","v":{"v":0,"d":"$ 0"}},{"v":0,"d":"$ 0"},{"$nulls":7},{"v":0,"d":"$ 0"},{"v":0,"d":"$ 0"},{"v":0,"d":"$ 0"},{"v":0,"d":"$ 0"}]
["MUEBLES Y ENSERES",{"v":6,"d":"$ 6"},{"$f":"SUMIF('inversion af'!$S$2:$T$70,CONCATENATE(C$93,$B$105,$B111),'inversion af'!$T$2:$T$70)","v":{"v":0,"d":"$ 0"}},{"$f":"SUMIF('inversion af'!$S$2:$T$70,CONCATENATE(D$93,$B$105,$B111),'inversion af'!$T$2:$T$70)","v":{"v":0,"d":"$ 0"}},{"$f":"SUMIF('inversion af'!$S$2:$T$70,CONCATENATE(E$93,$B$105,$B111),'inversion af'!$T$2:$T$70)","v":{"v":0,"d":"$ 0"}},{"$f":"SUMIF('inversion af'!$S$2:$T$70,CONCATENATE(F$93,$B$105,$B111),'inversion af'!$T$2:$T$70)","v":{"v":0,"d":"$ 0"}},{"$f":"SUMIF('inversion af'!$S$2:$T$70,CONCATENATE(G$93,$B$105,$B111),'inversion af'!$T$2:$T$70)","v":{"v":0,"d":"$ 0"}},{"$f":"SUMIF('inversion af'!$S$2:$T$70,CONCATENATE(H$93,$B$105,$B111),'inversion af'!$T$2:$T$70)","v":{"v":0,"d":"$ 0"}},{"$f":"SUMIF('inversion af'!$S$2:$T$70,CONCATENATE(I$93,$B$105,$B111),'inversion af'!$T$2:$T$70)","v":{"v":0,"d":"$ 0"}},{"$f":"SUMIF('inversion af'!$S$2:$T$70,CONCATENATE(J$93,$B$105,$B111),'inversion af'!$T$2:$T$70)","v":{"v":0,"d":"$ 0"}},{"v":0,"d":"$ 0"},{"$nulls":7},{"v":0,"d":"$ 0"},{"v":0,"d":"$ 0"},{"v":0,"d":"$ 0"},{"v":0,"d":"$ 0"}]
["HERRAMIENTAS",{"v":7,"d":"$ 7"},{"$f":"SUMIF('inversion af'!$S$2:$T$70,CONCATENATE(C$93,$B$105,$B112),'inversion af'!$T$2:$T$70)","v":{"v":0,"d":"$ 0"}},{"$f":"SUMIF('inversion af'!$S$2:$T$70,CONCATENATE(D$93,$B$105,$B112),'inversion af'!$T$2:$T$70)","v":{"v":0,"d":"$ 0"}},{"$f":"SUMIF('inversion af'!$S$2:$T$70,CONCATENATE(E$93,$B$105,$B112),'inversion af'!$T$2:$T$70)","v":{"v":0,"d":"$ 0"}},{"$f":"SUMIF('inversion af'!$S$2:$T$70,CONCATENATE(F$93,$B$105,$B112),'inversion af'!$T$2:$T$70)","v":{"v":0,"d":"$ 0"}},{"$f":"SUMIF('inversion af'!$S$2:$T$70,CONCATENATE(G$93,$B$105,$B112),'inversion af'!$T$2:$T$70)","v":{"v":0,"d":"$ 0"}},{"$f":"SUMIF('inversion af'!$S$2:$T$70,CONCATENATE(H$93,$B$105,$B112),'inversion af'!$T$2:$T$70)","v":{"v":0,"d":"$ 0"}},{"$f":"SUMIF('inversion af'!$S$2:$T$70,CONCATENATE(I$93,$B$105,$B112),'inversion af'!$T$2:$T$70)","v":{"v":0,"d":"$ 0"}},{"$f":"SUMIF('inversion af'!$S$2:$T$70,CONCATENATE(J$93,$B$105,$B112),'inversion af'!$T$2:$T$70)","v":{"v":0,"d":"$ 0"}},{"v":0,"d":"$ 0"},{"$nulls":7},{"v":0,"d":"$ 0"},{"v":0,"d":"$ 0"},{"v":0,"d":"$ 0"},{"v":0,"d":"$ 0"}]
["COMPUTAD. PRODUC.",{"v":8,"d":"$ 8"},{"$f":"SUMIF('inversion af'!$S$2:$T$70,CONCATENATE(C$93,$B$105,$B113),'inversion af'!$T$2:$T$70)","v":{"v":0,"d":"$ 0"}},{"$f":"SUMIF('inversion af'!$S$2:$T$70,CONCATENATE(D$93,$B$105,$B113),'inversion af'!$T$2:$T$70)","v":{"v":0,"d":"$ 0"}},{"$f":"SUMIF('inversion af'!$S$2:$T$70,CONCATENATE(E$93,$B$105,$B113),'inversion af'!$T$2:$T$70)","v":{"v":0,"d":"$ 0"}},{"$f":"SUMIF('inversion af'!$S$2:$T$70,CONCATENATE(F$93,$B$105,$B113),'inversion af'!$T$2:$T$70)","v":{"v":0,"d":"$ 0"}},{"$f":"SUMIF('inversion af'!$S$2:$T$70,CONCATENATE(G$93,$B$105,$B113),'inversion af'!$T$2:$T$70)","v":{"v":0,"d":"$ 0"}},{"$f":"SUMIF('inversion af'!$S$2:$T$70,CONCATENATE(H$93,$B$105,$B113),'inversion af'!$T$2:$T$70)","v":{"v":0,"d":"$ 0"}},{"$f":"SUMIF('inversion af'!$S$2:$T$70,CONCATENATE(I$93,$B$105,$B113),'inversion af'!$T$2:$T$70)","v":{"v":0,"d":"$ 0"}},{"$f":"SUMIF('inversion af'!$S$2:$T$70,CONCATENATE(J$93,$B$105,$B113),'inversion af'!$T$2:$T$70)","v":{"v":0,"d":"$ 0"}},{"v":0,"d":"$ 0"},{"$nulls":7},{"v":0,"d":"$ 0"},{"v":0,"d":"$ 0"},{"v":0,"d":"$ 0"},{"v":0,"d":"$ 0"}]
["COMPUTAD. ADMON.",{"v":9,"d":"$ 9"},{"$f":"SUMIF('inversion af'!$S$2:$T$70,CONCATENATE(C$93,$B$105,$B114),'inversion af'!$T$2:$T$70)","v":{"v":0,"d":"$ 0"}},{"$f":"SUMIF('inversion af'!$S$2:$T$70,CONCATENATE(D$93,$B$105,$B114),'inversion af'!$T$2:$T$70)","v":{"v":0,"d":"$ 0"}},{"$f":"SUMIF('inversion af'!$S$2:$T$70,CONCATENATE(E$93,$B$105,$B114),'inversion af'!$T$2:$T$70)","v":{"v":0,"d":"$ 0"}},{"$f":"SUMIF('inversion af'!$S$2:$T$70,CONCATENATE(F$93,$B$105,$B114),'inversion af'!$T$2:$T$70)","v":{"v":0,"d":"$ 0"}},{"$f":"SUMIF('inversion af'!$S$2:$T$70,CONCATENATE(G$93,$B$105,$B114),'inversion af'!$T$2:$T$70)","v":{"v":0,"d":"$ 0"}},{"$f":"SUMIF('inversion af'!$S$2:$T$70,CONCATENATE(H$93,$B$105,$B114),'inversion af'!$T$2:$T$70)","v":{"v":0,"d":"$ 0"}},{"$f":"SUMIF('inversion af'!$S$2:$T$70,CONCATENATE(I$93,$B$105,$B114),'inversion af'!$T$2:$T$70)","v":{"v":0,"d":"$ 0"}},{"$f":"SUMIF('inversion af'!$S$2:$T$70,CONCATENATE(J$93,$B$105,$B114),'inversion af'!$T$2:$T$70)","v":{"v":0,"d":"$ 0"}},{"v":0,"d":"$ 0"},{"$nulls":7},{"v":0,"d":"$ 0"},{"v":0,"d":"$ 0"},{"v":0,"d":"$ 0"},{"v":0,"d":"$ 0"}]
[null,null,{"$f":"SUM(C106:C114)","v":{"v":0,"d":"$ 0"}},{"v":0,"d":"$ 0"},{"v":0,"d":"$ 0"},{"v":0,"d":"$ 0"},{"v":0,"d":"$ 0"},{"v":0,"d":"$ 0"},{"v":0,"d":"$ 0"},{"v":0,"d":"$ 0"},"credito",{"$f":"SUM(C115:J115)","v":{"v":0,"d":"$ 0"}},{"$nulls":6},{"$f":"SUM(S106:S114)","v":{"v":0,"d":"$ 0"}},{"$f":"SUM(T106:T114)","v":{"v":0,"d":"$ 0"}},{"$f":"SUM(U106:U114)","v":{"v":0,"d":"$ 0"}},{"$f":"SUM(V106:V114)","v":{"v":0,"d":"$ 0"}}]
["No reembolsables y donaciones",3,3,{"$nulls":16},{"$f":"SUM(T106:T114)","v":0},{"$f":"SUM(U106:U114)","v":0},{"$f":"SUM(V106:V114)","v":0}]
["TERRENOS",{"v":1,"d":"$ 1"},{"$f":"SUMIF('inversion af'!$S$2:$T$70,CONCATENATE(C$93,$B$116,$B117),'inversion af'!$T$2:$T$70)","v":{"v":0,"d":"$ 0"}},{"$f":"SUMIF('inversion af'!$S$2:$T$70,CONCATENATE(D$93,$B$116,$B117),'inversion af'!$T$2:$T$70)","v":{"v":0,"d":"$ 0"}},{"$f":"SUMIF('inversion af'!$S$2:$T$70,CONCATENATE(E$93,$B$116,$B117),'inversion af'!$T$2:$T$70)","v":{"v":0,"d":"$ 0"}},{"$f":"SUMIF('inversion af'!$S$2:$T$70,CONCATENATE(F$93,$B$116,$B117),'inversion af'!$T$2:$T$70)","v":{"v":0,"d":"$ 0"}},{"$f":"SUMIF('inversion af'!$S$2:$T$70,CONCATENATE(G$93,$B$116,$B117),'inversion af'!$T$2:$T$70)","v":{"v":0,"d":"$ 0"}},{"$f":"SUMIF('inversion af'!$S$2:$T$70,CONCATENATE(H$93,$B$116,$B117),'inversion af'!$T$2:$T$70)","v":{"v":0,"d":"$ 0"}},{"$f":"SUMIF('inversion af'!$S$2:$T$70,CONCATENATE(I$93,$B$116,$B117),'inversion af'!$T$2:$T$70)","v":{"v":0,"d":"$ 0"}},{"$f":"SUMIF('inversion af'!$S$2:$T$70,CONCATENATE(J$93,$B$116,$B117),'inversion af'!$T$2:$T$70)","v":{"v":0,"d":"$ 0"}},{"$f":"SUM(C117:J117)","v":{"v":0,"d":"$ 0"}},{"$nulls":7},{"$f":"SUM(C117:R117)","v":{"v":0,"d":"$ 0"}},{"$f":"SUM(C117:F117)","v":{"v":0,"d":"$ 0"}},{"$f":"SUM(G117:H117)","v":{"v":0,"d":"$ 0"}},{"$f":"SUM(I117:J117)","v":{"v":0,"d":"$ 0"}}]
["EDIFICIOS",{"v":2,"d":"$ 2"},{"$f":"SUMIF('inversion af'!$S$2:$T$70,CONCATENATE(C$93,$B$116,$B118),'inversion af'!$T$2:$T$70)","v":{"v":0,"d":"$ 0"}},{"$f":"SUMIF('inversion af'!$S$2:$T$70,CONCATENATE(D$93,$B$116,$B118),'inversion af'!$T$2:$T$70)","v":{"v":0,"d":"$ 0"}},{"$f":"SUMIF('inversion af'!$S$2:$T$70,CONCATENATE(E$93,$B$116,$B118),'inversion af'!$T$2:$T$70)","v":{"v":0,"d":"$ 0"}},{"$f":"SUMIF('inversion af'!$S$2:$T$70,CONCATENATE(F$93,$B$116,$B118),'inversion af'!$T$2:$T$70)","v":{"v":0,"d":"$ 0"}},{"$f":"SUMIF('inversion af'!$S$2:$T$70,CONCATENATE(G$93,$B$116,$B118),'inversion af'!$T$2:$T$70)","v":{"v":0,"d":"$ 0"}},{"$f":"SUMIF('inversion af'!$S$2:$T$70,CONCATENATE(H$93,$B$116,$B118),'inversion af'!$T$2:$T$70)","v":{"v":0,"d":"$ 0"}},{"$f":"SUMIF('inversion af'!$S$2:$T$70,CONCATENATE(I$93,$B$116,$B118),'inversion af'!$T$2:$T$70)","v":{"v":0,"d":"$ 0"}},{"$f":"SUMIF('inversion af'!$S$2:$T$70,CONCATENATE(J$93,$B$116,$B118),'inversion af'!$T$2:$T$70)","v":{"v":0,"d":"$ 0"}},{"$f":"SUM(C118:J118)","v":{"v":0,"d":"$ 0"}},{"$nulls":7},{"v":0,"d":"$ 0"},{"v":0,"d":"$ 0"},{"v":0,"d":"$ 0"},{"v":0,"d":"$ 0"}]
["MAQUINAS",{"v":3,"d":"$ 3"},{"$f":"SUMIF('inversion af'!$S$2:$T$70,CONCATENATE(C$93,$B$116,$B119),'inversion af'!$T$2:$T$70)","v":{"v":0,"d":"$ 0"}},{"$f":"SUMIF('inversion af'!$S$2:$T$70,CONCATENATE(D$93,$B$116,$B119),'inversion af'!$T$2:$T$70)","v":{"v":0,"d":"$ 0"}},{"$f":"SUMIF('inversion af'!$S$2:$T$70,CONCATENATE(E$93,$B$116,$B119),'inversion af'!$T$2:$T$70)","v":{"v":0,"d":"$ 0"}},{"$f":"SUMIF('inversion af'!$S$2:$T$70,CONCATENATE(F$93,$B$116,$B119),'inversion af'!$T$2:$T$70)","v":{"v":0,"d":"$ 0"}},{"$f":"SUMIF('inversion af'!$S$2:$T$70,CONCATENATE(G$93,$B$116,$B119),'inversion af'!$T$2:$T$70)","v":{"v":0,"d":"$ 0"}},{"$f":"SUMIF('inversion af'!$S$2:$T$70,CONCATENATE(H$93,$B$116,$B119),'inversion af'!$T$2:$T$70)","v":{"v":0,"d":"$ 0"}},{"$f":"SUMIF('inversion af'!$S$2:$T$70,CONCATENATE(I$93,$B$116,$B119),'inversion af'!$T$2:$T$70)","v":{"v":0,"d":"$ 0"}},{"$f":"SUMIF('inversion af'!$S$2:$T$70,CONCATENATE(J$93,$B$116,$B119),'inversion af'!$T$2:$T$70)","v":{"v":0,"d":"$ 0"}},{"v":0,"d":"$ 0"},{"$nulls":7},{"v":0,"d":"$ 0"},{"v":0,"d":"$ 0"},{"v":0,"d":"$ 0"},{"v":0,"d":"$ 0"}]
["EQUIPOS",{"v":4,"d":"$ 4"},{"$f":"SUMIF('inversion af'!$S$2:$T$70,CONCATENATE(C$93,$B$116,$B120),'inversion af'!$T$2:$T$70)","v":{"v":0,"d":"$ 0"}},{"$f":"SUMIF('inversion af'!$S$2:$T$70,CONCATENATE(D$93,$B$116,$B120),'inversion af'!$T$2:$T$70)","v":{"v":0,"d":"$ 0"}},{"$f":"SUMIF('inversion af'!$S$2:$T$70,CONCATENATE(E$93,$B$116,$B120),'inversion af'!$T$2:$T$70)","v":{"v":0,"d":"$ 0"}},{"$f":"SUMIF('inversion af'!$S$2:$T$70,CONCATENATE(F$93,$B$116,$B120),'inversion af'!$T$2:$T$70)","v":{"v":0,"d":"$ 0"}},{"$f":"SUMIF('inversion af'!$S$2:$T$70,CONCATENATE(G$93,$B$116,$B120),'inversion af'!$T$2:$T$70)","v":{"v":0,"d":"$ 0"}},{"$f":"SUMIF('inversion af'!$S$2:$T$70,CONCATENATE(H$93,$B$116,$B120),'inversion af'!$T$2:$T$70)","v":{"v":0,"d":"$ 0"}},{"$f":"SUMIF('inversion af'!$S$2:$T$70,CONCATENATE(I$93,$B$116,$B120),'inversion af'!$T$2:$T$70)","v":{"v":0,"d":"$ 0"}},{"$f":"SUMIF('inversion af'!$S$2:$T$70,CONCATENATE(J$93,$B$116,$B120),'inversion af'!$T$2:$T$70)","v":{"v":0,"d":"$ 0"}},{"v":0,"d":"$ 0"},{"$nulls":7},{"v":0,"d":"$ 0"},{"v":0,"d":"$ 0"},{"v":0,"d":"$ 0"},{"v":0,"d":"$ 0"}]
["VEHICULOS",{"v":5,"d":"$ 5"},{"$f":"SUMIF('inversion af'!$S$2:$T$70,CONCATENATE(C$93,$B$116,$B121),'inversion af'!$T$2:$T$70)","v":{"v":0,"d":"$ 0"}},{"$f":"SUMIF('inversion af'!$S$2:$T$70,CONCATENATE(D$93,$B$116,$B121),'inversion af'!$T$2:$T$70)","v":{"v":0,"d":"$ 0"}},{"$f":"SUMIF('inversion af'!$S$2:$T$70,CONCATENATE(E$93,$B$116,$B121),'inversion af'!$T$2:$T$70)","v":{"v":0,"d":"$ 0"}},{"$f":"SUMIF('inversion af'!$S$2:$T$70,CONCATENATE(F$93,$B$116,$B121),'inversion af'!$T$2:$T$70)","v":{"v":0,"d":"$ 0"}},{"$f":"SUMIF('inversion af'!$S$2:$T$70,CONCATENATE(G$93,$B$116,$B121),'inversion af'!$T$2:$T$70)","v":{"v":0,"d":"$ 0"}},{"$f":"SUMIF('inversion af'!$S$2:$T$70,CONCATENATE(H$93,$B$116,$B121),'inversion af'!$T$2:$T$70)","v":{"v":0,"d":"$ 0"}},{"$f":"SUMIF('inversion af'!$S$2:$T$70,CONCATENATE(I$93,$B$116,$B121),'inversion af'!$T$2:$T$70)","v":{"v":0,"d":"$ 0"}},{"$f":"SUMIF('inversion af'!$S$2:$T$70,CONCATENATE(J$93,$B$116,$B121),'inversion af'!$T$2:$T$70)","v":{"v":0,"d":"$ 0"}},{"v":0,"d":"$ 0"},{"$nulls":7},{"v":0,"d":"$ 0"},{"v":0,"d":"$ 0"},{"v":0,"d":"$ 0"},{"v":0,"d":"$ 0"}]
["MUEBLES Y ENSERES",{"v":6,"d":"$ 6"},{"$f":"SUMIF('inversion af'!$S$2:$T$70,CONCATENATE(C$93,$B$116,$B122),'inversion af'!$T$2:$T$70)","v":{"v":0,"d":"$ 0"}},{"$f":"SUMIF('inversion af'!$S$2:$T$70,CONCATENATE(D$93,$B$116,$B122),'inversion af'!$T$2:$T$70)","v":{"v":0,"d":"$ 0"}},{"$f":"SUMIF('inversion af'!$S$2:$T$70,CONCATENATE(E$93,$B$116,$B122),'inversion af'!$T$2:$T$70)","v":{"v":0,"d":"$ 0"}},{"$f":"SUMIF('inversion af'!$S$2:$T$70,CONCATENATE(F$93,$B$116,$B122),'inversion af'!$T$2:$T$70)","v":{"v":0,"d":"$ 0"}},{"$f":"SUMIF('inversion af'!$S$2:$T$70,CONCATENATE(G$93,$B$116,$B122),'inversion af'!$T$2:$T$70)","v":{"v":0,"d":"$ 0"}},{"$f":"SUMIF('inversion af'!$S$2:$T$70,CONCATENATE(H$93,$B$116,$B122),'inversion af'!$T$2:$T$70)","v":{"v":0,"d":"$ 0"}},{"$f":"SUMIF('inversion af'!$S$2:$T$70,CONCATENATE(I$93,$B$116,$B122),'inversion af'!$T$2:$T$70)","v":{"v":0,"d":"$ 0"}},{"$f":"SUMIF('inversion af'!$S$2:$T$70,CONCATENATE(J$93,$B$116,$B122),'inversion af'!$T$2:$T$70)","v":{"v":0,"d":"$ 0"}},{"v":0,"d":"$ 0"},{"$nulls":7},{"v":0,"d":"$ 0"},{"v":0,"d":"$ 0"},{"v":0,"d":"$ 0"},{"v":0,"d":"$ 0"}]
["HERRAMIENTAS",{"v":7,"d":"$ 7"},{"$f":"SUMIF('inversion af'!$S$2:$T$70,CONCATENATE(C$93,$B$116,$B123),'inversion af'!$T$2:$T$70)","v":{"v":0,"d":"$ 0"}},{"$f":"SUMIF('inversion af'!$S$2:$T$70,CONCATENATE(D$93,$B$116,$B123),'inversion af'!$T$2:$T$70)","v":{"v":0,"d":"$ 0"}},{"$f":"SUMIF('inversion af'!$S$2:$T$70,CONCATENATE(E$93,$B$116,$B123),'inversion af'!$T$2:$T$70)","v":{"v":0,"d":"$ 0"}},{"$f":"SUMIF('inversion af'!$S$2:$T$70,CONCATENATE(F$93,$B$116,$B123),'inversion af'!$T$2:$T$70)","v":{"v":0,"d":"$ 0"}},{"$f":"SUMIF('inversion af'!$S$2:$T$70,CONCATENATE(G$93,$B$116,$B123),'inversion af'!$T$2:$T$70)","v":{"v":0,"d":"$ 0"}},{"$f":"SUMIF('inversion af'!$S$2:$T$70,CONCATENATE(H$93,$B$116,$B123),'inversion af'!$T$2:$T$70)","v":{"v":0,"d":"$ 0"}},{"$f":"SUMIF('inversion af'!$S$2:$T$70,CONCATENATE(I$93,$B$116,$B123),'inversion af'!$T$2:$T$70)","v":{"v":0,"d":"$ 0"}},{"$f":"SUMIF('inversion af'!$S$2:$T$70,CONCATENATE(J$93,$B$116,$B123),'inversion af'!$T$2:$T$70)","v":{"v":0,"d":"$ 0"}},{"v":0,"d":"$ 0"},{"$nulls":7},{"v":0,"d":"$ 0"},{"v":0,"d":"$ 0"},{"v":0,"d":"$ 0"},{"v":0,"d":"$ 0"}]
["COMPUTAD. PRODUC.",{"v":8,"d":"$ 8"},{"$f":"SUMIF('inversion af'!$S$2:$T$70,CONCATENATE(C$93,$B$116,$B124),'inversion af'!$T$2:$T$70)","v":{"v":0,"d":"$ 0"}},{"$f":"SUMIF('inversion af'!$S$2:$T$70,CONCATENATE(D$93,$B$116,$B124),'inversion af'!$T$2:$T$70)","v":{"v":0,"d":"$ 0"}},{"$f":"SUMIF('inversion af'!$S$2:$T$70,CONCATENATE(E$93,$B$116,$B124),'inversion af'!$T$2:$T$70)","v":{"v":0,"d":"$ 0"}},{"$f":"SUMIF('inversion af'!$S$2:$T$70,CONCATENATE(F$93,$B$116,$B124),'inversion af'!$T$2:$T$70)","v":{"v":0,"d":"$ 0"}},{"$f":"SUMIF('inversion af'!$S$2:$T$70,CONCATENATE(G$93,$B$116,$B124),'inversion af'!$T$2:$T$70)","v":{"v":0,"d":"$ 0"}},{"$f":"SUMIF('inversion af'!$S$2:$T$70,CONCATENATE(H$93,$B$116,$B124),'inversion af'!$T$2:$T$70)","v":{"v":0,"d":"$ 0"}},{"$f":"SUMIF('inversion af'!$S$2:$T$70,CONCATENATE(I$93,$B$116,$B124),'inversion af'!$T$2:$T$70)","v":{"v":0,"d":"$ 0"}},{"$f":"SUMIF('inversion af'!$S$2:$T$70,CONCATENATE(J$93,$B$116,$B124),'inversion af'!$T$2:$T$70)","v":{"v":0,"d":"$ 0"}},{"v":0,"d":"$ 0"},{"$nulls":7},{"v":0,"d":"$ 0"},{"v":0,"d":"$ 0"},{"v":0,"d":"$ 0"},{"v":0,"d":"$ 0"}]
["COMPUTAD. ADMON.",{"v":9,"d":"$ 9"},{"$f":"SUMIF('inversion af'!$S$2:$T$70,CONCATENATE(C$93,$B$116,$B125),'inversion af'!$T$2:$T$70)","v":{"v":0,"d":"$ 0"}},{"$f":"SUMIF('inversion af'!$S$2:$T$70,CONCATENATE(D$93,$B$116,$B125),'inversion af'!$T$2:$T$70)","v":{"v":0,"d":"$ 0"}},{"$f":"SUMIF('inversion af'!$S$2:$T$70,CONCATENATE(E$93,$B$116,$B125),'inversion af'!$T$2:$T$70)","v":{"v":0,"d":"$ 0"}},{"$f":"SUMIF('inversion af'!$S$2:$T$70,CONCATENATE(F$93,$B$116,$B125),'inversion af'!$T$2:$T$70)","v":{"v":0,"d":"$ 0"}},{"$f":"SUMIF('inversion af'!$S$2:$T$70,CONCATENATE(G$93,$B$116,$B125),'inversion af'!$T$2:$T$70)","v":{"v":0,"d":"$ 0"}},{"$f":"SUMIF('inversion af'!$S$2:$T$70,CONCATENATE(H$93,$B$116,$B125),'inversion af'!$T$2:$T$70)","v":{"v":0,"d":"$ 0"}},{"$f":"SUMIF('inversion af'!$S$2:$T$70,CONCATENATE(I$93,$B$116,$B125),'inversion af'!$T$2:$T$70)","v":{"v":0,"d":"$ 0"}},{"$f":"SUMIF('inversion af'!$S$2:$T$70,CONCATENATE(J$93,$B$116,$B125),'inversion af'!$T$2:$T$70)","v":{"v":0,"d":"$ 0"}},{"v":0,"d":"$ 0"},{"$nulls":7},{"v":0,"d":"$ 0"},{"v":0,"d":"$ 0"},{"v":0,"d":"$ 0"},{"v":0,"d":"$ 0"}]
[null,null,{"$f":"SUM(C117:C125)","v":{"v":0,"d":"$ 0"}},{"v":0,"d":"$ 0"},{"v":0,"d":"$ 0"},{"v":0,"d":"$ 0"},{"v":0,"d":"$ 0"},{"v":0,"d":"$ 0"},{"v":0,"d":"$ 0"},{"v":0,"d":"$ 0"},"no reembolsables",{"$f":"SUM(C126:J126)","v":{"v":0,"d":"$ 0"}},{"$nulls":6},{"$f":"SUM(S117:S125)","v":{"v":0,"d":"$ 0"}},{"$f":"SUM(T117:T125)","v":{"v":0,"d":"$ 0"}},{"$f":"SUM(U117:U125)","v":{"v":0,"d":"$ 0"}},{"$f":"SUM(V117:V125)","v":{"v":0,"d":"$ 0"}}]
["totales",null,"Inicio del proyecto","AÑO 1  trimestre 2","AÑO 1  trimestre 3","AÑO 1  trimestre 4","AÑO 2  semestre 1","AÑO 2  semestre 2","AÑO 3  semestre 1","AÑO 3  semestre 2",{"$nulls":9},{"$f":"SUM(T117:T125)","v":0},{"$f":"SUM(U117:U125)","v":0}]
["TERRENOS",null,{"$f":"+C95+C106+C117","v":{"v":0,"d":"$ 0"}},{"v":0,"d":"$ 0"},{"v":0,"d":"$ 0"},{"v":0,"d":"$ 0"},{"v":0,"d":"$ 0"},{"v":0,"d":"$ 0"},{"v":0,"d":"$ 0"},{"v":0,"d":"$ 0"},{"$f":"SUM(C128:J128)","v":{"v":0,"d":"$ 0"}},{"$nulls":7},{"$f":"SUM(C128:J128)","v":{"v":0,"d":"$ 0"}},{"$f":"+T95+T106+T117","v":{"v":0,"d":"$ 0"}},{"v":0,"d":"$ 0"},{"v":0,"d":"$ 0"}]
["EDIFICIOS",{"v":20,"d":"$ 20"},{"v":0,"d":"$ 0"},{"v":0,"d":"$ 0"},{"v":0,"d":"$ 0"},{"v":0,"d":"$ 0"},{"v":0,"d":"$ 0"},{"v":0,"d":"$ 0"},{"v":0,"d":"$ 0"},{"v":0,"d":"$ 0"},{"$f":"SUM(C129:J129)","v":{"v":0,"d":"$ 0"}},{"$nulls":7},{"$f":"SUM(C129:J129)","v":{"v":0,"d":"$ 0"}},{"v":0,"d":"$ 0"},{"v":0,"d":"$ 0"},{"v":0,"d":"$ 0"}]
["MAQUINAS",{"v":10,"d":"$ 10"},{"v":0,"d":"$ 0"},{"v":0,"d":"$ 0"},{"v":0,"d":"$ 0"},{"v":0,"d":"$ 0"},{"v":0,"d":"$ 0"},{"v":0,"d":"$ 0"},{"v":0,"d":"$ 0"},{"v":0,"d":"$ 0"},{"v":0,"d":"$ 0"},{"$nulls":7},{"$f":"SUM(C130:J130)","v":{"v":0,"d":"$ 0"}},{"$f":"+T97+T108+T119","v":{"v":0,"d":"$ 0"}},{"$f":"+U97+U108+U119","v":{"v":0,"d":"$ 0"}},{"$f":"+V97+V108+V119","v":{"v":0,"d":"$ 0"}}]
["EQUIPOS",{"v":5,"d":"$ 5"},{"v":0,"d":"$ 0"},{"v":0,"d":"$ 0"},{"v":0,"d":"$ 0"},{"v":0,"d":"$ 0"},{"v":0,"d":"$ 0"},{"v":0,"d":"$ 0"},{"v":0,"d":"$ 0"},{"v":0,"d":"$ 0"},{"v":0,"d":"$ 0"},{"$nulls":7},{"$f":"SUM(C131:J131)","v":{"v":0,"d":"$ 0"}},{"v":0,"d":"$ 0"},{"v":0,"d":"$ 0"},{"v":0,"d":"$ 0"}]
["VEHICULOS",{"v":5,"d":"$ 5"},{"v":0,"d":"$ 0"},{"v":0,"d":"$ 0"},{"v":0,"d":"$ 0"},{"v":0,"d":"$ 0"},{"v":0,"d":"$ 0"},{"v":0,"d":"$ 0"},{"v":0,"d":"$ 0"},{"v":0,"d":"$ 0"},{"v":0,"d":"$ 0"},{"$nulls":7},{"v":0,"d":"$ 0"},{"v":0,"d":"$ 0"},{"v":0,"d":"$ 0"},{"v":0,"d":"$ 0"}]
["MUEBLES Y ENSERES",{"v":10,"d":"$ 10"},{"v":0,"d":"$ 0"},{"v":0,"d":"$ 0"},{"v":0,"d":"$ 0"},{"v":0,"d":"$ 0"},{"v":0,"d":"$ 0"},{"v":0,"d":"$ 0"},{"v":0,"d":"$ 0"},{"v":0,"d":"$ 0"},{"v":0,"d":"$ 0"},{"$nulls":7},{"v":0,"d":"$ 0"},{"v":0,"d":"$ 0"},{"v":0,"d":"$ 0"},{"v":0,"d":"$ 0"}]
["HERRAMIENTAS",{"v":1,"d":"$ 1"},{"v":0,"d":"$ 0"},{"v":0,"d":"$ 0"},{"v":0,"d":"$ 0"},{"v":0,"d":"$ 0"},{"v":0,"d":"$ 0"},{"v":0,"d":"$ 0"},{"v":0,"d":"$ 0"},{"v":0,"d":"$ 0"},{"v":0,"d":"$ 0"},{"$nulls":7},{"v":0,"d":"$ 0"},{"v":0,"d":"$ 0"},{"v":0,"d":"$ 0"},{"v":0,"d":"$ 0"}]
["COMPUTAD. PRODUC.",{"v":3,"d":"$ 3"},{"v":0,"d":"$ 0"},{"v":0,"d":"$ 0"},{"v":0,"d":"$ 0"},{"v":0,"d":"$ 0"},{"v":0,"d":"$ 0"},{"v":0,"d":"$ 0"},{"v":0,"d":"$ 0"},{"v":0,"d":"$ 0"},{"v":0,"d":"$ 0"},{"$nulls":7},{"v":0,"d":"$ 0"},{"v":0,"d":"$ 0"},{"v":0,"d":"$ 0"},{"v":0,"d":"$ 0"}]
["COMPUTAD. ADMON.",{"v":3,"d":"$ 3"},{"v":0,"d":"$ 0"},{"v":0,"d":"$ 0"},{"v":0,"d":"$ 0"},{"v":0,"d":"$ 0"},{"v":0,"d":"$ 0"},{"v":0,"d":"$ 0"},{"v":0,"d":"$ 0"},{"v":0,"d":"$ 0"},{"v":0,"d":"$ 0"},{"$nulls":7},{"v":0,"d":"$ 0"},{"v":0,"d":"$ 0"},{"v":0,"d":"$ 0"},{"v":0,"d":"$ 0"}]
["reposicion",{"$nulls":5},"año 2 semestre 1","AÑO 2  Semestre 2","AÑO 3  semestre 1","AÑO 3  semestre 2",{"$nulls":8},{"$f":"SUM(S128:S136)","v":{"v":0,"d":"0.0"}}]
["HERRAMIENTAS",{"v":5,"d":"$ 5"},{"$nulls":4},{"$f":"IF(C134>0,C134,0)+IF(D134>0,D134,0)","v":{"v":0,"d":"$ 0"}},{"$f":"IF(F134>0,F134,0)+IF(E134>0,E134,0)","v":{"v":0,"d":"$ 0"}},{"$f":"IF(G134>0,G134,0)+G138","v":{"v":0,"d":"$ 0"}},{"$f":"IF(H134>0,H134,0)+H138","v":{"v":0,"d":"$ 0"}},{"$nulls":8},{"$f":"SUM(C138:R138)","v":{"v":0,"d":"$ 0"}},{"$f":"SUM(C138:F138)","v":{"v":0,"d":"$ 0"}},{"$f":"SUM(G138:H138)","v":{"v":0,"d":"$ 0"}},{"$f":"SUM(I138:J138)","v":{"v":0,"d":"$ 0"}}]
["VEHICULOS",{"v":5,"d":"$ 5"},{"$nulls":16},{"$f":"SUM(C139:R139)","v":{"v":0,"d":"$ 0"}},{"$f":"SUM(C139:F139)","v":{"v":0,"d":"$ 0"}},{"$f":"SUM(G139:H139)","v":{"v":0,"d":"$ 0"}},{"$f":"SUM(I139:J139)","v":{"v":0,"d":"$ 0"}}]
["EQUIPOS",{"v":1,"d":"$ 1"},{"$nulls":16},{"$f":"SUM(C140:R140)","v":{"v":0,"d":"$ 0"}},{"$f":"SUM(C140:F140)","v":{"v":0,"d":"$ 0"}},{"$f":"SUM(G140:H140)","v":{"v":0,"d":"$ 0"}},{"$f":"SUM(I140:J140)","v":{"v":0,"d":"$ 0"}}]
["COMPUTAD. PRODUC.",{"v":3,"d":"$ 3"},{"$nulls":16},{"$f":"SUM(C141:R141)","v":{"v":0,"d":"$ 0"}},{"$f":"SUM(C141:F141)","v":{"v":0,"d":"$ 0"}},{"$f":"SUM(G141:H141)","v":{"v":0,"d":"$ 0"}},{"$f":"SUM(I141:J141)","v":{"v":0,"d":"$ 0"}}]
["COMPUTAD. ADMON.",{"v":3,"d":"$ 3"},{"$nulls":16},{"$f":"SUM(C142:R142)","v":{"v":0,"d":"$ 0"}},{"$f":"SUM(C142:F142)","v":{"v":0,"d":"$ 0"}},{"$f":"SUM(G142:H142)","v":{"v":0,"d":"$ 0"}},{"$f":"SUM(I142:J142)","v":{"v":0,"d":"$ 0"}}]
["depreciacion",null,{"$f":"+C104+C115+C126","v":{"v":0,"d":"$ 0"}},{"$f":"+D104+D115+D126","v":{"v":0,"d":"$ 0"}},{"$f":"+E104+E115+E126","v":{"v":0,"d":"$ 0"}},{"$f":"+F104+F115+F126","v":{"v":0,"d":"$ 0"}},{"$f":"+G138+G104+G115+G126","v":{"v":0,"d":"$ 0"}},{"$f":"+H138+H104+H115+H126","v":{"v":0,"d":"$ 0"}},{"$f":"+I138+I104+I115+I126","v":{"v":0,"d":"$ 0"}},{"$f":"+J138+J104+J115+J126","v":{"v":0,"d":"$ 0"}},{"$nulls":8},{"$f":"SUM(S138:S142)","v":{"v":0,"d":"$ 0"}},{"$f":"SUM(T138:T142)","v":{"v":0,"d":"$ 0"}},{"$f":"SUM(U138:U142)","v":{"v":0,"d":"$ 0"}},{"$f":"SUM(V138:V142)","v":{"v":0,"d":"$ 0"}}]
["total Inversion con reposicion",null,"Inicio del proyecto","AÑO 1  trimestre 2","AÑO 1  trimestre 3","AÑO 1  trimestre 4","AÑO 2  semestre 1","AÑO 2  semestre 2","AÑO 3  semestre 1","AÑO 3  semestre 2"]
["TERRENOS",null,{"$f":"+C128","v":{"v":0,"d":"$ 0"}},{"v":0,"d":"$ 0"},{"v":0,"d":"$ 0"},{"v":0,"d":"$ 0"},{"v":0,"d":"$ 0"},{"v":0,"d":"$ 0"},{"v":0,"d":"$ 0"},{"v":0,"d":"$ 0"},{"$nulls":8},{"$f":"SUM(C145:R145)","v":{"v":0,"d":"$ 0"}}]
["EDIFICIOS",null,{"v":0,"d":"$ 0"},{"v":0,"d":"$ 0"},{"v":0,"d":"$ 0"},{"v":0,"d":"$ 0"},{"v":0,"d":"$ 0"},{"v":0,"d":"$ 0"},{"v":0,"d":"$ 0"},{"v":0,"d":"$ 0"},{"$nulls":8},{"v":0,"d":"$ 0"}]
["MAQUINAS",null,{"v":0,"d":"$ 0"},{"v":0,"d":"$ 0"},{"v":0,"d":"$ 0"},{"v":0,"d":"$ 0"},{"v":0,"d":"$ 0"},{"v":0,"d":"$ 0"},{"v":0,"d":"$ 0"},{"v":0,"d":"$ 0"},{"$nulls":8},{"v":0,"d":"$ 0"}]
["EQUIPOS",null,{"$f":"+C131+C140","v":{"v":0,"d":"$ 0"}},{"v":0,"d":"$ 0"},{"v":0,"d":"$ 0"},{"v":0,"d":"$ 0"},{"v":0,"d":"$ 0"},{"v":0,"d":"$ 0"},{"v":0,"d":"$ 0"},{"v":0,"d":"$ 0"},{"$nulls":8},{"v":0,"d":"$ 0"}]
["VEHICULOS",null,{"$f":"+C132+C139","v":{"v":0,"d":"$ 0"}},{"$f":"+D132+D139","v":{"v":0,"d":"$ 0"}},{"$f":"+E132+E139","v":{"v":0,"d":"$ 0"}},{"$f":"+F132+F139","v":{"v":0,"d":"$ 0"}},{"$f":"+G132","v":{"v":0,"d":"$ 0"}},{"$f":"+H132","v":{"v":0,"d":"$ 0"}},{"$f":"+I132","v":{"v":0,"d":"$ 0"}},{"$f":"+J132","v":{"v":0,"d":"$ 0"}},{"$nulls":8},{"v":0,"d":"$ 0"}]
["MUEBLES Y ENSERES",null,{"$f":"+C133","v":{"v":0,"d":"$ 0"}},{"v":0,"d":"$ 0"},{"v":0,"d":"$ 0"},{"v":0,"d":"$ 0"},{"v":0,"d":"$ 0"},{"v":0,"d":"$ 0"},{"v":0,"d":"$ 0"},{"v":0,"d":"$ 0"},{"$nulls":8},{"v":0,"d":"$ 0"}]
["HERRAMIENTAS",null,{"$f":"+C134+C138","v":{"v":0,"d":"$ 0"}},{"v":0,"d":"$ 0"},{"v":0,"d":"$ 0"},{"v":0,"d":"$ 0"},{"v":0,"d":"$ 0"},{"v":0,"d":"$ 0"},{"v":0,"d":"$ 0"},{"v":0,"d":"$ 0"},{"$nulls":8},{"v":0,"d":"$ 0"}]
["COMPUTAD. PRODUC.",null,{"$f":"+C135+C141","v":{"v":0,"d":"$ 0"}},{"v":0,"d":"$ 0"},{"v":0,"d":"$ 0"},{"v":0,"d":"$ 0"},{"v":0,"d":"$ 0"},{"v":0,"d":"$ 0"},{"v":0,"d":"$ 0"},{"v":0,"d":"$ 0"},{"$nulls":8},{"v":0,"d":"$ 0"}]
["COMPUTAD. ADMON.",null,{"v":0,"d":"$ 0"},{"v":0,"d":"$ 0"},{"v":0,"d":"$ 0"},{"v":0,"d":"$ 0"},{"v":0,"d":"$ 0"},{"v":0,"d":"$ 0"},{"v":0,"d":"$ 0"},{"v":0,"d":"$ 0"},{"$nulls":8},{"v":0,"d":"$ 0"}]
[null,null,{"$f":"SUM(C145:C153)","v":{"v":0,"d":"$ 0"}},{"v":0,"d":"$ 0"},{"v":0,"d":"$ 0"},{"v":0,"d":"$ 0"},{"v":0,"d":"$ 0"},{"v":0,"d":"$ 0"},{"v":0,"d":"$ 0"},{"v":0,"d":"$ 0"},{"$nulls":8},{"$f":"SUM(S145:S153)","v":{"v":0,"d":"$ 0"}}]
["TERRENOS",{"v":0,"d":"0.00"},"momento 0",0.25,{"v":0.5,"d":"0.50"},0.75,{"v":1,"d":"1.00"},{"v":1.5,"d":"1.50"},{"v":2,"d":"2.00"},{"v":2.5,"d":"2.50"},{"$nulls":8},{"v":7,"d":"7.00"}]
["EDIFICIOS",{"v":20,"d":"$ 20"},null,{"$f":"+C129/B156/4","v":{"v":0,"d":"$ 0"}},{"$f":"+D129/B156/4+D156","v":{"v":0,"d":"$ 0"}},{"$f":"+E129/B156/4+E156","v":{"v":0,"d":"$ 0"}},{"$f":"+F129/B156/4+F156","v":{"v":0,"d":"$ 0"}},{"$f":"+G129/B156/2+G156*2","v":{"v":0,"d":"$ 0"}},{"$f":"+H129/B156+H156","v":{"v":0,"d":"$ 0"}},{"$f":"+I129/B156+I156","v":{"v":0,"d":"$ 0"}}]
["MAQUINAS",{"v":10,"d":"$ 10"},null,{"v":0,"d":"$ 0"},{"v":0,"d":"$ 0"},{"v":0,"d":"$ 0"},{"v":0,"d":"$ 0"},{"v":0,"d":"$ 0"},{"$f":"+H130/B157/2+H157","v":{"v":0,"d":"$ 0"}},{"$f":"+I130/B157+I157","v":{"v":0,"d":"$ 0"}},{"$f":"+J157","v":{"v":0,"d":"$ 0"}}]
["EQUIPOS",{"v":5,"d":"$ 5"},null,{"v":0,"d":"$ 0"},{"v":0,"d":"$ 0"},{"v":0,"d":"$ 0"},{"v":0,"d":"$ 0"},{"v":0,"d":"$ 0"},{"$f":"+H131/B158+H158","v":{"v":0,"d":"$ 0"}},{"$f":"+I131/B158+I158","v":{"v":0,"d":"$ 0"}},{"$f":"+J158","v":{"v":0,"d":"$ 0"}}]
["VEHICULOS",{"v":5,"d":"$ 5"},null,{"v":0,"d":"$ 0"},{"v":0,"d":"$ 0"},{"v":0,"d":"$ 0"},{"v":0,"d":"$ 0"},{"v":0,"d":"$ 0"},{"$f":"+H132/B159+H159","v":{"v":0,"d":"$ 0"}},{"$f":"+I132/B159+I159","v":{"v":0,"d":"$ 0"}},{"v":0,"d":"$ 0"}]
["MUEBLES Y ENSERES",{"v":10,"d":"$ 10"},null,{"v":0,"d":"$ 0"},{"v":0,"d":"$ 0"},{"v":0,"d":"$ 0"},{"v":0,"d":"$ 0"},{"v":0,"d":"$ 0"},{"$f":"+H133/B160/2+H160","v":{"v":0,"d":"$ 0"}},{"$f":"+I133/B160+I160","v":{"v":0,"d":"$ 0"}},{"v":0,"d":"$ 0"}]
["HERRAMIENTAS",{"v":1,"d":"$ 1"},null,{"v":0,"d":"$ 0"},{"v":0,"d":"$ 0"},{"v":0,"d":"$ 0"},{"v":0,"d":"$ 0"},{"v":0,"d":"$ 0"},{"$f":"+H134/B161/2+H161","v":{"v":0,"d":"$ 0"}},{"$f":"+I134/B161/2+I161","v":{"v":0,"d":"$ 0"}},{"v":0,"d":"$ 0"}]
["COMPUTAD. PRODUC.",{"v":3,"d":"$ 3"},null,{"v":0,"d":"$ 0"},{"v":0,"d":"$ 0"},{"v":0,"d":"$ 0"},{"v":0,"d":"$ 0"},{"v":0,"d":"$ 0"},{"$f":"+H135/B162+H162","v":{"v":0,"d":"$ 0"}},{"$f":"+I135/B162+I162","v":{"v":0,"d":"$ 0"}},{"v":0,"d":"$ 0"}]
["COMPUTAD. ADMON.",{"v":3,"d":"$ 3"},null,{"v":0,"d":"$ 0"},{"v":0,"d":"$ 0"},{"v":0,"d":"$ 0"},{"v":0,"d":"$ 0"},{"v":0,"d":"$ 0"},{"$f":"+H136/B163+H163","v":{"v":0,"d":"$ 0"}},{"$f":"+I136/B163+I163","v":{"v":0,"d":"$ 0"}},{"v":0,"d":"$ 0"}]
["total depreciacion periodo",null,null,{"$f":"SUM(D156:D163)","v":0},0,0,0,0,0,0,0]
["total depreciacion año",null,"0-12",2,3]
["EDIFICIOS",null,{"$f":"+D156+E156+F156+G156","v":{"v":0,"d":"$ 0"}},{"$f":"+H156+I156","v":{"v":0,"d":"$ 0"}},{"$f":"+K156+J156","v":{"v":0,"d":"$ 0"}},{"$nulls":14},{"$f":"+S145","v":{"v":0,"d":"$ 0"}}]
["MAQUINAS",null,{"$f":"+D157+E157+F157+G157","v":{"v":0,"d":"$ 0"}},{"v":0,"d":"$ 0"},{"v":0,"d":"$ 0"},{"$nulls":14},{"$f":"+S146-T156","v":{"v":0,"d":"$ 0"}}]
["EQUIPOS",null,{"v":0,"d":"$ 0"},{"v":0,"d":"$ 0"},{"v":0,"d":"$ 0"},{"$nulls":14},{"v":0,"d":"$ 0"}]
["VEHICULOS",null,{"v":0,"d":"$ 0"},{"v":0,"d":"$ 0"},{"v":0,"d":"$ 0"},{"$nulls":14},{"v":0,"d":"$ 0"}]
["MUEBLES Y ENSERES",null,{"v":0,"d":"$ 0"},{"v":0,"d":"$ 0"},{"v":0,"d":"$ 0"},{"$nulls":14},{"v":0,"d":"$ 0"}]
["HERRAMIENTAS",null,{"v":0,"d":"$ 0"},{"v":0,"d":"$ 0"},{"v":0,"d":"$ 0"},{"$nulls":14},{"v":0,"d":"$ 0"}]
["COMPUTAD. PRODUC.",null,{"v":0,"d":"$ 0"},{"v":0,"d":"$ 0"},{"v":0,"d":"$ 0"},{"$nulls":14},{"v":0,"d":"$ 0"}]
["COMPUTAD. ADMON.",null,{"v":0,"d":"$ 0"},{"v":0,"d":"$ 0"},{"v":0,"d":"$ 0"},{"$nulls":14},{"v":0,"d":"$ 0"}]
["total depreciacion año",null,{"$f":"SUM(C166:C173)","v":0},{"$f":"SUM(D166:D173)","v":0},{"$f":"SUM(E166:E173)","v":0},{"$nulls":14},{"v":0,"d":"$ 0"}]
[{"$nulls":19},{"$f":"SUM(T166:T174)","v":0}]
["CAPITAL DE TRABAJO",0,"Inicio del proyecto","AÑO 1  trimestre 2","AÑO 1  trimestre 3","AÑO 1  trimestre 4","AÑO 2  semestre 1","AÑO 2  semestre 2","año 3 semestre 1","año 3 semestre 2"]
["APORTES",null,{"$f":"SUMIF($S71:$S$75,CONCATENATE(C$93,$B$94,$B$176),'inversion af'!$T$71:$T$75)","v":{"v":0,"d":"$ 0"}},{"$f":"SUMIF($S71:$S$75,CONCATENATE(D$93,$B$94,$B$176),'inversion af'!$T$71:$T$75)","v":{"v":0,"d":"$ 0"}},{"$f":"SUMIF($S71:$S$75,CONCATENATE(E$93,$B$94,$B$176),'inversion af'!$T$71:$T$75)","v":{"v":0,"d":"$ 0"}},{"$f":"SUMIF($S71:$S$75,CONCATENATE(F$93,$B$94,$B$176),'inversion af'!$T$71:$T$75)","v":{"v":0,"d":"$ 0"}},{"$f":"SUMIF($S71:$S$75,CONCATENATE(G$93,$B$94,$B$176),'inversion af'!$T$71:$T$75)","v":{"v":0,"d":"$ 0"}},{"$f":"SUMIF($S71:$S$75,CONCATENATE(H$93,$B$94,$B$176),'inversion af'!$T$71:$T$75)","v":{"v":0,"d":"$ 0"}},{"$f":"SUMIF($S71:$S$75,CONCATENATE(I$93,$B$94,$B$176),'inversion af'!$T$71:$T$75)","v":{"v":0,"d":"$ 0"}},{"$f":"SUMIF($S71:$S$75,CONCATENATE(J$93,$B$94,$B$176),'inversion af'!$T$71:$T$75)","v":{"v":0,"d":"$ 0"}},{"$f":"SUM(C177:J177)","v":0}]
["CRÉDITO",null,{"$f":"SUMIF($S71:$S$75,CONCATENATE(C$93,$B$105,$B$176),$T$71:$T$75)","v":{"v":0,"d":"$ 0"}},{"$f":"SUMIF($S71:$S$75,CONCATENATE(D$93,$B$105,$B$176),$T$71:$T$75)","v":{"v":0,"d":"$ 0"}},{"$f":"SUMIF($S71:$S$75,CONCATENATE(E$93,$B$105,$B$176),$T$71:$T$75)","v":{"v":0,"d":"$ 0"}},{"$f":"SUMIF($S71:$S$75,CONCATENATE(F$93,$B$105,$B$176),$T$71:$T$75)","v":{"v":0,"d":"$ 0"}},{"$f":"SUMIF($S71:$S$75,CONCATENATE(G$93,$B$105,$B$176),$T$71:$T$75)","v":{"v":0,"d":"$ 0"}},{"$f":"SUMIF($S71:$S$75,CONCATENATE(H$93,$B$105,$B$176),$T$71:$T$75)","v":{"v":0,"d":"$ 0"}},{"$f":"SUMIF($S71:$S$75,CONCATENATE(I$93,$B$105,$B$176),$T$71:$T$75)","v":{"v":0,"d":"$ 0"}},{"$f":"SUMIF($S71:$S$75,CONCATENATE(J$93,$B$105,$B$176),$T$71:$T$75)","v":{"v":0,"d":"$ 0"}},{"$f":"SUM(C178:J178)","v":0}]
["OTRAS FUENTES",null,{"$f":"SUMIF($S71:$S$75,CONCATENATE(C$93,$B$116,$B$176),$T$71:$T$75)","v":{"v":0,"d":"$ 0"}},{"$f":"SUMIF($S71:$S$75,CONCATENATE(D$93,$B$116,$B$176),$T$71:$T$75)","v":{"v":0,"d":"$ 0"}},{"$f":"SUMIF($S71:$S$75,CONCATENATE(E$93,$B$116,$B$176),$T$71:$T$75)","v":{"v":0,"d":"$ 0"}},{"$f":"SUMIF($S71:$S$75,CONCATENATE(F$93,$B$116,$B$176),$T$71:$T$75)","v":{"v":0,"d":"$ 0"}},{"$f":"SUMIF($S71:$S$75,CONCATENATE(G$93,$B$116,$B$176),$T$71:$T$75)","v":{"v":0,"d":"$ 0"}},{"$f":"SUMIF($S71:$S$75,CONCATENATE(H$93,$B$116,$B$176),$T$71:$T$75)","v":{"v":0,"d":"$ 0"}},{"$f":"SUMIF($S71:$S$75,CONCATENATE(I$93,$B$116,$B$176),$T$71:$T$75)","v":{"v":0,"d":"$ 0"}},{"$f":"SUMIF($S71:$S$75,CONCATENATE(J$93,$B$116,$B$176),$T$71:$T$75)","v":{"v":0,"d":"$ 0"}},{"$f":"SUM(C179:J179)","v":0}]
[null,null,{"$f":"SUM(C177:C179)","v":0},0,0,0,0,0,0,0,0,{"$f":"+L104+L115+L126+K180","v":0}]
[]
[]
[null,null,1,2,3,4,5,6,7,8,9,10,11,12]
[null,null,{"$f":"+D164/3","v":{"v":0,"d":"0.00"}},{"$f":"+D164/3","v":{"v":0,"d":"0.00"}},{"$f":"+D164/3","v":{"v":0,"d":"0.00"}},{"$f":"+E164/3","v":0},{"$f":"+E164/3","v":0},{"$f":"+E164/3","v":0},{"$f":"+F164/3","v":0},{"$f":"+F164/3","v":0},{"$f":"+F164/3","v":0},{"$f":"+G164/3","v":0},{"$f":"+G164/3","v":0},{"$f":"+G164/3","v":0}]
[null,{"$f":"+'datos de entrada'!E409","v":{"v":0,"d":"0.00%"}},{"$f":"1+B185","v":{"v":1,"d":"1.000"}}]
["IPP",{"$nulls":5},{"v":1,"d":"1.000"},{"v":1,"d":"1.000"},2,2,3,3,4,4,5,5,6,6]
[{"$nulls":8},{"v":1,"d":"1 "}]
[{"$f":"+C188","v":"TERRENOS"},{"v":1,"d":"1 "},"TERRENOS",{"v":1000000,"d":"1,000,000 "},"APORTE DE SOCIOS",{"v":1,"d":"1 "},"Inicio del proyecto",{"v":11,"d":"11 "},{"v":111,"d":"111 "},0]
["EDIFICIOS",{"v":2,"d":"2 "},"EDIFICIOS",{"v":20,"d":"20 "},"CREDITO",{"v":2,"d":"2 "},"AÑO 1  Trimestre 2",{"v":12,"d":"12 "},{"v":112,"d":"112 "},0]
["MAQUINAS",{"v":3,"d":"3 "},"MAQUINAS",{"v":10,"d":"10 "},"NO REEMBOLSABLES",{"v":3,"d":"3 "},"AÑO 1  trimestre 3",{"v":13,"d":"13 "},{"v":113,"d":"113 "},0]
["EQUIPOS",{"v":4,"d":"4 "},"EQUIPOS",{"v":5,"d":"5 "},"DONACIONES",{"v":3,"d":"3 "},"AÑO 1  trimestre 4",{"v":14,"d":"14 "},{"v":114,"d":"114 "},0]
["VEHICULOS",{"v":5,"d":"5 "},"VEHICULOS",{"v":5,"d":"5 "},null,null,"AÑO 2  semestre 1",{"v":21,"d":"21 "},{"v":121,"d":"121 "},0]
["MUEBLES Y ENSERES",{"v":6,"d":"6 "},"MUEBLES Y ENSERES",{"v":10,"d":"10 "},null,null,"AÑO 2  semestre 2",{"v":22,"d":"22 "},{"v":122,"d":"122 "},0]
["HERRAMIENTAS",{"v":7,"d":"7 "},"HERRAMIENTAS",{"v":1,"d":"1 "},null,null,"AÑO 3  semestre 1",{"v":31,"d":"31 "},{"v":131,"d":"131 "},0]
["COMPUTAD. PRODUC.",{"v":8,"d":"8 "},"COMPUTAD. PRODUC.",{"v":3,"d":"3 "},null,null,"AÑO 3  semestre 2",{"v":32,"d":"32 "},{"v":132,"d":"132 "},0]
["COMPUTAD. ADMON.",{"v":9,"d":"9 "},"COMPUTAD. ADMON.",{"v":3,"d":"3 "},null,{"v":3,"d":"3 "},"Inicio del proyecto",{"v":41,"d":"41 "},{"v":211,"d":"211 "},0]
["CW",{"v":10,"d":"10 "}," ",{"v":0,"d":"0 "},null,{"v":4,"d":"4 "},"AÑO 1  Trimestre 2",{"v":42,"d":"42 "},{"v":212,"d":"212 "},0]
["inversión total ","año 1","año 2","año 3",null,{"v":5,"d":"5 "},"AÑO 1  trimestre 3",{"v":51,"d":"51 "},{"v":213,"d":"213 "},0]
["activos fijos",{"$f":"+C154+D154+E154+F154","v":{"v":0,"d":"0 "}},{"$f":"+G154+H154","v":{"v":0,"d":"0 "}},{"$f":"+I154+J154","v":{"v":0,"d":"0 "}},null,{"v":6,"d":"6 "},"AÑO 1  trimestre 4",{"v":52,"d":"52 "},{"v":214,"d":"214 "},0]
["capital de trabajo",{"$f":"+C180+D180+E180+F180","v":{"v":0,"d":"0 "}},{"$f":"+G180+H180","v":{"v":0,"d":"0 "}},{"$f":"+I180+J180","v":{"v":0,"d":"0 "}},null,{"v":7,"d":"7 "},"AÑO 2  semestre 1",{"v":61,"d":"61 "},{"v":221,"d":"221 "},0]
["total",{"$f":"+B199+B200","v":{"v":0,"d":"0 "}},{"$f":"+C199+C200","v":{"v":0,"d":"0 "}},{"$f":"+D199+D200","v":{"v":0,"d":"0 "}},null,{"v":8,"d":"8 "},"AÑO 2  semestre 2",{"v":62,"d":"62 "},{"v":222,"d":"222 "},0]
[{"$nulls":5},{"v":9,"d":"9 "},"AÑO 3  semestre 1",{"v":71,"d":"71 "},{"v":231,"d":"231 "},0]
[{"$nulls":5},{"v":10,"d":"10 "},"AÑO 3  semestre 2",{"v":72,"d":"72 "},{"v":232,"d":"232 "},0]
[{"$nulls":5},{"v":11,"d":"11 "},"TOTAL",{"v":11,"d":"11 "},{"v":311,"d":"311 "},0]
[{"$nulls":7},{"v":12,"d":"12 "},{"v":312,"d":"312 "},0]
[{"$nulls":7},{"v":13,"d":"13 "},{"v":313,"d":"313 "},0]
[{"$nulls":7},{"v":14,"d":"14 "},{"v":314,"d":"314 "},0]
[{"$nulls":7},{"v":21,"d":"21 "},{"v":321,"d":"321 "},0]
[{"$nulls":7},{"v":22,"d":"22 "},{"v":322,"d":"322 "},0]
[{"$nulls":8},{"v":331,"d":"331 "},0]
[{"$nulls":8},{"v":332,"d":"332 "},0]
{"$rows_empty":208}
[{"$nulls":4},1]

{"sheet":"cost var","index":7,"n_rows":538,"n_cols":26,"rows_kept":538,"hidden":true}
[]
["INFORMACION  DE COSTOS VARIABLES"]
[]
["PROYECTO:",{"$f":"+'datos de entrada'!B4","v":{"v":0,"d":"0 "}}]
[]
[]
["INCREMENTO ANUAL DE COSTOS:",null,null,{"$f":"+'datos de entrada'!C410","v":{"v":0,"d":"0.00%"}}]
[]
["PRESUPUESTO DE PRODUCCION"]
[]
["PRODUCCION EN UNIDADES"]
["-","-","-","-","-","-","-","-","-","-","-","-","-"]
["PRODUCTOS","MES 1","MES 2","MES 3","MES 4","MES 5","MES 6","MES 7","MES 8","MES 9","MES 10 ","MES 11","MES 12"]
["-","-","-","-","-","-","-","-","-","-","-","-","-"]
[{"$f":"+'datos de entrada'!A81","v":{"v":0,"d":"0 "}},{"$f":"+'datos de entrada'!P81","v":{"v":0,"d":"0 "}},{"$f":"+'datos de entrada'!Q81","v":{"v":0,"d":"0 "}},{"$f":"+'datos de entrada'!R81","v":{"v":0,"d":"0 "}},{"$f":"+'datos de entrada'!S81","v":{"v":0,"d":"0 "}},{"$f":"+'datos de entrada'!T81","v":{"v":0,"d":"0 "}},{"$f":"+'datos de entrada'!U81","v":{"v":0,"d":"0 "}},{"$f":"+'datos de entrada'!V81","v":{"v":0,"d":"0 "}},{"$f":"+'datos de entrada'!W81","v":{"v":0,"d":"0 "}},{"$f":"+'datos de entrada'!X81","v":{"v":0,"d":"0 "}},{"$f":"+'datos de entrada'!Y81","v":{"v":0,"d":"0 "}},{"$f":"+'datos de entrada'!Z81","v":{"v":0,"d":"0 "}},{"$f":"+'datos de entrada'!AA81","v":{"v":0,"d":"0 "}}]
[{"$f":"+'datos de entrada'!A82","v":{"v":0,"d":"0 "}},{"$f":"+'datos de entrada'!P82","v":{"v":0,"d":"0 "}},{"$f":"+'datos de entrada'!Q82","v":{"v":0,"d":"0 "}},{"$f":"+'datos de entrada'!R82","v":{"v":0,"d":"0 "}},{"$f":"+'datos de entrada'!S82","v":{"v":0,"d":"0 "}},{"$f":"+'datos de entrada'!T82","v":{"v":0,"d":"0 "}},{"$f":"+'datos de entrada'!U82","v":{"v":0,"d":"0 "}},{"$f":"+'datos de entrada'!V82","v":{"v":0,"d":"0 "}},{"$f":"+'datos de entrada'!W82","v":{"v":0,"d":"0 "}},{"$f":"+'datos de entrada'!X82","v":{"v":0,"d":"0 "}},{"$f":"+'datos de entrada'!Y82","v":{"v":0,"d":"0 "}},{"$f":"+'datos de entrada'!Z82","v":{"v":0,"d":"0 "}},{"$f":"+'datos de entrada'!AA82","v":{"v":0,"d":"0 "}}]
[{"$f":"+'datos de entrada'!A83","v":{"v":0,"d":"0 "}},{"$f":"+'datos de entrada'!P83","v":{"v":0,"d":"0 "}},{"$f":"+'datos de entrada'!Q83","v":{"v":0,"d":"0 "}},{"$f":"+'datos de entrada'!R83","v":{"v":0,"d":"0 "}},{"$f":"+'datos de entrada'!S83","v":{"v":0,"d":"0 "}},{"$f":"+'datos de entrada'!T83","v":{"v":0,"d":"0 "}},{"$f":"+'datos de entrada'!U83","v":{"v":0,"d":"0 "}},{"$f":"+'datos de entrada'!V83","v":{"v":0,"d":"0 "}},{"$f":"+'datos de entrada'!W83","v":{"v":0,"d":"0 "}},{"$f":"+'datos de entrada'!X83","v":{"v":0,"d":"0 "}},{"$f":"+'datos de entrada'!Y83","v":{"v":0,"d":"0 "}},{"$f":"+'datos de entrada'!Z83","v":{"v":0,"d":"0 "}},{"$f":"+'datos de entrada'!AA83","v":{"v":0,"d":"0 "}}]
[{"$f":"+'datos de entrada'!A84","v":{"v":0,"d":"0 "}},{"$f":"+'datos de entrada'!P84","v":{"v":0,"d":"0 "}},{"$f":"+'datos de entrada'!Q84","v":{"v":0,"d":"0 "}},{"$f":"+'datos de entrada'!R84","v":{"v":0,"d":"0 "}},{"$f":"+'datos de entrada'!S84","v":{"v":0,"d":"0 "}},{"$f":"+'datos de entrada'!T84","v":{"v":0,"d":"0 "}},{"$f":"+'datos de entrada'!U84","v":{"v":0,"d":"0 "}},{"$f":"+'datos de entrada'!V84","v":{"v":0,"d":"0 "}},{"$f":"+'datos de entrada'!W84","v":{"v":0,"d":"0 "}},{"$f":"+'datos de entrada'!X84","v":{"v":0,"d":"0 "}},{"$f":"+'datos de entrada'!Y84","v":{"v":0,"d":"0 "}},{"$f":"+'datos de entrada'!Z84","v":{"v":0,"d":"0 "}},{"$f":"+'datos de entrada'!AA84","v":{"v":0,"d":"0 "}}]
[{"$f":"+'datos de entrada'!A85","v":{"v":0,"d":"0 "}},{"$f":"+'datos de entrada'!P85","v":{"v":0,"d":"0 "}},{"$f":"+'datos de entrada'!Q85","v":{"v":0,"d":"0 "}},{"$f":"+'datos de entrada'!R85","v":{"v":0,"d":"0 "}},{"$f":"+'datos de entrada'!S85","v":{"v":0,"d":"0 "}},{"$f":"+'datos de entrada'!T85","v":{"v":0,"d":"0 "}},{"$f":"+'datos de entrada'!U85","v":{"v":0,"d":"0 "}},{"$f":"+'datos de entrada'!V85","v":{"v":0,"d":"0 "}},{"$f":"+'datos de entrada'!W85","v":{"v":0,"d":"0 "}},{"$f":"+'datos de entrada'!X85","v":{"v":0,"d":"0 "}},{"$f":"+'datos de entrada'!Y85","v":{"v":0,"d":"0 "}},{"$f":"+'datos de entrada'!Z85","v":{"v":0,"d":"0 "}},{"$f":"+'datos de entrada'!AA85","v":{"v":0,"d":"0 "}}]
[{"$f":"+'datos de entrada'!A86","v":{"v":0,"d":"0 "}},{"$f":"+'datos de entrada'!P86","v":{"v":0,"d":"0 "}},{"$f":"+'datos de entrada'!Q86","v":{"v":0,"d":"0 "}},{"$f":"+'datos de entrada'!R86","v":{"v":0,"d":"0 "}},{"$f":"+'datos de entrada'!S86","v":{"v":0,"d":"0 "}},{"$f":"+'datos de entrada'!T86","v":{"v":0,"d":"0 "}},{"$f":"+'datos de entrada'!U86","v":{"v":0,"d":"0 "}},{"$f":"+'datos de entrada'!V86","v":{"v":0,"d":"0 "}},{"$f":"+'datos de entrada'!W86","v":{"v":0,"d":"0 "}},{"$f":"+'datos de entrada'!X86","v":{"v":0,"d":"0 "}},{"$f":"+'datos de entrada'!Y86","v":{"v":0,"d":"0 "}},{"$f":"+'datos de entrada'!Z86","v":{"v":0,"d":"0 "}},{"$f":"+'datos de entrada'!AA86","v":{"v":0,"d":"0 "}}]
[{"$f":"+'datos de entrada'!A87","v":{"v":0,"d":"0 "}},{"$f":"+'datos de entrada'!P87","v":{"v":0,"d":"0 "}},{"$f":"+'datos de entrada'!Q87","v":{"v":0,"d":"0 "}},{"$f":"+'datos de entrada'!R87","v":{"v":0,"d":"0 "}},{"$f":"+'datos de entrada'!S87","v":{"v":0,"d":"0 "}},{"$f":"+'datos de entrada'!T87","v":{"v":0,"d":"0 "}},{"$f":"+'datos de entrada'!U87","v":{"v":0,"d":"0 "}},{"$f":"+'datos de entrada'!V87","v":{"v":0,"d":"0 "}},{"$f":"+'datos de entrada'!W87","v":{"v":0,"d":"0 "}},{"$f":"+'datos de entrada'!X87","v":{"v":0,"d":"0 "}},{"$f":"+'datos de entrada'!Y87","v":{"v":0,"d":"0 "}},{"$f":"+'datos de entrada'!Z87","v":{"v":0,"d":"0 "}},{"$f":"+'datos de entrada'!AA87","v":{"v":0,"d":"0 "}}]
[{"$f":"+'datos de entrada'!A88","v":{"v":0,"d":"0 "}},{"$f":"+'datos de entrada'!P88","v":{"v":0,"d":"0 "}},{"$f":"+'datos de entrada'!Q88","v":{"v":0,"d":"0 "}},{"$f":"+'datos de entrada'!R88","v":{"v":0,"d":"0 "}},{"$f":"+'datos de entrada'!S88","v":{"v":0,"d":"0 "}},{"$f":"+'datos de entrada'!T88","v":{"v":0,"d":"0 "}},{"$f":"+'datos de entrada'!U88","v":{"v":0,"d":"0 "}},{"$f":"+'datos de entrada'!V88","v":{"v":0,"d":"0 "}},{"$f":"+'datos de entrada'!W88","v":{"v":0,"d":"0 "}},{"$f":"+'datos de entrada'!X88","v":{"v":0,"d":"0 "}},{"$f":"+'datos de entrada'!Y88","v":{"v":0,"d":"0 "}},{"$f":"+'datos de entrada'!Z88","v":{"v":0,"d":"0 "}},{"$f":"+'datos de entrada'!AA88","v":{"v":0,"d":"0 "}}]
[{"$f":"+'datos de entrada'!A89","v":{"v":0,"d":"0 "}},{"$f":"+'datos de entrada'!P89","v":{"v":0,"d":"0 "}},{"$f":"+'datos de entrada'!Q89","v":{"v":0,"d":"0 "}},{"$f":"+'datos de entrada'!R89","v":{"v":0,"d":"0 "}},{"$f":"+'datos de entrada'!S89","v":{"v":0,"d":"0 "}},{"$f":"+'datos de entrada'!T89","v":{"v":0,"d":"0 "}},{"$f":"+'datos de entrada'!U89","v":{"v":0,"d":"0 "}},{"$f":"+'datos de entrada'!V89","v":{"v":0,"d":"0 "}},{"$f":"+'datos de entrada'!W89","v":{"v":0,"d":"0 "}},{"$f":"+'datos de entrada'!X89","v":{"v":0,"d":"0 "}},{"$f":"+'datos de entrada'!Y89","v":{"v":0,"d":"0 "}},{"$f":"+'datos de entrada'!Z89","v":{"v":0,"d":"0 "}},{"$f":"+'datos de entrada'!AA89","v":{"v":0,"d":"0 "}}]
[{"$f":"+'datos de entrada'!A90","v":{"v":0,"d":"0 "}},{"$f":"+'datos de entrada'!P90","v":{"v":0,"d":"0 "}},{"$f":"+'datos de entrada'!Q90","v":{"v":0,"d":"0 "}},{"$f":"+'datos de entrada'!R90","v":{"v":0,"d":"0 "}},{"$f":"+'datos de entrada'!S90","v":{"v":0,"d":"0 "}},{"$f":"+'datos de entrada'!T90","v":{"v":0,"d":"0 "}},{"$f":"+'datos de entrada'!U90","v":{"v":0,"d":"0 "}},{"$f":"+'datos de entrada'!V90","v":{"v":0,"d":"0 "}},{"$f":"+'datos de entrada'!W90","v":{"v":0,"d":"0 "}},{"$f":"+'datos de entrada'!X90","v":{"v":0,"d":"0 "}},{"$f":"+'datos de entrada'!Y90","v":{"v":0,"d":"0 "}},{"$f":"+'datos de entrada'!Z90","v":{"v":0,"d":"0 "}},{"$f":"+'datos de entrada'!AA90","v":{"v":0,"d":"0 "}}]
[{"$f":"+'datos de entrada'!A91","v":{"v":0,"d":"0 "}},{"$f":"+'datos de entrada'!P91","v":{"v":0,"d":"0 "}},{"$f":"+'datos de entrada'!Q91","v":{"v":0,"d":"0 "}},{"$f":"+'datos de entrada'!R91","v":{"v":0,"d":"0 "}},{"$f":"+'datos de entrada'!S91","v":{"v":0,"d":"0 "}},{"$f":"+'datos de entrada'!T91","v":{"v":0,"d":"0 "}},{"$f":"+'datos de entrada'!U91","v":{"v":0,"d":"0 "}},{"$f":"+'datos de entrada'!V91","v":{"v":0,"d":"0 "}},{"$f":"+'datos de entrada'!W91","v":{"v":0,"d":"0 "}},{"$f":"+'datos de entrada'!X91","v":{"v":0,"d":"0 "}},{"$f":"+'datos de entrada'!Y91","v":{"v":0,"d":"0 "}},{"$f":"+'datos de entrada'!Z91","v":{"v":0,"d":"0 "}},{"$f":"+'datos de entrada'!AA91","v":{"v":0,"d":"0 "}}]
[{"$f":"+'datos de entrada'!A92","v":{"v":0,"d":"0 "}},{"$f":"+'datos de entrada'!P92","v":{"v":0,"d":"0 "}},{"$f":"+'datos de entrada'!Q92","v":{"v":0,"d":"0 "}},{"$f":"+'datos de entrada'!R92","v":{"v":0,"d":"0 "}},{"$f":"+'datos de entrada'!S92","v":{"v":0,"d":"0 "}},{"$f":"+'datos de entrada'!T92","v":{"v":0,"d":"0 "}},{"$f":"+'datos de entrada'!U92","v":{"v":0,"d":"0 "}},{"$f":"+'datos de entrada'!V92","v":{"v":0,"d":"0 "}},{"$f":"+'datos de entrada'!W92","v":{"v":0,"d":"0 "}},{"$f":"+'datos de entrada'!X92","v":{"v":0,"d":"0 "}},{"$f":"+'datos de entrada'!Y92","v":{"v":0,"d":"0 "}},{"$f":"+'datos de entrada'!Z92","v":{"v":0,"d":"0 "}},{"$f":"+'datos de entrada'!AA92","v":{"v":0,"d":"0 "}}]
["-","-","-","-","-","-","-","-","-","-","-","-","-"]
[]
["PRODUCCION EN UNIDADES"]
["-","-","-","-","-","-"]
["PRODUCTOS","ANO 1","ANO 2","ANO 3"]
["-","-","-","-"]
[{"$f":"A15","v":{"v":0,"d":"0 "}},{"$f":"SUM('datos de entrada'!P81:AA81)","v":{"v":0,"d":"0 "}},{"$f":"+B33+'datos de entrada'!B99","v":{"v":0,"d":"0 "}},{"$f":"+C33+'datos de entrada'!C99","v":{"v":0,"d":"0 "}}]
[{"v":0,"d":"0 "},{"$f":"SUM('datos de entrada'!P82:AA82)","v":{"v":0,"d":"0 "}},{"$f":"+B34+'datos de entrada'!B100","v":{"v":0,"d":"0 "}},{"$f":"+C34+'datos de entrada'!C100","v":{"v":0,"d":"0 "}}]
[{"v":0,"d":"0 "},{"$f":"SUM('datos de entrada'!P83:AA83)","v":{"v":0,"d":"0 "}},{"$f":"+B35+'datos de entrada'!B101","v":{"v":0,"d":"0 "}},{"$f":"+C35+'datos de entrada'!C101","v":{"v":0,"d":"0 "}}]
[{"v":0,"d":"0 "},{"$f":"SUM('datos de entrada'!P84:AA84)","v":{"v":0,"d":"0 "}},{"$f":"+B36+'datos de entrada'!B102","v":{"v":0,"d":"0 "}},{"$f":"+C36+'datos de entrada'!C102","v":{"v":0,"d":"0 "}}]
[{"v":0,"d":"0 "},{"$f":"SUM('datos de entrada'!P85:AA85)","v":{"v":0,"d":"0 "}},{"$f":"+B37+'datos de entrada'!B103","v":{"v":0,"d":"0 "}},{"$f":"+C37+'datos de entrada'!C103","v":{"v":0,"d":"0 "}}]
[{"v":0,"d":"0 "},{"$f":"SUM('datos de entrada'!P86:AA86)","v":{"v":0,"d":"0 "}},{"$f":"+B38+'datos de entrada'!B104","v":{"v":0,"d":"0 "}},{"$f":"+C38+'datos de entrada'!C104","v":{"v":0,"d":"0 "}}]
[{"v":0,"d":"0 "},{"$f":"SUM('datos de entrada'!P87:AA87)","v":{"v":0,"d":"0 "}},{"$f":"+B39+'datos de entrada'!B105","v":{"v":0,"d":"0 "}},{"$f":"+C39+'datos de entrada'!C105","v":{"v":0,"d":"0 "}}]
[{"v":0,"d":"0 "},{"$f":"SUM('datos de entrada'!P88:AA88)","v":{"v":0,"d":"0 "}},{"$f":"+B40+'datos de entrada'!B106","v":{"v":0,"d":"0 "}},{"$f":"+C40+'datos de entrada'!C106","v":{"v":0,"d":"0 "}}]
[{"v":0,"d":"0 "},{"$f":"SUM('datos de entrada'!P89:AA89)","v":{"v":0,"d":"0 "}},{"$f":"+B41+'datos de entrada'!B107","v":{"v":0,"d":"0 "}},{"$f":"+C41+'datos de entrada'!C107","v":{"v":0,"d":"0 "}}]
[{"v":0,"d":"0 "},{"$f":"SUM('datos de entrada'!P90:AA90)","v":{"v":0,"d":"0 "}},{"$f":"+B42+'datos de entrada'!B108","v":{"v":0,"d":"0 "}},{"$f":"+C42+'datos de entrada'!C108","v":{"v":0,"d":"0 "}}]
[{"v":0,"d":"0 "},{"$f":"SUM('datos de entrada'!P91:AA91)","v":{"v":0,"d":"0 "}},{"$f":"+B43+'datos de entrada'!B109","v":{"v":0,"d":"0 "}},{"$f":"+C43+'datos de entrada'!C109","v":{"v":0,"d":"0 "}}]
[{"v":0,"d":"0 "},{"$f":"SUM('datos de entrada'!P92:AA92)","v":{"v":0,"d":"0 "}},{"$f":"+B44+'datos de entrada'!B110","v":{"v":0,"d":"0 "}},{"$f":"+C44+'datos de entrada'!C110","v":{"v":0,"d":"0 "}}]
["-","-","-","-","-","-"]
[]
[]
["COSTO UNITARIO DE MATERIA PRIMA POR PRODUCTO",{"$nulls":12},"COSTO UNITARIO DE MATERIA PRIMA POR PRODUCTO"]
["-","-","-","-","-","-","-","-",null,"-",{"$nulls":3},"-","-","-","-","-","-","-","-",null,"-"]
["MATERIA PRIMA",null,"COSTO","COSTO","   FORMA DE PAGO",{"$nulls":4},"PONDERACION",{"$nulls":3},"MATERIA PRIMA",null,"COSTO","COSTO","   FORMA DE PAGO",{"$nulls":4},"PONDERACION"]
[null,"CANTIDAD","UNITARIO","TOTAL","CONTADO","30 DIAS","60 DIAS","90 DIAS",null,"CONTADO","30 DIAS","60 DIAS","90 DIAS",null,"CANTIDAD","UNITARIO","TOTAL","CONTADO","30 DIAS","60 DIAS","90 DIAS",null,"CONTADO","30 DIAS","60 DIAS","90 DIAS"]
["-","-","-","-","-","-","-","-",null,"-","-","-","-","-","-","-","-","-","-","-","-",null,"-","-","-","-"]
[{"$f":"A15","v":0},{"$nulls":12},{"$f":"A21","v":{"v":0,"d":"0 "}}]
[]
[{"$f":"+'datos de entrada'!A249","v":{"v":0,"d":"0 "}},{"$f":"+'datos de entrada'!B249","v":{"v":0,"d":"0.00"}},{"$f":"+'datos de entrada'!C249","v":{"v":0,"d":"0.00"}},{"$f":"C55*B55","v":{"v":0,"d":"0.00"}},{"$f":"IF(I55=1,I55,+'datos de entrada'!D249)","v":{"v":0,"d":"0.00%"}},{"$f":"+'datos de entrada'!E249","v":{"v":0,"d":"0.00%"}},{"$f":"+'datos de entrada'!F249","v":{"v":0,"d":"0.00%"}},{"$f":"+'datos de entrada'!G249","v":{"v":0,"d":"0.00%"}},null,{"$f":"IF($B$107=0,0,E55*$D55/$B$107)","v":{"v":0,"d":"0.00%"}},{"v":0,"d":"0.00%"},{"v":0,"d":"0.00%"},{"v":0,"d":"0.00%"},{"$f":"+'datos de entrada'!I249","v":{"v":0,"d":"0 "}},{"$f":"+'datos de entrada'!J249","v":{"v":0,"d":"0.00"}},{"$f":"+'datos de entrada'!K249","v":{"v":0,"d":"0.00"}},{"$f":"P55*O55","v":{"v":0,"d":"0.00"}},{"$f":"+'datos de entrada'!L249","v":{"v":0,"d":"0.00%"}},{"$f":"+'datos de entrada'!M249","v":{"v":0,"d":"0.00%"}},{"$f":"+'datos de entrada'!N249","v":{"v":0,"d":"0.00%"}},{"$f":"+'datos de entrada'!O249","v":{"v":0,"d":"0.00%"}},null,{"$f":"IF($B$113=0,0,R55*$Q55/$B$113)","v":{"v":0,"d":"0.00%"}},{"$f":"IF($B$113=0,0,S55*$Q55/$B$113)","v":{"v":0,"d":"0.00%"}},{"v":0,"d":"0.00%"},{"v":0,"d":"0.00%"}]
[{"$f":"+'datos de entrada'!A250","v":{"v":0,"d":"0 "}},{"$f":"+'datos de entrada'!B250","v":{"v":0,"d":"0.00"}},{"$f":"+'datos de entrada'!C250","v":{"v":0,"d":"0.00"}},{"$f":"C56*B56","v":{"v":0,"d":"0.00"}},{"$f":"IF(I56=1,I56,+'datos de entrada'!D250)","v":{"v":0,"d":"0.00%"}},{"$f":"+'datos de entrada'!E250","v":{"v":0,"d":"0.00%"}},{"$f":"+'datos de entrada'!F250","v":{"v":0,"d":"0.00%"}},{"$f":"+'datos de entrada'!G250","v":{"v":0,"d":"0.00%"}},null,{"v":0,"d":"0.00%"},{"v":0,"d":"0.00%"},{"v":0,"d":"0.00%"},{"v":0,"d":"0.00%"},{"$f":"+'datos de entrada'!I250","v":{"v":0,"d":"0 "}},{"$f":"+'datos de entrada'!J250","v":{"v":0,"d":"0.00"}},{"$f":"+'datos de entrada'!K250","v":{"v":0,"d":"0.00"}},{"$f":"P56*O56","v":{"v":0,"d":"0.00"}},{"$f":"+'datos de entrada'!L250","v":{"v":0,"d":"0.00%"}},{"$f":"+'datos de entrada'!M250","v":{"v":0,"d":"0.00%"}},{"$f":"+'datos de entrada'!N250","v":{"v":0,"d":"0.00%"}},{"$f":"+'datos de entrada'!O250","v":{"v":0,"d":"0.00%"}},null,{"$f":"IF($B$113=0,0,R56*$Q56/$B$113)","v":{"v":0,"d":"0.00%"}},{"v":0,"d":"0.00%"},{"v":0,"d":"0.00%"},{"v":0,"d":"0.00%"}]
[{"$f":"+'datos de entrada'!A251","v":{"v":0,"d":"0 "}},{"$f":"+'datos de entrada'!B251","v":{"v":0,"d":"0.00"}},{"$f":"+'datos de entrada'!C251","v":{"v":0,"d":"0.00"}},{"$f":"C57*B57","v":{"v":0,"d":"0.00"}},{"$f":"IF(I57=1,I57,+'datos de entrada'!D251)","v":{"v":0,"d":"0.00%"}},{"$f":"+'datos de entrada'!E251","v":{"v":0,"d":"0.00%"}},{"$f":"+'datos de entrada'!F251","v":{"v":0,"d":"0.00%"}},{"$f":"+'datos de entrada'!G251","v":{"v":0,"d":"0.00%"}},null,{"v":0,"d":"0.00%"},{"v":0,"d":"0.00%"},{"v":0,"d":"0.00%"},{"v":0,"d":"0.00%"},{"$f":"+'datos de entrada'!I251","v":{"v":0,"d":"0 "}},{"$f":"+'datos de entrada'!J251","v":{"v":0,"d":"0.00"}},{"$f":"+'datos de entrada'!K251","v":{"v":0,"d":"0.00"}},{"$f":"P57*O57","v":{"v":0,"d":"0.00"}},{"$f":"+'datos de entrada'!L251","v":{"v":0,"d":"0.00%"}},{"$f":"+'datos de entrada'!M251","v":{"v":0,"d":"0.00%"}},{"$f":"+'datos de entrada'!N251","v":{"v":0,"d":"0.00%"}},{"$f":"+'datos de entrada'!O251","v":{"v":0,"d":"0.00%"}},null,{"$f":"IF($B$113=0,0,R57*$Q57/$B$113)","v":{"v":0,"d":"0.00%"}},{"v":0,"d":"0.00%"},{"v":0,"d":"0.00%"},{"v":0,"d":"0.00%"}]
[{"$f":"+'datos de entrada'!A252","v":{"v":0,"d":"0 "}},{"$f":"+'datos de entrada'!B252","v":{"v":0,"d":"0.00"}},{"$f":"+'datos de entrada'!C252","v":{"v":0,"d":"0.00"}},{"$f":"C58*B58","v":{"v":0,"d":"0.00"}},{"$f":"IF(I58=1,I58,+'datos de entrada'!D252)","v":{"v":0,"d":"0.00%"}},{"$f":"+'datos de entrada'!E252","v":{"v":0,"d":"0.00%"}},{"$f":"+'datos de entrada'!F252","v":{"v":0,"d":"0.00%"}},{"$f":"+'datos de entrada'!G252","v":{"v":0,"d":"0.00%"}},null,{"v":0,"d":"0.00%"},{"v":0,"d":"0.00%"},{"v":0,"d":"0.00%"},{"v":0,"d":"0.00%"},{"$f":"+'datos de entrada'!I252","v":{"v":0,"d":"0 "}},{"$f":"+'datos de entrada'!J252","v":{"v":0,"d":"0.00"}},{"$f":"+'datos de entrada'!K252","v":{"v":0,"d":"0.00"}},{"$f":"P58*O58","v":{"v":0,"d":"0.00"}},{"$f":"+'datos de entrada'!L252","v":{"v":0,"d":"0.00%"}},{"$f":"+'datos de entrada'!M252","v":{"v":0,"d":"0.00%"}},{"$f":"+'datos de entrada'!N252","v":{"v":0,"d":"0.00%"}},{"$f":"+'datos de entrada'!O252","v":{"v":0,"d":"0.00%"}},null,{"$f":"IF($B$113=0,0,R58*$Q58/$B$113)","v":{"v":0,"d":"0.00%"}},{"v":0,"d":"0.00%"},{"v":0,"d":"0.00%"},{"v":0,"d":"0.00%"}]
[{"$f":"+'datos de entrada'!A253","v":{"v":0,"d":"0 "}},{"$f":"+'datos de entrada'!B253","v":{"v":0,"d":"0.00"}},{"$f":"+'datos de entrada'!C253","v":{"v":0,"d":"0.00"}},{"$f":"C59*B59","v":{"v":0,"d":"0.00"}},{"$f":"IF(I59=1,I59,+'datos de entrada'!D253)","v":{"v":0,"d":"0.00%"}},{"$f":"+'datos de entrada'!E253","v":{"v":0,"d":"0.00%"}},{"$f":"+'datos de entrada'!F253","v":{"v":0,"d":"0.00%"}},{"$f":"+'datos de entrada'!G253","v":{"v":0,"d":"0.00%"}},null,{"v":0,"d":"0.00%"},{"v":0,"d":"0.00%"},{"v":0,"d":"0.00%"},{"v":0,"d":"0.00%"},{"$f":"+'datos de entrada'!I253","v":{"v":0,"d":"0 "}},{"$f":"+'datos de entrada'!J253","v":{"v":0,"d":"0.00"}},{"$f":"+'datos de entrada'!K253","v":{"v":0,"d":"0.00"}},{"$f":"P59*O59","v":{"v":0,"d":"0.00"}},{"$f":"+'datos de entrada'!L253","v":{"v":0,"d":"0.00%"}},{"$f":"+'datos de entrada'!M253","v":{"v":0,"d":"0.00%"}},{"$f":"+'datos de entrada'!N253","v":{"v":0,"d":"0.00%"}},{"$f":"+'datos de entrada'!O253","v":{"v":0,"d":"0.00%"}},null,{"$f":"IF($B$113=0,0,R59*$Q59/$B$113)","v":{"v":0,"d":"0.00%"}},{"v":0,"d":"0.00%"},{"v":0,"d":"0.00%"},{"v":0,"d":"0.00%"}]
["-","-","-","-","-","-","-","-",null,"-","-","-","-","-","-","-","-","-","-","-","-",null,"-","-","-","-"]
[{"$f":"A16","v":0},{"$nulls":8},{"$f":"SUM(J55:J59)","v":{"v":0,"d":"0.00%"}},{"$f":"SUM(K55:K59)","v":{"v":0,"d":"0.00%"}},{"$f":"SUM(L55:L59)","v":{"v":0,"d":"0.00%"}},{"$f":"SUM(M55:M59)","v":{"v":0,"d":"0.00%"}},{"$f":"+A22","v":{"v":0,"d":"0 "}},{"$nulls":8},{"$f":"SUM(W55:W59)","v":{"v":0,"d":"0.00%"}},{"$f":"SUM(X55:X59)","v":{"v":0,"d":"0.00%"}},{"$f":"SUM(Y55:Y59)","v":{"v":0,"d":"0.00%"}},{"$f":"SUM(Z55:Z59)","v":{"v":0,"d":"0.00%"}}]
[]
[{"$f":"+'datos de entrada'!A259","v":{"v":0,"d":"0 "}},{"$f":"+'datos de entrada'!B259","v":{"v":0,"d":"0.00"}},{"$f":"+'datos de entrada'!C259","v":{"v":0,"d":"0.00"}},{"$f":"C63*B63","v":{"v":0,"d":"0.00"}},{"$f":"+'datos de entrada'!D259","v":{"v":0,"d":"0.00%"}},{"$f":"+'datos de entrada'!E259","v":{"v":0,"d":"0.00%"}},{"$f":"+'datos de entrada'!F259","v":{"v":0,"d":"0.00%"}},{"$f":"+'datos de entrada'!G259","v":{"v":0,"d":"0.00%"}},null,{"$f":"IF($B$108=0,0,E63*$D63/$B$108)","v":{"v":0,"d":"0.00%"}},{"v":0,"d":"0.00%"},{"v":0,"d":"0.00%"},{"v":0,"d":"0.00%"},{"$f":"+'datos de entrada'!I259","v":{"v":0,"d":"0 "}},{"$f":"+'datos de entrada'!J259","v":{"v":0,"d":"0.00"}},{"$f":"+'datos de entrada'!K259","v":{"v":0,"d":"0.00"}},{"$f":"P63*O63","v":{"v":0,"d":"0.00"}},{"$f":"+'datos de entrada'!L259","v":{"v":0,"d":"0.00%"}},{"$f":"+'datos de entrada'!M259","v":{"v":0,"d":"0.00%"}},{"$f":"+'datos de entrada'!N259","v":{"v":0,"d":"0.00%"}},{"$f":"+'datos de entrada'!O259","v":{"v":0,"d":"0.00%"}},null,{"$f":"IF($B$114=0,0,R63*$Q63/$B$114)","v":{"v":0,"d":"0.00%"}},{"$f":"IF($B$114=0,0,S63*$Q63/$B$114)","v":{"v":0,"d":"0.00%"}},{"v":0,"d":"0.00%"},{"v":0,"d":"0.00%"}]
[{"$f":"+'datos de entrada'!A260","v":{"v":0,"d":"0 "}},{"$f":"+'datos de entrada'!B260","v":{"v":0,"d":"0.00"}},{"$f":"+'datos de entrada'!C260","v":{"v":0,"d":"0.00"}},{"$f":"C64*B64","v":{"v":0,"d":"0.00"}},{"$f":"+'datos de entrada'!D260","v":{"v":0,"d":"0.00%"}},{"$f":"+'datos de entrada'!E260","v":{"v":0,"d":"0.00%"}},{"$f":"+'datos de entrada'!F260","v":{"v":0,"d":"0.00%"}},{"$f":"+'datos de entrada'!G260","v":{"v":0,"d":"0.00%"}},null,{"v":0,"d":"0.00%"},{"v":0,"d":"0.00%"},{"v":0,"d":"0.00%"},{"v":0,"d":"0.00%"},{"$f":"+'datos de entrada'!I260","v":{"v":0,"d":"0 "}},{"$f":"+'datos de entrada'!J260","v":{"v":0,"d":"0.00"}},{"$f":"+'datos de entrada'!K260","v":{"v":0,"d":"0.00"}},{"$f":"P64*O64","v":{"v":0,"d":"0.00"}},{"$f":"+'datos de entrada'!L260","v":{"v":0,"d":"0.00%"}},{"$f":"+'datos de entrada'!M260","v":{"v":0,"d":"0.00%"}},{"$f":"+'datos de entrada'!N260","v":{"v":0,"d":"0.00%"}},{"$f":"+'datos de entrada'!O260","v":{"v":0,"d":"0.00%"}},null,{"$f":"IF($B$114=0,0,R64*$Q64/$B$114)","v":{"v":0,"d":"0.00%"}},{"v":0,"d":"0.00%"},{"v":0,"d":"0.00%"},{"v":0,"d":"0.00%"}]
[{"$f":"+'datos de entrada'!A261","v":{"v":0,"d":"0 "}},{"$f":"+'datos de entrada'!B261","v":{"v":0,"d":"0.00"}},{"$f":"+'datos de entrada'!C261","v":{"v":0,"d":"0.00"}},{"$f":"C65*B65","v":{"v":0,"d":"0.00"}},{"$f":"+'datos de entrada'!D261","v":{"v":0,"d":"0.00%"}},{"$f":"+'datos de entrada'!E261","v":{"v":0,"d":"0.00%"}},{"$f":"+'datos de entrada'!F261","v":{"v":0,"d":"0.00%"}},{"$f":"+'datos de entrada'!G261","v":{"v":0,"d":"0.00%"}},null,{"v":0,"d":"0.00%"},{"v":0,"d":"0.00%"},{"v":0,"d":"0.00%"},{"v":0,"d":"0.00%"},{"$f":"+'datos de entrada'!I261","v":{"v":0,"d":"0 "}},{"$f":"+'datos de entrada'!J261","v":{"v":0,"d":"0.00"}},{"$f":"+'datos de entrada'!K261","v":{"v":0,"d":"0.00"}},{"$f":"P65*O65","v":{"v":0,"d":"0.00"}},{"$f":"+'datos de entrada'!L261","v":{"v":0,"d":"0.00%"}},{"$f":"+'datos de entrada'!M261","v":{"v":0,"d":"0.00%"}},{"$f":"+'datos de entrada'!N261","v":{"v":0,"d":"0.00%"}},{"$f":"+'datos de entrada'!O261","v":{"v":0,"d":"0.00%"}},null,{"$f":"IF($B$114=0,0,R65*$Q65/$B$114)","v":{"v":0,"d":"0.00%"}},{"v":0,"d":"0.00%"},{"v":0,"d":"0.00%"},{"v":0,"d":"0.00%"}]
[{"$f":"+'datos de entrada'!A262","v":{"v":0,"d":"0 "}},{"$f":"+'datos de entrada'!B262","v":{"v":0,"d":"0.00"}},{"$f":"+'datos de entrada'!C262","v":{"v":0,"d":"0.00"}},{"$f":"C66*B66","v":{"v":0,"d":"0.00"}},{"$f":"+'datos de entrada'!D262","v":{"v":0,"d":"0.00%"}},{"$f":"+'datos de entrada'!E262","v":{"v":0,"d":"0.00%"}},{"$f":"+'datos de entrada'!F262","v":{"v":0,"d":"0.00%"}},{"$f":"+'datos de entrada'!G262","v":{"v":0,"d":"0.00%"}},null,{"v":0,"d":"0.00%"},{"v":0,"d":"0.00%"},{"v":0,"d":"0.00%"},{"v":0,"d":"0.00%"},{"$f":"+'datos de entrada'!I262","v":{"v":0,"d":"0 "}},{"$f":"+'datos de entrada'!J262","v":{"v":0,"d":"0.00"}},{"$f":"+'datos de entrada'!K262","v":{"v":0,"d":"0.00"}},{"$f":"P66*O66","v":{"v":0,"d":"0.00"}},{"$f":"+'datos de entrada'!L262","v":{"v":0,"d":"0.00%"}},{"$f":"+'datos de entrada'!M262","v":{"v":0,"d":"0.00%"}},{"$f":"+'datos de entrada'!N262","v":{"v":0,"d":"0.00%"}},{"$f":"+'datos de entrada'!O262","v":{"v":0,"d":"0.00%"}},null,{"$f":"IF($B$114=0,0,R66*$Q66/$B$114)","v":{"v":0,"d":"0.00%"}},{"v":0,"d":"0.00%"},{"v":0,"d":"0.00%"},{"v":0,"d":"0.00%"}]
[{"$f":"+'datos de entrada'!A263","v":{"v":0,"d":"0 "}},{"$f":"+'datos de entrada'!B263","v":{"v":0,"d":"0.00"}},{"$f":"+'datos de entrada'!C263","v":{"v":0,"d":"0.00"}},{"$f":"C67*B67","v":{"v":0,"d":"0.00"}},{"$f":"+'datos de entrada'!D263","v":{"v":0,"d":"0.00%"}},{"$f":"+'datos de entrada'!E263","v":{"v":0,"d":"0.00%"}},{"$f":"+'datos de entrada'!F263","v":{"v":0,"d":"0.00%"}},{"$f":"+'datos de entrada'!G263","v":{"v":0,"d":"0.00%"}},null,{"v":0,"d":"0.00%"},{"v":0,"d":"0.00%"},{"v":0,"d":"0.00%"},{"v":0,"d":"0.00%"},{"$f":"+'datos de entrada'!I263","v":{"v":0,"d":"0 "}},{"$f":"+'datos de entrada'!J263","v":{"v":0,"d":"0.00"}},{"$f":"+'datos de entrada'!K263","v":{"v":0,"d":"0.00"}},{"$f":"P67*O67","v":{"v":0,"d":"0.00"}},{"$f":"+'datos de entrada'!L263","v":{"v":0,"d":"0.00%"}},{"$f":"+'datos de entrada'!M263","v":{"v":0,"d":"0.00%"}},{"$f":"+'datos de entrada'!N263","v":{"v":0,"d":"0.00%"}},{"$f":"+'datos de entrada'!O263","v":{"v":0,"d":"0.00%"}},null,{"$f":"IF($B$114=0,0,R67*$Q67/$B$114)","v":{"v":0,"d":"0.00%"}},{"v":0,"d":"0.00%"},{"v":0,"d":"0.00%"},{"v":0,"d":"0.00%"}]
["-","-","-","-","-","-","-","-",null,"-","-","-","-","-","-","-","-","-","-","-","-",null,"-","-","-","-"]
[{"$f":"A17","v":0},{"$nulls":8},{"$f":"SUM(J63:J67)","v":{"v":0,"d":"0.00%"}},{"$f":"SUM(K63:K67)","v":{"v":0,"d":"0.00%"}},{"$f":"SUM(L63:L67)","v":{"v":0,"d":"0.00%"}},{"$f":"SUM(M63:M67)","v":{"v":0,"d":"0.00%"}},{"$f":"+A23","v":{"v":0,"d":"0 "}},{"$nulls":8},{"$f":"SUM(W63:W67)","v":{"v":0,"d":"0.00%"}},{"$f":"SUM(X63:X67)","v":{"v":0,"d":"0.00%"}},{"$f":"SUM(Y63:Y67)","v":{"v":0,"d":"0.00%"}},{"$f":"SUM(Z63:Z67)","v":{"v":0,"d":"0.00%"}}]
[]
[{"$f":"+'datos de entrada'!A270","v":{"v":0,"d":"0 "}},{"$f":"+'datos de entrada'!B270","v":{"v":0,"d":"0.00"}},{"$f":"+'datos de entrada'!C270","v":{"v":0,"d":"0.00"}},{"$f":"C71*B71","v":{"v":0,"d":"0.00"}},{"$f":"+'datos de entrada'!D270","v":{"v":0,"d":"0.00%"}},{"$f":"+'datos de entrada'!E270","v":{"v":0,"d":"0.00%"}},{"$f":"+'datos de entrada'!F270","v":{"v":0,"d":"0.00%"}},{"$f":"+'datos de entrada'!G270","v":{"v":0,"d":"0.00%"}},null,{"$f":"IF($B$109=0,0,E71*$D71/$B$109)","v":{"v":0,"d":"0.00%"}},{"v":0,"d":"0.00%"},{"v":0,"d":"0.00%"},{"v":0,"d":"0.00%"},{"$f":"+'datos de entrada'!I270","v":{"v":0,"d":"0 "}},{"$f":"+'datos de entrada'!J270","v":{"v":0,"d":"0.00"}},{"$f":"+'datos de entrada'!K270","v":{"v":0,"d":"0.00"}},{"$f":"P71*O71","v":{"v":0,"d":"0.00"}},{"$f":"+'datos de entrada'!L270","v":{"v":0,"d":"0.00%"}},{"$f":"+'datos de entrada'!M270","v":{"v":0,"d":"0.00%"}},{"$f":"+'datos de entrada'!N270","v":{"v":0,"d":"0.00%"}},{"$f":"+'datos de entrada'!O270","v":{"v":0,"d":"0.00%"}},null,{"$f":"IF($B$115=0,0,R71*$Q71/$B$115)","v":{"v":0,"d":"0.00%"}},{"v":0,"d":"0.00%"},{"v":0,"d":"0.00%"},{"v":0,"d":"0.00%"}]
[{"$f":"+'datos de entrada'!A271","v":{"v":0,"d":"0 "}},{"$f":"+'datos de entrada'!B271","v":{"v":0,"d":"0.00"}},{"$f":"+'datos de entrada'!C271","v":{"v":0,"d":"0.00"}},{"$f":"C72*B72","v":{"v":0,"d":"0.00"}},{"$f":"+'datos de entrada'!D271","v":{"v":0,"d":"0.00%"}},{"$f":"+'datos de entrada'!E271","v":{"v":0,"d":"0.00%"}},{"$f":"+'datos de entrada'!F271","v":{"v":0,"d":"0.00%"}},{"$f":"+'datos de entrada'!G271","v":{"v":0,"d":"0.00%"}},null,{"v":0,"d":"0.00%"},{"v":0,"d":"0.00%"},{"v":0,"d":"0.00%"},{"v":0,"d":"0.00%"},{"$f":"+'datos de entrada'!I271","v":{"v":0,"d":"0 "}},{"$f":"+'datos de entrada'!J271","v":{"v":0,"d":"0.00"}},{"$f":"+'datos de entrada'!K271","v":{"v":0,"d":"0.00"}},{"$f":"P72*O72","v":{"v":0,"d":"0.00"}},{"$f":"+'datos de entrada'!L271","v":{"v":0,"d":"0.00%"}},{"$f":"+'datos de entrada'!M271","v":{"v":0,"d":"0.00%"}},{"$f":"+'datos de entrada'!N271","v":{"v":0,"d":"0.00%"}},{"$f":"+'datos de entrada'!O271","v":{"v":0,"d":"0.00%"}},null,{"v":0,"d":"0.00%"},{"v":0,"d":"0.00%"},{"v":0,"d":"0.00%"},{"v":0,"d":"0.00%"}]
[{"$f":"+'datos de entrada'!A272","v":{"v":0,"d":"0 "}},{"$f":"+'datos de entrada'!B272","v":{"v":0,"d":"0.00"}},{"$f":"+'datos de entrada'!C272","v":{"v":0,"d":"0.00"}},{"$f":"C73*B73","v":{"v":0,"d":"0.00"}},{"$f":"+'datos de entrada'!D272","v":{"v":0,"d":"0.00%"}},{"$f":"+'datos de entrada'!E272","v":{"v":0,"d":"0.00%"}},{"$f":"+'datos de entrada'!F272","v":{"v":0,"d":"0.00%"}},{"$f":"+'datos de entrada'!G272","v":{"v":0,"d":"0.00%"}},null,{"v":0,"d":"0.00%"},{"v":0,"d":"0.00%"},{"v":0,"d":"0.00%"},{"v":0,"d":"0.00%"},{"$f":"+'datos de entrada'!I272","v":{"v":0,"d":"0 "}},{"$f":"+'datos de entrada'!J272","v":{"v":0,"d":"0.00"}},{"$f":"+'datos de entrada'!K272","v":{"v":0,"d":"0.00"}},{"$f":"P73*O73","v":{"v":0,"d":"0.00"}},{"$f":"+'datos de entrada'!L272","v":{"v":0,"d":"0.00%"}},{"$f":"+'datos de entrada'!M272","v":{"v":0,"d":"0.00%"}},{"$f":"+'datos de entrada'!N272","v":{"v":0,"d":"0.00%"}},{"$f":"+'datos de entrada'!O272","v":{"v":0,"d":"0.00%"}},null,{"v":0,"d":"0.00%"},{"v":0,"d":"0.00%"},{"v":0,"d":"0.00%"},{"v":0,"d":"0.00%"}]
[{"$f":"+'datos de entrada'!A273","v":{"v":0,"d":"0 "}},{"$f":"+'datos de entrada'!B273","v":{"v":0,"d":"0.00"}},{"$f":"+'datos de entrada'!C273","v":{"v":0,"d":"0.00"}},{"$f":"C74*B74","v":{"v":0,"d":"0.00"}},{"$f":"+'datos de entrada'!D273","v":{"v":0,"d":"0.00%"}},{"$f":"+'datos de entrada'!E273","v":{"v":0,"d":"0.00%"}},{"$f":"+'datos de entrada'!F273","v":{"v":0,"d":"0.00%"}},{"$f":"+'datos de entrada'!G273","v":{"v":0,"d":"0.00%"}},null,{"v":0,"d":"0.00%"},{"v":0,"d":"0.00%"},{"v":0,"d":"0.00%"},{"v":0,"d":"0.00%"},{"$f":"+'datos de entrada'!I273","v":{"v":0,"d":"0 "}},{"$f":"+'datos de entrada'!J273","v":{"v":0,"d":"0.00"}},{"$f":"+'datos de entrada'!K273","v":{"v":0,"d":"0.00"}},{"$f":"P74*O74","v":{"v":0,"d":"0.00"}},{"$f":"+'datos de entrada'!L273","v":{"v":0,"d":"0.00%"}},{"$f":"+'datos de entrada'!M273","v":{"v":0,"d":"0.00%"}},{"$f":"+'datos de entrada'!N273","v":{"v":0,"d":"0.00%"}},{"$f":"+'datos de entrada'!O273","v":{"v":0,"d":"0.00%"}},null,{"v":0,"d":"0.00%"},{"v":0,"d":"0.00%"},{"v":0,"d":"0.00%"},{"v":0,"d":"0.00%"}]
[{"$f":"+'datos de entrada'!A274","v":{"v":0,"d":"0 "}},{"$f":"+'datos de entrada'!B274","v":{"v":0,"d":"0.00"}},{"$f":"+'datos de entrada'!C274","v":{"v":0,"d":"0.00"}},{"$f":"C75*B75","v":{"v":0,"d":"0.00"}},{"$f":"+'datos de entrada'!D274","v":{"v":0,"d":"0.00%"}},{"$f":"+'datos de entrada'!E274","v":{"v":0,"d":"0.00%"}},{"$f":"+'datos de entrada'!F274","v":{"v":0,"d":"0.00%"}},{"$f":"+'datos de entrada'!G274","v":{"v":0,"d":"0.00%"}},null,{"v":0,"d":"0.00%"},{"v":0,"d":"0.00%"},{"v":0,"d":"0.00%"},{"v":0,"d":"0.00%"},{"$f":"+'datos de entrada'!I274","v":{"v":0,"d":"0 "}},{"$f":"+'datos de entrada'!J274","v":{"v":0,"d":"0.00"}},{"$f":"+'datos de entrada'!K274","v":{"v":0,"d":"0.00"}},{"$f":"P75*O75","v":{"v":0,"d":"0.00"}},{"$f":"+'datos de entrada'!L274","v":{"v":0,"d":"0.00%"}},{"$f":"+'datos de entrada'!M274","v":{"v":0,"d":"0.00%"}},{"$f":"+'datos de entrada'!N274","v":{"v":0,"d":"0.00%"}},{"$f":"+'datos de entrada'!O274","v":{"v":0,"d":"0.00%"}},null,{"v":0,"d":"0.00%"},{"v":0,"d":"0.00%"},{"v":0,"d":"0.00%"},{"v":0,"d":"0.00%"}]
["-","-","-","-","-","-","-","-",null,"-","-","-","-","-","-","-","-","-","-","-","-",null,"-","-","-","-"]
[{"$f":"A18","v":0},{"$nulls":8},{"$f":"SUM(J71:J75)","v":{"v":0,"d":"0.00%"}},{"$f":"SUM(K71:K75)","v":{"v":0,"d":"0.00%"}},{"$f":"SUM(L71:L75)","v":{"v":0,"d":"0.00%"}},{"$f":"SUM(M71:M75)","v":{"v":0,"d":"0.00%"}},{"$f":"+A24","v":{"v":0,"d":"0 "}},{"$nulls":8},{"$f":"SUM(W71:W75)","v":{"v":0,"d":"0.00%"}},{"$f":"SUM(X71:X75)","v":{"v":0,"d":"0.00%"}},{"$f":"SUM(Y71:Y75)","v":{"v":0,"d":"0.00%"}},{"$f":"SUM(Z71:Z75)","v":{"v":0,"d":"0.00%"}}]
[]
[{"$f":"+'datos de entrada'!A280","v":{"v":0,"d":"0 "}},{"$f":"+'datos de entrada'!B280","v":{"v":0,"d":"0.00"}},{"$f":"+'datos de entrada'!C280","v":{"v":0,"d":"0.00"}},{"$f":"C79*B79","v":{"v":0,"d":"0.00"}},{"$f":"+'datos de entrada'!D280","v":{"v":0,"d":"0.00%"}},{"$f":"+'datos de entrada'!E280","v":{"v":0,"d":"0.00%"}},{"$f":"+'datos de entrada'!F280","v":{"v":0,"d":"0.00%"}},{"$f":"+'datos de entrada'!G280","v":{"v":0,"d":"0.00%"}},null,{"$f":"IF($B$110=0,0,E79*$D79/$B$110)","v":{"v":0,"d":"0.00%"}},{"v":0,"d":"0.00%"},{"v":0,"d":"0.00%"},{"v":0,"d":"0.00%"},{"$f":"+'datos de entrada'!I280","v":{"v":0,"d":"0 "}},{"$f":"+'datos de entrada'!J280","v":{"v":0,"d":"0.00"}},{"$f":"+'datos de entrada'!K280","v":{"v":0,"d":"0.00"}},{"$f":"P79*O79","v":{"v":0,"d":"0.00"}},{"$f":"+'datos de entrada'!L280","v":{"v":0,"d":"0.00%"}},{"$f":"+'datos de entrada'!M280","v":{"v":0,"d":"0.00%"}},{"$f":"+'datos de entrada'!N280","v":{"v":0,"d":"0.00%"}},{"$f":"+'datos de entrada'!O280","v":{"v":0,"d":"0.00%"}},null,{"$f":"IF($B$116=0,0,R79*$Q79/$B$116)","v":{"v":0,"d":"0.00%"}},{"v":0,"d":"0.00%"},{"v":0,"d":"0.00%"},{"v":0,"d":"0.00%"}]
[{"$f":"+'datos de entrada'!A281","v":{"v":0,"d":"0 "}},{"$f":"+'datos de entrada'!B281","v":{"v":0,"d":"0.00"}},{"$f":"+'datos de entrada'!C281","v":{"v":0,"d":"0.00"}},{"$f":"C80*B80","v":{"v":0,"d":"0.00"}},{"$f":"+'datos de entrada'!D281","v":{"v":0,"d":"0.00%"}},{"$f":"+'datos de entrada'!E281","v":{"v":0,"d":"0.00%"}},{"$f":"+'datos de entrada'!F281","v":{"v":0,"d":"0.00%"}},{"$f":"+'datos de entrada'!G281","v":{"v":0,"d":"0.00%"}},null,{"v":0,"d":"0.00%"},{"v":0,"d":"0.00%"},{"v":0,"d":"0.00%"},{"v":0,"d":"0.00%"},{"$f":"+'datos de entrada'!I281","v":{"v":0,"d":"0 "}},{"$f":"+'datos de entrada'!J281","v":{"v":0,"d":"0.00"}},{"$f":"+'datos de entrada'!K281","v":{"v":0,"d":"0.00"}},{"$f":"P80*O80","v":{"v":0,"d":"0.00"}},{"$f":"+'datos de entrada'!L281","v":{"v":0,"d":"0.00%"}},{"$f":"+'datos de entrada'!M281","v":{"v":0,"d":"0.00%"}},{"$f":"+'datos de entrada'!N281","v":{"v":0,"d":"0.00%"}},{"$f":"+'datos de entrada'!O281","v":{"v":0,"d":"0.00%"}},null,{"v":0,"d":"0.00%"},{"v":0,"d":"0.00%"},{"v":0,"d":"0.00%"},{"v":0,"d":"0.00%"}]
[{"$f":"+'datos de entrada'!A282","v":{"v":0,"d":"0 "}},{"$f":"+'datos de entrada'!B282","v":{"v":0,"d":"0.00"}},{"$f":"+'datos de entrada'!C282","v":{"v":0,"d":"0.00"}},{"$f":"C81*B81","v":{"v":0,"d":"0.00"}},{"$f":"+'datos de entrada'!D282","v":{"v":0,"d":"0.00%"}},{"$f":"+'datos de entrada'!E282","v":{"v":0,"d":"0.00%"}},{"$f":"+'datos de entrada'!F282","v":{"v":0,"d":"0.00%"}},{"$f":"+'datos de entrada'!G282","v":{"v":0,"d":"0.00%"}},null,{"v":0,"d":"0.00%"},{"v":0,"d":"0.00%"},{"v":0,"d":"0.00%"},{"v":0,"d":"0.00%"},{"$f":"+'datos de entrada'!I282","v":{"v":0,"d":"0 "}},{"$f":"+'datos de entrada'!J282","v":{"v":0,"d":"0.00"}},{"$f":"+'datos de entrada'!K282","v":{"v":0,"d":"0.00"}},{"$f":"P81*O81","v":{"v":0,"d":"0.00"}},{"$f":"+'datos de entrada'!L282","v":{"v":0,"d":"0.00%"}},{"$f":"+'datos de entrada'!M282","v":{"v":0,"d":"0.00%"}},{"$f":"+'datos de entrada'!N282","v":{"v":0,"d":"0.00%"}},{"$f":"+'datos de entrada'!O282","v":{"v":0,"d":"0.00%"}},null,{"v":0,"d":"0.00%"},{"v":0,"d":"0.00%"},{"v":0,"d":"0.00%"},{"v":0,"d":"0.00%"}]
[{"$f":"+'datos de entrada'!A283","v":{"v":0,"d":"0 "}},{"$f":"+'datos de entrada'!B283","v":{"v":0,"d":"0.00"}},{"$f":"+'datos de entrada'!C283","v":{"v":0,"d":"0.00"}},{"$f":"C82*B82","v":{"v":0,"d":"0.00"}},{"$f":"+'datos de entrada'!D283","v":{"v":0,"d":"0.00%"}},{"$f":"+'datos de entrada'!E283","v":{"v":0,"d":"0.00%"}},{"$f":"+'datos de entrada'!F283","v":{"v":0,"d":"0.00%"}},{"$f":"+'datos de entrada'!G283","v":{"v":0,"d":"0.00%"}},null,{"v":0,"d":"0.00%"},{"v":0,"d":"0.00%"},{"v":0,"d":"0.00%"},{"v":0,"d":"0.00%"},{"$f":"+'datos de entrada'!I283","v":{"v":0,"d":"0 "}},{"$f":"+'datos de entrada'!J283","v":{"v":0,"d":"0.00"}},{"$f":"+'datos de entrada'!K283","v":{"v":0,"d":"0.00"}},{"$f":"P82*O82","v":{"v":0,"d":"0.00"}},{"$f":"+'datos de entrada'!L283","v":{"v":0,"d":"0.00%"}},{"$f":"+'datos de entrada'!M283","v":{"v":0,"d":"0.00%"}},{"$f":"+'datos de entrada'!N283","v":{"v":0,"d":"0.00%"}},{"$f":"+'datos de entrada'!O283","v":{"v":0,"d":"0.00%"}},null,{"v":0,"d":"0.00%"},{"v":0,"d":"0.00%"},{"v":0,"d":"0.00%"},{"v":0,"d":"0.00%"}]
[{"$f":"+'datos de entrada'!A284","v":{"v":0,"d":"0 "}},{"$f":"+'datos de entrada'!B284","v":{"v":0,"d":"0.00"}},{"$f":"+'datos de entrada'!C284","v":{"v":0,"d":"0.00"}},{"$f":"C83*B83","v":{"v":0,"d":"0.00"}},{"$f":"+'datos de entrada'!D284","v":{"v":0,"d":"0.00%"}},{"$f":"+'datos de entrada'!E284","v":{"v":0,"d":"0.00%"}},{"$f":"+'datos de entrada'!F284","v":{"v":0,"d":"0.00%"}},{"$f":"+'datos de entrada'!G284","v":{"v":0,"d":"0.00%"}},null,{"v":0,"d":"0.00%"},{"v":0,"d":"0.00%"},{"v":0,"d":"0.00%"},{"v":0,"d":"0.00%"},{"$f":"+'datos de entrada'!I284","v":{"v":0,"d":"0 "}},{"$f":"+'datos de entrada'!J284","v":{"v":0,"d":"0.00"}},{"$f":"+'datos de entrada'!K284","v":{"v":0,"d":"0.00"}},{"$f":"P83*O83","v":{"v":0,"d":"0.00"}},{"$f":"+'datos de entrada'!L284","v":{"v":0,"d":"0.00%"}},{"$f":"+'datos de entrada'!M284","v":{"v":0,"d":"0.00%"}},{"$f":"+'datos de entrada'!N284","v":{"v":0,"d":"0.00%"}},{"$f":"+'datos de entrada'!O284","v":{"v":0,"d":"0.00%"}},null,{"v":0,"d":"0.00%"},{"v":0,"d":"0.00%"},{"v":0,"d":"0.00%"},{"v":0,"d":"0.00%"}]
["-","-","-","-","-","-","-","-",null,"-","-","-","-","-","-","-","-","-","-","-","-",null,"-","-","-","-"]
[{"$f":"A19","v":0},{"$nulls":8},{"$f":"SUM(J79:J83)","v":{"v":0,"d":"0.00%"}},{"$f":"SUM(K79:K83)","v":{"v":0,"d":"0.00%"}},{"$f":"SUM(L79:L83)","v":{"v":0,"d":"0.00%"}},{"$f":"SUM(M79:M83)","v":{"v":0,"d":"0.00%"}},{"$f":"+A25","v":{"v":0,"d":"0 "}},{"$nulls":8},{"$f":"SUM(W79:W83)","v":{"v":0,"d":"0.00%"}},{"$f":"SUM(X79:X83)","v":{"v":0,"d":"0.00%"}},{"$f":"SUM(Y79:Y83)","v":{"v":0,"d":"0.00%"}},{"$f":"SUM(Z79:Z83)","v":{"v":0,"d":"0.00%"}}]
[]
[{"$f":"+'datos de entrada'!A290","v":{"v":0,"d":"0 "}},{"$f":"+'datos de entrada'!B290","v":{"v":0,"d":"0.00"}},{"$f":"+'datos de entrada'!C290","v":{"v":0,"d":"0.00"}},{"$f":"C87*B87","v":{"v":0,"d":"0.00"}},{"$f":"+'datos de entrada'!D290","v":{"v":0,"d":"0.00%"}},{"$f":"+'datos de entrada'!E290","v":{"v":0,"d":"0.00%"}},{"$f":"+'datos de entrada'!F290","v":{"v":0,"d":"0.00%"}},{"$f":"+'datos de entrada'!G290","v":{"v":0,"d":"0.00%"}},null,{"$f":"IF($B$111=0,0,E87*$D87/$B$111)","v":{"v":0,"d":"0.00%"}},{"v":0,"d":"0.00%"},{"v":0,"d":"0.00%"},{"v":0,"d":"0.00%"},{"$f":"+'datos de entrada'!I290","v":{"v":0,"d":"0 "}},{"$f":"+'datos de entrada'!J290","v":{"v":0,"d":"0.00"}},{"$f":"+'datos de entrada'!K290","v":{"v":0,"d":"0.00"}},{"$f":"P87*O87","v":{"v":0,"d":"0.00"}},{"$f":"+'datos de entrada'!L290","v":{"v":0,"d":"0.00%"}},{"$f":"+'datos de entrada'!M290","v":{"v":0,"d":"0.00%"}},{"$f":"+'datos de entrada'!N290","v":{"v":0,"d":"0.00%"}},{"$f":"+'datos de entrada'!O290","v":{"v":0,"d":"0.00%"}},null,{"$f":"IF($B$117=0,0,R87*$Q87/$B$117)","v":{"v":0,"d":"0.00%"}},{"$f":"IF($B$117=0,0,S87*$Q87/$B$117)","v":{"v":0,"d":"0.00%"}},{"v":0,"d":"0.00%"},{"v":0,"d":"0.00%"}]
[{"$f":"+'datos de entrada'!A291","v":{"v":0,"d":"0 "}},{"$f":"+'datos de entrada'!B291","v":{"v":0,"d":"0.00"}},{"$f":"+'datos de entrada'!C291","v":{"v":0,"d":"0.00"}},{"$f":"C88*B88","v":{"v":0,"d":"0.00"}},{"$f":"+'datos de entrada'!D291","v":{"v":0,"d":"0.00%"}},{"$f":"+'datos de entrada'!E291","v":{"v":0,"d":"0.00%"}},{"$f":"+'datos de entrada'!F291","v":{"v":0,"d":"0.00%"}},{"$f":"+'datos de entrada'!G291","v":{"v":0,"d":"0.00%"}},null,{"v":0,"d":"0.00%"},{"v":0,"d":"0.00%"},{"v":0,"d":"0.00%"},{"v":0,"d":"0.00%"},{"$f":"+'datos de entrada'!I291","v":{"v":0,"d":"0 "}},{"$f":"+'datos de entrada'!J291","v":{"v":0,"d":"0.00"}},{"$f":"+'datos de entrada'!K291","v":{"v":0,"d":"0.00"}},{"$f":"P88*O88","v":{"v":0,"d":"0.00"}},{"$f":"+'datos de entrada'!L291","v":{"v":0,"d":"0.00%"}},{"$f":"+'datos de entrada'!M291","v":{"v":0,"d":"0.00%"}},{"$f":"+'datos de entrada'!N291","v":{"v":0,"d":"0.00%"}},{"$f":"+'datos de entrada'!O291","v":{"v":0,"d":"0.00%"}},null,{"$f":"IF($B$117=0,0,R88*$Q88/$B$117)","v":{"v":0,"d":"0.00%"}},{"v":0,"d":"0.00%"},{"v":0,"d":"0.00%"},{"v":0,"d":"0.00%"}]
[{"$f":"+'datos de entrada'!A292","v":{"v":0,"d":"0 "}},{"$f":"+'datos de entrada'!B292","v":{"v":0,"d":"0.00"}},{"$f":"+'datos de entrada'!C292","v":{"v":0,"d":"0.00"}},{"$f":"C89*B89","v":{"v":0,"d":"0.00"}},{"$f":"+'datos de entrada'!D292","v":{"v":0,"d":"0.00%"}},{"$f":"+'datos de entrada'!E292","v":{"v":0,"d":"0.00%"}},{"$f":"+'datos de entrada'!F292","v":{"v":0,"d":"0.00%"}},{"$f":"+'datos de entrada'!G292","v":{"v":0,"d":"0.00%"}},null,{"v":0,"d":"0.00%"},{"v":0,"d":"0.00%"},{"v":0,"d":"0.00%"},{"v":0,"d":"0.00%"},{"$f":"+'datos de entrada'!I292","v":{"v":0,"d":"0 "}},{"$f":"+'datos de entrada'!J292","v":{"v":0,"d":"0.00"}},{"$f":"+'datos de entrada'!K292","v":{"v":0,"d":"0.00"}},{"$f":"P89*O89","v":{"v":0,"d":"0.00"}},{"$f":"+'datos de entrada'!L292","v":{"v":0,"d":"0.00%"}},{"$f":"+'datos de entrada'!M292","v":{"v":0,"d":"0.00%"}},{"$f":"+'datos de entrada'!N292","v":{"v":0,"d":"0.00%"}},{"$f":"+'datos de entrada'!O292","v":{"v":0,"d":"0.00%"}},null,{"$f":"IF($B$117=0,0,R89*$Q89/$B$117)","v":{"v":0,"d":"0.00%"}},{"v":0,"d":"0.00%"},{"v":0,"d":"0.00%"},{"v":0,"d":"0.00%"}]
[{"$f":"+'datos de entrada'!A293","v":{"v":0,"d":"0 "}},{"$f":"+'datos de entrada'!B293","v":{"v":0,"d":"0.00"}},{"$f":"+'datos de entrada'!C293","v":{"v":0,"d":"0.00"}},{"$f":"C90*B90","v":{"v":0,"d":"0.00"}},{"$f":"+'datos de entrada'!D293","v":{"v":0,"d":"0.00%"}},{"$f":"+'datos de entrada'!E293","v":{"v":0,"d":"0.00%"}},{"$f":"+'datos de entrada'!F293","v":{"v":0,"d":"0.00%"}},{"$f":"+'datos de entrada'!G293","v":{"v":0,"d":"0.00%"}},null,{"v":0,"d":"0.00%"},{"v":0,"d":"0.00%"},{"v":0,"d":"0.00%"},{"v":0,"d":"0.00%"},{"$f":"+'datos de entrada'!I293","v":{"v":0,"d":"0 "}},{"$f":"+'datos de entrada'!J293","v":{"v":0,"d":"0.00"}},{"$f":"+'datos de entrada'!K293","v":{"v":0,"d":"0.00"}},{"$f":"P90*O90","v":{"v":0,"d":"0.00"}},{"$f":"+'datos de entrada'!L293","v":{"v":0,"d":"0.00%"}},{"$f":"+'datos de entrada'!M293","v":{"v":0,"d":"0.00%"}},{"$f":"+'datos de entrada'!N293","v":{"v":0,"d":"0.00%"}},{"$f":"+'datos de entrada'!O293","v":{"v":0,"d":"0.00%"}},null,{"$f":"IF($B$117=0,0,R90*$Q90/$B$117)","v":{"v":0,"d":"0.00%"}},{"v":0,"d":"0.00%"},{"v":0,"d":"0.00%"},{"v":0,"d":"0.00%"}]
[{"$f":"+'datos de entrada'!A294","v":{"v":0,"d":"0 "}},{"$f":"+'datos de entrada'!B294","v":{"v":0,"d":"0.00"}},{"$f":"+'datos de entrada'!C294","v":{"v":0,"d":"0.00"}},{"$f":"C91*B91","v":{"v":0,"d":"0.00"}},{"$f":"+'datos de entrada'!D294","v":{"v":0,"d":"0.00%"}},{"$f":"+'datos de entrada'!E294","v":{"v":0,"d":"0.00%"}},{"$f":"+'datos de entrada'!F294","v":{"v":0,"d":"0.00%"}},{"$f":"+'datos de entrada'!G294","v":{"v":0,"d":"0.00%"}},null,{"v":0,"d":"0.00%"},{"v":0,"d":"0.00%"},{"v":0,"d":"0.00%"},{"v":0,"d":"0.00%"},{"$f":"+'datos de entrada'!I294","v":{"v":0,"d":"0 "}},{"$f":"+'datos de entrada'!J294","v":{"v":0,"d":"0.00"}},{"$f":"+'datos de entrada'!K294","v":{"v":0,"d":"0.00"}},{"$f":"P91*O91","v":{"v":0,"d":"0.00"}},{"$f":"+'datos de entrada'!L294","v":{"v":0,"d":"0.00%"}},{"$f":"+'datos de entrada'!M294","v":{"v":0,"d":"0.00%"}},{"$f":"+'datos de entrada'!N294","v":{"v":0,"d":"0.00%"}},{"$f":"+'datos de entrada'!O294","v":{"v":0,"d":"0.00%"}},null,{"$f":"IF($B$117=0,0,R91*$Q91/$B$117)","v":{"v":0,"d":"0.00%"}},{"v":0,"d":"0.00%"},{"v":0,"d":"0.00%"},{"v":0,"d":"0.00%"}]
["-","-","-","-","-","-","-","-",null,"-","-","-","-","-","-","-","-","-","-","-","-",null,"-","-","-","-"]
[{"$f":"A20","v":0},{"$nulls":8},{"$f":"SUM(J87:J91)","v":{"v":0,"d":"0.00%"}},{"$f":"SUM(K87:K91)","v":{"v":0,"d":"0.00%"}},{"$f":"SUM(L87:L91)","v":{"v":0,"d":"0.00%"}},{"$f":"SUM(M87:M91)","v":{"v":0,"d":"0.00%"}},{"$f":"+A26","v":{"v":0,"d":"0 "}},{"$nulls":8},{"$f":"SUM(W87:W91)","v":{"v":0,"d":"0.00%"}},{"$f":"SUM(X87:X91)","v":{"v":0,"d":"0.00%"}},{"$f":"SUM(Y87:Y91)","v":{"v":0,"d":"0.00%"}},{"$f":"SUM(Z87:Z91)","v":{"v":0,"d":"0.00%"}}]
[]
[{"$f":"+'datos de entrada'!A300","v":{"v":0,"d":"0 "}},{"$f":"+'datos de entrada'!B300","v":{"v":0,"d":"0.00"}},{"$f":"+'datos de entrada'!C300","v":{"v":0,"d":"0.00"}},{"$f":"C95*B95","v":{"v":0,"d":"0.00"}},{"$f":"+'datos de entrada'!D300","v":{"v":0,"d":"0.00%"}},{"$f":"+'datos de entrada'!E300","v":{"v":0,"d":"0.00%"}},{"$f":"+'datos de entrada'!F300","v":{"v":0,"d":"0.00%"}},{"$f":"+'datos de entrada'!G300","v":{"v":0,"d":"0.00%"}},null,{"$f":"IF($B$112=0,0,E95*$D95/$B$112)","v":{"v":0,"d":"0.00%"}},{"v":0,"d":"0.00%"},{"v":0,"d":"0.00%"},{"v":0,"d":"0.00%"},{"$f":"+'datos de entrada'!I300","v":{"v":0,"d":"0 "}},{"$f":"+'datos de entrada'!J300","v":{"v":0,"d":"0.00"}},{"$f":"+'datos de entrada'!K300","v":{"v":0,"d":"0.00"}},{"$f":"P95*O95","v":{"v":0,"d":"0.00"}},{"$f":"+'datos de entrada'!L300","v":{"v":0,"d":"0.00%"}},{"$f":"+'datos de entrada'!M300","v":{"v":0,"d":"0.00%"}},{"$f":"+'datos de entrada'!N300","v":{"v":0,"d":"0.00%"}},{"$f":"+'datos de entrada'!O300","v":{"v":0,"d":"0.00%"}},null,{"$f":"IF($B$118=0,0,R95*$Q95/$B$118)","v":{"v":0,"d":"0.00%"}},{"$f":"IF($B$118=0,0,S95*$Q95/$B$118)","v":{"v":0,"d":"0.00%"}},{"v":0,"d":"0.00%"},{"v":0,"d":"0.00%"}]
[{"$f":"+'datos de entrada'!A301","v":{"v":0,"d":"0 "}},{"$f":"+'datos de entrada'!B301","v":{"v":0,"d":"0.00"}},{"$f":"+'datos de entrada'!C301","v":{"v":0,"d":"0.00"}},{"$f":"C96*B96","v":{"v":0,"d":"0.00"}},{"$f":"+'datos de entrada'!D301","v":{"v":0,"d":"0.00%"}},{"$f":"+'datos de entrada'!E301","v":{"v":0,"d":"0.00%"}},{"$f":"+'datos de entrada'!F301","v":{"v":0,"d":"0.00%"}},{"$f":"+'datos de entrada'!G301","v":{"v":0,"d":"0.00%"}},null,{"v":0,"d":"0.00%"},{"v":0,"d":"0.00%"},{"v":0,"d":"0.00%"},{"v":0,"d":"0.00%"},{"$f":"+'datos de entrada'!I301","v":{"v":0,"d":"0 "}},{"$f":"+'datos de entrada'!J301","v":{"v":0,"d":"0.00"}},{"$f":"+'datos de entrada'!K301","v":{"v":0,"d":"0.00"}},{"$f":"P96*O96","v":{"v":0,"d":"0.00"}},{"$f":"+'datos de entrada'!L301","v":{"v":0,"d":"0.00%"}},{"$f":"+'datos de entrada'!M301","v":{"v":0,"d":"0.00%"}},{"$f":"+'datos de entrada'!N301","v":{"v":0,"d":"0.00%"}},{"$f":"+'datos de entrada'!O301","v":{"v":0,"d":"0.00%"}},null,{"$f":"IF($B$118=0,0,R96*$Q96/$B$118)","v":{"v":0,"d":"0.00%"}},{"v":0,"d":"0.00%"},{"v":0,"d":"0.00%"},{"v":0,"d":"0.00%"}]
[{"$f":"+'datos de entrada'!A302","v":{"v":0,"d":"0 "}},{"$f":"+'datos de entrada'!B302","v":{"v":0,"d":"0.00"}},{"$f":"+'datos de entrada'!C302","v":{"v":0,"d":"0.00"}},{"$f":"C97*B97","v":{"v":0,"d":"0.00"}},{"$f":"+'datos de entrada'!D302","v":{"v":0,"d":"0.00%"}},{"$f":"+'datos de entrada'!E302","v":{"v":0,"d":"0.00%"}},{"$f":"+'datos de entrada'!F302","v":{"v":0,"d":"0.00%"}},{"$f":"+'datos de entrada'!G302","v":{"v":0,"d":"0.00%"}},null,{"v":0,"d":"0.00%"},{"v":0,"d":"0.00%"},{"v":0,"d":"0.00%"},{"v":0,"d":"0.00%"},{"$f":"+'datos de entrada'!I302","v":{"v":0,"d":"0 "}},{"$f":"+'datos de entrada'!J302","v":{"v":0,"d":"0.00"}},{"$f":"+'datos de entrada'!K302","v":{"v":0,"d":"0.00"}},{"$f":"P97*O97","v":{"v":0,"d":"0.00"}},{"$f":"+'datos de entrada'!L302","v":{"v":0,"d":"0.00%"}},{"$f":"+'datos de entrada'!M302","v":{"v":0,"d":"0.00%"}},{"$f":"+'datos de entrada'!N302","v":{"v":0,"d":"0.00%"}},{"$f":"+'datos de entrada'!O302","v":{"v":0,"d":"0.00%"}},null,{"$f":"IF($B$118=0,0,R97*$Q97/$B$118)","v":{"v":0,"d":"0.00%"}},{"v":0,"d":"0.00%"},{"v":0,"d":"0.00%"},{"v":0,"d":"0.00%"}]
[{"$f":"+'datos de entrada'!A303","v":{"v":0,"d":"0 "}},{"$f":"+'datos de entrada'!B303","v":{"v":0,"d":"0.00"}},{"$f":"+'datos de entrada'!C303","v":{"v":0,"d":"0.00"}},{"$f":"C98*B98","v":{"v":0,"d":"0.00"}},{"$f":"+'datos de entrada'!D303","v":{"v":0,"d":"0.00%"}},{"$f":"+'datos de entrada'!E303","v":{"v":0,"d":"0.00%"}},{"$f":"+'datos de entrada'!F303","v":{"v":0,"d":"0.00%"}},{"$f":"+'datos de entrada'!G303","v":{"v":0,"d":"0.00%"}},null,{"v":0,"d":"0.00%"},{"v":0,"d":"0.00%"},{"v":0,"d":"0.00%"},{"v":0,"d":"0.00%"},{"$f":"+'datos de entrada'!I303","v":{"v":0,"d":"0 "}},{"$f":"+'datos de entrada'!J303","v":{"v":0,"d":"0.00"}},{"$f":"+'datos de entrada'!K303","v":{"v":0,"d":"0.00"}},{"$f":"P98*O98","v":{"v":0,"d":"0.00"}},{"$f":"+'datos de entrada'!L303","v":{"v":0,"d":"0.00%"}},{"$f":"+'datos de entrada'!M303","v":{"v":0,"d":"0.00%"}},{"$f":"+'datos de entrada'!N303","v":{"v":0,"d":"0.00%"}},{"$f":"+'datos de entrada'!O303","v":{"v":0,"d":"0.00%"}},null,{"$f":"IF($B$118=0,0,R98*$Q98/$B$118)","v":{"v":0,"d":"0.00%"}},{"v":0,"d":"0.00%"},{"v":0,"d":"0.00%"},{"v":0,"d":"0.00%"}]
[{"$f":"+'datos de entrada'!A304","v":{"v":0,"d":"0 "}},{"$f":"+'datos de entrada'!B304","v":{"v":0,"d":"0.00"}},{"$f":"+'datos de entrada'!C304","v":{"v":0,"d":"0.00"}},{"$f":"C99*B99","v":{"v":0,"d":"0.00"}},{"$f":"+'datos de entrada'!D304","v":{"v":0,"d":"0.00%"}},{"$f":"+'datos de entrada'!E304","v":{"v":0,"d":"0.00%"}},{"$f":"+'datos de entrada'!F304","v":{"v":0,"d":"0.00%"}},{"$f":"+'datos de entrada'!G304","v":{"v":0,"d":"0.00%"}},null,{"v":0,"d":"0.00%"},{"v":0,"d":"0.00%"},{"v":0,"d":"0.00%"},{"v":0,"d":"0.00%"},{"$f":"+'datos de entrada'!I304","v":{"v":0,"d":"0 "}},{"$f":"+'datos de entrada'!J304","v":{"v":0,"d":"0.00"}},{"$f":"+'datos de entrada'!K304","v":{"v":0,"d":"0.00"}},{"$f":"P99*O99","v":{"v":0,"d":"0.00"}},{"$f":"+'datos de entrada'!L304","v":{"v":0,"d":"0.00%"}},{"$f":"+'datos de entrada'!M304","v":{"v":0,"d":"0.00%"}},{"$f":"+'datos de entrada'!N304","v":{"v":0,"d":"0.00%"}},{"$f":"+'datos de entrada'!O304","v":{"v":0,"d":"0.00%"}},null,{"$f":"IF($B$118=0,0,R99*$Q99/$B$118)","v":{"v":0,"d":"0.00%"}},{"v":0,"d":"0.00%"},{"v":0,"d":"0.00%"},{"v":0,"d":"0.00%"}]
["-","-","-","-","-","-","-","-",null,"-","-","-","-","-","-","-","-","-","-","-","-",null,"-","-","-","-"]
[{"$nulls":9},{"$f":"SUM(J95:J99)","v":{"v":0,"d":"0.00%"}},{"$f":"SUM(K95:K99)","v":{"v":0,"d":"0.00%"}},{"$f":"SUM(L95:L99)","v":{"v":0,"d":"0.00%"}},{"$f":"SUM(M95:M99)","v":{"v":0,"d":"0.00%"}},{"$nulls":9},{"$f":"SUM(W95:W99)","v":{"v":0,"d":"0.00%"}},{"$f":"SUM(X95:X99)","v":{"v":0,"d":"0.00%"}},{"$f":"SUM(Y95:Y99)","v":{"v":0,"d":"0.00%"}},{"$f":"SUM(Z95:Z99)","v":{"v":0,"d":"0.00%"}}]
[]
["COSTO TOTAL UNITARIO"]
["-","-","-"]
["PRODUCTO","COSTO UNITARIO","INVENTARIO"]
["-","-","-"]
[{"$f":"A15","v":0},{"$f":"SUM(D55:D59)","v":{"v":0,"d":"0.00"}},{"$f":"+'datos de entrada'!H254","v":{"v":0,"d":"0 "}},{"$f":"+C107","v":{"v":0,"d":"0 "}}]
[0,{"$f":"SUM(D63:D67)","v":{"v":0,"d":"0.00"}},{"$f":"+'datos de entrada'!H264","v":{"v":0,"d":"0 "}},{"$f":"+C108","v":{"v":0,"d":"0 "}}]
[0,{"$f":"SUM(D71:D76)","v":{"v":0,"d":"0.00"}},{"$f":"+'datos de entrada'!H275","v":{"v":0,"d":"0 "}},{"v":0,"d":"0 "}]
[0,{"$f":"SUM(D79:D84)","v":{"v":0,"d":"0.00"}},{"$f":"+'datos de entrada'!H285","v":{"v":0,"d":"0 "}},{"v":0,"d":"0 "}]
[0,{"$f":"SUM(D87:D91)","v":{"v":0,"d":"0.00"}},{"$f":"+'datos de entrada'!H295","v":{"v":0,"d":"0 "}},{"v":0,"d":"0 "}]
[0,{"$f":"SUM(D95:D99)","v":{"v":0,"d":"0.00"}},{"$f":"+'datos de entrada'!H305","v":{"v":0,"d":"0 "}},{"v":0,"d":"0 "}]
[0,{"$f":"SUM(Q55:Q59)","v":{"v":0,"d":"0.00"}},{"$f":"+'datos de entrada'!P254","v":{"v":0,"d":"0 "}},{"v":0,"d":"0 "}]
[0,{"$f":"SUM(Q63:Q67)","v":{"v":0,"d":"0.00"}},{"$f":"+'datos de entrada'!P264","v":{"v":0,"d":"0 "}},{"v":0,"d":"0 "}]
[0,{"$f":"SUM(Q71:Q76)","v":{"v":0,"d":"0.00"}},{"$f":"+'datos de entrada'!P275","v":{"v":0,"d":"0 "}},{"v":0,"d":"0 "}]
[0,{"$f":"SUM(Q79:Q84)","v":{"v":0,"d":"0.00"}},{"$f":"+'datos de entrada'!P285","v":{"v":0,"d":"0 "}},{"v":0,"d":"0 "}]
[0,{"$f":"SUM(Q87:Q91)","v":{"v":0,"d":"0.00"}},{"$f":"+'datos de entrada'!P295","v":{"v":0,"d":"0 "}},{"v":0,"d":"0 "}]
[0,{"$f":"SUM(Q95:Q99)","v":{"v":0,"d":"0.00"}},{"$f":"+'datos de entrada'!P305","v":{"v":0,"d":"0 "}},{"v":0,"d":"0 "}]
["-","-","-",{"$f":"SUM(D107:D118)","v":0}]
[]
["COMPRAS MENSUALES"]
[]
["-","-","-","-","-","-","-","-","-","-","-","-","-","-","-","-","-","-"]
["PRODUCTOS","MES 1","MES 2","MES 3","MES 4","MES 5","MES 6","MES 7","MES 8","MES 9","MES 10 ","MES 11","MES 12","ANO 1","ANO 2","ANO 3","ANO 4","ANO 5"]
["-","-","-","-","-","-","-","-","-","-","-","-","-","-","-","-","-","-"]
[{"$f":"A15","v":0}]
[]
[{"$f":"A55","v":0},{"$f":"B$15*$D55","v":{"v":0,"d":"0 "}},{"v":0,"d":"0 "},{"v":0,"d":"0 "},{"v":0,"d":"0 "},{"v":0,"d":"0 "},{"v":0,"d":"0 "},{"v":0,"d":"0 "},{"v":0,"d":"0 "},{"v":0,"d":"0 "},{"v":0,"d":"0 "},{"v":0,"d":"0 "},{"v":0,"d":"0 "},{"$f":"SUM(B128:M128)","v":{"v":0,"d":"0 "}},{"$f":"C$33*$D55*(1+$D$7)","v":{"v":0,"d":"0 "}},{"$f":"D$33*$D55*(1+$D$7)*(1+$D$7)","v":{"v":0,"d":"0 "}},{"$f":"E$33*$D55*(1+$D$7)*(1+$D$7)*(1+$D$7)","v":{"v":0,"d":"0 "}},{"$f":"F$33*$D55*(1+$D$7)*(1+$D$7)*(1+$D$7)*(1+$D$7)","v":{"v":0,"d":"0 "}}]
[{"$f":"A56","v":0},{"v":0,"d":"0 "},{"v":0,"d":"0 "},{"v":0,"d":"0 "},{"v":0,"d":"0 "},{"v":0,"d":"0 "},{"v":0,"d":"0 "},{"v":0,"d":"0 "},{"v":0,"d":"0 "},{"v":0,"d":"0 "},{"v":0,"d":"0 "},{"v":0,"d":"0 "},{"v":0,"d":"0 "},{"$f":"SUM(B129:M129)","v":{"v":0,"d":"0 "}},{"$f":"C$33*$D56*(1+$D$7)","v":{"v":0,"d":"0 "}},{"$f":"D$33*$D56*(1+$D$7)*(1+$D$7)","v":{"v":0,"d":"0 "}},{"$f":"E$33*$D56*(1+$D$7)*(1+$D$7)*(1+$D$7)","v":{"v":0,"d":"0 "}},{"$f":"F$33*$D56*(1+$D$7)*(1+$D$7)*(1+$D$7)*(1+$D$7)","v":{"v":0,"d":"0 "}}]
[{"$f":"A57","v":0},{"v":0,"d":"0 "},{"v":0,"d":"0 "},{"v":0,"d":"0 "},{"v":0,"d":"0 "},{"v":0,"d":"0 "},{"v":0,"d":"0 "},{"v":0,"d":"0 "},{"v":0,"d":"0 "},{"v":0,"d":"0 "},{"v":0,"d":"0 "},{"v":0,"d":"0 "},{"v":0,"d":"0 "},{"$f":"SUM(B130:M130)","v":{"v":0,"d":"0 "}},{"$f":"C$33*$D57*(1+$D$7)","v":{"v":0,"d":"0 "}},{"$f":"D$33*$D57*(1+$D$7)*(1+$D$7)","v":{"v":0,"d":"0 "}},{"$f":"E$33*$D57*(1+$D$7)*(1+$D$7)*(1+$D$7)","v":{"v":0,"d":"0 "}},{"$f":"F$33*$D57*(1+$D$7)*(1+$D$7)*(1+$D$7)*(1+$D$7)","v":{"v":0,"d":"0 "}}]
[{"$f":"A58","v":0},{"v":0,"d":"0 "},{"v":0,"d":"0 "},{"v":0,"d":"0 "},{"v":0,"d":"0 "},{"v":0,"d":"0 "},{"v":0,"d":"0 "},{"v":0,"d":"0 "},{"v":0,"d":"0 "},{"v":0,"d":"0 "},{"v":0,"d":"0 "},{"v":0,"d":"0 "},{"v":0,"d":"0 "},{"$f":"SUM(B131:M131)","v":{"v":0,"d":"0 "}},{"$f":"C$33*$D58*(1+$D$7)","v":{"v":0,"d":"0 "}},{"$f":"D$33*$D58*(1+$D$7)*(1+$D$7)","v":{"v":0,"d":"0 "}},{"$f":"E$33*$D58*(1+$D$7)*(1+$D$7)*(1+$D$7)","v":{"v":0,"d":"0 "}},{"$f":"F$33*$D58*(1+$D$7)*(1+$D$7)*(1+$D$7)*(1+$D$7)","v":{"v":0,"d":"0 "}}]
[{"$f":"A59","v":0},{"v":0,"d":"0 "},{"v":0,"d":"0 "},{"v":0,"d":"0 "},{"v":0,"d":"0 "},{"v":0,"d":"0 "},{"v":0,"d":"0 "},{"v":0,"d":"0 "},{"v":0,"d":"0 "},{"v":0,"d":"0 "},{"v":0,"d":"0 "},{"v":0,"d":"0 "},{"v":0,"d":"0 "},{"$f":"SUM(B132:M132)","v":{"v":0,"d":"0 "}},{"$f":"C$33*$D59*(1+$D$7)","v":{"v":0,"d":"0 "}},{"$f":"D$33*$D59*(1+$D$7)*(1+$D$7)","v":{"v":0,"d":"0 "}},{"$f":"E$33*$D59*(1+$D$7)*(1+$D$7)*(1+$D$7)","v":{"v":0,"d":"0 "}},{"$f":"F$33*$D59*(1+$D$7)*(1+$D$7)*(1+$D$7)*(1+$D$7)","v":{"v":0,"d":"0 "}}]
["-","-","-","-","-","-","-","-","-","-","-","-","-","-","-","-","-","-"]
[{"$f":"A16","v":0}]
[]
[{"$f":"A63","v":0},{"$f":"B$16*$D63","v":{"v":0,"d":"0 "}},{"v":0,"d":"0 "},{"v":0,"d":"0 "},{"v":0,"d":"0 "},{"v":0,"d":"0 "},{"v":0,"d":"0 "},{"v":0,"d":"0 "},{"v":0,"d":"0 "},{"v":0,"d":"0 "},{"v":0,"d":"0 "},{"v":0,"d":"0 "},{"v":0,"d":"0 "},{"$f":"SUM(B136:M136)","v":{"v":0,"d":"0 "}},{"$f":"C$34*$D63*(1+$D$7)","v":{"v":0,"d":"0 "}},{"$f":"D$34*$D63*(1+$D$7)^2","v":{"v":0,"d":"0 "}},{"$f":"E$34*$D63*(1+$D$7)^3","v":{"v":0,"d":"0 "}},{"$f":"F$34*$D63*(1+$D$7)^4","v":{"v":0,"d":"0 "}}]
[{"$f":"A64","v":0},{"v":0,"d":"0 "},{"v":0,"d":"0 "},{"v":0,"d":"0 "},{"v":0,"d":"0 "},{"v":0,"d":"0 "},{"v":0,"d":"0 "},{"v":0,"d":"0 "},{"v":0,"d":"0 "},{"v":0,"d":"0 "},{"v":0,"d":"0 "},{"v":0,"d":"0 "},{"v":0,"d":"0 "},{"$f":"SUM(B137:M137)","v":{"v":0,"d":"0 "}},{"$f":"C$34*$D64*(1+$D$7)","v":{"v":0,"d":"0 "}},{"$f":"D$34*$D64*(1+$D$7)^2","v":{"v":0,"d":"0 "}},{"$f":"E$34*$D64*(1+$D$7)^3","v":{"v":0,"d":"0 "}},{"$f":"F$34*$D64*(1+$D$7)^4","v":{"v":0,"d":"0 "}}]
[{"$f":"A65","v":0},{"v":0,"d":"0 "},{"v":0,"d":"0 "},{"v":0,"d":"0 "},{"v":0,"d":"0 "},{"v":0,"d":"0 "},{"v":0,"d":"0 "},{"v":0,"d":"0 "},{"v":0,"d":"0 "},{"v":0,"d":"0 "},{"v":0,"d":"0 "},{"v":0,"d":"0 "},{"v":0,"d":"0 "},{"$f":"SUM(B138:M138)","v":{"v":0,"d":"0 "}},{"$f":"C$34*$D65*(1+$D$7)","v":{"v":0,"d":"0 "}},{"$f":"D$34*$D65*(1+$D$7)^2","v":{"v":0,"d":"0 "}},{"$f":"E$34*$D65*(1+$D$7)^3","v":{"v":0,"d":"0 "}},{"$f":"F$34*$D65*(1+$D$7)^4","v":{"v":0,"d":"0 "}}]
[{"$f":"A66","v":0},{"v":0,"d":"0 "},{"v":0,"d":"0 "},{"v":0,"d":"0 "},{"v":0,"d":"0 "},{"v":0,"d":"0 "},{"v":0,"d":"0 "},{"v":0,"d":"0 "},{"v":0,"d":"0 "},{"v":0,"d":"0 "},{"v":0,"d":"0 "},{"v":0,"d":"0 "},{"v":0,"d":"0 "},{"$f":"SUM(B139:M139)","v":{"v":0,"d":"0 "}},{"$f":"C$34*$D66*(1+$D$7)","v":{"v":0,"d":"0 "}},{"$f":"D$34*$D66*(1+$D$7)^2","v":{"v":0,"d":"0 "}},{"$f":"E$34*$D66*(1+$D$7)^3","v":{"v":0,"d":"0 "}},{"$f":"F$34*$D66*(1+$D$7)^4","v":{"v":0,"d":"0 "}}]
[{"$f":"A67","v":0},{"v":0,"d":"0 "},{"v":0,"d":"0 "},{"v":0,"d":"0 "},{"v":0,"d":"0 "},{"v":0,"d":"0 "},{"v":0,"d":"0 "},{"v":0,"d":"0 "},{"v":0,"d":"0 "},{"v":0,"d":"0 "},{"v":0,"d":"0 "},{"v":0,"d":"0 "},{"v":0,"d":"0 "},{"$f":"SUM(B140:M140)","v":{"v":0,"d":"0 "}},{"$f":"C$34*$D67*(1+$D$7)","v":{"v":0,"d":"0 "}},{"$f":"D$34*$D67*(1+$D$7)^2","v":{"v":0,"d":"0 "}},{"$f":"E$34*$D67*(1+$D$7)^3","v":{"v":0,"d":"0 "}},{"$f":"F$34*$D67*(1+$D$7)^4","v":{"v":0,"d":"0 "}}]
["-","-","-","-","-","-","-","-","-","-","-","-","-","-","-","-","-","-"]
[{"$f":"A17","v":0}]
[]
[{"$f":"A71","v":0},{"$f":"B$17*$D71","v":{"v":0,"d":"0 "}},{"v":0,"d":"0 "},{"v":0,"d":"0 "},{"v":0,"d":"0 "},{"v":0,"d":"0 "},{"v":0,"d":"0 "},{"v":0,"d":"0 "},{"v":0,"d":"0 "},{"v":0,"d":"0 "},{"v":0,"d":"0 "},{"v":0,"d":"0 "},{"v":0,"d":"0 "},{"$f":"SUM(B144:M144)","v":{"v":0,"d":"0 "}},{"$f":"C$35*$D71*(1+$D$7)","v":{"v":0,"d":"0 "}},{"$f":"D$35*$D71*(1+$D$7)^2","v":{"v":0,"d":"0 "}},{"$f":"E$35*$D71*(1+$D$7)^3","v":{"v":0,"d":"0 "}},{"$f":"F$35*$D71*(1+$D$7)^4","v":{"v":0,"d":"0 "}}]
[{"$f":"A72","v":0},{"v":0,"d":"0 "},{"v":0,"d":"0 "},{"v":0,"d":"0 "},{"v":0,"d":"0 "},{"v":0,"d":"0 "},{"v":0,"d":"0 "},{"v":0,"d":"0 "},{"v":0,"d":"0 "},{"v":0,"d":"0 "},{"v":0,"d":"0 "},{"v":0,"d":"0 "},{"v":0,"d":"0 "},{"$f":"SUM(B145:M145)","v":{"v":0,"d":"0 "}},{"$f":"C$35*$D72*(1+$D$7)","v":{"v":0,"d":"0 "}},{"$f":"D$35*$D72*(1+$D$7)^2","v":{"v":0,"d":"0 "}},{"$f":"E$35*$D72*(1+$D$7)^3","v":{"v":0,"d":"0 "}},{"$f":"F$35*$D72*(1+$D$7)^4","v":{"v":0,"d":"0 "}}]
[{"$f":"A73","v":0},{"v":0,"d":"0 "},{"v":0,"d":"0 "},{"v":0,"d":"0 "},{"v":0,"d":"0 "},{"v":0,"d":"0 "},{"v":0,"d":"0 "},{"v":0,"d":"0 "},{"v":0,"d":"0 "},{"v":0,"d":"0 "},{"v":0,"d":"0 "},{"v":0,"d":"0 "},{"v":0,"d":"0 "},{"$f":"SUM(B146:M146)","v":{"v":0,"d":"0 "}},{"$f":"C$35*$D73*(1+$D$7)","v":{"v":0,"d":"0 "}},{"$f":"D$35*$D73*(1+$D$7)^2","v":{"v":0,"d":"0 "}},{"$f":"E$35*$D73*(1+$D$7)^3","v":{"v":0,"d":"0 "}},{"$f":"F$35*$D73*(1+$D$7)^4","v":{"v":0,"d":"0 "}}]
[{"$f":"A74","v":0},{"v":0,"d":"0 "},{"v":0,"d":"0 "},{"v":0,"d":"0 "},{"v":0,"d":"0 "},{"v":0,"d":"0 "},{"v":0,"d":"0 "},{"v":0,"d":"0 "},{"v":0,"d":"0 "},{"v":0,"d":"0 "},{"v":0,"d":"0 "},{"v":0,"d":"0 "},{"v":0,"d":"0 "},{"$f":"SUM(B147:M147)","v":{"v":0,"d":"0 "}},{"$f":"C$35*$D74*(1+$D$7)","v":{"v":0,"d":"0 "}},{"$f":"D$35*$D74*(1+$D$7)^2","v":{"v":0,"d":"0 "}},{"$f":"E$35*$D74*(1+$D$7)^3","v":{"v":0,"d":"0 "}},{"$f":"F$35*$D74*(1+$D$7)^4","v":{"v":0,"d":"0 "}}]
[{"$f":"A75","v":0},{"v":0,"d":"0 "},{"v":0,"d":"0 "},{"v":0,"d":"0 "},{"v":0,"d":"0 "},{"v":0,"d":"0 "},{"v":0,"d":"0 "},{"v":0,"d":"0 "},{"v":0,"d":"0 "},{"v":0,"d":"0 "},{"v":0,"d":"0 "},{"v":0,"d":"0 "},{"v":0,"d":"0 "},{"$f":"SUM(B148:M148)","v":{"v":0,"d":"0 "}},{"$f":"C$35*$D75*(1+$D$7)","v":{"v":0,"d":"0 "}},{"$f":"D$35*$D75*(1+$D$7)^2","v":{"v":0,"d":"0 "}},{"$f":"E$35*$D75*(1+$D$7)^3","v":{"v":0,"d":"0 "}},{"$f":"F$35*$D75*(1+$D$7)^4","v":{"v":0,"d":"0 "}}]
["-","-","-","-","-","-","-","-","-","-","-","-","-","-","-","-","-","-"]
[{"$f":"A18","v":0}]
[]
[{"$f":"A79","v":0},{"$f":"B$18*$D79","v":{"v":0,"d":"0 "}},{"v":0,"d":"0 "},{"v":0,"d":"0 "},{"v":0,"d":"0 "},{"v":0,"d":"0 "},{"v":0,"d":"0 "},{"v":0,"d":"0 "},{"v":0,"d":"0 "},{"v":0,"d":"0 "},{"v":0,"d":"0 "},{"v":0,"d":"0 "},{"v":0,"d":"0 "},{"$f":"SUM(B152:M152)","v":{"v":0,"d":"0 "}},{"$f":"C$36*$D79*(1+$D$7)","v":{"v":0,"d":"0 "}},{"$f":"D$36*$D79*(1+$D$7)^2","v":{"v":0,"d":"0 "}},{"$f":"E$36*$D79*(1+$D$7)^3","v":{"v":0,"d":"0 "}},{"$f":"F$36*$D79*(1+$D$7)^4","v":{"v":0,"d":"0 "}}]
[{"$f":"A80","v":0},{"v":0,"d":"0 "},{"v":0,"d":"0 "},{"v":0,"d":"0 "},{"v":0,"d":"0 "},{"v":0,"d":"0 "},{"v":0,"d":"0 "},{"v":0,"d":"0 "},{"v":0,"d":"0 "},{"v":0,"d":"0 "},{"v":0,"d":"0 "},{"v":0,"d":"0 "},{"v":0,"d":"0 "},{"$f":"SUM(B153:M153)","v":{"v":0,"d":"0 "}},{"$f":"C$36*$D80*(1+$D$7)","v":{"v":0,"d":"0 "}},{"$f":"D$36*$D80*(1+$D$7)^2","v":{"v":0,"d":"0 "}},{"$f":"E$36*$D80*(1+$D$7)^3","v":{"v":0,"d":"0 "}},{"$f":"F$36*$D80*(1+$D$7)^4","v":{"v":0,"d":"0 "}}]
[{"$f":"A81","v":0},{"v":0,"d":"0 "},{"v":0,"d":"0 "},{"v":0,"d":"0 "},{"v":0,"d":"0 "},{"v":0,"d":"0 "},{"v":0,"d":"0 "},{"v":0,"d":"0 "},{"v":0,"d":"0 "},{"v":0,"d":"0 "},{"v":0,"d":"0 "},{"v":0,"d":"0 "},{"v":0,"d":"0 "},{"$f":"SUM(B154:M154)","v":{"v":0,"d":"0 "}},{"$f":"C$36*$D81*(1+$D$7)","v":{"v":0,"d":"0 "}},{"$f":"D$36*$D81*(1+$D$7)^2","v":{"v":0,"d":"0 "}},{"$f":"E$36*$D81*(1+$D$7)^3","v":{"v":0,"d":"0 "}},{"$f":"F$36*$D81*(1+$D$7)^4","v":{"v":0,"d":"0 "}}]
[{"$f":"A82","v":0},{"v":0,"d":"0 "},{"v":0,"d":"0 "},{"v":0,"d":"0 "},{"v":0,"d":"0 "},{"v":0,"d":"0 "},{"v":0,"d":"0 "},{"v":0,"d":"0 "},{"v":0,"d":"0 "},{"v":0,"d":"0 "},{"v":0,"d":"0 "},{"v":0,"d":"0 "},{"v":0,"d":"0 "},{"$f":"SUM(B155:M155)","v":{"v":0,"d":"0 "}},{"$f":"C$36*$D82*(1+$D$7)","v":{"v":0,"d":"0 "}},{"$f":"D$36*$D82*(1+$D$7)^2","v":{"v":0,"d":"0 "}},{"$f":"E$36*$D82*(1+$D$7)^3","v":{"v":0,"d":"0 "}},{"$f":"F$36*$D82*(1+$D$7)^4","v":{"v":0,"d":"0 "}}]
[{"$f":"A83","v":0},{"v":0,"d":"0 "},{"v":0,"d":"0 "},{"v":0,"d":"0 "},{"v":0,"d":"0 "},{"v":0,"d":"0 "},{"v":0,"d":"0 "},{"v":0,"d":"0 "},{"v":0,"d":"0 "},{"v":0,"d":"0 "},{"v":0,"d":"0 "},{"v":0,"d":"0 "},{"v":0,"d":"0 "},{"$f":"SUM(B156:M156)","v":{"v":0,"d":"0 "}},{"$f":"C$36*$D83*(1+$D$7)","v":{"v":0,"d":"0 "}},{"$f":"D$36*$D83*(1+$D$7)^2","v":{"v":0,"d":"0 "}},{"$f":"E$36*$D83*(1+$D$7)^3","v":{"v":0,"d":"0 "}},{"$f":"F$36*$D83*(1+$D$7)^4","v":{"v":0,"d":"0 "}}]
["-","-","-","-","-","-","-","-","-","-","-","-","-","-","-","-","-","-"]
[{"$f":"A19","v":0}]
[]
[{"$f":"A87","v":0},{"$f":"B$19*$D87","v":{"v":0,"d":"0 "}},{"v":0,"d":"0 "},{"v":0,"d":"0 "},{"v":0,"d":"0 "},{"v":0,"d":"0 "},{"v":0,"d":"0 "},{"v":0,"d":"0 "},{"v":0,"d":"0 "},{"v":0,"d":"0 "},{"v":0,"d":"0 "},{"v":0,"d":"0 "},{"v":0,"d":"0 "},{"$f":"SUM(B160:M160)","v":{"v":0,"d":"0 "}},{"$f":"$D87*C$37*(1+$D$7)","v":{"v":0,"d":"0 "}},{"$f":"$D87*D$37*(1+$D$7)^2","v":{"v":0,"d":"0 "}},{"$f":"$D87*E$37*(1+$D$7)^3","v":{"v":0,"d":"0 "}},{"$f":"$D87*F$37*(1+$D$7)^4","v":{"v":0,"d":"0 "}}]
[{"$f":"A88","v":0},{"v":0,"d":"0 "},{"v":0,"d":"0 "},{"v":0,"d":"0 "},{"v":0,"d":"0 "},{"v":0,"d":"0 "},{"v":0,"d":"0 "},{"v":0,"d":"0 "},{"v":0,"d":"0 "},{"v":0,"d":"0 "},{"v":0,"d":"0 "},{"v":0,"d":"0 "},{"v":0,"d":"0 "},{"$f":"SUM(B161:M161)","v":{"v":0,"d":"0 "}},{"$f":"$D88*C$37*(1+$D$7)","v":{"v":0,"d":"0 "}},{"$f":"$D88*D$37*(1+$D$7)^2","v":{"v":0,"d":"0 "}},{"$f":"$D88*E$37*(1+$D$7)^3","v":{"v":0,"d":"0 "}},{"$f":"$D88*F$37*(1+$D$7)^4","v":{"v":0,"d":"0 "}}]
[{"$f":"A89","v":0},{"v":0,"d":"0 "},{"v":0,"d":"0 "},{"v":0,"d":"0 "},{"v":0,"d":"0 "},{"v":0,"d":"0 "},{"v":0,"d":"0 "},{"v":0,"d":"0 "},{"v":0,"d":"0 "},{"v":0,"d":"0 "},{"v":0,"d":"0 "},{"v":0,"d":"0 "},{"v":0,"d":"0 "},{"$f":"SUM(B162:M162)","v":{"v":0,"d":"0 "}},{"$f":"$D89*C$37*(1+$D$7)","v":{"v":0,"d":"0 "}},{"$f":"$D89*D$37*(1+$D$7)^2","v":{"v":0,"d":"0 "}},{"$f":"$D89*E$37*(1+$D$7)^3","v":{"v":0,"d":"0 "}},{"$f":"$D89*F$37*(1+$D$7)^4","v":{"v":0,"d":"0 "}}]
[{"$f":"A90","v":0},{"v":0,"d":"0 "},{"v":0,"d":"0 "},{"v":0,"d":"0 "},{"v":0,"d":"0 "},{"v":0,"d":"0 "},{"v":0,"d":"0 "},{"v":0,"d":"0 "},{"v":0,"d":"0 "},{"v":0,"d":"0 "},{"v":0,"d":"0 "},{"v":0,"d":"0 "},{"v":0,"d":"0 "},{"$f":"SUM(B163:M163)","v":{"v":0,"d":"0 "}},{"$f":"$D90*C$37*(1+$D$7)","v":{"v":0,"d":"0 "}},{"$f":"$D90*D$37*(1+$D$7)^2","v":{"v":0,"d":"0 "}},{"$f":"$D90*E$37*(1+$D$7)^3","v":{"v":0,"d":"0 "}},{"$f":"$D90*F$37*(1+$D$7)^4","v":{"v":0,"d":"0 "}}]
[{"$f":"A91","v":0},{"v":0,"d":"0 "},{"v":0,"d":"0 "},{"v":0,"d":"0 "},{"v":0,"d":"0 "},{"v":0,"d":"0 "},{"v":0,"d":"0 "},{"v":0,"d":"0 "},{"v":0,"d":"0 "},{"v":0,"d":"0 "},{"v":0,"d":"0 "},{"v":0,"d":"0 "},{"v":0,"d":"0 "},{"$f":"SUM(B164:M164)","v":{"v":0,"d":"0 "}},{"$f":"$D91*C$37*(1+$D$7)","v":{"v":0,"d":"0 "}},{"$f":"$D91*D$37*(1+$D$7)^2","v":{"v":0,"d":"0 "}},{"$f":"$D91*E$37*(1+$D$7)^3","v":{"v":0,"d":"0 "}},{"$f":"$D91*F$37*(1+$D$7)^4","v":{"v":0,"d":"0 "}}]
["-","-","-","-","-","-","-","-","-","-","-","-","-","-","-","-","-","-"]
[{"$f":"A20","v":0}]
[]
[{"$f":"A95","v":0},{"$f":"B$20*$D95","v":{"v":0,"d":"0 "}},{"v":0,"d":"0 "},{"v":0,"d":"0 "},{"v":0,"d":"0 "},{"v":0,"d":"0 "},{"v":0,"d":"0 "},{"v":0,"d":"0 "},{"v":0,"d":"0 "},{"v":0,"d":"0 "},{"v":0,"d":"0 "},{"v":0,"d":"0 "},{"v":0,"d":"0 "},{"$f":"SUM(B168:M168)","v":{"v":0,"d":"0 "}},{"$f":"C$38*$D95*(1+$D$7)","v":{"v":0,"d":"0 "}},{"$f":"D$38*$D95*(1+$D$7)^2","v":{"v":0,"d":"0 "}},{"$f":"E$38*$D95*(1+$D$7)^3","v":{"v":0,"d":"0 "}},{"$f":"F$38*$D95*(1+$D$7)^4","v":{"v":0,"d":"0 "}}]
[{"$f":"A96","v":0},{"v":0,"d":"0 "},{"v":0,"d":"0 "},{"v":0,"d":"0 "},{"v":0,"d":"0 "},{"v":0,"d":"0 "},{"v":0,"d":"0 "},{"v":0,"d":"0 "},{"v":0,"d":"0 "},{"v":0,"d":"0 "},{"v":0,"d":"0 "},{"v":0,"d":"0 "},{"v":0,"d":"0 "},{"$f":"SUM(B169:M169)","v":{"v":0,"d":"0 "}},{"$f":"C$38*$D96*(1+$D$7)","v":{"v":0,"d":"0 "}},{"$f":"D$38*$D96*(1+$D$7)^2","v":{"v":0,"d":"0 "}},{"$f":"E$38*$D96*(1+$D$7)^3","v":{"v":0,"d":"0 "}},{"$f":"F$38*$D96*(1+$D$7)^4","v":{"v":0,"d":"0 "}}]
[{"$f":"A97","v":0},{"v":0,"d":"0 "},{"v":0,"d":"0 "},{"v":0,"d":"0 "},{"v":0,"d":"0 "},{"v":0,"d":"0 "},{"v":0,"d":"0 "},{"v":0,"d":"0 "},{"v":0,"d":"0 "},{"v":0,"d":"0 "},{"v":0,"d":"0 "},{"v":0,"d":"0 "},{"v":0,"d":"0 "},{"$f":"SUM(B170:M170)","v":{"v":0,"d":"0 "}},{"$f":"C$38*$D97*(1+$D$7)","v":{"v":0,"d":"0 "}},{"$f":"D$38*$D97*(1+$D$7)^2","v":{"v":0,"d":"0 "}},{"$f":"E$38*$D97*(1+$D$7)^3","v":{"v":0,"d":"0 "}},{"$f":"F$38*$D97*(1+$D$7)^4","v":{"v":0,"d":"0 "}}]
[{"$f":"A98","v":0},{"v":0,"d":"0 "},{"v":0,"d":"0 "},{"v":0,"d":"0 "},{"v":0,"d":"0 "},{"v":0,"d":"0 "},{"v":0,"d":"0 "},{"v":0,"d":"0 "},{"v":0,"d":"0 "},{"v":0,"d":"0 "},{"v":0,"d":"0 "},{"v":0,"d":"0 "},{"v":0,"d":"0 "},{"$f":"SUM(B171:M171)","v":{"v":0,"d":"0 "}},{"$f":"C$38*$D98*(1+$D$7)","v":{"v":0,"d":"0 "}},{"$f":"D$38*$D98*(1+$D$7)^2","v":{"v":0,"d":"0 "}},{"$f":"E$38*$D98*(1+$D$7)^3","v":{"v":0,"d":"0 "}},{"$f":"F$38*$D98*(1+$D$7)^4","v":{"v":0,"d":"0 "}}]
[{"$f":"A99","v":0},{"v":0,"d":"0 "},{"v":0,"d":"0 "},{"v":0,"d":"0 "},{"v":0,"d":"0 "},{"v":0,"d":"0 "},{"v":0,"d":"0 "},{"v":0,"d":"0 "},{"v":0,"d":"0 "},{"v":0,"d":"0 "},{"v":0,"d":"0 "},{"v":0,"d":"0 "},{"v":0,"d":"0 "},{"$f":"SUM(B172:M172)","v":{"v":0,"d":"0 "}},{"$f":"C$38*$D99*(1+$D$7)","v":{"v":0,"d":"0 "}},{"$f":"D$38*$D99*(1+$D$7)^2","v":{"v":0,"d":"0 "}},{"$f":"E$38*$D99*(1+$D$7)^3","v":{"v":0,"d":"0 "}},{"$f":"F$38*$D99*(1+$D$7)^4","v":{"v":0,"d":"0 "}}]
["-","-","-","-","-","-","-","-","-","-","-","-","-","-","-","-","-","-"]
[{"$f":"+A21","v":{"v":0,"d":"0 "}}]
[]
[{"$f":"+N55","v":0},{"$f":"+$B$21*Q55","v":{"v":0,"d":"0 "}},{"$f":"+$C$21*Q55","v":{"v":0,"d":"0 "}},{"$f":"D$21*$Q55","v":{"v":0,"d":"0 "}},{"v":0,"d":"0 "},{"v":0,"d":"0 "},{"v":0,"d":"0 "},{"v":0,"d":"0 "},{"v":0,"d":"0 "},{"v":0,"d":"0 "},{"v":0,"d":"0 "},{"v":0,"d":"0 "},{"v":0,"d":"0 "},{"$f":"SUM(B176:M176)","v":{"v":0,"d":"0 "}},{"$f":"C$39*$Q55*(1+$D$7)","v":{"v":0,"d":"0 "}},{"$f":"D$39*$Q55*(1+$D$7)*(1+$D$7)","v":{"v":0,"d":"0 "}},{"$f":"E$39*$Q55*(1+$D$7)*(1+$D$7)*(1+$D$7)","v":{"v":0,"d":"0 "}},{"$f":"F$39*$Q55*(1+$D$7)*(1+$D$7)*(1+$D$7)*(1+$D$7)","v":{"v":0,"d":"0 "}}]
[{"$f":"+N56","v":0},{"$f":"+$B$21*Q56","v":{"v":0,"d":"0 "}},{"$f":"+$C$21*Q56","v":{"v":0,"d":"0 "}},{"v":0,"d":"0 "},{"v":0,"d":"0 "},{"v":0,"d":"0 "},{"v":0,"d":"0 "},{"v":0,"d":"0 "},{"v":0,"d":"0 "},{"v":0,"d":"0 "},{"v":0,"d":"0 "},{"v":0,"d":"0 "},{"v":0,"d":"0 "},{"$f":"SUM(B177:M177)","v":{"v":0,"d":"0 "}},{"$f":"C$39*$Q56*(1+$D$7)","v":{"v":0,"d":"0 "}},{"$f":"D$39*$Q56*(1+$D$7)*(1+$D$7)","v":{"v":0,"d":"0 "}},{"$f":"E$39*$Q56*(1+$D$7)*(1+$D$7)*(1+$D$7)","v":{"v":0,"d":"0 "}},{"$f":"F$39*$Q56*(1+$D$7)*(1+$D$7)*(1+$D$7)*(1+$D$7)","v":{"v":0,"d":"0 "}}]
[{"$f":"+N57","v":0},{"$f":"+$B$21*Q57","v":{"v":0,"d":"0 "}},{"$f":"+$C$21*Q57","v":{"v":0,"d":"0 "}},{"v":0,"d":"0 "},{"v":0,"d":"0 "},{"v":0,"d":"0 "},{"v":0,"d":"0 "},{"v":0,"d":"0 "},{"v":0,"d":"0 "},{"v":0,"d":"0 "},{"v":0,"d":"0 "},{"v":0,"d":"0 "},{"v":0,"d":"0 "},{"$f":"SUM(B178:M178)","v":{"v":0,"d":"0 "}},{"$f":"C$39*$Q57*(1+$D$7)","v":{"v":0,"d":"0 "}},{"$f":"D$39*$Q57*(1+$D$7)*(1+$D$7)","v":{"v":0,"d":"0 "}},{"$f":"E$39*$Q57*(1+$D$7)*(1+$D$7)*(1+$D$7)","v":{"v":0,"d":"0 "}},{"$f":"F$39*$Q57*(1+$D$7)*(1+$D$7)*(1+$D$7)*(1+$D$7)","v":{"v":0,"d":"0 "}}]
[{"$f":"+N58","v":0},{"$f":"+$B$21*Q58","v":{"v":0,"d":"0 "}},{"$f":"+$C$21*Q58","v":{"v":0,"d":"0 "}},{"v":0,"d":"0 "},{"v":0,"d":"0 "},{"v":0,"d":"0 "},{"v":0,"d":"0 "},{"v":0,"d":"0 "},{"v":0,"d":"0 "},{"v":0,"d":"0 "},{"v":0,"d":"0 "},{"v":0,"d":"0 "},{"v":0,"d":"0 "},{"$f":"SUM(B179:M179)","v":{"v":0,"d":"0 "}},{"$f":"C$39*$Q58*(1+$D$7)","v":{"v":0,"d":"0 "}},{"$f":"D$39*$Q58*(1+$D$7)*(1+$D$7)","v":{"v":0,"d":"0 "}},{"$f":"E$39*$Q58*(1+$D$7)*(1+$D$7)*(1+$D$7)","v":{"v":0,"d":"0 "}},{"$f":"F$39*$Q58*(1+$D$7)*(1+$D$7)*(1+$D$7)*(1+$D$7)","v":{"v":0,"d":"0 "}}]
[{"$f":"+N59","v":0},{"$f":"+$B$21*Q59","v":{"v":0,"d":"0 "}},{"$f":"+$C$21*Q59","v":{"v":0,"d":"0 "}},{"v":0,"d":"0 "},{"v":0,"d":"0 "},{"v":0,"d":"0 "},{"v":0,"d":"0 "},{"v":0,"d":"0 "},{"v":0,"d":"0 "},{"v":0,"d":"0 "},{"v":0,"d":"0 "},{"v":0,"d":"0 "},{"v":0,"d":"0 "},{"$f":"SUM(B180:M180)","v":{"v":0,"d":"0 "}},{"$f":"C$39*$Q59*(1+$D$7)","v":{"v":0,"d":"0 "}},{"$f":"D$39*$Q59*(1+$D$7)*(1+$D$7)","v":{"v":0,"d":"0 "}},{"$f":"E$39*$Q59*(1+$D$7)*(1+$D$7)*(1+$D$7)","v":{"v":0,"d":"0 "}},{"$f":"F$39*$Q59*(1+$D$7)*(1+$D$7)*(1+$D$7)*(1+$D$7)","v":{"v":0,"d":"0 "}}]
["-","-","-","-","-","-","-","-","-","-","-","-","-","-","-","-","-","-"]
[{"$f":"+A22","v":{"v":0,"d":"0 "}}]
[]
[{"$f":"N63","v":0},{"$f":"B$22*$Q63","v":{"v":0,"d":"0 "}},{"$f":"C$22*$Q63","v":{"v":0,"d":"0 "}},{"v":0,"d":"0 "},{"v":0,"d":"0 "},{"v":0,"d":"0 "},{"v":0,"d":"0 "},{"v":0,"d":"0 "},{"v":0,"d":"0 "},{"v":0,"d":"0 "},{"v":0,"d":"0 "},{"v":0,"d":"0 "},{"v":0,"d":"0 "},{"$f":"SUM(B184:M184)","v":{"v":0,"d":"0 "}},{"$f":"C$40*$Q63*(1+$D$7)","v":{"v":0,"d":"0 "}},{"$f":"D$40*$Q63*(1+$D$7)*(1+$D$7)","v":{"v":0,"d":"0 "}},{"$f":"E$40*$Q63*(1+$D$7)*(1+$D$7)*(1+$D$7)","v":{"v":0,"d":"0 "}},{"$f":"F$40*$Q63*(1+$D$7)*(1+$D$7)*(1+$D$7)*(1+$D$7)","v":{"v":0,"d":"0 "}}]
[{"$f":"N64","v":0},{"$f":"B$22*$Q64","v":{"v":0,"d":"0 "}},{"v":0,"d":"0 "},{"v":0,"d":"0 "},{"v":0,"d":"0 "},{"v":0,"d":"0 "},{"v":0,"d":"0 "},{"v":0,"d":"0 "},{"v":0,"d":"0 "},{"v":0,"d":"0 "},{"v":0,"d":"0 "},{"v":0,"d":"0 "},{"v":0,"d":"0 "},{"$f":"SUM(B185:M185)","v":{"v":0,"d":"0 "}},{"$f":"C$40*$Q64*(1+$D$7)","v":{"v":0,"d":"0 "}},{"$f":"D$40*$Q64*(1+$D$7)*(1+$D$7)","v":{"v":0,"d":"0 "}},{"$f":"E$40*$Q64*(1+$D$7)*(1+$D$7)*(1+$D$7)","v":{"v":0,"d":"0 "}},{"$f":"F$40*$Q64*(1+$D$7)*(1+$D$7)*(1+$D$7)*(1+$D$7)","v":{"v":0,"d":"0 "}}]
[{"$f":"N65","v":0},{"v":0,"d":"0 "},{"v":0,"d":"0 "},{"v":0,"d":"0 "},{"v":0,"d":"0 "},{"v":0,"d":"0 "},{"v":0,"d":"0 "},{"v":0,"d":"0 "},{"v":0,"d":"0 "},{"v":0,"d":"0 "},{"v":0,"d":"0 "},{"v":0,"d":"0 "},{"v":0,"d":"0 "},{"$f":"SUM(B186:M186)","v":{"v":0,"d":"0 "}},{"$f":"C$40*$Q65*(1+$D$7)","v":{"v":0,"d":"0 "}},{"$f":"D$40*$Q65*(1+$D$7)*(1+$D$7)","v":{"v":0,"d":"0 "}},{"$f":"E$40*$Q65*(1+$D$7)*(1+$D$7)*(1+$D$7)","v":{"v":0,"d":"0 "}},{"$f":"F$40*$Q65*(1+$D$7)*(1+$D$7)*(1+$D$7)*(1+$D$7)","v":{"v":0,"d":"0 "}}]
[{"$f":"N66","v":0},{"v":0,"d":"0 "},{"v":0,"d":"0 "},{"v":0,"d":"0 "},{"v":0,"d":"0 "},{"v":0,"d":"0 "},{"v":0,"d":"0 "},{"v":0,"d":"0 "},{"v":0,"d":"0 "},{"v":0,"d":"0 "},{"v":0,"d":"0 "},{"v":0,"d":"0 "},{"v":0,"d":"0 "},{"$f":"SUM(B187:M187)","v":{"v":0,"d":"0 "}},{"$f":"C$40*$Q66*(1+$D$7)","v":{"v":0,"d":"0 "}},{"$f":"D$40*$Q66*(1+$D$7)*(1+$D$7)","v":{"v":0,"d":"0 "}},{"$f":"E$40*$Q66*(1+$D$7)*(1+$D$7)*(1+$D$7)","v":{"v":0,"d":"0 "}},{"$f":"F$40*$Q66*(1+$D$7)*(1+$D$7)*(1+$D$7)*(1+$D$7)","v":{"v":0,"d":"0 "}}]
[{"$f":"N67","v":0},{"v":0,"d":"0 "},{"v":0,"d":"0 "},{"v":0,"d":"0 "},{"v":0,"d":"0 "},{"v":0,"d":"0 "},{"v":0,"d":"0 "},{"v":0,"d":"0 "},{"v":0,"d":"0 "},{"v":0,"d":"0 "},{"v":0,"d":"0 "},{"v":0,"d":"0 "},{"v":0,"d":"0 "},{"$f":"SUM(B188:M188)","v":{"v":0,"d":"0 "}},{"$f":"C$40*$Q67*(1+$D$7)","v":{"v":0,"d":"0 "}},{"$f":"D$40*$Q67*(1+$D$7)*(1+$D$7)","v":{"v":0,"d":"0 "}},{"$f":"E$40*$Q67*(1+$D$7)*(1+$D$7)*(1+$D$7)","v":{"v":0,"d":"0 "}},{"$f":"F$40*$Q67*(1+$D$7)*(1+$D$7)*(1+$D$7)*(1+$D$7)","v":{"v":0,"d":"0 "}}]
["-","-","-","-","-","-","-","-","-","-","-","-","-","-","-","-","-","-"]
[{"$f":"+A23","v":{"v":0,"d":"0 "}}]
[]
[{"$f":"+N71","v":0},{"$f":"B$23*$Q71","v":{"v":0,"d":"0 "}},{"$f":"C$23*$Q71","v":{"v":0,"d":"0 "}},{"v":0,"d":"0 "},{"v":0,"d":"0 "},{"v":0,"d":"0 "},{"v":0,"d":"0 "},{"v":0,"d":"0 "},{"v":0,"d":"0 "},{"v":0,"d":"0 "},{"v":0,"d":"0 "},{"v":0,"d":"0 "},{"v":0,"d":"0 "},{"$f":"SUM(B192:M192)","v":{"v":0,"d":"0 "}},{"$f":"C$41*$Q71*(1+$D$7)","v":{"v":0,"d":"0 "}},{"$f":"D$41*$Q71*(1+$D$7)*(1+$D$7)","v":{"v":0,"d":"0 "}},{"$f":"E$41*$Q71*(1+$D$7)*(1+$D$7)*(1+$D$7)","v":{"v":0,"d":"0 "}},{"$f":"F$41*$Q71*(1+$D$7)*(1+$D$7)*(1+$D$7)*(1+$D$7)","v":{"v":0,"d":"0 "}}]
[{"$f":"+N72","v":0},{"$f":"B$23*$Q72","v":{"v":0,"d":"0 "}},{"v":0,"d":"0 "},{"v":0,"d":"0 "},{"v":0,"d":"0 "},{"v":0,"d":"0 "},{"v":0,"d":"0 "},{"v":0,"d":"0 "},{"v":0,"d":"0 "},{"v":0,"d":"0 "},{"v":0,"d":"0 "},{"v":0,"d":"0 "},{"v":0,"d":"0 "},{"$f":"SUM(B193:M193)","v":{"v":0,"d":"0 "}},{"$f":"C$41*$Q72*(1+$D$7)","v":{"v":0,"d":"0 "}},{"$f":"D$41*$Q72*(1+$D$7)*(1+$D$7)","v":{"v":0,"d":"0 "}},{"$f":"E$41*$Q72*(1+$D$7)*(1+$D$7)*(1+$D$7)","v":{"v":0,"d":"0 "}},{"$f":"F$41*$Q72*(1+$D$7)*(1+$D$7)*(1+$D$7)*(1+$D$7)","v":{"v":0,"d":"0 "}}]
[{"$f":"+N73","v":0},{"$f":"B$23*$Q73","v":{"v":0,"d":"0 "}},{"v":0,"d":"0 "},{"v":0,"d":"0 "},{"v":0,"d":"0 "},{"v":0,"d":"0 "},{"v":0,"d":"0 "},{"v":0,"d":"0 "},{"v":0,"d":"0 "},{"v":0,"d":"0 "},{"v":0,"d":"0 "},{"v":0,"d":"0 "},{"v":0,"d":"0 "},{"$f":"SUM(B194:M194)","v":{"v":0,"d":"0 "}},{"$f":"C$41*$Q73*(1+$D$7)","v":{"v":0,"d":"0 "}},{"$f":"D$41*$Q73*(1+$D$7)*(1+$D$7)","v":{"v":0,"d":"0 "}},{"$f":"E$41*$Q73*(1+$D$7)*(1+$D$7)*(1+$D$7)","v":{"v":0,"d":"0 "}},{"$f":"F$41*$Q73*(1+$D$7)*(1+$D$7)*(1+$D$7)*(1+$D$7)","v":{"v":0,"d":"0 "}}]
[{"$f":"+N74","v":0},{"$f":"B$23*$Q74","v":{"v":0,"d":"0 "}},{"v":0,"d":"0 "},{"v":0,"d":"0 "},{"v":0,"d":"0 "},{"v":0,"d":"0 "},{"v":0,"d":"0 "},{"v":0,"d":"0 "},{"v":0,"d":"0 "},{"v":0,"d":"0 "},{"v":0,"d":"0 "},{"v":0,"d":"0 "},{"v":0,"d":"0 "},{"$f":"SUM(B195:M195)","v":{"v":0,"d":"0 "}},{"$f":"C$41*$Q74*(1+$D$7)","v":{"v":0,"d":"0 "}},{"$f":"D$41*$Q74*(1+$D$7)*(1+$D$7)","v":{"v":0,"d":"0 "}},{"$f":"E$41*$Q74*(1+$D$7)*(1+$D$7)*(1+$D$7)","v":{"v":0,"d":"0 "}},{"$f":"F$41*$Q74*(1+$D$7)*(1+$D$7)*(1+$D$7)*(1+$D$7)","v":{"v":0,"d":"0 "}}]
[{"$f":"+N75","v":0},{"$f":"B$23*$Q75","v":{"v":0,"d":"0 "}},{"v":0,"d":"0 "},{"v":0,"d":"0 "},{"v":0,"d":"0 "},{"v":0,"d":"0 "},{"v":0,"d":"0 "},{"v":0,"d":"0 "},{"v":0,"d":"0 "},{"v":0,"d":"0 "},{"v":0,"d":"0 "},{"v":0,"d":"0 "},{"v":0,"d":"0 "},{"$f":"SUM(B196:M196)","v":{"v":0,"d":"0 "}},{"$f":"C$41*$Q75*(1+$D$7)","v":{"v":0,"d":"0 "}},{"$f":"D$41*$Q75*(1+$D$7)*(1+$D$7)","v":{"v":0,"d":"0 "}},{"$f":"E$41*$Q75*(1+$D$7)*(1+$D$7)*(1+$D$7)","v":{"v":0,"d":"0 "}},{"$f":"F$41*$Q75*(1+$D$7)*(1+$D$7)*(1+$D$7)*(1+$D$7)","v":{"v":0,"d":"0 "}}]
["-","-","-","-","-","-","-","-","-","-","-","-","-","-","-","-","-","-"]
[{"$f":"+A24","v":{"v":0,"d":"0 "}}]
[]
[{"$f":"+N79","v":0},{"$f":"B$24*$Q79","v":{"v":0,"d":"0 "}},{"$f":"C$24*$Q79","v":{"v":0,"d":"0 "}},{"v":0,"d":"0 "},{"v":0,"d":"0 "},{"v":0,"d":"0 "},{"v":0,"d":"0 "},{"v":0,"d":"0 "},{"v":0,"d":"0 "},{"v":0,"d":"0 "},{"v":0,"d":"0 "},{"v":0,"d":"0 "},{"v":0,"d":"0 "},{"$f":"SUM(B200:M200)","v":{"v":0,"d":"0 "}},{"$f":"C$42*$Q79*(1+$D$7)","v":{"v":0,"d":"0 "}},{"$f":"D$42*$Q79*(1+$D$7)*(1+$D$7)","v":{"v":0,"d":"0 "}},{"$f":"E$42*$Q79*(1+$D$7)*(1+$D$7)*(1+$D$7)","v":{"v":0,"d":"0 "}},{"$f":"F$42*$Q79*(1+$D$7)*(1+$D$7)*(1+$D$7)*(1+$D$7)","v":{"v":0,"d":"0 "}}]
[{"$f":"+N80","v":0},{"$f":"B$24*$Q80","v":{"v":0,"d":"0 "}},{"v":0,"d":"0 "},{"v":0,"d":"0 "},{"v":0,"d":"0 "},{"v":0,"d":"0 "},{"v":0,"d":"0 "},{"v":0,"d":"0 "},{"v":0,"d":"0 "},{"v":0,"d":"0 "},{"v":0,"d":"0 "},{"v":0,"d":"0 "},{"v":0,"d":"0 "},{"$f":"SUM(B201:M201)","v":{"v":0,"d":"0 "}},{"$f":"C$42*$Q80*(1+$D$7)","v":{"v":0,"d":"0 "}},{"$f":"D$42*$Q80*(1+$D$7)*(1+$D$7)","v":{"v":0,"d":"0 "}},{"$f":"E$42*$Q80*(1+$D$7)*(1+$D$7)*(1+$D$7)","v":{"v":0,"d":"0 "}},{"$f":"F$42*$Q80*(1+$D$7)*(1+$D$7)*(1+$D$7)*(1+$D$7)","v":{"v":0,"d":"0 "}}]
[{"$f":"+N81","v":0},{"v":0,"d":"0 "},{"v":0,"d":"0 "},{"v":0,"d":"0 "},{"v":0,"d":"0 "},{"v":0,"d":"0 "},{"v":0,"d":"0 "},{"v":0,"d":"0 "},{"v":0,"d":"0 "},{"v":0,"d":"0 "},{"v":0,"d":"0 "},{"v":0,"d":"0 "},{"v":0,"d":"0 "},{"$f":"SUM(B202:M202)","v":{"v":0,"d":"0 "}},{"$f":"C$42*$Q81*(1+$D$7)","v":{"v":0,"d":"0 "}},{"$f":"D$42*$Q81*(1+$D$7)*(1+$D$7)","v":{"v":0,"d":"0 "}},{"$f":"E$42*$Q81*(1+$D$7)*(1+$D$7)*(1+$D$7)","v":{"v":0,"d":"0 "}},{"$f":"F$42*$Q81*(1+$D$7)*(1+$D$7)*(1+$D$7)*(1+$D$7)","v":{"v":0,"d":"0 "}}]
[{"$f":"+N82","v":0},{"v":0,"d":"0 "},{"v":0,"d":"0 "},{"v":0,"d":"0 "},{"v":0,"d":"0 "},{"v":0,"d":"0 "},{"v":0,"d":"0 "},{"v":0,"d":"0 "},{"v":0,"d":"0 "},{"v":0,"d":"0 "},{"v":0,"d":"0 "},{"v":0,"d":"0 "},{"v":0,"d":"0 "},{"$f":"SUM(B203:M203)","v":{"v":0,"d":"0 "}},{"$f":"C$42*$Q82*(1+$D$7)","v":{"v":0,"d":"0 "}},{"$f":"D$42*$Q82*(1+$D$7)*(1+$D$7)","v":{"v":0,"d":"0 "}},{"$f":"E$42*$Q82*(1+$D$7)*(1+$D$7)*(1+$D$7)","v":{"v":0,"d":"0 "}},{"$f":"F$42*$Q82*(1+$D$7)*(1+$D$7)*(1+$D$7)*(1+$D$7)","v":{"v":0,"d":"0 "}}]
[{"$f":"+N83","v":0},{"v":0,"d":"0 "},{"v":0,"d":"0 "},{"v":0,"d":"0 "},{"v":0,"d":"0 "},{"v":0,"d":"0 "},{"v":0,"d":"0 "},{"v":0,"d":"0 "},{"v":0,"d":"0 "},{"v":0,"d":"0 "},{"v":0,"d":"0 "},{"v":0,"d":"0 "},{"v":0,"d":"0 "},{"$f":"SUM(B204:M204)","v":{"v":0,"d":"0 "}},{"$f":"C$42*$Q83*(1+$D$7)","v":{"v":0,"d":"0 "}},{"$f":"D$42*$Q83*(1+$D$7)*(1+$D$7)","v":{"v":0,"d":"0 "}},{"$f":"E$42*$Q83*(1+$D$7)*(1+$D$7)*(1+$D$7)","v":{"v":0,"d":"0 "}},{"$f":"F$42*$Q83*(1+$D$7)*(1+$D$7)*(1+$D$7)*(1+$D$7)","v":{"v":0,"d":"0 "}}]
["-","-","-","-","-","-","-","-","-","-","-","-","-","-","-","-","-","-"]
[{"$f":"+A25","v":{"v":0,"d":"0 "}}]
[]
[{"$f":"+N87","v":0},{"$f":"B$25*$Q87","v":{"v":0,"d":"0 "}},{"$f":"C$25*$Q87","v":{"v":0,"d":"0 "}},{"v":0,"d":"0 "},{"v":0,"d":"0 "},{"v":0,"d":"0 "},{"v":0,"d":"0 "},{"v":0,"d":"0 "},{"v":0,"d":"0 "},{"v":0,"d":"0 "},{"v":0,"d":"0 "},{"v":0,"d":"0 "},{"v":0,"d":"0 "},{"$f":"SUM(B208:M208)","v":{"v":0,"d":"0 "}},{"$f":"C$43*$Q87*(1+$D$7)","v":{"v":0,"d":"0 "}},{"$f":"D$43*$Q87*(1+$D$7)*(1+$D$7)","v":{"v":0,"d":"0 "}},{"$f":"E$43*$Q87*(1+$D$7)*(1+$D$7)*(1+$D$7)","v":{"v":0,"d":"0 "}},{"$f":"F$43*$Q87*(1+$D$7)*(1+$D$7)*(1+$D$7)*(1+$D$7)","v":{"v":0,"d":"0 "}}]
[{"$f":"+N88","v":0},{"$f":"B$25*$Q88","v":{"v":0,"d":"0 "}},{"v":0,"d":"0 "},{"v":0,"d":"0 "},{"v":0,"d":"0 "},{"v":0,"d":"0 "},{"v":0,"d":"0 "},{"v":0,"d":"0 "},{"v":0,"d":"0 "},{"v":0,"d":"0 "},{"v":0,"d":"0 "},{"v":0,"d":"0 "},{"v":0,"d":"0 "},{"$f":"SUM(B209:M209)","v":{"v":0,"d":"0 "}},{"$f":"C$43*$Q88*(1+$D$7)","v":{"v":0,"d":"0 "}},{"$f":"D$43*$Q88*(1+$D$7)*(1+$D$7)","v":{"v":0,"d":"0 "}},{"$f":"E$43*$Q88*(1+$D$7)*(1+$D$7)*(1+$D$7)","v":{"v":0,"d":"0 "}},{"$f":"F$43*$Q88*(1+$D$7)*(1+$D$7)*(1+$D$7)*(1+$D$7)","v":{"v":0,"d":"0 "}}]
[{"$f":"+N89","v":0},{"v":0,"d":"0 "},{"v":0,"d":"0 "},{"v":0,"d":"0 "},{"v":0,"d":"0 "},{"v":0,"d":"0 "},{"v":0,"d":"0 "},{"v":0,"d":"0 "},{"v":0,"d":"0 "},{"v":0,"d":"0 "},{"v":0,"d":"0 "},{"v":0,"d":"0 "},{"v":0,"d":"0 "},{"$f":"SUM(B210:M210)","v":{"v":0,"d":"0 "}},{"$f":"C$43*$Q89*(1+$D$7)","v":{"v":0,"d":"0 "}},{"$f":"D$43*$Q89*(1+$D$7)*(1+$D$7)","v":{"v":0,"d":"0 "}},{"$f":"E$43*$Q89*(1+$D$7)*(1+$D$7)*(1+$D$7)","v":{"v":0,"d":"0 "}},{"$f":"F$43*$Q89*(1+$D$7)*(1+$D$7)*(1+$D$7)*(1+$D$7)","v":{"v":0,"d":"0 "}}]
[{"$f":"+N90","v":0},{"v":0,"d":"0 "},{"v":0,"d":"0 "},{"v":0,"d":"0 "},{"v":0,"d":"0 "},{"v":0,"d":"0 "},{"v":0,"d":"0 "},{"v":0,"d":"0 "},{"v":0,"d":"0 "},{"v":0,"d":"0 "},{"v":0,"d":"0 "},{"v":0,"d":"0 "},{"v":0,"d":"0 "},{"$f":"SUM(B211:M211)","v":{"v":0,"d":"0 "}},{"$f":"C$43*$Q90*(1+$D$7)","v":{"v":0,"d":"0 "}},{"$f":"D$43*$Q90*(1+$D$7)*(1+$D$7)","v":{"v":0,"d":"0 "}},{"$f":"E$43*$Q90*(1+$D$7)*(1+$D$7)*(1+$D$7)","v":{"v":0,"d":"0 "}},{"$f":"F$43*$Q90*(1+$D$7)*(1+$D$7)*(1+$D$7)*(1+$D$7)","v":{"v":0,"d":"0 "}}]
[{"$f":"+N91","v":0},{"v":0,"d":"0 "},{"v":0,"d":"0 "},{"v":0,"d":"0 "},{"v":0,"d":"0 "},{"v":0,"d":"0 "},{"v":0,"d":"0 "},{"v":0,"d":"0 "},{"v":0,"d":"0 "},{"v":0,"d":"0 "},{"v":0,"d":"0 "},{"v":0,"d":"0 "},{"v":0,"d":"0 "},{"$f":"SUM(B212:M212)","v":{"v":0,"d":"0 "}},{"$f":"C$43*$Q91*(1+$D$7)","v":{"v":0,"d":"0 "}},{"$f":"D$43*$Q91*(1+$D$7)*(1+$D$7)","v":{"v":0,"d":"0 "}},{"$f":"E$43*$Q91*(1+$D$7)*(1+$D$7)*(1+$D$7)","v":{"v":0,"d":"0 "}},{"$f":"F$43*$Q91*(1+$D$7)*(1+$D$7)*(1+$D$7)*(1+$D$7)","v":{"v":0,"d":"0 "}}]
["-","-","-","-","-","-","-","-","-","-","-","-","-","-","-","-","-","-"]
[{"$f":"+A26","v":{"v":0,"d":"0 "}}]
[]
[{"$f":"+N95","v":0},{"$f":"B$26*$Q95","v":{"v":0,"d":"0 "}},{"$f":"C$26*$Q95","v":{"v":0,"d":"0 "}},{"v":0,"d":"0 "},{"v":0,"d":"0 "},{"v":0,"d":"0 "},{"v":0,"d":"0 "},{"v":0,"d":"0 "},{"v":0,"d":"0 "},{"v":0,"d":"0 "},{"v":0,"d":"0 "},{"v":0,"d":"0 "},{"v":0,"d":"0 "},{"$f":"SUM(B216:M216)","v":{"v":0,"d":"0 "}},{"$f":"C$44*$Q95*(1+$D$7)","v":{"v":0,"d":"0 "}},{"$f":"D$44*$Q95*(1+$D$7)*(1+$D$7)","v":{"v":0,"d":"0 "}},{"$f":"E$44*$Q95*(1+$D$7)*(1+$D$7)*(1+$D$7)","v":{"v":0,"d":"0 "}},{"$f":"F$44*$Q95*(1+$D$7)*(1+$D$7)*(1+$D$7)*(1+$D$7)","v":{"v":0,"d":"0 "}}]
[{"$f":"+N96","v":0},{"$f":"B$26*$Q96","v":{"v":0,"d":"0 "}},{"v":0,"d":"0 "},{"v":0,"d":"0 "},{"v":0,"d":"0 "},{"v":0,"d":"0 "},{"v":0,"d":"0 "},{"v":0,"d":"0 "},{"v":0,"d":"0 "},{"v":0,"d":"0 "},{"v":0,"d":"0 "},{"v":0,"d":"0 "},{"v":0,"d":"0 "},{"$f":"SUM(B217:M217)","v":{"v":0,"d":"0 "}},{"$f":"C$44*$Q96*(1+$D$7)","v":{"v":0,"d":"0 "}},{"$f":"D$44*$Q96*(1+$D$7)*(1+$D$7)","v":{"v":0,"d":"0 "}},{"$f":"E$44*$Q96*(1+$D$7)*(1+$D$7)*(1+$D$7)","v":{"v":0,"d":"0 "}},{"$f":"F$44*$Q96*(1+$D$7)*(1+$D$7)*(1+$D$7)*(1+$D$7)","v":{"v":0,"d":"0 "}}]
[{"$f":"+N97","v":0},{"v":0,"d":"0 "},{"v":0,"d":"0 "},{"v":0,"d":"0 "},{"v":0,"d":"0 "},{"v":0,"d":"0 "},{"v":0,"d":"0 "},{"v":0,"d":"0 "},{"v":0,"d":"0 "},{"v":0,"d":"0 "},{"v":0,"d":"0 "},{"v":0,"d":"0 "},{"v":0,"d":"0 "},{"$f":"SUM(B218:M218)","v":{"v":0,"d":"0 "}},{"$f":"C$44*$Q97*(1+$D$7)","v":{"v":0,"d":"0 "}},{"$f":"D$44*$Q97*(1+$D$7)*(1+$D$7)","v":{"v":0,"d":"0 "}},{"$f":"E$44*$Q97*(1+$D$7)*(1+$D$7)*(1+$D$7)","v":{"v":0,"d":"0 "}},{"$f":"F$44*$Q97*(1+$D$7)*(1+$D$7)*(1+$D$7)*(1+$D$7)","v":{"v":0,"d":"0 "}}]
[{"$f":"+N98","v":0},{"v":0,"d":"0 "},{"v":0,"d":"0 "},{"v":0,"d":"0 "},{"v":0,"d":"0 "},{"v":0,"d":"0 "},{"v":0,"d":"0 "},{"v":0,"d":"0 "},{"v":0,"d":"0 "},{"v":0,"d":"0 "},{"v":0,"d":"0 "},{"v":0,"d":"0 "},{"v":0,"d":"0 "},{"$f":"SUM(B219:M219)","v":{"v":0,"d":"0 "}},{"$f":"C$44*$Q98*(1+$D$7)","v":{"v":0,"d":"0 "}},{"$f":"D$44*$Q98*(1+$D$7)*(1+$D$7)","v":{"v":0,"d":"0 "}},{"$f":"E$44*$Q98*(1+$D$7)*(1+$D$7)*(1+$D$7)","v":{"v":0,"d":"0 "}},{"$f":"F$44*$Q98*(1+$D$7)*(1+$D$7)*(1+$D$7)*(1+$D$7)","v":{"v":0,"d":"0 "}}]
[{"$f":"+N99","v":0},{"v":0,"d":"0 "},{"v":0,"d":"0 "},{"v":0,"d":"0 "},{"v":0,"d":"0 "},{"v":0,"d":"0 "},{"v":0,"d":"0 "},{"v":0,"d":"0 "},{"v":0,"d":"0 "},{"v":0,"d":"0 "},{"v":0,"d":"0 "},{"v":0,"d":"0 "},{"v":0,"d":"0 "},{"$f":"SUM(B220:M220)","v":{"v":0,"d":"0 "}},{"$f":"C$44*$Q99*(1+$D$7)","v":{"v":0,"d":"0 "}},{"$f":"D$44*$Q99*(1+$D$7)*(1+$D$7)","v":{"v":0,"d":"0 "}},{"$f":"E$44*$Q99*(1+$D$7)*(1+$D$7)*(1+$D$7)","v":{"v":0,"d":"0 "}},{"$f":"F$44*$Q99*(1+$D$7)*(1+$D$7)*(1+$D$7)*(1+$D$7)","v":{"v":0,"d":"0 "}}]
["-","-","-","-","-","-","-","-","-","-","-","-","-","-","-","-","-","-"]
["TOTAL COMPRAS"]
[]
[{"$f":"A15","v":0},{"$f":"SUM(B128:B132)","v":{"v":0,"d":"0 "}},{"v":0,"d":"0 "},{"v":0,"d":"0 "},{"v":0,"d":"0 "},{"v":0,"d":"0 "},{"v":0,"d":"0 "},{"v":0,"d":"0 "},{"v":0,"d":"0 "},{"v":0,"d":"0 "},{"v":0,"d":"0 "},{"v":0,"d":"0 "},{"v":0,"d":"0 "},{"v":0,"d":"0 "},{"v":0,"d":"0 "},{"v":0,"d":"0 "},{"v":0,"d":"0 "},{"v":0,"d":"0 "}]
[0,{"$f":"SUM(B136:B140)","v":{"v":0,"d":"0 "}},{"v":0,"d":"0 "},{"v":0,"d":"0 "},{"v":0,"d":"0 "},{"v":0,"d":"0 "},{"v":0,"d":"0 "},{"v":0,"d":"0 "},{"v":0,"d":"0 "},{"v":0,"d":"0 "},{"v":0,"d":"0 "},{"v":0,"d":"0 "},{"v":0,"d":"0 "},{"v":0,"d":"0 "},{"v":0,"d":"0 "},{"v":0,"d":"0 "},{"v":0,"d":"0 "},{"v":0,"d":"0 "}]
[0,{"$f":"SUM(B144:B148)","v":{"v":0,"d":"0 "}},{"v":0,"d":"0 "},{"v":0,"d":"0 "},{"v":0,"d":"0 "},{"v":0,"d":"0 "},{"v":0,"d":"0 "},{"v":0,"d":"0 "},{"v":0,"d":"0 "},{"v":0,"d":"0 "},{"v":0,"d":"0 "},{"v":0,"d":"0 "},{"v":0,"d":"0 "},{"v":0,"d":"0 "},{"v":0,"d":"0 "},{"v":0,"d":"0 "},{"v":0,"d":"0 "},{"v":0,"d":"0 "}]
[0,{"$f":"SUM(B152:B156)","v":{"v":0,"d":"0 "}},{"v":0,"d":"0 "},{"v":0,"d":"0 "},{"v":0,"d":"0 "},{"v":0,"d":"0 "},{"v":0,"d":"0 "},{"v":0,"d":"0 "},{"v":0,"d":"0 "},{"v":0,"d":"0 "},{"v":0,"d":"0 "},{"v":0,"d":"0 "},{"v":0,"d":"0 "},{"v":0,"d":"0 "},{"v":0,"d":"0 "},{"v":0,"d":"0 "},{"v":0,"d":"0 "},{"v":0,"d":"0 "}]
[0,{"$f":"SUM(B160:B164)","v":{"v":0,"d":"0 "}},{"v":0,"d":"0 "},{"v":0,"d":"0 "},{"v":0,"d":"0 "},{"v":0,"d":"0 "},{"v":0,"d":"0 "},{"v":0,"d":"0 "},{"v":0,"d":"0 "},{"v":0,"d":"0 "},{"v":0,"d":"0 "},{"v":0,"d":"0 "},{"v":0,"d":"0 "},{"v":0,"d":"0 "},{"v":0,"d":"0 "},{"v":0,"d":"0 "},{"v":0,"d":"0 "},{"v":0,"d":"0 "}]
[0,{"$f":"SUM(B168:B172)","v":{"v":0,"d":"0 "}},{"v":0,"d":"0 "},{"v":0,"d":"0 "},{"v":0,"d":"0 "},{"v":0,"d":"0 "},{"v":0,"d":"0 "},{"v":0,"d":"0 "},{"v":0,"d":"0 "},{"v":0,"d":"0 "},{"v":0,"d":"0 "},{"v":0,"d":"0 "},{"v":0,"d":"0 "},{"v":0,"d":"0 "},{"v":0,"d":"0 "},{"v":0,"d":"0 "},{"v":0,"d":"0 "},{"v":0,"d":"0 "}]
[0,{"$f":"SUM(B176:B180)","v":{"v":0,"d":"0 "}},{"$f":"SUM(C176:C180)","v":{"v":0,"d":"0 "}},{"v":0,"d":"0 "},{"v":0,"d":"0 "},{"v":0,"d":"0 "},{"v":0,"d":"0 "},{"v":0,"d":"0 "},{"v":0,"d":"0 "},{"v":0,"d":"0 "},{"v":0,"d":"0 "},{"v":0,"d":"0 "},{"v":0,"d":"0 "},{"v":0,"d":"0 "},{"v":0,"d":"0 "},{"v":0,"d":"0 "},{"v":0,"d":"0 "},{"v":0,"d":"0 "}]
[0,{"$f":"SUM(B184:B188)","v":{"v":0,"d":"0 "}},{"$f":"SUM(C184:C188)","v":{"v":0,"d":"0 "}},{"v":0,"d":"0 "},{"v":0,"d":"0 "},{"v":0,"d":"0 "},{"v":0,"d":"0 "},{"v":0,"d":"0 "},{"v":0,"d":"0 "},{"v":0,"d":"0 "},{"v":0,"d":"0 "},{"v":0,"d":"0 "},{"v":0,"d":"0 "},{"v":0,"d":"0 "},{"v":0,"d":"0 "},{"v":0,"d":"0 "},{"v":0,"d":"0 "},{"v":0,"d":"0 "}]
[0,{"$f":"SUM(B192:B196)","v":{"v":0,"d":"0 "}},{"$f":"SUM(C192:C196)","v":{"v":0,"d":"0 "}},{"v":0,"d":"0 "},{"v":0,"d":"0 "},{"v":0,"d":"0 "},{"v":0,"d":"0 "},{"v":0,"d":"0 "},{"v":0,"d":"0 "},{"v":0,"d":"0 "},{"v":0,"d":"0 "},{"v":0,"d":"0 "},{"v":0,"d":"0 "},{"v":0,"d":"0 "},{"v":0,"d":"0 "},{"v":0,"d":"0 "},{"v":0,"d":"0 "},{"v":0,"d":"0 "}]
[0,{"$f":"SUM(B200:B204)","v":{"v":0,"d":"0 "}},{"$f":"SUM(C200:C204)","v":{"v":0,"d":"0 "}},{"v":0,"d":"0 "},{"v":0,"d":"0 "},{"v":0,"d":"0 "},{"v":0,"d":"0 "},{"v":0,"d":"0 "},{"v":0,"d":"0 "},{"v":0,"d":"0 "},{"v":0,"d":"0 "},{"v":0,"d":"0 "},{"v":0,"d":"0 "},{"v":0,"d":"0 "},{"v":0,"d":"0 "},{"v":0,"d":"0 "},{"v":0,"d":"0 "},{"v":0,"d":"0 "}]
[0,{"$f":"SUM(B208:B212)","v":{"v":0,"d":"0 "}},{"$f":"SUM(C208:C212)","v":{"v":0,"d":"0 "}},{"v":0,"d":"0 "},{"v":0,"d":"0 "},{"v":0,"d":"0 "},{"v":0,"d":"0 "},{"v":0,"d":"0 "},{"v":0,"d":"0 "},{"v":0,"d":"0 "},{"v":0,"d":"0 "},{"v":0,"d":"0 "},{"v":0,"d":"0 "},{"v":0,"d":"0 "},{"v":0,"d":"0 "},{"v":0,"d":"0 "},{"v":0,"d":"0 "},{"v":0,"d":"0 "}]
[0,{"$f":"SUM(B216:B220)","v":{"v":0,"d":"0 "}},{"$f":"SUM(C216:C220)","v":{"v":0,"d":"0 "}},{"v":0,"d":"0 "},{"v":0,"d":"0 "},{"v":0,"d":"0 "},{"v":0,"d":"0 "},{"v":0,"d":"0 "},{"v":0,"d":"0 "},{"v":0,"d":"0 "},{"v":0,"d":"0 "},{"v":0,"d":"0 "},{"v":0,"d":"0 "},{"v":0,"d":"0 "},{"v":0,"d":"0 "},{"v":0,"d":"0 "},{"v":0,"d":"0 "},{"v":0,"d":"0 "}]
[]
["-","-","-","-","-","-","-","-","-","-","-","-","-","-","-","-","-","-"]
["TOTAL",{"$f":"SUM(B224:B237)","v":{"v":0,"d":"0 "}},{"v":0,"d":"0 "},{"v":0,"d":"0 "},{"v":0,"d":"0 "},{"v":0,"d":"0 "},{"v":0,"d":"0 "},{"v":0,"d":"0 "},{"v":0,"d":"0 "},{"v":0,"d":"0 "},{"v":0,"d":"0 "},{"v":0,"d":"0 "},{"v":0,"d":"0 "},{"v":0,"d":"0 "},{"v":0,"d":"0 "},{"v":0,"d":"0 "},{"v":0,"d":"0 "},{"v":0,"d":"0 "}]
["-","-","-","-","-","-","-","-","-","-","-","-","-","-","-","-","-","-"]
[]
[]
["PAGOS MENSUALES"]
["-","-","-","-","-","-","-","-","-","-","-","-","-","-","-","-","-","-"]
["PRODUCTOS","MES 1","MES 2","MES 3","MES 4","MES 5","MES 6","MES 7","MES 8","MES 9","MES 10 ","MES 11","MES 12","ANO 1","ANO 2","ANO 3","ANO 4","ANO 5"]
["-","-","-","-","-","-","-","-","-","-","-","-","-","-","-","-","-","-"]
[{"$f":"A53","v":0}]
[]
[{"$f":"A55","v":0},{"$f":"B128*$E55","v":{"v":0,"d":"0 "}},{"$f":"C128*$E55+B128*$F55","v":{"v":0,"d":"0 "}},{"$f":"D128*$E55+C128*$F55+B128*$G55","v":{"v":0,"d":"0 "}},{"$f":"E128*$E55+D128*$F55+C128*$G55+B128*$H55","v":{"v":0,"d":"0 "}},{"v":0,"d":"0 "},{"v":0,"d":"0 "},{"v":0,"d":"0 "},{"v":0,"d":"0 "},{"v":0,"d":"0 "},{"v":0,"d":"0 "},{"v":0,"d":"0 "},{"v":0,"d":"0 "},{"$f":"SUM(B248:M248)","v":{"v":0,"d":"0 "}},{"$f":"O128+B367-C367","v":{"v":0,"d":"0 "}},{"v":0,"d":"0 "},{"v":0,"d":"0 "},{"v":0,"d":"0 "}]
[{"$f":"A56","v":0},{"$f":"B129*$E56","v":{"v":0,"d":"0 "}},{"$f":"C129*$E56+B129*$F56","v":{"v":0,"d":"0 "}},{"$f":"D129*$E56+C129*$F56+B129*$G56","v":{"v":0,"d":"0 "}},{"v":0,"d":"0 "},{"v":0,"d":"0 "},{"v":0,"d":"0 "},{"v":0,"d":"0 "},{"v":0,"d":"0 "},{"v":0,"d":"0 "},{"v":0,"d":"0 "},{"v":0,"d":"0 "},{"v":0,"d":"0 "},{"$f":"SUM(B249:M249)","v":{"v":0,"d":"0 "}},{"v":0,"d":"0 "},{"v":0,"d":"0 "},{"v":0,"d":"0 "},{"v":0,"d":"0 "}]
[{"$f":"A57","v":0},{"$f":"B130*$E57","v":{"v":0,"d":"0 "}},{"$f":"C130*$E57+B130*$F57","v":{"v":0,"d":"0 "}},{"$f":"D130*$E57+C130*$F57+B130*$G57","v":{"v":0,"d":"0 "}},{"v":0,"d":"0 "},{"v":0,"d":"0 "},{"v":0,"d":"0 "},{"v":0,"d":"0 "},{"v":0,"d":"0 "},{"v":0,"d":"0 "},{"v":0,"d":"0 "},{"v":0,"d":"0 "},{"v":0,"d":"0 "},{"$f":"SUM(B250:M250)","v":{"v":0,"d":"0 "}},{"v":0,"d":"0 "},{"v":0,"d":"0 "},{"v":0,"d":"0 "},{"v":0,"d":"0 "}]
[{"$f":"A58","v":0},{"$f":"B131*$E58","v":{"v":0,"d":"0 "}},{"$f":"C131*$E58+B131*$F58","v":{"v":0,"d":"0 "}},{"$f":"D131*$E58+C131*$F58+B131*$G58","v":{"v":0,"d":"0 "}},{"v":0,"d":"0 "},{"v":0,"d":"0 "},{"v":0,"d":"0 "},{"v":0,"d":"0 "},{"v":0,"d":"0 "},{"v":0,"d":"0 "},{"v":0,"d":"0 "},{"v":0,"d":"0 "},{"v":0,"d":"0 "},{"$f":"SUM(B251:M251)","v":{"v":0,"d":"0 "}},{"v":0,"d":"0 "},{"v":0,"d":"0 "},{"v":0,"d":"0 "},{"v":0,"d":"0 "}]
[{"$f":"A59","v":0},{"$f":"B132*$E59","v":{"v":0,"d":"0 "}},{"$f":"C132*$E59+B132*$F59","v":{"v":0,"d":"0 "}},{"$f":"D132*$E59+C132*$F59+B132*$G59","v":{"v":0,"d":"0 "}},{"v":0,"d":"0 "},{"v":0,"d":"0 "},{"v":0,"d":"0 "},{"v":0,"d":"0 "},{"v":0,"d":"0 "},{"v":0,"d":"0 "},{"v":0,"d":"0 "},{"v":0,"d":"0 "},{"v":0,"d":"0 "},{"$f":"SUM(B252:M252)","v":{"v":0,"d":"0 "}},{"v":0,"d":"0 "},{"v":0,"d":"0 "},{"v":0,"d":"0 "},{"v":0,"d":"0 "}]
["-","-","-","-","-","-","-","-","-","-","-","-","-","-","-","-","-","-"]
[{"$f":"A61","v":0}]
[]
[{"$f":"A63","v":0},{"$f":"B136*$E63","v":{"v":0,"d":"0 "}},{"$f":"C136*$E63+B136*$F63","v":{"v":0,"d":"0 "}},{"$f":"D136*$E63+C136*$F63+B136*$G63","v":{"v":0,"d":"0 "}},{"$f":"E136*$E63+D136*$F63+C136*$G63+B136*$H63","v":{"v":0,"d":"0 "}},{"v":0,"d":"0 "},{"v":0,"d":"0 "},{"v":0,"d":"0 "},{"v":0,"d":"0 "},{"v":0,"d":"0 "},{"v":0,"d":"0 "},{"v":0,"d":"0 "},{"v":0,"d":"0 "},{"$f":"SUM(B256:M256)","v":{"v":0,"d":"0 "}},{"$f":"O136+B375-C375","v":{"v":0,"d":"0 "}},{"v":0,"d":"0 "},{"v":0,"d":"0 "},{"v":0,"d":"0 "}]
[{"$f":"A64","v":0},{"$f":"B137*$E64","v":{"v":0,"d":"0 "}},{"$f":"C137*$E64+B137*$F64","v":{"v":0,"d":"0 "}},{"$f":"D137*$E64+C137*$F64+B137*$G64","v":{"v":0,"d":"0 "}},{"v":0,"d":"0 "},{"v":0,"d":"0 "},{"v":0,"d":"0 "},{"v":0,"d":"0 "},{"v":0,"d":"0 "},{"v":0,"d":"0 "},{"v":0,"d":"0 "},{"v":0,"d":"0 "},{"v":0,"d":"0 "},{"$f":"SUM(B257:M257)","v":{"v":0,"d":"0 "}},{"v":0,"d":"0 "},{"v":0,"d":"0 "},{"v":0,"d":"0 "},{"v":0,"d":"0 "}]
[{"$f":"A65","v":0},{"$f":"B138*$E65","v":{"v":0,"d":"0 "}},{"$f":"C138*$E65+B138*$F65","v":{"v":0,"d":"0 "}},{"$f":"D138*$E65+C138*$F65+B138*$G65","v":{"v":0,"d":"0 "}},{"v":0,"d":"0 "},{"v":0,"d":"0 "},{"v":0,"d":"0 "},{"v":0,"d":"0 "},{"v":0,"d":"0 "},{"v":0,"d":"0 "},{"v":0,"d":"0 "},{"v":0,"d":"0 "},{"v":0,"d":"0 "},{"$f":"SUM(B258:M258)","v":{"v":0,"d":"0 "}},{"v":0,"d":"0 "},{"v":0,"d":"0 "},{"v":0,"d":"0 "},{"v":0,"d":"0 "}]
[{"$f":"A66","v":0},{"$f":"B139*$E66","v":{"v":0,"d":"0 "}},{"$f":"C139*$E66+B139*$F66","v":{"v":0,"d":"0 "}},{"$f":"D139*$E66+C139*$F66+B139*$G66","v":{"v":0,"d":"0 "}},{"v":0,"d":"0 "},{"v":0,"d":"0 "},{"v":0,"d":"0 "},{"v":0,"d":"0 "},{"v":0,"d":"0 "},{"v":0,"d":"0 "},{"v":0,"d":"0 "},{"v":0,"d":"0 "},{"v":0,"d":"0 "},{"$f":"SUM(B259:M259)","v":{"v":0,"d":"0 "}},{"v":0,"d":"0 "},{"v":0,"d":"0 "},{"v":0,"d":"0 "},{"v":0,"d":"0 "}]
[{"$f":"A67","v":0},{"$f":"B140*$E67","v":{"v":0,"d":"0 "}},{"$f":"C140*$E67+B140*$F67","v":{"v":0,"d":"0 "}},{"$f":"D140*$E67+C140*$F67+B140*$G67","v":{"v":0,"d":"0 "}},{"v":0,"d":"0 "},{"v":0,"d":"0 "},{"v":0,"d":"0 "},{"v":0,"d":"0 "},{"v":0,"d":"0 "},{"v":0,"d":"0 "},{"v":0,"d":"0 "},{"v":0,"d":"0 "},{"v":0,"d":"0 "},{"$f":"SUM(B260:M260)","v":{"v":0,"d":"0 "}},{"v":0,"d":"0 "},{"v":0,"d":"0 "},{"v":0,"d":"0 "},{"v":0,"d":"0 "}]
["-","-","-","-","-","-","-","-","-","-","-","-","-","-","-","-","-","-"]
[{"$f":"A69","v":0}]
[]
[{"$f":"A71","v":0},{"$f":"B144*$E71","v":{"v":0,"d":"0 "}},{"$f":"C144*$E71+B144*$F71","v":{"v":0,"d":"0 "}},{"$f":"D144*$E71+C144*$F71+B144*$G71","v":{"v":0,"d":"0 "}},{"$f":"E144*$E71+D144*$F71+C144*$G71+B144*$H71","v":{"v":0,"d":"0 "}},{"v":0,"d":"0 "},{"v":0,"d":"0 "},{"v":0,"d":"0 "},{"v":0,"d":"0 "},{"v":0,"d":"0 "},{"v":0,"d":"0 "},{"v":0,"d":"0 "},{"v":0,"d":"0 "},{"$f":"SUM(B264:M264)","v":{"v":0,"d":"0 "}},{"$f":"O144+B383-C383","v":{"v":0,"d":"0 "}},{"v":0,"d":"0 "},{"v":0,"d":"0 "},{"v":0,"d":"0 "}]
[{"$f":"A72","v":0},{"$f":"B145*$E72","v":{"v":0,"d":"0 "}},{"$f":"C145*$E72+B145*$F72","v":{"v":0,"d":"0 "}},{"$f":"D145*$E72+C145*$F72+B145*$G72","v":{"v":0,"d":"0 "}},{"v":0,"d":"0 "},{"v":0,"d":"0 "},{"v":0,"d":"0 "},{"v":0,"d":"0 "},{"v":0,"d":"0 "},{"v":0,"d":"0 "},{"v":0,"d":"0 "},{"v":0,"d":"0 "},{"v":0,"d":"0 "},{"$f":"SUM(B265:M265)","v":{"v":0,"d":"0 "}},{"v":0,"d":"0 "},{"v":0,"d":"0 "},{"v":0,"d":"0 "},{"v":0,"d":"0 "}]
[{"$f":"A73","v":0},{"$f":"B146*$E73","v":{"v":0,"d":"0 "}},{"$f":"C146*$E73+B146*$F73","v":{"v":0,"d":"0 "}},{"$f":"D146*$E73+C146*$F73+B146*$G73","v":{"v":0,"d":"0 "}},{"v":0,"d":"0 "},{"v":0,"d":"0 "},{"v":0,"d":"0 "},{"v":0,"d":"0 "},{"v":0,"d":"0 "},{"v":0,"d":"0 "},{"v":0,"d":"0 "},{"v":0,"d":"0 "},{"v":0,"d":"0 "},{"$f":"SUM(B266:M266)","v":{"v":0,"d":"0 "}},{"v":0,"d":"0 "},{"v":0,"d":"0 "},{"v":0,"d":"0 "},{"v":0,"d":"0 "}]
[{"$f":"A74","v":0},{"$f":"B147*$E74","v":{"v":0,"d":"0 "}},{"$f":"C147*$E74+B147*$F74","v":{"v":0,"d":"0 "}},{"$f":"D147*$E74+C147*$F74+B147*$G74","v":{"v":0,"d":"0 "}},{"v":0,"d":"0 "},{"v":0,"d":"0 "},{"v":0,"d":"0 "},{"v":0,"d":"0 "},{"v":0,"d":"0 "},{"v":0,"d":"0 "},{"v":0,"d":"0 "},{"v":0,"d":"0 "},{"v":0,"d":"0 "},{"$f":"SUM(B267:M267)","v":{"v":0,"d":"0 "}},{"v":0,"d":"0 "},{"v":0,"d":"0 "},{"v":0,"d":"0 "},{"v":0,"d":"0 "}]
[{"$f":"A75","v":0},{"$f":"B148*$E75","v":{"v":0,"d":"0 "}},{"$f":"C148*$E75+B148*$F75","v":{"v":0,"d":"0 "}},{"$f":"D148*$E75+C148*$F75+B148*$G75","v":{"v":0,"d":"0 "}},{"v":0,"d":"0 "},{"v":0,"d":"0 "},{"v":0,"d":"0 "},{"v":0,"d":"0 "},{"v":0,"d":"0 "},{"v":0,"d":"0 "},{"v":0,"d":"0 "},{"v":0,"d":"0 "},{"v":0,"d":"0 "},{"$f":"SUM(B268:M268)","v":{"v":0,"d":"0 "}},{"v":0,"d":"0 "},{"v":0,"d":"0 "},{"v":0,"d":"0 "},{"v":0,"d":"0 "}]
["-","-","-","-","-","-","-","-","-","-","-","-","-","-","-","-","-","-"]
[{"$f":"A77","v":0}]
[]
[{"$f":"A79","v":0},{"$f":"B152*$E79","v":{"v":0,"d":"0 "}},{"$f":"C152*$E79+B152*$F79","v":{"v":0,"d":"0 "}},{"$f":"D152*$E79+C152*$F79+B152*$G79","v":{"v":0,"d":"0 "}},{"$f":"E152*$E79+D152*$F79+C152*$G79+B152*$H79","v":{"v":0,"d":"0 "}},{"v":0,"d":"0 "},{"v":0,"d":"0 "},{"v":0,"d":"0 "},{"v":0,"d":"0 "},{"v":0,"d":"0 "},{"v":0,"d":"0 "},{"v":0,"d":"0 "},{"v":0,"d":"0 "},{"$f":"SUM(B272:M272)","v":{"v":0,"d":"0 "}},{"$f":"O152+B391-C391","v":{"v":0,"d":"0 "}},{"v":0,"d":"0 "},{"v":0,"d":"0 "},{"v":0,"d":"0 "}]
[{"$f":"A80","v":0},{"$f":"B153*$E80","v":{"v":0,"d":"0 "}},{"$f":"C153*$E80+B153*$F80","v":{"v":0,"d":"0 "}},{"$f":"D153*$E80+C153*$F80+B153*$G80","v":{"v":0,"d":"0 "}},{"v":0,"d":"0 "},{"v":0,"d":"0 "},{"v":0,"d":"0 "},{"v":0,"d":"0 "},{"v":0,"d":"0 "},{"v":0,"d":"0 "},{"v":0,"d":"0 "},{"v":0,"d":"0 "},{"v":0,"d":"0 "},{"$f":"SUM(B273:M273)","v":{"v":0,"d":"0 "}},{"v":0,"d":"0 "},{"v":0,"d":"0 "},{"v":0,"d":"0 "},{"v":0,"d":"0 "}]
[{"$f":"A81","v":0},{"$f":"B154*$E81","v":{"v":0,"d":"0 "}},{"$f":"C154*$E81+B154*$F81","v":{"v":0,"d":"0 "}},{"$f":"D154*$E81+C154*$F81+B154*$G81","v":{"v":0,"d":"0 "}},{"v":0,"d":"0 "},{"v":0,"d":"0 "},{"v":0,"d":"0 "},{"v":0,"d":"0 "},{"v":0,"d":"0 "},{"v":0,"d":"0 "},{"v":0,"d":"0 "},{"v":0,"d":"0 "},{"v":0,"d":"0 "},{"$f":"SUM(B274:M274)","v":{"v":0,"d":"0 "}},{"v":0,"d":"0 "},{"v":0,"d":"0 "},{"v":0,"d":"0 "},{"v":0,"d":"0 "}]
[{"$f":"A82","v":0},{"$f":"B155*$E82","v":{"v":0,"d":"0 "}},{"$f":"C155*$E82+B155*$F82","v":{"v":0,"d":"0 "}},{"$f":"D155*$E82+C155*$F82+B155*$G82","v":{"v":0,"d":"0 "}},{"v":0,"d":"0 "},{"v":0,"d":"0 "},{"v":0,"d":"0 "},{"v":0,"d":"0 "},{"v":0,"d":"0 "},{"v":0,"d":"0 "},{"v":0,"d":"0 "},{"v":0,"d":"0 "},{"v":0,"d":"0 "},{"$f":"SUM(B275:M275)","v":{"v":0,"d":"0 "}},{"v":0,"d":"0 "},{"v":0,"d":"0 "},{"v":0,"d":"0 "},{"v":0,"d":"0 "}]
[{"$f":"A83","v":0},{"$f":"B156*$E83","v":{"v":0,"d":"0 "}},{"$f":"C156*$E83+B156*$F83","v":{"v":0,"d":"0 "}},{"$f":"D156*$E83+C156*$F83+B156*$G83","v":{"v":0,"d":"0 "}},{"v":0,"d":"0 "},{"v":0,"d":"0 "},{"v":0,"d":"0 "},{"v":0,"d":"0 "},{"v":0,"d":"0 "},{"v":0,"d":"0 "},{"v":0,"d":"0 "},{"v":0,"d":"0 "},{"v":0,"d":"0 "},{"$f":"SUM(B276:M276)","v":{"v":0,"d":"0 "}},{"v":0,"d":"0 "},{"v":0,"d":"0 "},{"v":0,"d":"0 "},{"v":0,"d":"0 "}]
["-","-","-","-","-","-","-","-","-","-","-","-","-","-","-","-","-","-"]
[{"$f":"A85","v":0}]
[]
[{"$f":"A87","v":0},{"$f":"B160*$E87","v":{"v":0,"d":"0 "}},{"$f":"C160*$E87+B160*$F87","v":{"v":0,"d":"0 "}},{"$f":"D160*$E87+C160*$F87+B160*$G87","v":{"v":0,"d":"0 "}},{"$f":"E160*$E87+D160*$F87+C160*$G87+B160*$H87","v":{"v":0,"d":"0 "}},{"v":0,"d":"0 "},{"v":0,"d":"0 "},{"v":0,"d":"0 "},{"v":0,"d":"0 "},{"v":0,"d":"0 "},{"v":0,"d":"0 "},{"v":0,"d":"0 "},{"v":0,"d":"0 "},{"$f":"SUM(B280:M280)","v":{"v":0,"d":"0 "}},{"$f":"O160+B399-C399","v":{"v":0,"d":"0 "}},{"v":0,"d":"0 "},{"v":0,"d":"0 "},{"v":0,"d":"0 "}]
[{"$f":"A88","v":0},{"$f":"B161*$E88","v":{"v":0,"d":"0 "}},{"$f":"C161*$E88+B161*$F88","v":{"v":0,"d":"0 "}},{"$f":"D161*$E88+C161*$F88+B161*$G88","v":{"v":0,"d":"0 "}},{"v":0,"d":"0 "},{"v":0,"d":"0 "},{"v":0,"d":"0 "},{"v":0,"d":"0 "},{"v":0,"d":"0 "},{"v":0,"d":"0 "},{"v":0,"d":"0 "},{"v":0,"d":"0 "},{"v":0,"d":"0 "},{"$f":"SUM(B281:M281)","v":{"v":0,"d":"0 "}},{"v":0,"d":"0 "},{"v":0,"d":"0 "},{"v":0,"d":"0 "},{"v":0,"d":"0 "}]
[{"$f":"A89","v":0},{"$f":"B162*$E89","v":{"v":0,"d":"0 "}},{"$f":"C162*$E89+B162*$F89","v":{"v":0,"d":"0 "}},{"$f":"D162*$E89+C162*$F89+B162*$G89","v":{"v":0,"d":"0 "}},{"v":0,"d":"0 "},{"v":0,"d":"0 "},{"v":0,"d":"0 "},{"v":0,"d":"0 "},{"v":0,"d":"0 "},{"v":0,"d":"0 "},{"v":0,"d":"0 "},{"v":0,"d":"0 "},{"v":0,"d":"0 "},{"$f":"SUM(B282:M282)","v":{"v":0,"d":"0 "}},{"v":0,"d":"0 "},{"v":0,"d":"0 "},{"v":0,"d":"0 "},{"v":0,"d":"0 "}]
[{"$f":"A90","v":0},{"$f":"B163*$E90","v":{"v":0,"d":"0 "}},{"$f":"C163*$E90+B163*$F90","v":{"v":0,"d":"0 "}},{"$f":"D163*$E90+C163*$F90+B163*$G90","v":{"v":0,"d":"0 "}},{"v":0,"d":"0 "},{"v":0,"d":"0 "},{"v":0,"d":"0 "},{"v":0,"d":"0 "},{"v":0,"d":"0 "},{"v":0,"d":"0 "},{"v":0,"d":"0 "},{"v":0,"d":"0 "},{"v":0,"d":"0 "},{"$f":"SUM(B283:M283)","v":{"v":0,"d":"0 "}},{"v":0,"d":"0 "},{"v":0,"d":"0 "},{"v":0,"d":"0 "},{"v":0,"d":"0 "}]
[{"$f":"A91","v":0},{"$f":"B164*$E91","v":{"v":0,"d":"0 "}},{"$f":"C164*$E91+B164*$F91","v":{"v":0,"d":"0 "}},{"$f":"D164*$E91+C164*$F91+B164*$G91","v":{"v":0,"d":"0 "}},{"v":0,"d":"0 "},{"v":0,"d":"0 "},{"v":0,"d":"0 "},{"v":0,"d":"0 "},{"v":0,"d":"0 "},{"v":0,"d":"0 "},{"v":0,"d":"0 "},{"v":0,"d":"0 "},{"v":0,"d":"0 "},{"$f":"SUM(B284:M284)","v":{"v":0,"d":"0 "}},{"v":0,"d":"0 "},{"v":0,"d":"0 "},{"v":0,"d":"0 "},{"v":0,"d":"0 "}]
["-","-","-","-","-","-","-","-","-","-","-","-","-","-","-","-","-","-"]
[{"$f":"A93","v":0}]
[]
[{"$f":"A95","v":0},{"$f":"B168*$E95","v":{"v":0,"d":"0 "}},{"$f":"C168*$E95+B168*$F95","v":{"v":0,"d":"0 "}},{"$f":"D168*$E95+C168*$F95+B168*$G95","v":{"v":0,"d":"0 "}},{"$f":"E168*$E95+D168*$F95+C168*$G95+B168*$H95","v":{"v":0,"d":"0 "}},{"v":0,"d":"0 "},{"v":0,"d":"0 "},{"v":0,"d":"0 "},{"v":0,"d":"0 "},{"v":0,"d":"0 "},{"v":0,"d":"0 "},{"v":0,"d":"0 "},{"v":0,"d":"0 "},{"$f":"SUM(B288:M288)","v":{"v":0,"d":"0 "}},{"$f":"O168+B407-C407","v":{"v":0,"d":"0 "}},{"v":0,"d":"0 "},{"v":0,"d":"0 "},{"v":0,"d":"0 "}]
[{"$f":"A96","v":0},{"$f":"B169*$E96","v":{"v":0,"d":"0 "}},{"$f":"C169*$E96+B169*$F96","v":{"v":0,"d":"0 "}},{"$f":"D169*$E96+C169*$F96+B169*$G96","v":{"v":0,"d":"0 "}},{"v":0,"d":"0 "},{"v":0,"d":"0 "},{"v":0,"d":"0 "},{"v":0,"d":"0 "},{"v":0,"d":"0 "},{"v":0,"d":"0 "},{"v":0,"d":"0 "},{"v":0,"d":"0 "},{"v":0,"d":"0 "},{"$f":"SUM(B289:M289)","v":{"v":0,"d":"0 "}},{"v":0,"d":"0 "},{"v":0,"d":"0 "},{"v":0,"d":"0 "},{"v":0,"d":"0 "}]
[{"$f":"A97","v":0},{"$f":"B170*$E97","v":{"v":0,"d":"0 "}},{"$f":"C170*$E97+B170*$F97","v":{"v":0,"d":"0 "}},{"$f":"D170*$E97+C170*$F97+B170*$G97","v":{"v":0,"d":"0 "}},{"v":0,"d":"0 "},{"v":0,"d":"0 "},{"v":0,"d":"0 "},{"v":0,"d":"0 "},{"v":0,"d":"0 "},{"v":0,"d":"0 "},{"v":0,"d":"0 "},{"v":0,"d":"0 "},{"v":0,"d":"0 "},{"$f":"SUM(B290:M290)","v":{"v":0,"d":"0 "}},{"v":0,"d":"0 "},{"v":0,"d":"0 "},{"v":0,"d":"0 "},{"v":0,"d":"0 "}]
[{"$f":"A98","v":0},{"$f":"B171*$E98","v":{"v":0,"d":"0 "}},{"$f":"C171*$E98+B171*$F98","v":{"v":0,"d":"0 "}},{"$f":"D171*$E98+C171*$F98+B171*$G98","v":{"v":0,"d":"0 "}},{"v":0,"d":"0 "},{"v":0,"d":"0 "},{"v":0,"d":"0 "},{"v":0,"d":"0 "},{"v":0,"d":"0 "},{"v":0,"d":"0 "},{"v":0,"d":"0 "},{"v":0,"d":"0 "},{"v":0,"d":"0 "},{"$f":"SUM(B291:M291)","v":{"v":0,"d":"0 "}},{"v":0,"d":"0 "},{"v":0,"d":"0 "},{"v":0,"d":"0 "},{"v":0,"d":"0 "}]
[{"$f":"A99","v":0},{"$f":"B172*$E99","v":{"v":0,"d":"0 "}},{"$f":"C172*$E99+B172*$F99","v":{"v":0,"d":"0 "}},{"$f":"D172*$E99+C172*$F99+B172*$G99","v":{"v":0,"d":"0 "}},{"v":0,"d":"0 "},{"v":0,"d":"0 "},{"v":0,"d":"0 "},{"v":0,"d":"0 "},{"v":0,"d":"0 "},{"v":0,"d":"0 "},{"v":0,"d":"0 "},{"v":0,"d":"0 "},{"v":0,"d":"0 "},{"$f":"SUM(B292:M292)","v":{"v":0,"d":"0 "}},{"v":0,"d":"0 "},{"v":0,"d":"0 "},{"v":0,"d":"0 "},{"v":0,"d":"0 "}]
["-","-","-","-","-","-","-","-","-","-","-","-","-","-","-","-","-","-"]
[{"$f":"+N53","v":{"v":0,"d":"0 "}}]
[]
[{"$f":"+N55","v":{"v":0,"d":"0 "}},{"$f":"B176*$R55","v":{"v":0,"d":"0 "}},{"$f":"C176*$R55+B176*$S55","v":{"v":0,"d":"0 "}},{"$f":"D176*$R55+C176*$S55+B176*$T55","v":{"v":0,"d":"0 "}},{"$f":"E176*$R55+D176*$S55+C176*$T55+B176*$U55","v":{"v":0,"d":"0 "}},{"v":0,"d":"0 "},{"v":0,"d":"0 "},{"v":0,"d":"0 "},{"v":0,"d":"0 "},{"v":0,"d":"0 "},{"v":0,"d":"0 "},{"v":0,"d":"0 "},{"v":0,"d":"0 "},{"$f":"SUM(B296:M296)","v":{"v":0,"d":"0 "}},{"$f":"O176+B415-C415","v":{"v":0,"d":"0 "}},{"v":0,"d":"0 "},{"v":0,"d":"0 "},{"v":0,"d":"0 "}]
[{"v":0,"d":"0 "},{"$f":"B177*$R56","v":{"v":0,"d":"0 "}},{"$f":"C177*$R56+B177*$S56","v":{"v":0,"d":"0 "}},{"$f":"D177*$R56+C177*$S56+B177*$T56","v":{"v":0,"d":"0 "}},{"v":0,"d":"0 "},{"v":0,"d":"0 "},{"v":0,"d":"0 "},{"v":0,"d":"0 "},{"v":0,"d":"0 "},{"v":0,"d":"0 "},{"v":0,"d":"0 "},{"v":0,"d":"0 "},{"v":0,"d":"0 "},{"v":0,"d":"0 "},{"v":0,"d":"0 "},{"v":0,"d":"0 "},{"v":0,"d":"0 "},{"v":0,"d":"0 "}]
[{"v":0,"d":"0 "},{"$f":"B178*$R57","v":{"v":0,"d":"0 "}},{"$f":"C178*$R57+B178*$S57","v":{"v":0,"d":"0 "}},{"$f":"D178*$R57+C178*$S57+B178*$T57","v":{"v":0,"d":"0 "}},{"v":0,"d":"0 "},{"v":0,"d":"0 "},{"v":0,"d":"0 "},{"v":0,"d":"0 "},{"v":0,"d":"0 "},{"v":0,"d":"0 "},{"v":0,"d":"0 "},{"v":0,"d":"0 "},{"v":0,"d":"0 "},{"v":0,"d":"0 "},{"v":0,"d":"0 "},{"v":0,"d":"0 "},{"v":0,"d":"0 "},{"v":0,"d":"0 "}]
[{"v":0,"d":"0 "},{"$f":"B179*$R58","v":{"v":0,"d":"0 "}},{"$f":"C179*$R58+B179*$S58","v":{"v":0,"d":"0 "}},{"$f":"D179*$R58+C179*$S58+B179*$T58","v":{"v":0,"d":"0 "}},{"v":0,"d":"0 "},{"v":0,"d":"0 "},{"v":0,"d":"0 "},{"v":0,"d":"0 "},{"v":0,"d":"0 "},{"v":0,"d":"0 "},{"v":0,"d":"0 "},{"v":0,"d":"0 "},{"v":0,"d":"0 "},{"v":0,"d":"0 "},{"v":0,"d":"0 "},{"v":0,"d":"0 "},{"v":0,"d":"0 "},{"v":0,"d":"0 "}]
[{"v":0,"d":"0 "},{"$f":"B180*$R59","v":{"v":0,"d":"0 "}},{"$f":"C180*$R59+B180*$S59","v":{"v":0,"d":"0 "}},{"$f":"D180*$R59+C180*$S59+B180*$T59","v":{"v":0,"d":"0 "}},{"v":0,"d":"0 "},{"v":0,"d":"0 "},{"v":0,"d":"0 "},{"v":0,"d":"0 "},{"v":0,"d":"0 "},{"v":0,"d":"0 "},{"v":0,"d":"0 "},{"v":0,"d":"0 "},{"v":0,"d":"0 "},{"v":0,"d":"0 "},{"v":0,"d":"0 "},{"v":0,"d":"0 "},{"v":0,"d":"0 "},{"v":0,"d":"0 "}]
["-"]
[{"v":0,"d":"0 "}]
[]
[{"v":0,"d":"0 "},{"$f":"B184*$R63","v":{"v":0,"d":"0 "}},{"$f":"C184*$R63+B184*$S63","v":{"v":0,"d":"0 "}},{"$f":"D184*$R63+C184*$S63+B184*$T63","v":{"v":0,"d":"0 "}},{"$f":"E184*$R63+D184*$S63+C184*$T63+B184*$U63","v":{"v":0,"d":"0 "}},{"v":0,"d":"0 "},{"v":0,"d":"0 "},{"v":0,"d":"0 "},{"v":0,"d":"0 "},{"v":0,"d":"0 "},{"v":0,"d":"0 "},{"v":0,"d":"0 "},{"v":0,"d":"0 "},{"v":0,"d":"0 "},{"$f":"O184+B423-C423","v":{"v":0,"d":"0 "}},{"v":0,"d":"0 "},{"v":0,"d":"0 "},{"v":0,"d":"0 "}]
[{"v":0,"d":"0 "},{"$f":"B185*$R64","v":{"v":0,"d":"0 "}},{"$f":"C185*$R64+B185*$S64","v":{"v":0,"d":"0 "}},{"$f":"D185*$R64+C185*$S64+B185*$T64","v":{"v":0,"d":"0 "}},{"v":0,"d":"0 "},{"v":0,"d":"0 "},{"v":0,"d":"0 "},{"v":0,"d":"0 "},{"v":0,"d":"0 "},{"v":0,"d":"0 "},{"v":0,"d":"0 "},{"v":0,"d":"0 "},{"v":0,"d":"0 "},{"v":0,"d":"0 "},{"v":0,"d":"0 "},{"v":0,"d":"0 "},{"v":0,"d":"0 "},{"v":0,"d":"0 "}]
[{"v":0,"d":"0 "},{"$f":"B186*$R65","v":{"v":0,"d":"0 "}},{"$f":"C186*$R65+B186*$S65","v":{"v":0,"d":"0 "}},{"$f":"D186*$R65+C186*$S65+B186*$T65","v":{"v":0,"d":"0 "}},{"v":0,"d":"0 "},{"v":0,"d":"0 "},{"v":0,"d":"0 "},{"v":0,"d":"0 "},{"v":0,"d":"0 "},{"v":0,"d":"0 "},{"v":0,"d":"0 "},{"v":0,"d":"0 "},{"v":0,"d":"0 "},{"v":0,"d":"0 "},{"v":0,"d":"0 "},{"v":0,"d":"0 "},{"v":0,"d":"0 "},{"v":0,"d":"0 "}]
[{"v":0,"d":"0 "},{"$f":"B187*$R66","v":{"v":0,"d":"0 "}},{"$f":"C187*$R66+B187*$S66","v":{"v":0,"d":"0 "}},{"$f":"D187*$R66+C187*$S66+B187*$T66","v":{"v":0,"d":"0 "}},{"v":0,"d":"0 "},{"v":0,"d":"0 "},{"v":0,"d":"0 "},{"v":0,"d":"0 "},{"v":0,"d":"0 "},{"v":0,"d":"0 "},{"v":0,"d":"0 "},{"v":0,"d":"0 "},{"v":0,"d":"0 "},{"v":0,"d":"0 "},{"v":0,"d":"0 "},{"v":0,"d":"0 "},{"v":0,"d":"0 "},{"v":0,"d":"0 "}]
[{"v":0,"d":"0 "},{"$f":"B188*$R67","v":{"v":0,"d":"0 "}},{"$f":"C188*$R67+B188*$S67","v":{"v":0,"d":"0 "}},{"$f":"D188*$R67+C188*$S67+B188*$T67","v":{"v":0,"d":"0 "}},{"v":0,"d":"0 "},{"v":0,"d":"0 "},{"v":0,"d":"0 "},{"v":0,"d":"0 "},{"v":0,"d":"0 "},{"v":0,"d":"0 "},{"v":0,"d":"0 "},{"v":0,"d":"0 "},{"v":0,"d":"0 "},{"v":0,"d":"0 "},{"v":0,"d":"0 "},{"v":0,"d":"0 "},{"v":0,"d":"0 "},{"v":0,"d":"0 "}]
["-"]
[{"v":0,"d":"0 "}]
[]
[{"v":0,"d":"0 "},{"$f":"B192*$R71","v":{"v":0,"d":"0 "}},{"$f":"C192*$R71+B192*$S71","v":{"v":0,"d":"0 "}},{"$f":"D192*$R71+C192*$S71+B192*$T71","v":{"v":0,"d":"0 "}},{"$f":"E192*$R71+D192*$S71+C192*$T71+B192*$U71","v":{"v":0,"d":"0 "}},{"v":0,"d":"0 "},{"v":0,"d":"0 "},{"v":0,"d":"0 "},{"v":0,"d":"0 "},{"v":0,"d":"0 "},{"v":0,"d":"0 "},{"v":0,"d":"0 "},{"v":0,"d":"0 "},{"v":0,"d":"0 "},{"$f":"O192+B431-C431","v":{"v":0,"d":"0 "}},{"v":0,"d":"0 "},{"v":0,"d":"0 "},{"v":0,"d":"0 "}]
[{"v":0,"d":"0 "},{"$f":"B193*$R72","v":{"v":0,"d":"0 "}},{"$f":"C193*$R72+B193*$S72","v":{"v":0,"d":"0 "}},{"$f":"D193*$R72+C193*$S72+B193*$T72","v":{"v":0,"d":"0 "}},{"v":0,"d":"0 "},{"v":0,"d":"0 "},{"v":0,"d":"0 "},{"v":0,"d":"0 "},{"v":0,"d":"0 "},{"v":0,"d":"0 "},{"v":0,"d":"0 "},{"v":0,"d":"0 "},{"v":0,"d":"0 "},{"v":0,"d":"0 "},{"v":0,"d":"0 "},{"v":0,"d":"0 "},{"v":0,"d":"0 "},{"v":0,"d":"0 "}]
[{"v":0,"d":"0 "},{"$f":"B194*$R73","v":{"v":0,"d":"0 "}},{"$f":"C194*$R73+B194*$S73","v":{"v":0,"d":"0 "}},{"$f":"D194*$R73+C194*$S73+B194*$T73","v":{"v":0,"d":"0 "}},{"v":0,"d":"0 "},{"v":0,"d":"0 "},{"v":0,"d":"0 "},{"v":0,"d":"0 "},{"v":0,"d":"0 "},{"v":0,"d":"0 "},{"v":0,"d":"0 "},{"v":0,"d":"0 "},{"v":0,"d":"0 "},{"v":0,"d":"0 "},{"v":0,"d":"0 "},{"v":0,"d":"0 "},{"v":0,"d":"0 "},{"v":0,"d":"0 "}]
[{"v":0,"d":"0 "},{"$f":"B195*$R74","v":{"v":0,"d":"0 "}},{"$f":"C195*$R74+B195*$S74","v":{"v":0,"d":"0 "}},{"$f":"D195*$R74+C195*$S74+B195*$T74","v":{"v":0,"d":"0 "}},{"v":0,"d":"0 "},{"v":0,"d":"0 "},{"v":0,"d":"0 "},{"v":0,"d":"0 "},{"v":0,"d":"0 "},{"v":0,"d":"0 "},{"v":0,"d":"0 "},{"v":0,"d":"0 "},{"v":0,"d":"0 "},{"v":0,"d":"0 "},{"v":0,"d":"0 "},{"v":0,"d":"0 "},{"v":0,"d":"0 "},{"v":0,"d":"0 "}]
[{"v":0,"d":"0 "},{"$f":"B196*$R75","v":{"v":0,"d":"0 "}},{"$f":"C196*$R75+B196*$S75","v":{"v":0,"d":"0 "}},{"$f":"D196*$R75+C196*$S75+B196*$T75","v":{"v":0,"d":"0 "}},{"v":0,"d":"0 "},{"v":0,"d":"0 "},{"v":0,"d":"0 "},{"v":0,"d":"0 "},{"v":0,"d":"0 "},{"v":0,"d":"0 "},{"v":0,"d":"0 "},{"v":0,"d":"0 "},{"v":0,"d":"0 "},{"v":0,"d":"0 "},{"v":0,"d":"0 "},{"v":0,"d":"0 "},{"v":0,"d":"0 "},{"v":0,"d":"0 "}]
["-"]
[{"v":0,"d":"0 "}]
[]
[{"v":0,"d":"0 "},{"$f":"B200*$R79","v":{"v":0,"d":"0 "}},{"$f":"C200*$R79+B200*$S79","v":{"v":0,"d":"0 "}},{"$f":"D200*$R79+C200*$S79+B200*$T79","v":{"v":0,"d":"0 "}},{"$f":"E200*$R79+D200*$S79+C200*$T79+B200*$U79","v":{"v":0,"d":"0 "}},{"v":0,"d":"0 "},{"v":0,"d":"0 "},{"v":0,"d":"0 "},{"v":0,"d":"0 "},{"v":0,"d":"0 "},{"v":0,"d":"0 "},{"v":0,"d":"0 "},{"v":0,"d":"0 "},{"v":0,"d":"0 "},{"$f":"O200+B439-C439","v":{"v":0,"d":"0 "}},{"v":0,"d":"0 "},{"v":0,"d":"0 "},{"v":0,"d":"0 "}]
[{"v":0,"d":"0 "},{"$f":"B201*$R80","v":{"v":0,"d":"0 "}},{"$f":"C201*$R80+B201*$S80","v":{"v":0,"d":"0 "}},{"$f":"D201*$R80+C201*$S80+B201*$T80","v":{"v":0,"d":"0 "}},{"v":0,"d":"0 "},{"v":0,"d":"0 "},{"v":0,"d":"0 "},{"v":0,"d":"0 "},{"v":0,"d":"0 "},{"v":0,"d":"0 "},{"v":0,"d":"0 "},{"v":0,"d":"0 "},{"v":0,"d":"0 "},{"v":0,"d":"0 "},{"v":0,"d":"0 "},{"v":0,"d":"0 "},{"v":0,"d":"0 "},{"v":0,"d":"0 "}]
[{"v":0,"d":"0 "},{"$f":"B202*$R81","v":{"v":0,"d":"0 "}},{"$f":"C202*$R81+B202*$S81","v":{"v":0,"d":"0 "}},{"$f":"D202*$R81+C202*$S81+B202*$T81","v":{"v":0,"d":"0 "}},{"v":0,"d":"0 "},{"v":0,"d":"0 "},{"v":0,"d":"0 "},{"v":0,"d":"0 "},{"v":0,"d":"0 "},{"v":0,"d":"0 "},{"v":0,"d":"0 "},{"v":0,"d":"0 "},{"v":0,"d":"0 "},{"v":0,"d":"0 "},{"v":0,"d":"0 "},{"v":0,"d":"0 "},{"v":0,"d":"0 "},{"v":0,"d":"0 "}]
[{"v":0,"d":"0 "},{"$f":"B203*$R82","v":{"v":0,"d":"0 "}},{"$f":"C203*$R82+B203*$S82","v":{"v":0,"d":"0 "}},{"$f":"D203*$R82+C203*$S82+B203*$T82","v":{"v":0,"d":"0 "}},{"v":0,"d":"0 "},{"v":0,"d":"0 "},{"v":0,"d":"0 "},{"v":0,"d":"0 "},{"v":0,"d":"0 "},{"v":0,"d":"0 "},{"v":0,"d":"0 "},{"v":0,"d":"0 "},{"v":0,"d":"0 "},{"v":0,"d":"0 "},{"v":0,"d":"0 "},{"v":0,"d":"0 "},{"v":0,"d":"0 "},{"v":0,"d":"0 "}]
[{"v":0,"d":"0 "},{"$f":"B204*$R83","v":{"v":0,"d":"0 "}},{"$f":"C204*$R83+B204*$S83","v":{"v":0,"d":"0 "}},{"$f":"D204*$R83+C204*$S83+B204*$T83","v":{"v":0,"d":"0 "}},{"v":0,"d":"0 "},{"v":0,"d":"0 "},{"v":0,"d":"0 "},{"v":0,"d":"0 "},{"v":0,"d":"0 "},{"v":0,"d":"0 "},{"v":0,"d":"0 "},{"v":0,"d":"0 "},{"v":0,"d":"0 "},{"v":0,"d":"0 "},{"v":0,"d":"0 "},{"v":0,"d":"0 "},{"v":0,"d":"0 "},{"v":0,"d":"0 "}]
["-"]
[{"v":0,"d":"0 "}]
[]
[{"v":0,"d":"0 "},{"$f":"B208*$R87","v":{"v":0,"d":"0 "}},{"$f":"C208*$R87+B208*$S87","v":{"v":0,"d":"0 "}},{"$f":"D208*$R87+C208*$S87+B208*$T87","v":{"v":0,"d":"0 "}},{"$f":"E208*$R87+D208*$S87+C208*$T87+B208*$U87","v":{"v":0,"d":"0 "}},{"v":0,"d":"0 "},{"v":0,"d":"0 "},{"v":0,"d":"0 "},{"v":0,"d":"0 "},{"v":0,"d":"0 "},{"v":0,"d":"0 "},{"v":0,"d":"0 "},{"v":0,"d":"0 "},{"v":0,"d":"0 "},{"$f":"O208+B447-C447","v":{"v":0,"d":"0 "}},{"v":0,"d":"0 "},{"v":0,"d":"0 "},{"v":0,"d":"0 "}]
[{"v":0,"d":"0 "},{"$f":"B209*$R88","v":{"v":0,"d":"0 "}},{"$f":"C209*$R88+B209*$S88","v":{"v":0,"d":"0 "}},{"$f":"D209*$R88+C209*$S88+B209*$T88","v":{"v":0,"d":"0 "}},{"v":0,"d":"0 "},{"v":0,"d":"0 "},{"v":0,"d":"0 "},{"v":0,"d":"0 "},{"v":0,"d":"0 "},{"v":0,"d":"0 "},{"v":0,"d":"0 "},{"v":0,"d":"0 "},{"v":0,"d":"0 "},{"v":0,"d":"0 "},{"v":0,"d":"0 "},{"v":0,"d":"0 "},{"v":0,"d":"0 "},{"v":0,"d":"0 "}]
[{"v":0,"d":"0 "},{"$f":"B210*$R89","v":{"v":0,"d":"0 "}},{"$f":"C210*$R89+B210*$S89","v":{"v":0,"d":"0 "}},{"$f":"D210*$R89+C210*$S89+B210*$T89","v":{"v":0,"d":"0 "}},{"v":0,"d":"0 "},{"v":0,"d":"0 "},{"v":0,"d":"0 "},{"v":0,"d":"0 "},{"v":0,"d":"0 "},{"v":0,"d":"0 "},{"v":0,"d":"0 "},{"v":0,"d":"0 "},{"v":0,"d":"0 "},{"v":0,"d":"0 "},{"v":0,"d":"0 "},{"v":0,"d":"0 "},{"v":0,"d":"0 "},{"v":0,"d":"0 "}]
[{"v":0,"d":"0 "},{"$f":"B211*$R90","v":{"v":0,"d":"0 "}},{"$f":"C211*$R90+B211*$S90","v":{"v":0,"d":"0 "}},{"$f":"D211*$R90+C211*$S90+B211*$T90","v":{"v":0,"d":"0 "}},{"v":0,"d":"0 "},{"v":0,"d":"0 "},{"v":0,"d":"0 "},{"v":0,"d":"0 "},{"v":0,"d":"0 "},{"v":0,"d":"0 "},{"v":0,"d":"0 "},{"v":0,"d":"0 "},{"v":0,"d":"0 "},{"v":0,"d":"0 "},{"v":0,"d":"0 "},{"v":0,"d":"0 "},{"v":0,"d":"0 "},{"v":0,"d":"0 "}]
[{"v":0,"d":"0 "},{"$f":"B212*$R91","v":{"v":0,"d":"0 "}},{"$f":"C212*$R91+B212*$S91","v":{"v":0,"d":"0 "}},{"$f":"D212*$R91+C212*$S91+B212*$T91","v":{"v":0,"d":"0 "}},{"v":0,"d":"0 "},{"v":0,"d":"0 "},{"v":0,"d":"0 "},{"v":0,"d":"0 "},{"v":0,"d":"0 "},{"v":0,"d":"0 "},{"v":0,"d":"0 "},{"v":0,"d":"0 "},{"v":0,"d":"0 "},{"v":0,"d":"0 "},{"v":0,"d":"0 "},{"v":0,"d":"0 "},{"v":0,"d":"0 "},{"v":0,"d":"0 "}]
["-"]
[{"v":0,"d":"0 "}]
[]
[{"v":0,"d":"0 "},{"$f":"B216*$R95","v":{"v":0,"d":"0 "}},{"$f":"C216*$R95+B216*$S95","v":{"v":0,"d":"0 "}},{"$f":"D216*$R95+C216*$S95+B216*$T95","v":{"v":0,"d":"0 "}},{"$f":"E216*$R95+D216*$S95+C216*$T95+B216*$U95","v":{"v":0,"d":"0 "}},{"v":0,"d":"0 "},{"v":0,"d":"0 "},{"v":0,"d":"0 "},{"v":0,"d":"0 "},{"v":0,"d":"0 "},{"v":0,"d":"0 "},{"v":0,"d":"0 "},{"v":0,"d":"0 "},{"v":0,"d":"0 "},{"$f":"O216+B455-C455","v":{"v":0,"d":"0 "}},{"v":0,"d":"0 "},{"v":0,"d":"0 "},{"v":0,"d":"0 "}]
[{"v":0,"d":"0 "},{"$f":"B217*$R96","v":{"v":0,"d":"0 "}},{"$f":"C217*$R96+B217*$S96","v":{"v":0,"d":"0 "}},{"$f":"D217*$R96+C217*$S96+B217*$T96","v":{"v":0,"d":"0 "}},{"v":0,"d":"0 "},{"v":0,"d":"0 "},{"v":0,"d":"0 "},{"v":0,"d":"0 "},{"v":0,"d":"0 "},{"v":0,"d":"0 "},{"v":0,"d":"0 "},{"v":0,"d":"0 "},{"v":0,"d":"0 "},{"v":0,"d":"0 "},{"v":0,"d":"0 "},{"v":0,"d":"0 "},{"v":0,"d":"0 "},{"v":0,"d":"0 "}]
[{"v":0,"d":"0 "},{"$f":"B218*$R97","v":{"v":0,"d":"0 "}},{"$f":"C218*$R97+B218*$S97","v":{"v":0,"d":"0 "}},{"$f":"D218*$R97+C218*$S97+B218*$T97","v":{"v":0,"d":"0 "}},{"v":0,"d":"0 "},{"v":0,"d":"0 "},{"v":0,"d":"0 "},{"v":0,"d":"0 "},{"v":0,"d":"0 "},{"v":0,"d":"0 "},{"v":0,"d":"0 "},{"v":0,"d":"0 "},{"v":0,"d":"0 "},{"v":0,"d":"0 "},{"v":0,"d":"0 "},{"v":0,"d":"0 "},{"v":0,"d":"0 "},{"v":0,"d":"0 "}]
[{"v":0,"d":"0 "},{"$f":"B219*$R98","v":{"v":0,"d":"0 "}},{"$f":"C219*$R98+B219*$S98","v":{"v":0,"d":"0 "}},{"$f":"D219*$R98+C219*$S98+B219*$T98","v":{"v":0,"d":"0 "}},{"v":0,"d":"0 "},{"v":0,"d":"0 "},{"v":0,"d":"0 "},{"v":0,"d":"0 "},{"v":0,"d":"0 "},{"v":0,"d":"0 "},{"v":0,"d":"0 "},{"v":0,"d":"0 "},{"v":0,"d":"0 "},{"v":0,"d":"0 "},{"v":0,"d":"0 "},{"v":0,"d":"0 "},{"v":0,"d":"0 "},{"v":0,"d":"0 "}]
[{"v":0,"d":"0 "},{"$f":"B220*$R99","v":{"v":0,"d":"0 "}},{"$f":"C220*$R99+B220*$S99","v":{"v":0,"d":"0 "}},{"$f":"D220*$R99+C220*$S99+B220*$T99","v":{"v":0,"d":"0 "}},{"v":0,"d":"0 "},{"v":0,"d":"0 "},{"v":0,"d":"0 "},{"v":0,"d":"0 "},{"v":0,"d":"0 "},{"v":0,"d":"0 "},{"v":0,"d":"0 "},{"v":0,"d":"0 "},{"v":0,"d":"0 "},{"v":0,"d":"0 "},{"v":0,"d":"0 "},{"v":0,"d":"0 "},{"v":0,"d":"0 "},{"v":0,"d":"0 "}]
["-"]
["TOTAL PAGOS "]
[]
[{"$f":"A15","v":0},{"$f":"SUM(B248:B252)","v":{"v":0,"d":"0 "}},{"v":0,"d":"0 "},{"v":0,"d":"0 "},{"v":0,"d":"0 "},{"v":0,"d":"0 "},{"v":0,"d":"0 "},{"v":0,"d":"0 "},{"v":0,"d":"0 "},{"v":0,"d":"0 "},{"v":0,"d":"0 "},{"v":0,"d":"0 "},{"v":0,"d":"0 "},{"v":0,"d":"0 "},{"v":0,"d":"0 "},{"v":0,"d":"0 "},{"v":0,"d":"0 "},{"v":0,"d":"0 "}]
[0,{"$f":"SUM(B256:B260)","v":{"v":0,"d":"0 "}},{"$f":"SUM(C256:C261)","v":{"v":0,"d":"0 "}},{"v":0,"d":"0 "},{"v":0,"d":"0 "},{"v":0,"d":"0 "},{"v":0,"d":"0 "},{"v":0,"d":"0 "},{"v":0,"d":"0 "},{"v":0,"d":"0 "},{"v":0,"d":"0 "},{"v":0,"d":"0 "},{"v":0,"d":"0 "},{"v":0,"d":"0 "},{"v":0,"d":"0 "},{"v":0,"d":"0 "},{"v":0,"d":"0 "},{"v":0,"d":"0 "}]
[0,{"$f":"SUM(B264:B268)","v":{"v":0,"d":"0 "}},{"$f":"SUM(C264:C269)","v":{"v":0,"d":"0 "}},{"v":0,"d":"0 "},{"v":0,"d":"0 "},{"v":0,"d":"0 "},{"v":0,"d":"0 "},{"v":0,"d":"0 "},{"v":0,"d":"0 "},{"v":0,"d":"0 "},{"v":0,"d":"0 "},{"v":0,"d":"0 "},{"v":0,"d":"0 "},{"v":0,"d":"0 "},{"v":0,"d":"0 "},{"v":0,"d":"0 "},{"v":0,"d":"0 "},{"v":0,"d":"0 "}]
[0,{"$f":"SUM(B272:B276)","v":{"v":0,"d":"0 "}},{"$f":"SUM(C272:C277)","v":{"v":0,"d":"0 "}},{"v":0,"d":"0 "},{"v":0,"d":"0 "},{"v":0,"d":"0 "},{"v":0,"d":"0 "},{"v":0,"d":"0 "},{"v":0,"d":"0 "},{"v":0,"d":"0 "},{"v":0,"d":"0 "},{"v":0,"d":"0 "},{"v":0,"d":"0 "},{"v":0,"d":"0 "},{"v":0,"d":"0 "},{"v":0,"d":"0 "},{"v":0,"d":"0 "},{"v":0,"d":"0 "}]
[0,{"$f":"SUM(B280:B284)","v":{"v":0,"d":"0 "}},{"$f":"SUM(C280:C285)","v":{"v":0,"d":"0 "}},{"v":0,"d":"0 "},{"v":0,"d":"0 "},{"v":0,"d":"0 "},{"v":0,"d":"0 "},{"v":0,"d":"0 "},{"v":0,"d":"0 "},{"v":0,"d":"0 "},{"v":0,"d":"0 "},{"v":0,"d":"0 "},{"v":0,"d":"0 "},{"v":0,"d":"0 "},{"v":0,"d":"0 "},{"v":0,"d":"0 "},{"v":0,"d":"0 "},{"v":0,"d":"0 "}]
[0,{"$f":"SUM(B288:B292)","v":{"v":0,"d":"0 "}},{"$f":"SUM(C288:C293)","v":{"v":0,"d":"0 "}},{"v":0,"d":"0 "},{"v":0,"d":"0 "},{"v":0,"d":"0 "},{"v":0,"d":"0 "},{"v":0,"d":"0 "},{"v":0,"d":"0 "},{"v":0,"d":"0 "},{"v":0,"d":"0 "},{"v":0,"d":"0 "},{"v":0,"d":"0 "},{"v":0,"d":"0 "},{"v":0,"d":"0 "},{"v":0,"d":"0 "},{"v":0,"d":"0 "},{"v":0,"d":"0 "}]
[0,{"$f":"SUM(B296:B300)","v":{"v":0,"d":"0 "}},{"$f":"SUM(C296:C300)","v":{"v":0,"d":"0 "}},{"v":0,"d":"0 "},{"v":0,"d":"0 "},{"v":0,"d":"0 "},{"v":0,"d":"0 "},{"v":0,"d":"0 "},{"v":0,"d":"0 "},{"v":0,"d":"0 "},{"v":0,"d":"0 "},{"v":0,"d":"0 "},{"v":0,"d":"0 "},{"v":0,"d":"0 "},{"v":0,"d":"0 "},{"v":0,"d":"0 "},{"v":0,"d":"0 "},{"v":0,"d":"0 "}]
[0,{"$f":"SUM(B304:B308)","v":{"v":0,"d":"0 "}},{"$f":"SUM(C304:C308)","v":{"v":0,"d":"0 "}},{"v":0,"d":"0 "},{"v":0,"d":"0 "},{"v":0,"d":"0 "},{"v":0,"d":"0 "},{"v":0,"d":"0 "},{"v":0,"d":"0 "},{"v":0,"d":"0 "},{"v":0,"d":"0 "},{"v":0,"d":"0 "},{"v":0,"d":"0 "},{"v":0,"d":"0 "},{"v":0,"d":"0 "},{"v":0,"d":"0 "},{"v":0,"d":"0 "},{"v":0,"d":"0 "}]
[0,{"$f":"SUM(B312:B316)","v":{"v":0,"d":"0 "}},{"$f":"SUM(C312:C316)","v":{"v":0,"d":"0 "}},{"v":0,"d":"0 "},{"v":0,"d":"0 "},{"v":0,"d":"0 "},{"v":0,"d":"0 "},{"v":0,"d":"0 "},{"v":0,"d":"0 "},{"v":0,"d":"0 "},{"v":0,"d":"0 "},{"v":0,"d":"0 "},{"v":0,"d":"0 "},{"v":0,"d":"0 "},{"v":0,"d":"0 "},{"v":0,"d":"0 "},{"v":0,"d":"0 "},{"v":0,"d":"0 "}]
[0,{"$f":"SUM(B320:B324)","v":{"v":0,"d":"0 "}},{"$f":"SUM(C320:C324)","v":{"v":0,"d":"0 "}},{"v":0,"d":"0 "},{"v":0,"d":"0 "},{"v":0,"d":"0 "},{"v":0,"d":"0 "},{"v":0,"d":"0 "},{"v":0,"d":"0 "},{"v":0,"d":"0 "},{"v":0,"d":"0 "},{"v":0,"d":"0 "},{"v":0,"d":"0 "},{"v":0,"d":"0 "},{"v":0,"d":"0 "},{"v":0,"d":"0 "},{"v":0,"d":"0 "},{"v":0,"d":"0 "}]
[0,{"$f":"SUM(B328:B332)","v":{"v":0,"d":"0 "}},{"$f":"SUM(C328:C332)","v":{"v":0,"d":"0 "}},{"v":0,"d":"0 "},{"v":0,"d":"0 "},{"v":0,"d":"0 "},{"v":0,"d":"0 "},{"v":0,"d":"0 "},{"v":0,"d":"0 "},{"v":0,"d":"0 "},{"v":0,"d":"0 "},{"v":0,"d":"0 "},{"v":0,"d":"0 "},{"v":0,"d":"0 "},{"v":0,"d":"0 "},{"v":0,"d":"0 "},{"v":0,"d":"0 "},{"v":0,"d":"0 "}]
[0,{"$f":"SUM(B336:B340)","v":{"v":0,"d":"0 "}},{"$f":"SUM(C336:C340)","v":{"v":0,"d":"0 "}},{"v":0,"d":"0 "},{"v":0,"d":"0 "},{"v":0,"d":"0 "},{"v":0,"d":"0 "},{"v":0,"d":"0 "},{"v":0,"d":"0 "},{"v":0,"d":"0 "},{"v":0,"d":"0 "},{"v":0,"d":"0 "},{"v":0,"d":"0 "},{"v":0,"d":"0 "},{"v":0,"d":"0 "},{"v":0,"d":"0 "},{"v":0,"d":"0 "},{"v":0,"d":"0 "}]
["-","-","-","-","-","-","-","-","-","-","-","-","-","-","-","-","-","-"]
["TOTAL",{"$f":"SUM(B344:B356)","v":{"v":0,"d":"0 "}},{"v":0,"d":"0 "},{"v":0,"d":"0 "},{"v":0,"d":"0 "},{"v":0,"d":"0 "},{"v":0,"d":"0 "},{"v":0,"d":"0 "},{"v":0,"d":"0 "},{"v":0,"d":"0 "},{"v":0,"d":"0 "},{"v":0,"d":"0 "},{"v":0,"d":"0 "},{"v":0,"d":"0 "},{"v":0,"d":"0 "},{"v":0,"d":"0 "},{"v":0,"d":"0 "},{"v":0,"d":"0 "}]
["-","-","-","-","-","-","-","-","-","-","-","-","-","-","-","-","-","-"]
[]
[]
["CUENTAS POR PAGAR"]
["-","-","-","-","-","-"]
["CONCEPTO","ANO 1","ANO 2","ANO 3","ANO 4","ANO 5"]
["-","-","-","-","-","-"]
[{"$f":"A53","v":0}]
[]
[{"$f":"A55","v":0},{"$f":"(M$15*(F55+G55+H55)+L$15*(G55+H55)+K$15*H55)*D55","v":{"v":0,"d":"0 "}},{"$f":"IF($B$33=0,0,(($K$15*$H55+$L$15*($G55+$H55)+$M$15*($F55+$G55+$H55))*C$33/$B$33)*$D55)","v":{"v":0,"d":"0 "}},{"v":0,"d":"0 "},0,0]
[{"$f":"A56","v":0},{"$f":"(M$15*(F56+G56+H56)+L$15*(G56+H56)+K$15*H56)*D56","v":{"v":0,"d":"0 "}},{"v":0,"d":"0 "},{"v":0,"d":"0 "},0,0]
[{"$f":"A57","v":0},{"$f":"(M$15*(F57+G57+H57)+L$15*(G57+H57)+K$15*H57)*D57","v":{"v":0,"d":"0 "}},{"v":0,"d":"0 "},{"v":0,"d":"0 "},0,0]
[{"$f":"A58","v":0},{"$f":"(M$15*(F58+G58+H58)+L$15*(G58+H58)+K$15*H58)*D58","v":{"v":0,"d":"0 "}},{"v":0,"d":"0 "},{"v":0,"d":"0 "},0,0]
[{"$f":"A59","v":0},{"$f":"(M$15*(F59+G59+H59)+L$15*(G59+H59)+K$15*H59)*D59","v":{"v":0,"d":"0 "}},{"v":0,"d":"0 "},{"v":0,"d":"0 "},0,0]
["-","-","-","-","-","-"]
[{"$f":"A61","v":0}]
[]
[{"$f":"A63","v":0},{"$f":"(M$16*(F63+G63+H63)+L$16*(G63+H63)+K$16*H63)*D63","v":{"v":0,"d":"0 "}},{"$f":"IF($B$34=0,0,(($K$16*$H63+$L$16*($G63+$H63)+$M$16*($F63+$G63+$H63))*C$34/$B$34)*$D63)","v":{"v":0,"d":"0 "}},{"v":0,"d":"0 "},0,0]
[{"$f":"A64","v":0},{"$f":"(M$16*(F64+G64+H64)+L$16*(G64+H64)+K$16*H64)*D64","v":{"v":0,"d":"0 "}},{"v":0,"d":"0 "},{"v":0,"d":"0 "},0,0]
[{"$f":"A65","v":0},{"$f":"(M$16*(F65+G65+H65)+L$16*(G65+H65)+K$16*H65)*D65","v":{"v":0,"d":"0 "}},{"v":0,"d":"0 "},{"v":0,"d":"0 "},0,0]
[{"$f":"A66","v":0},{"$f":"(M$16*(F66+G66+H66)+L$16*(G66+H66)+K$16*H66)*D66","v":{"v":0,"d":"0 "}},{"v":0,"d":"0 "},{"v":0,"d":"0 "},0,0]
[{"$f":"A67","v":0},{"$f":"(M$16*(F67+G67+H67)+L$16*(G67+H67)+K$16*H67)*D67","v":{"v":0,"d":"0 "}},{"v":0,"d":"0 "},{"v":0,"d":"0 "},0,0]
["-","-","-","-","-","-"]
[{"$f":"A69","v":0}]
[]
[{"$f":"A71","v":0},{"$f":"(M$17*(F71+G71+H71)+L$17*(G71+H71)+K$17*H71)*D71","v":{"v":0,"d":"0 "}},{"$f":"IF($B$35=0,0,(($K$17*$H71+$L$17*($G71+$H71)+$M$17*($F71+$G71+$H71))*C$35/$B$35)*$D71)","v":{"v":0,"d":"0 "}},{"v":0,"d":"0 "},0,0]
[{"$f":"A72","v":0},{"$f":"(M$17*(F72+G72+H72)+L$17*(G72+H72)+K$17*H72)*D72","v":{"v":0,"d":"0 "}},{"v":0,"d":"0 "},{"v":0,"d":"0 "},0,0]
[{"$f":"A73","v":0},{"$f":"(M$17*(F73+G73+H73)+L$17*(G73+H73)+K$17*H73)*D73","v":{"v":0,"d":"0 "}},{"v":0,"d":"0 "},{"v":0,"d":"0 "},0,0]
[{"$f":"A74","v":0},{"$f":"(M$17*(F74+G74+H74)+L$17*(G74+H74)+K$17*H74)*D74","v":{"v":0,"d":"0 "}},{"v":0,"d":"0 "},{"v":0,"d":"0 "},0,0]
[{"$f":"A75","v":0},{"$f":"(M$17*(F75+G75+H75)+L$17*(G75+H75)+K$17*H75)*D75","v":{"v":0,"d":"0 "}},{"v":0,"d":"0 "},{"v":0,"d":"0 "},0,0]
["-","-","-","-","-","-"]
[{"$f":"A77","v":0}]
[]
[{"$f":"A79","v":0},{"$f":"(M$18*(F79+G79+H79)+L$18*(G79+H79)+K$18*H79)*D79","v":{"v":0,"d":"0 "}},{"$f":"IF($B$36=0,0,(($K$18*$H79+$L$18*($G79+$H79)+$M$18*($F79+$G79+$H79))*C$36/$B$36)*$D79)","v":{"v":0,"d":"0 "}},{"v":0,"d":"0 "},0,0]
[{"$f":"A80","v":0},{"$f":"(M$18*(F80+G80+H80)+L$18*(G80+H80)+K$18*H80)*D80","v":{"v":0,"d":"0 "}},{"v":0,"d":"0 "},{"v":0,"d":"0 "},0,0]
[{"$f":"A81","v":0},{"$f":"(M$18*(F81+G81+H81)+L$18*(G81+H81)+K$18*H81)*D81","v":{"v":0,"d":"0 "}},{"v":0,"d":"0 "},{"v":0,"d":"0 "},0,0]
[{"$f":"A82","v":0},{"$f":"(M$18*(F82+G82+H82)+L$18*(G82+H82)+K$18*H82)*D82","v":{"v":0,"d":"0 "}},{"v":0,"d":"0 "},{"v":0,"d":"0 "},0,0]
[{"$f":"A83","v":0},{"$f":"(M$18*(F83+G83+H83)+L$18*(G83+H83)+K$18*H83)*D83","v":{"v":0,"d":"0 "}},{"v":0,"d":"0 "},{"v":0,"d":"0 "},0,0]
["-","-","-","-","-","-"]
[{"$f":"A85","v":0}]
[]
[{"$f":"A87","v":0},{"$f":"(M$19*(F87+G87+H87)+L$19*(G87+H87)+K$19*H87)*D87","v":{"v":0,"d":"0 "}},{"$f":"IF($B$37=0,0,(($K$19*$H87+$L$19*($G87+$H87)+$M$19*($F87+$G87+$H87))*C$37/$B$37)*$D87)","v":{"v":0,"d":"0 "}},{"v":0,"d":"0 "},0,0]
[{"$f":"A88","v":0},{"$f":"(M$19*(F88+G88+H88)+L$19*(G88+H88)+K$19*H88)*D88","v":{"v":0,"d":"0 "}},{"v":0,"d":"0 "},{"v":0,"d":"0 "},0,0]
[{"$f":"A89","v":0},{"$f":"(M$19*(F89+G89+H89)+L$19*(G89+H89)+K$19*H89)*D89","v":{"v":0,"d":"0 "}},{"v":0,"d":"0 "},{"v":0,"d":"0 "},0,0]
[{"$f":"A90","v":0},{"$f":"(M$19*(F90+G90+H90)+L$19*(G90+H90)+K$19*H90)*D90","v":{"v":0,"d":"0 "}},{"v":0,"d":"0 "},{"v":0,"d":"0 "},0,0]
[{"$f":"A91","v":0},{"$f":"(M$19*(F91+G91+H91)+L$19*(G91+H91)+K$19*H91)*D91","v":{"v":0,"d":"0 "}},{"v":0,"d":"0 "},{"v":0,"d":"0 "},0,0]
["-","-","-","-","-","-"]
[{"$f":"A93","v":0}]
[]
[{"$f":"A95","v":0},{"$f":"(M$20*(F95+G95+H95)+L$20*(G95+H95)+K$20*H95)*D95","v":{"v":0,"d":"0 "}},{"$f":"IF($B$38=0,0,(($K$20*$H95+$L$20*($G95+$H95)+$M$20*($F95+$G95+$H95))*C$38/$B$38)*$D95)","v":{"v":0,"d":"0 "}},{"v":0,"d":"0 "},0,0]
[{"$f":"A96","v":0},{"$f":"(M$20*(F96+G96+H96)+L$20*(G96+H96)+K$20*H96)*D96","v":{"v":0,"d":"0 "}},{"v":0,"d":"0 "},{"v":0,"d":"0 "},0,0]
[{"$f":"A97","v":0},{"$f":"(M$20*(F97+G97+H97)+L$20*(G97+H97)+K$20*H97)*D97","v":{"v":0,"d":"0 "}},{"v":0,"d":"0 "},{"v":0,"d":"0 "},0,0]
[{"$f":"A98","v":0},{"$f":"(M$20*(F98+G98+H98)+L$20*(G98+H98)+K$20*H98)*D98","v":{"v":0,"d":"0 "}},{"v":0,"d":"0 "},{"v":0,"d":"0 "},0,0]
[{"$f":"A99","v":0},{"$f":"(M$20*(F99+G99+H99)+L$20*(G99+H99)+K$20*H99)*D99","v":{"v":0,"d":"0 "}},{"v":0,"d":"0 "},{"v":0,"d":"0 "},0,0]
["-","-","-","-","-","-"]
[{"$f":"N53","v":{"v":0,"d":"0 "}}]
[]
[{"$f":"N55","v":{"v":0,"d":"0 "}},{"$f":"(M$21*(S55+T55+U55)+L$21*(T55+U55)+K$21*U55)*Q55","v":{"v":0,"d":"0 "}},{"$f":"IF($B$39=0,0,(($K$21*$U55+$L$21*($T55+$U55)+$M$21*($S55+$T55+$U55))*C$39/$B$39)*$Q55)","v":{"v":0,"d":"0 "}},{"$f":"IF($B$39=0,0,(($K$21*$U55+$L$21*($T55+$U55)+$M$21*($S55+$T55+$U55))*D$39/$B$39)*$Q55)","v":{"v":0,"d":"0 "}},{"$f":"IF($B$39=0,0,(($K$21*$U55+$L$21*($T55+$U55)+$M$21*($S55+$T55+$U55))*E$39/$B$39)*$Q55)","v":0},{"$f":"IF($B$39=0,0,(($K$21*$U55+$L$21*($T55+$U55)+$M$21*($S55+$T55+$U55))*F$39/$B$39)*$Q55)","v":0}]
[{"v":0,"d":"0 "},{"$f":"(M$21*(S56+T56+U56)+L$21*(T56+U56)+K$21*U56)*Q56","v":{"v":0,"d":"0 "}},{"$f":"IF($B$39=0,0,(($K$21*$U56+$L$21*($T56+$U56)+$M$21*($S56+$T56+$U56))*C$39/$B$39)*$Q56)","v":{"v":0,"d":"0 "}},{"v":0,"d":"0 "},0,0]
[{"v":0,"d":"0 "},{"$f":"(M$21*(S57+T57+U57)+L$21*(T57+U57)+K$21*U57)*Q57","v":{"v":0,"d":"0 "}},{"v":0,"d":"0 "},{"v":0,"d":"0 "},0,0]
[{"v":0,"d":"0 "},{"$f":"(M$21*(S58+T58+U58)+L$21*(T58+U58)+K$21*U58)*Q58","v":{"v":0,"d":"0 "}},{"v":0,"d":"0 "},{"v":0,"d":"0 "},0,0]
[{"v":0,"d":"0 "},{"$f":"(M$21*(S59+T59+U59)+L$21*(T59+U59)+K$21*U59)*Q59","v":{"v":0,"d":"0 "}},{"v":0,"d":"0 "},{"v":0,"d":"0 "},0,0]
["-"]
[{"v":0,"d":"0 "}]
[]
[{"v":0,"d":"0 "},{"$f":"(M$22*(S63+T63+U63)+L$22*(T63+U63)+K$22*U63)*Q63","v":{"v":0,"d":"0 "}},{"$f":"IF($B$40=0,0,(($K$22*$U63+$L$22*($T63+$U63)+$M$22*($S63+$T63+$U63))*C$40/$B$40)*$Q63)","v":{"v":0,"d":"0 "}},{"v":0,"d":"0 "},0,0]
[{"v":0,"d":"0 "},{"$f":"(M$22*(S64+T64+U64)+L$22*(T64+U64)+K$22*U64)*Q64","v":{"v":0,"d":"0 "}},{"v":0,"d":"0 "},{"v":0,"d":"0 "},0,0]
[{"v":0,"d":"0 "},{"$f":"(M$22*(S65+T65+U65)+L$22*(T65+U65)+K$22*U65)*Q65","v":{"v":0,"d":"0 "}},{"v":0,"d":"0 "},{"v":0,"d":"0 "},0,0]
[{"v":0,"d":"0 "},{"$f":"(M$22*(S66+T66+U66)+L$22*(T66+U66)+K$22*U66)*Q66","v":{"v":0,"d":"0 "}},{"v":0,"d":"0 "},{"v":0,"d":"0 "},0,0]
[{"v":0,"d":"0 "},{"$f":"(M$22*(S67+T67+U67)+L$22*(T67+U67)+K$22*U67)*Q67","v":{"v":0,"d":"0 "}},{"v":0,"d":"0 "},{"v":0,"d":"0 "},0,0]
["-"]
[{"v":0,"d":"0 "}]
[]
[{"v":0,"d":"0 "},{"$f":"(M$23*(S71+T71+U71)+L$23*(T71+U71)+K$23*U71)*Q71","v":{"v":0,"d":"0 "}},{"$f":"IF($B$41=0,0,(($K$23*$U71+$L$23*($T71+$U71)+$M$23*($S71+$T71+$U71))*C$41/$B$41)*$Q71)","v":{"v":0,"d":"0 "}},{"v":0,"d":"0 "},0,0]
[{"v":0,"d":"0 "},{"$f":"(M$23*(S72+T72+U72)+L$23*(T72+U72)+K$23*U72)*Q72","v":{"v":0,"d":"0 "}},{"v":0,"d":"0 "},{"v":0,"d":"0 "},0,0]
[{"v":0,"d":"0 "},{"$f":"(M$23*(S73+T73+U73)+L$23*(T73+U73)+K$23*U73)*Q73","v":{"v":0,"d":"0 "}},{"v":0,"d":"0 "},{"v":0,"d":"0 "},0,0]
[{"v":0,"d":"0 "},{"$f":"(M$23*(S74+T74+U74)+L$23*(T74+U74)+K$23*U74)*Q74","v":{"v":0,"d":"0 "}},{"v":0,"d":"0 "},{"v":0,"d":"0 "},0,0]
[{"v":0,"d":"0 "},{"$f":"(M$23*(S75+T75+U75)+L$23*(T75+U75)+K$23*U75)*Q75","v":{"v":0,"d":"0 "}},{"v":0,"d":"0 "},{"v":0,"d":"0 "},0,0]
["-"]
[{"v":0,"d":"0 "}]
[]
[{"v":0,"d":"0 "},{"$f":"(M$24*(S79+T79+U79)+L$24*(T79+U79)+K$24*U79)*Q79","v":{"v":0,"d":"0 "}},{"$f":"IF($B$42=0,0,(($K$24*$U79+$L$24*($T79+$U79)+$M$24*($S79+$T79+$U79))*C$42/$B$42)*$Q79)","v":{"v":0,"d":"0 "}},{"v":0,"d":"0 "},0,0]
[{"v":0,"d":"0 "},{"$f":"(M$24*(S80+T80+U80)+L$24*(T80+U80)+K$24*U80)*Q80","v":{"v":0,"d":"0 "}},{"v":0,"d":"0 "},{"v":0,"d":"0 "},0,0]
[{"v":0,"d":"0 "},{"$f":"(M$24*(S81+T81+U81)+L$24*(T81+U81)+K$24*U81)*Q81","v":{"v":0,"d":"0 "}},{"v":0,"d":"0 "},{"v":0,"d":"0 "},0,0]
[{"v":0,"d":"0 "},{"$f":"(M$24*(S82+T82+U82)+L$24*(T82+U82)+K$24*U82)*Q82","v":{"v":0,"d":"0 "}},{"v":0,"d":"0 "},{"v":0,"d":"0 "},0,0]
[{"v":0,"d":"0 "},{"$f":"(M$24*(S83+T83+U83)+L$24*(T83+U83)+K$24*U83)*Q83","v":{"v":0,"d":"0 "}},{"v":0,"d":"0 "},{"v":0,"d":"0 "},0,0]
["-"]
[{"v":0,"d":"0 "}]
[]
[{"v":0,"d":"0 "},{"$f":"(M$25*(S87+T87+U87)+L$25*(T87+U87)+K$25*U87)*Q87","v":{"v":0,"d":"0 "}},{"$f":"IF($B$43=0,0,(($K$25*$U87+$L$25*($T87+$U87)+$M$25*($S87+$T87+$U87))*C$43/$B$43)*$Q87)","v":{"v":0,"d":"0 "}},{"v":0,"d":"0 "},0,0]
[{"v":0,"d":"0 "},{"$f":"(M$25*(S88+T88+U88)+L$25*(T88+U88)+K$25*U88)*Q88","v":{"v":0,"d":"0 "}},{"v":0,"d":"0 "},{"v":0,"d":"0 "},0,0]
[{"v":0,"d":"0 "},{"$f":"(M$25*(S89+T89+U89)+L$25*(T89+U89)+K$25*U89)*Q89","v":{"v":0,"d":"0 "}},{"v":0,"d":"0 "},{"v":0,"d":"0 "},0,0]
[{"v":0,"d":"0 "},{"$f":"(M$25*(S90+T90+U90)+L$25*(T90+U90)+K$25*U90)*Q90","v":{"v":0,"d":"0 "}},{"v":0,"d":"0 "},{"v":0,"d":"0 "},0,0]
[{"v":0,"d":"0 "},{"$f":"(M$25*(S91+T91+U91)+L$25*(T91+U91)+K$25*U91)*Q91","v":{"v":0,"d":"0 "}},{"v":0,"d":"0 "},{"v":0,"d":"0 "},0,0]
["-"]
[{"v":0,"d":"0 "}]
[]
[{"v":0,"d":"0 "},{"$f":"(M$26*(S95+T95+U95)+L$26*(T95+U95)+K$26*U95)*Q95","v":{"v":0,"d":"0 "}},{"$f":"IF($B$44=0,0,(($K$26*$U95+$L$26*($T95+$U95)+$M$26*($S95+$T95+$U95))*C$44/$B$44)*$Q95)","v":{"v":0,"d":"0 "}},{"v":0,"d":"0 "},0,0]
[{"v":0,"d":"0 "},{"$f":"(M$26*(S96+T96+U96)+L$26*(T96+U96)+K$26*U96)*Q96","v":{"v":0,"d":"0 "}},{"v":0,"d":"0 "},{"v":0,"d":"0 "},0,0]
[{"v":0,"d":"0 "},{"$f":"(M$26*(S97+T97+U97)+L$26*(T97+U97)+K$26*U97)*Q97","v":{"v":0,"d":"0 "}},{"v":0,"d":"0 "},{"v":0,"d":"0 "},0,0]
[{"v":0,"d":"0 "},{"$f":"(M$26*(S98+T98+U98)+L$26*(T98+U98)+K$26*U98)*Q98","v":{"v":0,"d":"0 "}},{"v":0,"d":"0 "},{"v":0,"d":"0 "},0,0]
[{"v":0,"d":"0 "},{"$f":"(M$26*(S99+T99+U99)+L$26*(T99+U99)+K$26*U99)*Q99","v":{"v":0,"d":"0 "}},{"$f":"IF($B$44=0,0,(($K$26*$U99+$L$26*($T99+$U99)+$M$26*($S99+$T99+$U99))*C$44/$B$44)*$Q99)","v":{"v":0,"d":"0 "}},{"$f":"IF($B$44=0,0,(($K$26*$U99+$L$26*($T99+$U99)+$M$26*($S99+$T99+$U99))*D$44/$B$44)*$Q99)","v":{"v":0,"d":"0 "}},{"$f":"IF($B$44=0,0,(($K$26*$U99+$L$26*($T99+$U99)+$M$26*($S99+$T99+$U99))*E$44/$B$44)*$Q99)","v":0},{"$f":"IF($B$44=0,0,(($K$26*$U99+$L$26*($T99+$U99)+$M$26*($S99+$T99+$U99))*F$44/$B$44)*$Q99)","v":0}]
["-"]
[]
["TOTAL CUENTAS POR PAGAR"]
[]
[{"$f":"A15","v":0},{"$f":"SUM(B367:B372)","v":{"v":0,"d":"0 "}},{"$f":"SUM(C367:C372)","v":{"v":0,"d":"0 "}},{"$f":"SUM(D367:D372)","v":{"v":0,"d":"0 "}},{"$f":"SUM(E367:E372)","v":0},{"$f":"SUM(F367:F372)","v":0}]
[0,{"$f":"SUM(B375:B380)","v":{"v":0,"d":"0 "}},{"$f":"SUM(C375:C380)","v":{"v":0,"d":"0 "}},{"$f":"SUM(D375:D380)","v":{"v":0,"d":"0 "}},{"$f":"SUM(E375:E380)","v":0},{"$f":"SUM(F375:F380)","v":0}]
[0,{"$f":"SUM(B383:B388)","v":{"v":0,"d":"0 "}},{"$f":"SUM(C383:C388)","v":{"v":0,"d":"0 "}},{"$f":"SUM(D383:D388)","v":{"v":0,"d":"0 "}},{"$f":"SUM(E383:E388)","v":0},{"$f":"SUM(F383:F388)","v":0}]
[0,{"$f":"SUM(B391:B396)","v":{"v":0,"d":"0 "}},{"$f":"SUM(C391:C396)","v":{"v":0,"d":"0 "}},{"$f":"SUM(D391:D396)","v":{"v":0,"d":"0 "}},{"$f":"SUM(E391:E396)","v":0},{"$f":"SUM(F391:F396)","v":0}]
[0,{"$f":"SUM(B399:B404)","v":{"v":0,"d":"0 "}},{"$f":"SUM(C399:C404)","v":{"v":0,"d":"0 "}},{"$f":"SUM(D399:D404)","v":{"v":0,"d":"0 "}},{"$f":"SUM(E399:E404)","v":0},{"$f":"SUM(F399:F404)","v":0}]
[0,{"$f":"SUM(B407:B412)","v":{"v":0,"d":"0 "}},{"$f":"SUM(C407:C412)","v":{"v":0,"d":"0 "}},{"$f":"SUM(D407:D412)","v":{"v":0,"d":"0 "}},{"$f":"SUM(E407:E412)","v":0},{"$f":"SUM(F407:F412)","v":0}]
[0,{"$f":"SUM(B415:B419)","v":{"v":0,"d":"0 "}},{"$f":"SUM(C415:C419)","v":{"v":0,"d":"0 "}},{"$f":"SUM(D415:D419)","v":{"v":0,"d":"0 "}},{"$f":"SUM(E415:E419)","v":0},{"$f":"SUM(F415:F419)","v":0}]
[0,{"$f":"SUM(B423:B427)","v":{"v":0,"d":"0 "}},{"$f":"SUM(C423:C427)","v":{"v":0,"d":"0 "}},{"$f":"SUM(D423:D427)","v":{"v":0,"d":"0 "}},{"$f":"SUM(E423:E427)","v":0},{"$f":"SUM(F423:F427)","v":0}]
[0,{"$f":"SUM(B431:B435)","v":{"v":0,"d":"0 "}},{"$f":"SUM(C431:C435)","v":{"v":0,"d":"0 "}},{"$f":"SUM(D431:D435)","v":{"v":0,"d":"0 "}},{"$f":"SUM(E431:E435)","v":0},{"$f":"SUM(F431:F435)","v":0}]
[0,{"$f":"SUM(B439:B443)","v":{"v":0,"d":"0 "}},{"$f":"SUM(C439:C443)","v":{"v":0,"d":"0 "}},{"$f":"SUM(D439:D443)","v":{"v":0,"d":"0 "}},{"$f":"SUM(E439:E443)","v":0},{"$f":"SUM(F439:F443)","v":0}]
[0,{"$f":"SUM(B447:B451)","v":{"v":0,"d":"0 "}},{"$f":"SUM(C447:C451)","v":{"v":0,"d":"0 "}},{"$f":"SUM(D447:D451)","v":{"v":0,"d":"0 "}},{"$f":"SUM(E447:E451)","v":0},{"$f":"SUM(F447:F451)","v":0}]
[0,{"$f":"SUM(B455:B459)","v":{"v":0,"d":"0 "}},{"$f":"SUM(C455:C459)","v":{"v":0,"d":"0 "}},{"$f":"SUM(D455:D459)","v":{"v":0,"d":"0 "}},{"$f":"SUM(E455:E459)","v":0},{"$f":"SUM(F455:F459)","v":0}]
["-","-","-","-","-","-"]
["TOTAL",{"$f":"SUM(B464:B476)","v":{"v":0,"d":"0 "}},{"$f":"SUM(C464:C476)","v":{"v":0,"d":"0 "}},{"$f":"SUM(D464:D476)","v":{"v":0,"d":"0 "}},{"$f":"SUM(E464:E476)","v":0},{"$f":"SUM(F464:F476)","v":0}]
["-","-","-","-","-","-"]
[]
[]
["MANO DE OBRA VARIABLE"]
["-","-"]
["PRODUCTO"]
["-","-"]
[{"$f":"A15","v":0},{"$f":"+'datos de entrada'!B311","v":{"v":0,"d":"0 "}}]
[0,{"$f":"+'datos de entrada'!B312","v":{"v":0,"d":"0 "}}]
[0,{"$f":"+'datos de entrada'!B313","v":{"v":0,"d":"0 "}}]
[0,{"$f":"+'datos de entrada'!B314","v":{"v":0,"d":"0 "}}]
[0,{"$f":"+'datos de entrada'!B315","v":{"v":0,"d":"0 "}}]
[0,{"$f":"+'datos de entrada'!B316","v":{"v":0,"d":"0 "}}]
[0,{"$f":"+'datos de entrada'!B317","v":{"v":0,"d":"0 "}}]
[0,{"$f":"+'datos de entrada'!B318","v":{"v":0,"d":"0 "}}]
[0,{"$f":"+'datos de entrada'!B319","v":{"v":0,"d":"0 "}}]
[0,{"$f":"+'datos de entrada'!B320","v":{"v":0,"d":"0 "}}]
[0,{"$f":"+'datos de entrada'!B321","v":{"v":0,"d":"0 "}}]
[0,{"$f":"+'datos de entrada'!B322","v":{"v":0,"d":"0 "}}]
["-","-"]
[]
["TOTAL MANO DE OBRA VARIABLE"]
["-","-","-","-","-","-","-","-","-","-","-","-","-","-","-","-","-","-"]
["PRODUCTOS","MES 1","MES 2","MES 3","MES 4","MES 5","MES 6","MES 7","MES 8","MES 9","MES 10 ","MES 11","MES 12","ANO 1","ANO 2","ANO 3","ANO 4","ANO 5"]
["-","-","-","-","-","-","-","-","-","-","-","-","-","-","-","-","-","-"]
[{"$f":"A15","v":0},{"$f":"B15*$B485","v":{"v":0,"d":"0 "}},{"v":0,"d":"0 "},{"v":0,"d":"0 "},{"v":0,"d":"0 "},{"v":0,"d":"0 "},{"v":0,"d":"0 "},{"v":0,"d":"0 "},{"v":0,"d":"0 "},{"v":0,"d":"0 "},{"v":0,"d":"0 "},{"v":0,"d":"0 "},{"v":0,"d":"0 "},{"$f":"SUM(B503:M503)","v":{"v":0,"d":"0 "}},{"$f":"C33*$B485*(1+$D$7)","v":{"v":0,"d":"0 "}},{"$f":"D33*$B485*(1+$D$7)^2","v":{"v":0,"d":"0 "}},{"$f":"E33*$B485*(1+$D$7)^3","v":0},{"$f":"F33*$B485*(1+$D$7)^4","v":0}]
[0,{"v":0,"d":"0 "},{"v":0,"d":"0 "},{"v":0,"d":"0 "},{"v":0,"d":"0 "},{"v":0,"d":"0 "},{"v":0,"d":"0 "},{"v":0,"d":"0 "},{"v":0,"d":"0 "},{"v":0,"d":"0 "},{"v":0,"d":"0 "},{"v":0,"d":"0 "},{"v":0,"d":"0 "},{"v":0,"d":"0 "},{"v":0,"d":"0 "},{"v":0,"d":"0 "},0,0]
[0,{"v":0,"d":"0 "},{"v":0,"d":"0 "},{"v":0,"d":"0 "},{"v":0,"d":"0 "},{"v":0,"d":"0 "},{"v":0,"d":"0 "},{"v":0,"d":"0 "},{"v":0,"d":"0 "},{"v":0,"d":"0 "},{"v":0,"d":"0 "},{"v":0,"d":"0 "},{"v":0,"d":"0 "},{"v":0,"d":"0 "},{"v":0,"d":"0 "},{"v":0,"d":"0 "},0,0]
[0,{"v":0,"d":"0 "},{"v":0,"d":"0 "},{"v":0,"d":"0 "},{"v":0,"d":"0 "},{"v":0,"d":"0 "},{"v":0,"d":"0 "},{"v":0,"d":"0 "},{"v":0,"d":"0 "},{"v":0,"d":"0 "},{"v":0,"d":"0 "},{"v":0,"d":"0 "},{"v":0,"d":"0 "},{"v":0,"d":"0 "},{"v":0,"d":"0 "},{"v":0,"d":"0 "},0,0]
[0,{"v":0,"d":"0 "},{"v":0,"d":"0 "},{"v":0,"d":"0 "},{"v":0,"d":"0 "},{"v":0,"d":"0 "},{"v":0,"d":"0 "},{"v":0,"d":"0 "},{"v":0,"d":"0 "},{"v":0,"d":"0 "},{"v":0,"d":"0 "},{"v":0,"d":"0 "},{"v":0,"d":"0 "},{"v":0,"d":"0 "},{"v":0,"d":"0 "},{"v":0,"d":"0 "},0,0]
[0,{"v":0,"d":"0 "},{"v":0,"d":"0 "},{"v":0,"d":"0 "},{"v":0,"d":"0 "},{"v":0,"d":"0 "},{"v":0,"d":"0 "},{"v":0,"d":"0 "},{"v":0,"d":"0 "},{"v":0,"d":"0 "},{"v":0,"d":"0 "},{"v":0,"d":"0 "},{"v":0,"d":"0 "},{"v":0,"d":"0 "},{"v":0,"d":"0 "},{"v":0,"d":"0 "},0,0]
[0,{"v":0,"d":"0 "},{"v":0,"d":"0 "},{"v":0,"d":"0 "},{"v":0,"d":"0 "},{"v":0,"d":"0 "},{"v":0,"d":"0 "},{"v":0,"d":"0 "},{"v":0,"d":"0 "},{"v":0,"d":"0 "},{"v":0,"d":"0 "},{"v":0,"d":"0 "},{"v":0,"d":"0 "},{"v":0,"d":"0 "},{"v":0,"d":"0 "},{"v":0,"d":"0 "},0]
[0,{"v":0,"d":"0 "},{"v":0,"d":"0 "},{"v":0,"d":"0 "},{"v":0,"d":"0 "},{"v":0,"d":"0 "},{"v":0,"d":"0 "},{"v":0,"d":"0 "},{"v":0,"d":"0 "},{"v":0,"d":"0 "},{"v":0,"d":"0 "},{"v":0,"d":"0 "},{"v":0,"d":"0 "},{"v":0,"d":"0 "},{"v":0,"d":"0 "},{"v":0,"d":"0 "},0]
[0,{"v":0,"d":"0 "},{"v":0,"d":"0 "},{"v":0,"d":"0 "},{"v":0,"d":"0 "},{"v":0,"d":"0 "},{"v":0,"d":"0 "},{"v":0,"d":"0 "},{"v":0,"d":"0 "},{"v":0,"d":"0 "},{"v":0,"d":"0 "},{"v":0,"d":"0 "},{"v":0,"d":"0 "},{"v":0,"d":"0 "},{"v":0,"d":"0 "},{"v":0,"d":"0 "},0]
[0,{"v":0,"d":"0 "},{"v":0,"d":"0 "},{"v":0,"d":"0 "},{"v":0,"d":"0 "},{"v":0,"d":"0 "},{"v":0,"d":"0 "},{"v":0,"d":"0 "},{"v":0,"d":"0 "},{"v":0,"d":"0 "},{"v":0,"d":"0 "},{"v":0,"d":"0 "},{"v":0,"d":"0 "},{"v":0,"d":"0 "},{"v":0,"d":"0 "},{"v":0,"d":"0 "},0]
[0,{"v":0,"d":"0 "},{"v":0,"d":"0 "},{"v":0,"d":"0 "},{"v":0,"d":"0 "},{"v":0,"d":"0 "},{"v":0,"d":"0 "},{"v":0,"d":"0 "},{"v":0,"d":"0 "},{"v":0,"d":"0 "},{"v":0,"d":"0 "},{"v":0,"d":"0 "},{"v":0,"d":"0 "},{"v":0,"d":"0 "},{"v":0,"d":"0 "},{"v":0,"d":"0 "},0]
[0,{"v":0,"d":"0 "},{"v":0,"d":"0 "},{"v":0,"d":"0 "},{"v":0,"d":"0 "},{"v":0,"d":"0 "},{"v":0,"d":"0 "},{"v":0,"d":"0 "},{"v":0,"d":"0 "},{"v":0,"d":"0 "},{"v":0,"d":"0 "},{"v":0,"d":"0 "},{"v":0,"d":"0 "},{"v":0,"d":"0 "},{"v":0,"d":"0 "},{"v":0,"d":"0 "},0]
["-","-","-","-","-","-","-","-","-","-","-","-","-","-","-","-","-","-"]
["TOTAL",{"$f":"SUM(B503:B508)","v":{"v":0,"d":"0 "}},{"v":0,"d":"0 "},{"v":0,"d":"0 "},{"v":0,"d":"0 "},{"v":0,"d":"0 "},{"v":0,"d":"0 "},{"v":0,"d":"0 "},{"v":0,"d":"0 "},{"v":0,"d":"0 "},{"v":0,"d":"0 "},{"v":0,"d":"0 "},{"v":0,"d":"0 "},{"v":0,"d":"0 "},{"v":0,"d":"0 "},{"v":0,"d":"0 "},0,0]
["-","-","-","-","-","-","-","-","-","-","-","-","-","-","-","-","-","-"]
[]
[]
["COMPORTAMIENTO DE LOS PAGOS"]
["-","-","-","-","-","-"]
["PRODUCTOS","CONTADO","30","60","90","%de compras"]
["-","-","-","-","-","-"]
[{"$f":"A15","v":0},{"$f":"IF($F524=0,0,J61*$F524)","v":{"v":0,"d":"0.00%"}},{"$f":"IF($F524=0,0,K61*$F524)","v":{"v":0,"d":"0.00%"}},{"$f":"IF($F524=0,0,L61*$F524)","v":{"v":0,"d":"0.00%"}},{"$f":"IF($F524=0,0,M61*$F524)","v":{"v":0,"d":"0.00%"}},{"$f":"IF($N$238=0,0,N224/$N$238)","v":{"v":0,"d":"0.00%"}}]
[0,{"$f":"IF($F525=0,0,J69*$F525)","v":{"v":0,"d":"0.00%"}},{"$f":"IF($F525=0,0,K69*$F525)","v":{"v":0,"d":"0.00%"}},{"$f":"IF($F525=0,0,L69*$F525)","v":{"v":0,"d":"0.00%"}},{"$f":"IF($F525=0,0,M69*$F525)","v":{"v":0,"d":"0.00%"}},{"v":0,"d":"0.00%"}]
[0,{"$f":"IF($F526=0,0,J77*$F526)","v":{"v":0,"d":"0.00%"}},{"$f":"IF($F526=0,0,K77*$F526)","v":{"v":0,"d":"0.00%"}},{"$f":"IF($F526=0,0,L77*$F526)","v":{"v":0,"d":"0.00%"}},{"$f":"IF($F526=0,0,M77*$F526)","v":{"v":0,"d":"0.00%"}},{"v":0,"d":"0.00%"}]
[0,{"$f":"IF($F527=0,0,J85*$F527)","v":{"v":0,"d":"0.00%"}},{"$f":"IF($F527=0,0,K85*$F527)","v":{"v":0,"d":"0.00%"}},{"$f":"IF($F527=0,0,L85*$F527)","v":{"v":0,"d":"0.00%"}},{"$f":"IF($F527=0,0,M85*$F527)","v":{"v":0,"d":"0.00%"}},{"v":0,"d":"0.00%"}]
[0,{"$f":"IF($F528=0,0,J93*$F528)","v":{"v":0,"d":"0.00%"}},{"$f":"IF($F528=0,0,K93*$F528)","v":{"v":0,"d":"0.00%"}},{"$f":"IF($F528=0,0,L93*$F528)","v":{"v":0,"d":"0.00%"}},{"$f":"IF($F528=0,0,M93*$F528)","v":{"v":0,"d":"0.00%"}},{"v":0,"d":"0.00%"}]
[0,{"$f":"IF($F529=0,0,J101*$F529)","v":{"v":0,"d":"0.00%"}},{"$f":"IF($F529=0,0,K101*$F529)","v":{"v":0,"d":"0.00%"}},{"$f":"IF($F529=0,0,L101*$F529)","v":{"v":0,"d":"0.00%"}},{"$f":"IF($F529=0,0,M101*$F529)","v":{"v":0,"d":"0.00%"}},{"v":0,"d":"0.00%"}]
[0,{"$f":"IF($F530=0,0,W61*$F530)","v":{"v":0,"d":"0.00%"}},{"$f":"IF($F530=0,0,X61*$F530)","v":{"v":0,"d":"0.00%"}},{"$f":"IF($F530=0,0,Y61*$F530)","v":{"v":0,"d":"0.00%"}},{"$f":"IF($F530=0,0,Z61*$F530)","v":{"v":0,"d":"0.00%"}},{"v":0,"d":"0.00%"}]
[0,{"$f":"IF($F531=0,0,W69*$F531)","v":{"v":0,"d":"0.00%"}},{"$f":"IF($F531=0,0,X69*$F531)","v":{"v":0,"d":"0.00%"}},{"$f":"IF($F531=0,0,Y69*$F531)","v":{"v":0,"d":"0.00%"}},{"$f":"IF($F531=0,0,Z69*$F531)","v":{"v":0,"d":"0.00%"}},{"v":0,"d":"0.00%"}]
[0,{"$f":"IF($F532=0,0,W77*$F532)","v":{"v":0,"d":"0.00%"}},{"$f":"IF($F532=0,0,X77*$F532)","v":{"v":0,"d":"0.00%"}},{"$f":"IF($F532=0,0,Y77*$F532)","v":{"v":0,"d":"0.00%"}},{"$f":"IF($F532=0,0,Z77*$F532)","v":{"v":0,"d":"0.00%"}},{"v":0,"d":"0.00%"}]
[0,{"$f":"IF($F533=0,0,W85*$F533)","v":{"v":0,"d":"0.00%"}},{"$f":"IF($F533=0,0,X85*$F533)","v":{"v":0,"d":"0.00%"}},{"$f":"IF($F533=0,0,Y85*$F533)","v":{"v":0,"d":"0.00%"}},{"$f":"IF($F533=0,0,Z85*$F533)","v":{"v":0,"d":"0.00%"}},{"v":0,"d":"0.00%"}]
[0,{"$f":"IF($F534=0,0,W93*$F534)","v":{"v":0,"d":"0.00%"}},{"$f":"IF($F534=0,0,X93*$F534)","v":{"v":0,"d":"0.00%"}},{"$f":"IF($F534=0,0,Y93*$F534)","v":{"v":0,"d":"0.00%"}},{"$f":"IF($F534=0,0,Z93*$F534)","v":{"v":0,"d":"0.00%"}},{"v":0,"d":"0.00%"}]
[0,{"$f":"IF($F535=0,0,W101*$F535)","v":{"v":0,"d":"0.00%"}},{"$f":"IF($F535=0,0,X101*$F535)","v":{"v":0,"d":"0.00%"}},{"$f":"IF($F535=0,0,Y101*$F535)","v":{"v":0,"d":"0.00%"}},{"$f":"IF($F535=0,0,Z101*$F535)","v":{"v":0,"d":"0.00%"}},{"v":0,"d":"0.00%"}]
["-","-","-","-","-","-"]
["TOTAL",{"$f":"SUM(B524:B536)","v":{"v":0,"d":"0.00%"}},{"$f":"SUM(C524:C536)","v":{"v":0,"d":"0.00%"}},{"$f":"SUM(D524:D536)","v":{"v":0,"d":"0.00%"}},{"$f":"SUM(E524:E536)","v":{"v":0,"d":"0.00%"}},{"$f":"SUM(F524:F535)","v":{"v":0,"d":"0.00%"}}]
["-","-","-","-","-","-"]

{"sheet":"cost fijos","index":8,"n_rows":372,"n_cols":44,"rows_kept":372,"hidden":true}
[]
["INFORMACION DE GASTOS Y COSTOS FIJOS"]
[]
["PROYECTO:",{"$f":"+'datos de entrada'!B4","v":{"v":0,"d":"0 "}}]
[]
[]
["INCREMENTO ANUAL EN COSTOS:",null,{"$f":"+'datos de entrada'!C410","v":{"v":0,"d":"0.00%"}}]
[]
["1. GASTOS ADMINISTRATIVOS"]
[]
["-","-","-","-","-","-","-","-"]
["CONCEPTO","GASTO MENSUAL","%","ANO 1","ANO 2","ANO 3","ANO 4","ANO 5"]
["-","-","-","-","-","-","-","-","mes1","mes2","mes3","mes4","mes5","mes6","mes7","mes8","mes9","mes10","mes11","mes12"]
[{"$f":"+'datos de entrada'!A368","v":"GERENTE"},{"$f":"+'datos de entrada'!B368","v":{"v":0,"d":"0 "}},{"$f":"B14/$B$42","v":{"$error":"#DIV/0!"}},{"$f":"SUM(I14:T14)","v":{"v":0,"d":"0 "}},{"$f":"SUM(U14:AF14)","v":{"v":0,"d":"0 "}},{"$f":"SUM(AG14:AR14)","v":{"v":0,"d":"0 "}},{"$f":"F14*(1+$C$7)","v":0},0,{"$f":"+'datos de entrada'!C368","v":0},{"$f":"+'datos de entrada'!D368","v":0},{"$f":"+'datos de entrada'!E368","v":0},{"$f":"+'datos de entrada'!F368","v":0},{"$f":"+'datos de entrada'!G368","v":0},{"$f":"+'datos de entrada'!H368","v":0},{"$f":"+'datos de entrada'!I368","v":0},{"$f":"+'datos de entrada'!J368","v":0},{"$f":"+'datos de entrada'!K368","v":0},{"$f":"+'datos de entrada'!L368","v":0},{"$f":"+'datos de entrada'!M368","v":0},{"$f":"+'datos de entrada'!N368","v":0},{"$f":"+'datos de entrada'!O368","v":0},{"$f":"+'datos de entrada'!P368","v":0},{"$f":"+'datos de entrada'!Q368","v":0},{"$f":"+'datos de entrada'!R368","v":0},{"$f":"+'datos de entrada'!S368","v":0},{"$f":"+'datos de entrada'!T368","v":0},{"$f":"+'datos de entrada'!U368","v":0},{"$f":"+'datos de entrada'!V368","v":0},{"$f":"+'datos de entrada'!W368","v":0},{"$f":"+'datos de entrada'!X368","v":0},{"$f":"+'datos de entrada'!Y368","v":0},{"$f":"+'datos de entrada'!Z368","v":0},{"$f":"+'datos de entrada'!AA368","v":0},{"$f":"+'datos de entrada'!AB368","v":0},{"$f":"+'datos de entrada'!AC368","v":0},{"$f":"+'datos de entrada'!AD368","v":0},{"$f":"+'datos de entrada'!AE368","v":0},{"$f":"+'datos de entrada'!AF368","v":0},{"$f":"+'datos de entrada'!AG368","v":0},{"$f":"+'datos de entrada'!AH368","v":0},{"$f":"+'datos de entrada'!AI368","v":0},{"$f":"+'datos de entrada'!AJ368","v":0},{"$f":"+'datos de entrada'!AK368","v":0},{"$f":"+'datos de entrada'!AL368","v":0}]
[{"$f":"+'datos de entrada'!A369","v":{"v":0,"d":"0 "}},{"$f":"+'datos de entrada'!B369","v":{"v":0,"d":"0 "}},{"$error":"#DIV/0!"},{"$f":"SUM(I15:T15)","v":{"v":0,"d":"0 "}},{"v":0,"d":"0 "},{"v":0,"d":"0 "},0,0,{"$f":"+'datos de entrada'!C369","v":0},{"$f":"+'datos de entrada'!D369","v":0},{"$f":"+'datos de entrada'!E369","v":0},{"$f":"+'datos de entrada'!F369","v":0},{"$f":"+'datos de entrada'!G369","v":0},{"$f":"+'datos de entrada'!H369","v":0},{"$f":"+'datos de entrada'!I369","v":0},{"$f":"+'datos de entrada'!J369","v":0},{"$f":"+'datos de entrada'!K369","v":0},{"$f":"+'datos de entrada'!L369","v":0},{"$f":"+'datos de entrada'!M369","v":0},{"$f":"+'datos de entrada'!N369","v":0},{"$f":"+'datos de entrada'!O369","v":0},{"$f":"+'datos de entrada'!P369","v":0},{"$f":"+'datos de entrada'!Q369","v":0},{"$f":"+'datos de entrada'!R369","v":0},{"$f":"+'datos de entrada'!S369","v":0},{"$f":"+'datos de entrada'!T369","v":0},{"$f":"+'datos de entrada'!U369","v":0},{"$f":"+'datos de entrada'!V369","v":0},{"$f":"+'datos de entrada'!W369","v":0},{"$f":"+'datos de entrada'!X369","v":0},{"$f":"+'datos de entrada'!Y369","v":0},{"$f":"+'datos de entrada'!Z369","v":0},{"$f":"+'datos de entrada'!AA369","v":0},{"$f":"+'datos de entrada'!AB369","v":0},{"$f":"+'datos de entrada'!AC369","v":0},{"$f":"+'datos de entrada'!AD369","v":0},{"$f":"+'datos de entrada'!AE369","v":0},{"$f":"+'datos de entrada'!AF369","v":0},{"$f":"+'datos de entrada'!AG369","v":0},{"$f":"+'datos de entrada'!AH369","v":0},{"$f":"+'datos de entrada'!AI369","v":0},{"$f":"+'datos de entrada'!AJ369","v":0},{"$f":"+'datos de entrada'!AK369","v":0},{"$f":"+'datos de entrada'!AL369","v":0}]
[{"$f":"+'datos de entrada'!A370","v":{"v":0,"d":"0 "}},{"$f":"+'datos de entrada'!B370","v":{"v":0,"d":"0 "}},{"$error":"#DIV/0!"},{"v":0,"d":"0 "},{"v":0,"d":"0 "},{"v":0,"d":"0 "},0,0,{"$f":"+'datos de entrada'!C370","v":0},{"$f":"+'datos de entrada'!D370","v":0},{"$f":"+'datos de entrada'!E370","v":0},{"$f":"+'datos de entrada'!F370","v":0},{"$f":"+'datos de entrada'!G370","v":0},{"$f":"+'datos de entrada'!H370","v":0},{"$f":"+'datos de entrada'!I370","v":0},{"$f":"+'datos de entrada'!J370","v":0},{"$f":"+'datos de entrada'!K370","v":0},{"$f":"+'datos de entrada'!L370","v":0},{"$f":"+'datos de entrada'!M370","v":0},{"$f":"+'datos de entrada'!N370","v":0},{"$f":"+'datos de entrada'!O370","v":0},{"$f":"+'datos de entrada'!P370","v":0},{"$f":"+'datos de entrada'!Q370","v":0},{"$f":"+'datos de entrada'!R370","v":0},{"$f":"+'datos de entrada'!S370","v":0},{"$f":"+'datos de entrada'!T370","v":0},{"$f":"+'datos de entrada'!U370","v":0},{"$f":"+'datos de entrada'!V370","v":0},{"$f":"+'datos de entrada'!W370","v":0},{"$f":"+'datos de entrada'!X370","v":0},{"$f":"+'datos de entrada'!Y370","v":0},{"$f":"+'datos de entrada'!Z370","v":0},{"$f":"+'datos de entrada'!AA370","v":0},{"$f":"+'datos de entrada'!AB370","v":0},{"$f":"+'datos de entrada'!AC370","v":0},{"$f":"+'datos de entrada'!AD370","v":0},{"$f":"+'datos de entrada'!AE370","v":0},{"$f":"+'datos de entrada'!AF370","v":0},{"$f":"+'datos de entrada'!AG370","v":0},{"$f":"+'datos de entrada'!AH370","v":0},{"$f":"+'datos de entrada'!AI370","v":0},{"$f":"+'datos de entrada'!AJ370","v":0},{"$f":"+'datos de entrada'!AK370","v":0},{"$f":"+'datos de entrada'!AL370","v":0}]
[{"$f":"+'datos de entrada'!A371","v":{"v":0,"d":"0 "}},{"$f":"+'datos de entrada'!B371","v":{"v":0,"d":"0 "}},{"$error":"#DIV/0!"},{"v":0,"d":"0 "},{"v":0,"d":"0 "},{"v":0,"d":"0 "},0,0,{"$f":"+'datos de entrada'!C371","v":0},{"$f":"+'datos de entrada'!D371","v":0},{"$f":"+'datos de entrada'!E371","v":0},{"$f":"+'datos de entrada'!F371","v":0},{"$f":"+'datos de entrada'!G371","v":0},{"$f":"+'datos de entrada'!H371","v":0},{"$f":"+'datos de entrada'!I371","v":0},{"$f":"+'datos de entrada'!J371","v":0},{"$f":"+'datos de entrada'!K371","v":0},{"$f":"+'datos de entrada'!L371","v":0},{"$f":"+'datos de entrada'!M371","v":0},{"$f":"+'datos de entrada'!N371","v":0},{"$f":"+'datos de entrada'!O371","v":0},{"$f":"+'datos de entrada'!P371","v":0},{"$f":"+'datos de entrada'!Q371","v":0},{"$f":"+'datos de entrada'!R371","v":0},{"$f":"+'datos de entrada'!S371","v":0},{"$f":"+'datos de entrada'!T371","v":0},{"$f":"+'datos de entrada'!U371","v":0},{"$f":"+'datos de entrada'!V371","v":0},{"$f":"+'datos de entrada'!W371","v":0},{"$f":"+'datos de entrada'!X371","v":0},{"$f":"+'datos de entrada'!Y371","v":0},{"$f":"+'datos de entrada'!Z371","v":0},{"$f":"+'datos de entrada'!AA371","v":0},{"$f":"+'datos de entrada'!AB371","v":0},{"$f":"+'datos de entrada'!AC371","v":0},{"$f":"+'datos de entrada'!AD371","v":0},{"$f":"+'datos de entrada'!AE371","v":0},{"$f":"+'datos de entrada'!AF371","v":0},{"$f":"+'datos de entrada'!AG371","v":0},{"$f":"+'datos de entrada'!AH371","v":0},{"$f":"+'datos de entrada'!AI371","v":0},{"$f":"+'datos de entrada'!AJ371","v":0},{"$f":"+'datos de entrada'!AK371","v":0},{"$f":"+'datos de entrada'!AL371","v":0}]
[{"$f":"+'datos de entrada'!A372","v":{"v":0,"d":"0 "}},{"$f":"+'datos de entrada'!B372","v":{"v":0,"d":"0 "}},{"$error":"#DIV/0!"},{"v":0,"d":"0 "},{"v":0,"d":"0 "},{"v":0,"d":"0 "},0,0,{"$f":"+'datos de entrada'!C372","v":0},{"$f":"+'datos de entrada'!D372","v":0},{"$f":"+'datos de entrada'!E372","v":0},{"$f":"+'datos de entrada'!F372","v":0},{"$f":"+'datos de entrada'!G372","v":0},{"$f":"+'datos de entrada'!H372","v":0},{"$f":"+'datos de entrada'!I372","v":0},{"$f":"+'datos de entrada'!J372","v":0},{"$f":"+'datos de entrada'!K372","v":0},{"$f":"+'datos de entrada'!L372","v":0},{"$f":"+'datos de entrada'!M372","v":0},{"$f":"+'datos de entrada'!N372","v":0},{"$f":"+'datos de entrada'!O372","v":0},{"$f":"+'datos de entrada'!P372","v":0},{"$f":"+'datos de entrada'!Q372","v":0},{"$f":"+'datos de entrada'!R372","v":0},{"$f":"+'datos de entrada'!S372","v":0},{"$f":"+'datos de entrada'!T372","v":0},{"$f":"+'datos de entrada'!U372","v":0},{"$f":"+'datos de entrada'!V372","v":0},{"$f":"+'datos de entrada'!W372","v":0},{"$f":"+'datos de entrada'!X372","v":0},{"$f":"+'datos de entrada'!Y372","v":0},{"$f":"+'datos de entrada'!Z372","v":0},{"$f":"+'datos de entrada'!AA372","v":0},{"$f":"+'datos de entrada'!AB372","v":0},{"$f":"+'datos de entrada'!AC372","v":0},{"$f":"+'datos de entrada'!AD372","v":0},{"$f":"+'datos de entrada'!AE372","v":0},{"$f":"+'datos de entrada'!AF372","v":0},{"$f":"+'datos de entrada'!AG372","v":0},{"$f":"+'datos de entrada'!AH372","v":0},{"$f":"+'datos de entrada'!AI372","v":0},{"$f":"+'datos de entrada'!AJ372","v":0},{"$f":"+'datos de entrada'!AK372","v":0},{"$f":"+'datos de entrada'!AL372","v":0}]
[{"$f":"+'datos de entrada'!A373","v":{"v":0,"d":"0 "}},{"$f":"+'datos de entrada'!B373","v":{"v":0,"d":"0 "}},{"$error":"#DIV/0!"},{"v":0,"d":"0 "},{"v":0,"d":"0 "},{"v":0,"d":"0 "},0,0,{"$f":"+'datos de entrada'!C373","v":0},{"$f":"+'datos de entrada'!D373","v":0},{"$f":"+'datos de entrada'!E373","v":0},{"$f":"+'datos de entrada'!F373","v":0},{"$f":"+'datos de entrada'!G373","v":0},{"$f":"+'datos de entrada'!H373","v":0},{"$f":"+'datos de entrada'!I373","v":0},{"$f":"+'datos de entrada'!J373","v":0},{"$f":"+'datos de entrada'!K373","v":0},{"$f":"+'datos de entrada'!L373","v":0},{"$f":"+'datos de entrada'!M373","v":0},{"$f":"+'datos de entrada'!N373","v":0},{"$f":"+'datos de entrada'!O373","v":0},{"$f":"+'datos de entrada'!P373","v":0},{"$f":"+'datos de entrada'!Q373","v":0},{"$f":"+'datos de entrada'!R373","v":0},{"$f":"+'datos de entrada'!S373","v":0},{"$f":"+'datos de entrada'!T373","v":0},{"$f":"+'datos de entrada'!U373","v":0},{"$f":"+'datos de entrada'!V373","v":0},{"$f":"+'datos de entrada'!W373","v":0},{"$f":"+'datos de entrada'!X373","v":0},{"$f":"+'datos de entrada'!Y373","v":0},{"$f":"+'datos de entrada'!Z373","v":0},{"$f":"+'datos de entrada'!AA373","v":0},{"$f":"+'datos de entrada'!AB373","v":0},{"$f":"+'datos de entrada'!AC373","v":0},{"$f":"+'datos de entrada'!AD373","v":0},{"$f":"+'datos de entrada'!AE373","v":0},{"$f":"+'datos de entrada'!AF373","v":0},{"$f":"+'datos de entrada'!AG373","v":0},{"$f":"+'datos de entrada'!AH373","v":0},{"$f":"+'datos de entrada'!AI373","v":0},{"$f":"+'datos de entrada'!AJ373","v":0},{"$f":"+'datos de entrada'!AK373","v":0},{"$f":"+'datos de entrada'!AL373","v":0}]
["  SUBTOTAL SALARIOS",{"$f":"SUM(B14:B19)","v":{"v":0,"d":"0 "}},{"$error":"#DIV/0!"},{"v":0,"d":"0 "},{"v":0,"d":"0 "},{"v":0,"d":"0 "},0,0,{"$f":"SUM(I14:I19)","v":0},{"$f":"SUM(J14:J19)","v":0},0,0,0,0,0,0,0,0,0,0,{"$f":"SUM(U14:U19)","v":0},0,0,0,0,0,0,0,0,0,0,0,0,0,0,0,0,0,0,0,0,0,0,0]
[null,null,{"$error":"#DIV/0!"},{"$nulls":3},0,0]
["TOTAL SALARIOS",{"$f":"B21+B20","v":{"v":0,"d":"0 "}},{"$error":"#DIV/0!"},{"$f":"SUM(I22:T22)","v":{"v":0,"d":"0 "}},{"$f":"+E20+E21","v":{"v":0,"d":"0 "}},{"$f":"+F20+F21","v":{"v":0,"d":"0 "}},0,0,{"$f":"SUM(I14:I19)","v":0},{"$f":"SUM(J14:J19)","v":0},0,0,0,0,0,0,0,0,0,0]
[".",null,null,".",".",".","-","-"]
[{"$f":"+'datos de entrada'!A374","v":{"v":0,"d":"0 "}},{"$f":"+'datos de entrada'!B374","v":{"v":0,"d":"0 "}},{"$f":"B24/$B$42","v":{"$error":"#DIV/0!"}},{"$f":"SUM(I24:T24)","v":{"v":0,"d":"0 "}},{"$f":"SUM('datos de entrada'!O374:Z374)*(1+$C$7)","v":{"v":0,"d":"0 "}},{"$f":"SUM('datos de entrada'!AA374:AL374)*(1+$C$7)^2","v":{"v":0,"d":"0 "}},{"$f":"F24*(1+$C$7)","v":0},0,{"$f":"+'datos de entrada'!C374","v":{"v":0,"d":"0 "}},{"$f":"+'datos de entrada'!D374","v":{"v":0,"d":"0 "}},{"$f":"+'datos de entrada'!E374","v":{"v":0,"d":"0 "}},{"$f":"+'datos de entrada'!F374","v":{"v":0,"d":"0 "}},{"$f":"+'datos de entrada'!G374","v":{"v":0,"d":"0 "}},{"$f":"+'datos de entrada'!H374","v":{"v":0,"d":"0 "}},{"$f":"+'datos de entrada'!I374","v":{"v":0,"d":"0 "}},{"$f":"+'datos de entrada'!J374","v":{"v":0,"d":"0 "}},{"$f":"+'datos de entrada'!K374","v":{"v":0,"d":"0 "}},{"$f":"+'datos de entrada'!L374","v":{"v":0,"d":"0 "}},{"$f":"+'datos de entrada'!M374","v":{"v":0,"d":"0 "}},{"$f":"+'datos de entrada'!N374","v":{"v":0,"d":"0 "}}]
[{"$f":"+'datos de entrada'!A375","v":{"v":0,"d":"0 "}},{"$f":"+'datos de entrada'!B375","v":{"v":0,"d":"0 "}},{"$error":"#DIV/0!"},{"v":0,"d":"0 "},{"$f":"SUM('datos de entrada'!O375:Z375)*(1+$C$7)","v":{"v":0,"d":"0 "}},{"$f":"SUM('datos de entrada'!AA375:AL375)*(1+$C$7)^2","v":{"v":0,"d":"0 "}},0,0,{"$f":"+'datos de entrada'!C375","v":{"v":0,"d":"0 "}},{"$f":"+'datos de entrada'!D375","v":{"v":0,"d":"0 "}},{"$f":"+'datos de entrada'!E375","v":{"v":0,"d":"0 "}},{"$f":"+'datos de entrada'!F375","v":{"v":0,"d":"0 "}},{"$f":"+'datos de entrada'!G375","v":{"v":0,"d":"0 "}},{"$f":"+'datos de entrada'!H375","v":{"v":0,"d":"0 "}},{"$f":"+'datos de entrada'!I375","v":{"v":0,"d":"0 "}},{"$f":"+'datos de entrada'!J375","v":{"v":0,"d":"0 "}},{"$f":"+'datos de entrada'!K375","v":{"v":0,"d":"0 "}},{"$f":"+'datos de entrada'!L375","v":{"v":0,"d":"0 "}},{"$f":"+'datos de entrada'!M375","v":{"v":0,"d":"0 "}},{"$f":"+'datos de entrada'!N375","v":{"v":0,"d":"0 "}}]
[{"$f":"+'datos de entrada'!A376","v":{"v":0,"d":"0 "}},{"$f":"+'datos de entrada'!B376","v":{"v":0,"d":"0 "}},{"$error":"#DIV/0!"},{"v":0,"d":"0 "},{"$f":"SUM('datos de entrada'!O376:Z376)*(1+$C$7)","v":{"v":0,"d":"0 "}},{"$f":"SUM('datos de entrada'!AA376:AL376)*(1+$C$7)^2","v":{"v":0,"d":"0 "}},0,0,{"$f":"+'datos de entrada'!C376","v":{"v":0,"d":"0 "}},{"$f":"+'datos de entrada'!D376","v":{"v":0,"d":"0 "}},{"$f":"+'datos de entrada'!E376","v":{"v":0,"d":"0 "}},{"$f":"+'datos de entrada'!F376","v":{"v":0,"d":"0 "}},{"$f":"+'datos de entrada'!G376","v":{"v":0,"d":"0 "}},{"$f":"+'datos de entrada'!H376","v":{"v":0,"d":"0 "}},{"$f":"+'datos de entrada'!I376","v":{"v":0,"d":"0 "}},{"$f":"+'datos de entrada'!J376","v":{"v":0,"d":"0 "}},{"$f":"+'datos de entrada'!K376","v":{"v":0,"d":"0 "}},{"$f":"+'datos de entrada'!L376","v":{"v":0,"d":"0 "}},{"$f":"+'datos de entrada'!M376","v":{"v":0,"d":"0 "}},{"$f":"+'datos de entrada'!N376","v":{"v":0,"d":"0 "}}]
[{"$f":"+'datos de entrada'!A377","v":{"v":0,"d":"0 "}},{"$f":"+'datos de entrada'!B377","v":{"v":0,"d":"0 "}},{"$error":"#DIV/0!"},{"v":0,"d":"0 "},{"$f":"SUM('datos de entrada'!O377:Z377)*(1+$C$7)","v":{"v":0,"d":"0 "}},{"$f":"SUM('datos de entrada'!AA377:AL377)*(1+$C$7)^2","v":{"v":0,"d":"0 "}},0,0,{"$f":"+'datos de entrada'!C377","v":{"v":0,"d":"0 "}},{"$f":"+'datos de entrada'!D377","v":{"v":0,"d":"0 "}},{"$f":"+'datos de entrada'!E377","v":{"v":0,"d":"0 "}},{"$f":"+'datos de entrada'!F377","v":{"v":0,"d":"0 "}},{"$f":"+'datos de entrada'!G377","v":{"v":0,"d":"0 "}},{"$f":"+'datos de entrada'!H377","v":{"v":0,"d":"0 "}},{"$f":"+'datos de entrada'!I377","v":{"v":0,"d":"0 "}},{"$f":"+'datos de entrada'!J377","v":{"v":0,"d":"0 "}},{"$f":"+'datos de entrada'!K377","v":{"v":0,"d":"0 "}},{"$f":"+'datos de entrada'!L377","v":{"v":0,"d":"0 "}},{"$f":"+'datos de entrada'!M377","v":{"v":0,"d":"0 "}},{"$f":"+'datos de entrada'!N377","v":{"v":0,"d":"0 "}}]
[{"$f":"+'datos de entrada'!A378","v":{"v":0,"d":"0 "}},{"$f":"+'datos de entrada'!B378","v":{"v":0,"d":"0 "}},{"$error":"#DIV/0!"},{"v":0,"d":"0 "},{"$f":"SUM('datos de entrada'!O378:Z378)*(1+$C$7)","v":{"v":0,"d":"0 "}},{"$f":"SUM('datos de entrada'!AA378:AL378)*(1+$C$7)^2","v":{"v":0,"d":"0 "}},0,0,{"$f":"+'datos de entrada'!C378","v":{"v":0,"d":"0 "}},{"$f":"+'datos de entrada'!D378","v":{"v":0,"d":"0 "}},{"$f":"+'datos de entrada'!E378","v":{"v":0,"d":"0 "}},{"$f":"+'datos de entrada'!F378","v":{"v":0,"d":"0 "}},{"$f":"+'datos de entrada'!G378","v":{"v":0,"d":"0 "}},{"$f":"+'datos de entrada'!H378","v":{"v":0,"d":"0 "}},{"$f":"+'datos de entrada'!I378","v":{"v":0,"d":"0 "}},{"$f":"+'datos de entrada'!J378","v":{"v":0,"d":"0 "}},{"$f":"+'datos de entrada'!K378","v":{"v":0,"d":"0 "}},{"$f":"+'datos de entrada'!L378","v":{"v":0,"d":"0 "}},{"$f":"+'datos de entrada'!M378","v":{"v":0,"d":"0 "}},{"$f":"+'datos de entrada'!N378","v":{"v":0,"d":"0 "}}]
[{"$f":"+'datos de entrada'!A379","v":{"v":0,"d":"0 "}},{"$f":"+'datos de entrada'!B379","v":{"v":0,"d":"0 "}},{"$error":"#DIV/0!"},{"v":0,"d":"0 "},{"$f":"SUM('datos de entrada'!O379:Z379)*(1+$C$7)","v":{"v":0,"d":"0 "}},{"$f":"SUM('datos de entrada'!AA379:AL379)*(1+$C$7)^2","v":{"v":0,"d":"0 "}},0,0,{"$f":"+'datos de entrada'!C379","v":{"v":0,"d":"0 "}},{"$f":"+'datos de entrada'!D379","v":{"v":0,"d":"0 "}},{"$f":"+'datos de entrada'!E379","v":{"v":0,"d":"0 "}},{"$f":"+'datos de entrada'!F379","v":{"v":0,"d":"0 "}},{"$f":"+'datos de entrada'!G379","v":{"v":0,"d":"0 "}},{"$f":"+'datos de entrada'!H379","v":{"v":0,"d":"0 "}},{"$f":"+'datos de entrada'!I379","v":{"v":0,"d":"0 "}},{"$f":"+'datos de entrada'!J379","v":{"v":0,"d":"0 "}},{"$f":"+'datos de entrada'!K379","v":{"v":0,"d":"0 "}},{"$f":"+'datos de entrada'!L379","v":{"v":0,"d":"0 "}},{"$f":"+'datos de entrada'!M379","v":{"v":0,"d":"0 "}},{"$f":"+'datos de entrada'!N379","v":{"v":0,"d":"0 "}}]
[{"$f":"+'datos de entrada'!A380","v":{"v":0,"d":"0 "}},{"$f":"+'datos de entrada'!B380","v":{"v":0,"d":"0 "}},{"$error":"#DIV/0!"},{"v":0,"d":"0 "},{"$f":"SUM('datos de entrada'!O380:Z380)*(1+$C$7)","v":{"v":0,"d":"0 "}},{"$f":"SUM('datos de entrada'!AA380:AL380)*(1+$C$7)^2","v":{"v":0,"d":"0 "}},0,0,{"$f":"+'datos de entrada'!C380","v":{"v":0,"d":"0 "}},{"$f":"+'datos de entrada'!D380","v":{"v":0,"d":"0 "}},{"$f":"+'datos de entrada'!E380","v":{"v":0,"d":"0 "}},{"$f":"+'datos de entrada'!F380","v":{"v":0,"d":"0 "}},{"$f":"+'datos de entrada'!G380","v":{"v":0,"d":"0 "}},{"$f":"+'datos de entrada'!H380","v":{"v":0,"d":"0 "}},{"$f":"+'datos de entrada'!I380","v":{"v":0,"d":"0 "}},{"$f":"+'datos de entrada'!J380","v":{"v":0,"d":"0 "}},{"$f":"+'datos de entrada'!K380","v":{"v":0,"d":"0 "}},{"$f":"+'datos de entrada'!L380","v":{"v":0,"d":"0 "}},{"$f":"+'datos de entrada'!M380","v":{"v":0,"d":"0 "}},{"$f":"+'datos de entrada'!N380","v":{"v":0,"d":"0 "}}]
[{"$f":"+'datos de entrada'!A381","v":{"v":0,"d":"0 "}},{"$f":"+'datos de entrada'!B381","v":{"v":0,"d":"0 "}},{"$error":"#DIV/0!"},{"v":0,"d":"0 "},{"$f":"SUM('datos de entrada'!O381:Z381)*(1+$C$7)","v":{"v":0,"d":"0 "}},{"$f":"SUM('datos de entrada'!AA381:AL381)*(1+$C$7)^2","v":{"v":0,"d":"0 "}},0,0,{"$f":"+'datos de entrada'!C381","v":{"v":0,"d":"0 "}},{"$f":"+'datos de entrada'!D381","v":{"v":0,"d":"0 "}},{"$f":"+'datos de entrada'!E381","v":{"v":0,"d":"0 "}},{"$f":"+'datos de entrada'!F381","v":{"v":0,"d":"0 "}},{"$f":"+'datos de entrada'!G381","v":{"v":0,"d":"0 "}},{"$f":"+'datos de entrada'!H381","v":{"v":0,"d":"0 "}},{"$f":"+'datos de entrada'!I381","v":{"v":0,"d":"0 "}},{"$f":"+'datos de entrada'!J381","v":{"v":0,"d":"0 "}},{"$f":"+'datos de entrada'!K381","v":{"v":0,"d":"0 "}},{"$f":"+'datos de entrada'!L381","v":{"v":0,"d":"0 "}},{"$f":"+'datos de entrada'!M381","v":{"v":0,"d":"0 "}},{"$f":"+'datos de entrada'!N381","v":{"v":0,"d":"0 "}}]
[{"$f":"+'datos de entrada'!A382","v":{"v":0,"d":"0 "}},{"$f":"+'datos de entrada'!B382","v":{"v":0,"d":"0 "}},{"$error":"#DIV/0!"},{"v":0,"d":"0 "},{"$f":"SUM('datos de entrada'!O382:Z382)*(1+$C$7)","v":{"v":0,"d":"0 "}},{"$f":"SUM('datos de entrada'!AA382:AL382)*(1+$C$7)^2","v":{"v":0,"d":"0 "}},0,0,{"$f":"+'datos de entrada'!C382","v":{"v":0,"d":"0 "}},{"$f":"+'datos de entrada'!D382","v":{"v":0,"d":"0 "}},{"$f":"+'datos de entrada'!E382","v":{"v":0,"d":"0 "}},{"$f":"+'datos de entrada'!F382","v":{"v":0,"d":"0 "}},{"$f":"+'datos de entrada'!G382","v":{"v":0,"d":"0 "}},{"$f":"+'datos de entrada'!H382","v":{"v":0,"d":"0 "}},{"$f":"+'datos de entrada'!I382","v":{"v":0,"d":"0 "}},{"$f":"+'datos de entrada'!J382","v":{"v":0,"d":"0 "}},{"$f":"+'datos de entrada'!K382","v":{"v":0,"d":"0 "}},{"$f":"+'datos de entrada'!L382","v":{"v":0,"d":"0 "}},{"$f":"+'datos de entrada'!M382","v":{"v":0,"d":"0 "}},{"$f":"+'datos de entrada'!N382","v":{"v":0,"d":"0 "}}]
[{"$f":"+'datos de entrada'!A383","v":{"v":0,"d":"0 "}},{"$f":"+'datos de entrada'!B383","v":{"v":0,"d":"0 "}},{"$error":"#DIV/0!"},{"v":0,"d":"0 "},{"$f":"SUM('datos de entrada'!O383:Z383)*(1+$C$7)","v":{"v":0,"d":"0 "}},{"$f":"SUM('datos de entrada'!AA383:AL383)*(1+$C$7)^2","v":{"v":0,"d":"0 "}},0,0,{"$f":"+'datos de entrada'!C383","v":{"v":0,"d":"0 "}},{"$f":"+'datos de entrada'!D383","v":{"v":0,"d":"0 "}},{"$f":"+'datos de entrada'!E383","v":{"v":0,"d":"0 "}},{"$f":"+'datos de entrada'!F383","v":{"v":0,"d":"0 "}},{"$f":"+'datos de entrada'!G383","v":{"v":0,"d":"0 "}},{"$f":"+'datos de entrada'!H383","v":{"v":0,"d":"0 "}},{"$f":"+'datos de entrada'!I383","v":{"v":0,"d":"0 "}},{"$f":"+'datos de entrada'!J383","v":{"v":0,"d":"0 "}},{"$f":"+'datos de entrada'!K383","v":{"v":0,"d":"0 "}},{"$f":"+'datos de entrada'!L383","v":{"v":0,"d":"0 "}},{"$f":"+'datos de entrada'!M383","v":{"v":0,"d":"0 "}},{"$f":"+'datos de entrada'!N383","v":{"v":0,"d":"0 "}}]
[{"$f":"+'datos de entrada'!A384","v":{"v":0,"d":"0 "}},{"$f":"+'datos de entrada'!B384","v":{"v":0,"d":"0 "}},{"$error":"#DIV/0!"},{"v":0,"d":"0 "},{"$f":"SUM('datos de entrada'!O384:Z384)*(1+$C$7)","v":{"v":0,"d":"0 "}},{"$f":"SUM('datos de entrada'!AA384:AL384)*(1+$C$7)^2","v":{"v":0,"d":"0 "}},0,0,{"$f":"+'datos de entrada'!C384","v":{"v":0,"d":"0 "}},{"$f":"+'datos de entrada'!D384","v":{"v":0,"d":"0 "}},{"$f":"+'datos de entrada'!E384","v":{"v":0,"d":"0 "}},{"$f":"+'datos de entrada'!F384","v":{"v":0,"d":"0 "}},{"$f":"+'datos de entrada'!G384","v":{"v":0,"d":"0 "}},{"$f":"+'datos de entrada'!H384","v":{"v":0,"d":"0 "}},{"$f":"+'datos de entrada'!I384","v":{"v":0,"d":"0 "}},{"$f":"+'datos de entrada'!J384","v":{"v":0,"d":"0 "}},{"$f":"+'datos de entrada'!K384","v":{"v":0,"d":"0 "}},{"$f":"+'datos de entrada'!L384","v":{"v":0,"d":"0 "}},{"$f":"+'datos de entrada'!M384","v":{"v":0,"d":"0 "}},{"$f":"+'datos de entrada'!N384","v":{"v":0,"d":"0 "}}]
[{"$f":"+'datos de entrada'!A385","v":{"v":0,"d":"0 "}},{"$f":"+'datos de entrada'!B385","v":{"v":0,"d":"0 "}},{"$error":"#DIV/0!"},{"v":0,"d":"0 "},{"$f":"SUM('datos de entrada'!O385:Z385)*(1+$C$7)","v":{"v":0,"d":"0 "}},{"$f":"SUM('datos de entrada'!AA385:AL385)*(1+$C$7)^2","v":{"v":0,"d":"0 "}},0,0,{"$f":"+'datos de entrada'!C385","v":{"v":0,"d":"0 "}},{"$f":"+'datos de entrada'!D385","v":{"v":0,"d":"0 "}},{"$f":"+'datos de entrada'!E385","v":{"v":0,"d":"0 "}},{"$f":"+'datos de entrada'!F385","v":{"v":0,"d":"0 "}},{"$f":"+'datos de entrada'!G385","v":{"v":0,"d":"0 "}},{"$f":"+'datos de entrada'!H385","v":{"v":0,"d":"0 "}},{"$f":"+'datos de entrada'!I385","v":{"v":0,"d":"0 "}},{"$f":"+'datos de entrada'!J385","v":{"v":0,"d":"0 "}},{"$f":"+'datos de entrada'!K385","v":{"v":0,"d":"0 "}},{"$f":"+'datos de entrada'!L385","v":{"v":0,"d":"0 "}},{"$f":"+'datos de entrada'!M385","v":{"v":0,"d":"0 "}},{"$f":"+'datos de entrada'!N385","v":{"v":0,"d":"0 "}}]
[{"$f":"+'datos de entrada'!A386","v":{"v":0,"d":"0 "}},{"$f":"+'datos de entrada'!B386","v":{"v":0,"d":"0 "}},{"$error":"#DIV/0!"},{"v":0,"d":"0 "},{"$f":"SUM('datos de entrada'!O386:Z386)*(1+$C$7)","v":{"v":0,"d":"0 "}},{"$f":"SUM('datos de entrada'!AA386:AL386)*(1+$C$7)^2","v":{"v":0,"d":"0 "}},0,0,{"$f":"+'datos de entrada'!C386","v":{"v":0,"d":"0 "}},{"$f":"+'datos de entrada'!D386","v":{"v":0,"d":"0 "}},{"$f":"+'datos de entrada'!E386","v":{"v":0,"d":"0 "}},{"$f":"+'datos de entrada'!F386","v":{"v":0,"d":"0 "}},{"$f":"+'datos de entrada'!G386","v":{"v":0,"d":"0 "}},{"$f":"+'datos de entrada'!H386","v":{"v":0,"d":"0 "}},{"$f":"+'datos de entrada'!I386","v":{"v":0,"d":"0 "}},{"$f":"+'datos de entrada'!J386","v":{"v":0,"d":"0 "}},{"$f":"+'datos de entrada'!K386","v":{"v":0,"d":"0 "}},{"$f":"+'datos de entrada'!L386","v":{"v":0,"d":"0 "}},{"$f":"+'datos de entrada'!M386","v":{"v":0,"d":"0 "}},{"$f":"+'datos de entrada'!N386","v":{"v":0,"d":"0 "}}]
[{"$f":"+'datos de entrada'!A387","v":{"v":0,"d":"0 "}},{"$f":"+'datos de entrada'!B387","v":{"v":0,"d":"0 "}},{"$error":"#DIV/0!"},{"v":0,"d":"0 "},{"$f":"SUM('datos de entrada'!O387:Z387)*(1+$C$7)","v":{"v":0,"d":"0 "}},{"$f":"SUM('datos de entrada'!AA387:AL387)*(1+$C$7)^2","v":{"v":0,"d":"0 "}},0,0,{"$f":"+'datos de entrada'!C387","v":{"v":0,"d":"0 "}},{"$f":"+'datos de entrada'!D387","v":{"v":0,"d":"0 "}},{"$f":"+'datos de entrada'!E387","v":{"v":0,"d":"0 "}},{"$f":"+'datos de entrada'!F387","v":{"v":0,"d":"0 "}},{"$f":"+'datos de entrada'!G387","v":{"v":0,"d":"0 "}},{"$f":"+'datos de entrada'!H387","v":{"v":0,"d":"0 "}},{"$f":"+'datos de entrada'!I387","v":{"v":0,"d":"0 "}},{"$f":"+'datos de entrada'!J387","v":{"v":0,"d":"0 "}},{"$f":"+'datos de entrada'!K387","v":{"v":0,"d":"0 "}},{"$f":"+'datos de entrada'!L387","v":{"v":0,"d":"0 "}},{"$f":"+'datos de entrada'!M387","v":{"v":0,"d":"0 "}},{"$f":"+'datos de entrada'!N387","v":{"v":0,"d":"0 "}}]
[{"$f":"+'datos de entrada'!A388","v":{"v":0,"d":"0 "}},{"$f":"+'datos de entrada'!B388","v":{"v":0,"d":"0 "}},{"$error":"#DIV/0!"},{"v":0,"d":"0 "},{"$f":"SUM('datos de entrada'!O388:Z388)*(1+$C$7)","v":{"v":0,"d":"0 "}},{"$f":"SUM('datos de entrada'!AA388:AL388)*(1+$C$7)^2","v":{"v":0,"d":"0 "}},0,0,{"$f":"+'datos de entrada'!C388","v":{"v":0,"d":"0 "}},{"$f":"+'datos de entrada'!D388","v":{"v":0,"d":"0 "}},{"$f":"+'datos de entrada'!E388","v":{"v":0,"d":"0 "}},{"$f":"+'datos de entrada'!F388","v":{"v":0,"d":"0 "}},{"$f":"+'datos de entrada'!G388","v":{"v":0,"d":"0 "}},{"$f":"+'datos de entrada'!H388","v":{"v":0,"d":"0 "}},{"$f":"+'datos de entrada'!I388","v":{"v":0,"d":"0 "}},{"$f":"+'datos de entrada'!J388","v":{"v":0,"d":"0 "}},{"$f":"+'datos de entrada'!K388","v":{"v":0,"d":"0 "}},{"$f":"+'datos de entrada'!L388","v":{"v":0,"d":"0 "}},{"$f":"+'datos de entrada'!M388","v":{"v":0,"d":"0 "}},{"$f":"+'datos de entrada'!N388","v":{"v":0,"d":"0 "}}]
[{"$f":"+'datos de entrada'!A389","v":{"v":0,"d":"0 "}},{"$f":"+'datos de entrada'!B389","v":{"v":0,"d":"0 "}},{"$error":"#DIV/0!"},{"v":0,"d":"0 "},{"$f":"SUM('datos de entrada'!O389:Z389)*(1+$C$7)","v":{"v":0,"d":"0 "}},{"$f":"SUM('datos de entrada'!AA389:AL389)*(1+$C$7)^2","v":{"v":0,"d":"0 "}},0,0,{"$f":"+'datos de entrada'!C389","v":{"v":0,"d":"0 "}},{"$f":"+'datos de entrada'!D389","v":{"v":0,"d":"0 "}},{"$f":"+'datos de entrada'!E389","v":{"v":0,"d":"0 "}},{"$f":"+'datos de entrada'!F389","v":{"v":0,"d":"0 "}},{"$f":"+'datos de entrada'!G389","v":{"v":0,"d":"0 "}},{"$f":"+'datos de entrada'!H389","v":{"v":0,"d":"0 "}},{"$f":"+'datos de entrada'!I389","v":{"v":0,"d":"0 "}},{"$f":"+'datos de entrada'!J389","v":{"v":0,"d":"0 "}},{"$f":"+'datos de entrada'!K389","v":{"v":0,"d":"0 "}},{"$f":"+'datos de entrada'!L389","v":{"v":0,"d":"0 "}},{"$f":"+'datos de entrada'!M389","v":{"v":0,"d":"0 "}},{"$f":"+'datos de entrada'!N389","v":{"v":0,"d":"0 "}}]
[{"$f":"+'datos de entrada'!A390","v":{"v":0,"d":"0 "}},{"$f":"+'datos de entrada'!B390","v":{"v":0,"d":"0 "}},{"$error":"#DIV/0!"},{"v":0,"d":"0 "},{"$f":"D40*(1+$C$7)","v":{"v":0,"d":"0 "}},{"$f":"E40*(1+$C$7)","v":{"v":0,"d":"0 "}},{"$f":"F40*(1+$C$7)","v":0},{"$f":"G40*(1+$C$7)","v":0},{"$f":"+SUM('datos de entrada'!$B$46:$B$57)/12","v":{"v":0,"d":"0 "}},{"$f":"+SUM('datos de entrada'!$B$46:$B$57)/12","v":{"v":0,"d":"0 "}},{"$f":"+SUM('datos de entrada'!$B$46:$B$57)/12","v":{"v":0,"d":"0 "}},{"$f":"+SUM('datos de entrada'!$B$46:$B$57)/12","v":{"v":0,"d":"0 "}},{"$f":"+SUM('datos de entrada'!$B$46:$B$57)/12","v":{"v":0,"d":"0 "}},{"$f":"+SUM('datos de entrada'!$B$46:$B$57)/12","v":{"v":0,"d":"0 "}},{"$f":"+SUM('datos de entrada'!$B$46:$B$57)/12","v":{"v":0,"d":"0 "}},{"$f":"+SUM('datos de entrada'!$B$46:$B$57)/12","v":{"v":0,"d":"0 "}},{"$f":"+SUM('datos de entrada'!$B$46:$B$57)/12","v":{"v":0,"d":"0 "}},{"$f":"+SUM('datos de entrada'!$B$46:$B$57)/12","v":{"v":0,"d":"0 "}},{"$f":"+SUM('datos de entrada'!$B$46:$B$57)/12","v":{"v":0,"d":"0 "}},{"$f":"+SUM('datos de entrada'!$B$46:$B$57)/12","v":{"v":0,"d":"0 "}}]
["-","-","-","-","-","-","-","-",{"$f":"SUM(I24:I40)","v":{"v":0,"d":"0 "}},{"$f":"SUM(J24:J40)","v":{"v":0,"d":"0 "}},{"v":0,"d":"0 "},{"v":0,"d":"0 "},{"v":0,"d":"0 "},{"v":0,"d":"0 "},{"v":0,"d":"0 "},{"v":0,"d":"0 "},{"v":0,"d":"0 "},{"v":0,"d":"0 "},{"v":0,"d":"0 "},{"v":0,"d":"0 "}]
["TOTAL GTOS.ADMON.",{"$f":"SUM(B24:B41)+B22","v":{"v":0,"d":"0 "}},{"$f":"B42/$B$42","v":{"$error":"#DIV/0!"}},{"$f":"SUM(D22:D40)","v":{"v":0,"d":"0 "}},{"$f":"SUM(E22:E40)","v":{"v":0,"d":"0 "}},{"$f":"SUM(F22:F40)","v":{"v":0,"d":"0 "}},{"$f":"SUM(G22:G40)","v":0},{"$f":"SUM(H22:H40)","v":0},{"$f":"SUM(I24:I40)+I22","v":{"v":0,"d":"0 "}},{"$f":"SUM(J24:J40)+J22","v":{"v":0,"d":"0 "}},{"v":0,"d":"0 "},{"v":0,"d":"0 "},{"v":0,"d":"0 "},{"v":0,"d":"0 "},{"v":0,"d":"0 "},{"v":0,"d":"0 "},{"v":0,"d":"0 "},{"v":0,"d":"0 "},{"v":0,"d":"0 "},{"v":0,"d":"0 "}]
["-","-","-","-","-","-","-","-"]
[]
[]
["2. COSTOS DE PRODUCCION"]
[]
["MANO DE OBRA  DIRECTA E INDIRECTA"]
["-","-","-","-","-","-","-"]
["TIPO EMPLEADO","SALARIO MES","NUMERO DE EMPLEADOS POR ANO"]
[null,null,"ANO 1","ANO 2","ANO 3","ANO 4","ANO 5"]
["-","-","-","-","-","-","-"]
[{"$f":"+'datos de entrada'!A353","v":{"v":0,"d":"0 "}},{"$f":"+'datos de entrada'!B353","v":{"v":0,"d":"0 "}},{"$f":"+'datos de entrada'!C353","v":{"v":0,"d":"0 "}},{"$f":"+'datos de entrada'!D353","v":{"v":0,"d":"0 "}},{"$f":"+'datos de entrada'!E353","v":{"v":0,"d":"0 "}},{"$f":"+'datos de entrada'!F353","v":0},{"$f":"+'datos de entrada'!G353","v":0},{"$f":"IF(G53=\"SI\",1,0)","v":{"v":0,"d":"0 "}},{"$f":"(8.33333%+8.3333%+1%+8%+16%/4*3+1%+9%+4.17%)*H53","v":{"v":0,"d":"0.000%"}}]
[{"$f":"+'datos de entrada'!A354","v":{"v":0,"d":"0 "}},{"$f":"+'datos de entrada'!B354","v":{"v":0,"d":"0 "}},{"$f":"+'datos de entrada'!C354","v":{"v":0,"d":"0 "}},{"$f":"+'datos de entrada'!D354","v":{"v":0,"d":"0 "}},{"$f":"+'datos de entrada'!E354","v":{"v":0,"d":"0 "}},{"$f":"+'datos de entrada'!F354","v":0},{"$f":"+'datos de entrada'!G354","v":0},{"$f":"IF(G54=\"SI\",1,0)","v":{"v":0,"d":"0 "}},{"$f":"(8.33333%+8.3333%+1%+8%+16%/4*3+1%+9%+4.17%)*H54","v":{"v":0,"d":"0.000%"}}]
[{"$f":"+'datos de entrada'!A355","v":{"v":0,"d":"0 "}},{"$f":"+'datos de entrada'!B355","v":{"v":0,"d":"0 "}},{"$f":"+'datos de entrada'!C355","v":{"v":0,"d":"0 "}},{"$f":"+'datos de entrada'!D355","v":{"v":0,"d":"0 "}},{"$f":"+'datos de entrada'!E355","v":{"v":0,"d":"0 "}},{"$f":"+'datos de entrada'!F355","v":0},{"$f":"+'datos de entrada'!G355","v":0},{"v":0,"d":"0 "},{"v":0,"d":"0.000%"}]
[{"$f":"+'datos de entrada'!A356","v":{"v":0,"d":"0 "}},{"$f":"+'datos de entrada'!B356","v":{"v":0,"d":"0 "}},{"$f":"+'datos de entrada'!C356","v":{"v":0,"d":"0 "}},{"$f":"+'datos de entrada'!D356","v":{"v":0,"d":"0 "}},{"$f":"+'datos de entrada'!E356","v":{"v":0,"d":"0 "}},{"$f":"+'datos de entrada'!F356","v":0},{"$f":"+'datos de entrada'!G356","v":0},{"v":0,"d":"0 "},{"v":0,"d":"0.000%"}]
[{"$f":"+'datos de entrada'!A357","v":{"v":0,"d":"0 "}},{"$f":"+'datos de entrada'!B357","v":{"v":0,"d":"0 "}},{"$f":"+'datos de entrada'!C357","v":{"v":0,"d":"0 "}},{"$f":"+'datos de entrada'!D357","v":{"v":0,"d":"0 "}},{"$f":"+'datos de entrada'!E357","v":{"v":0,"d":"0 "}},{"$f":"+'datos de entrada'!F357","v":0},{"$f":"+'datos de entrada'!G357","v":0},{"v":0,"d":"0 "},{"v":0,"d":"0.000%"}]
[{"$f":"+'datos de entrada'!A358","v":{"v":0,"d":"0 "}},{"$f":"+'datos de entrada'!B358","v":{"v":0,"d":"0 "}},{"$f":"+'datos de entrada'!C358","v":{"v":0,"d":"0 "}},{"$f":"+'datos de entrada'!D358","v":{"v":0,"d":"0 "}},{"$f":"+'datos de entrada'!E358","v":{"v":0,"d":"0 "}},{"$f":"+'datos de entrada'!F358","v":0},{"$f":"+'datos de entrada'!G358","v":0},{"v":0,"d":"0 "},{"v":0,"d":"0.000%"}]
[{"$f":"+'datos de entrada'!A359","v":{"v":0,"d":"0 "}},{"$f":"+'datos de entrada'!B359","v":{"v":0,"d":"0 "}},{"$f":"+'datos de entrada'!C359","v":{"v":0,"d":"0 "}},{"$f":"+'datos de entrada'!D359","v":{"v":0,"d":"0 "}},{"$f":"+'datos de entrada'!E359","v":{"v":0,"d":"0 "}},{"$f":"+'datos de entrada'!F359","v":0},{"$f":"+'datos de entrada'!G359","v":0},{"v":0,"d":"0 "},{"v":0,"d":"0.000%"}]
[{"$f":"+'datos de entrada'!A360","v":{"v":0,"d":"0 "}},{"$f":"+'datos de entrada'!B360","v":{"v":0,"d":"0 "}},{"$f":"+'datos de entrada'!C360","v":{"v":0,"d":"0 "}},{"$f":"+'datos de entrada'!D360","v":{"v":0,"d":"0 "}},{"$f":"+'datos de entrada'!E360","v":{"v":0,"d":"0 "}},{"$f":"+'datos de entrada'!F360","v":0},{"$f":"+'datos de entrada'!G360","v":0},{"v":0,"d":"0 "},{"v":0,"d":"0.000%"}]
["-","-","-","-","-","-","-"]
[]
["PAGOS DE SALARIOS"]
["-","-","-","-","-","-","-"]
["TIPO DE EMPLEADO","MES","ANO 1","ANO 2","ANO 3","ANO 4","ANO 5","mes1","mes2","mes3","mes4","mes5","mes6","mes7","mes8","mes9","mes10","mes11","mes12","mes13","mes14","mes15","mes16","mes17","mes18","mes19","mes20","mes21","mes22","mes23","mes24","mes25","mes26","mes27","mes28","mes29","mes30","mes31","mes32","mes33","mes34","mes35","mes36"]
["-","-","-","-","-","-","-"]
[{"$f":"A53","v":0},{"$f":"SUM(H67:S67)/12","v":{"v":0,"d":"0 "}},{"$f":"SUM(H67:S67)","v":{"v":0,"d":"0 "}},{"$f":"SUM(T67:AE67)","v":{"v":0,"d":"0 "}},{"$f":"SUM(AF67:AQ67)","v":{"v":0,"d":"0 "}},null,null,{"$f":"+'datos de entrada'!C325","v":0},{"$f":"+'datos de entrada'!D325","v":0},{"$f":"+'datos de entrada'!E325","v":0},{"$f":"+'datos de entrada'!F325","v":0},{"$f":"+'datos de entrada'!G325","v":0},{"$f":"+'datos de entrada'!H325","v":0},{"$f":"+'datos de entrada'!I325","v":0},{"$f":"+'datos de entrada'!J325","v":0},{"$f":"+'datos de entrada'!K325","v":0},{"$f":"+'datos de entrada'!L325","v":0},{"$f":"+'datos de entrada'!M325","v":0},{"$f":"+'datos de entrada'!N325","v":0},{"$f":"(+'datos de entrada'!O325)*(1+$C$7)","v":0},{"$f":"(+'datos de entrada'!P325)*(1+$C$7)","v":0},{"$f":"(+'datos de entrada'!Q325)*(1+$C$7)","v":0},{"$f":"(+'datos de entrada'!R325)*(1+$C$7)","v":0},{"$f":"(+'datos de entrada'!S325)*(1+$C$7)","v":0},{"$f":"(+'datos de entrada'!T325)*(1+$C$7)","v":0},{"$f":"(+'datos de entrada'!U325)*(1+$C$7)","v":0},{"$f":"(+'datos de entrada'!V325)*(1+$C$7)","v":0},{"$f":"(+'datos de entrada'!W325)*(1+$C$7)","v":0},{"$f":"(+'datos de entrada'!X325)*(1+$C$7)","v":0},{"$f":"(+'datos de entrada'!Y325)*(1+$C$7)","v":0},{"$f":"(+'datos de entrada'!Z325)*(1+$C$7)","v":0},{"$f":"(+'datos de entrada'!AA325)*(1+$C$7)^2","v":0},{"$f":"(+'datos de entrada'!AB325)*(1+$C$7)^2","v":0},{"$f":"(+'datos de entrada'!AC325)*(1+$C$7)^2","v":0},{"$f":"(+'datos de entrada'!AD325)*(1+$C$7)^2","v":0},{"$f":"(+'datos de entrada'!AE325)*(1+$C$7)^2","v":0},{"$f":"(+'datos de entrada'!AF325)*(1+$C$7)^2","v":0},{"$f":"(+'datos de entrada'!AG325)*(1+$C$7)^2","v":0},{"$f":"(+'datos de entrada'!AH325)*(1+$C$7)^2","v":0},{"$f":"(+'datos de entrada'!AI325)*(1+$C$7)^2","v":0},{"$f":"(+'datos de entrada'!AJ325)*(1+$C$7)^2","v":0},{"$f":"(+'datos de entrada'!AK325)*(1+$C$7)^2","v":0},{"$f":"(+'datos de entrada'!AL325)*(1+$C$7)^2","v":0}]
[0,{"$f":"SUM(H68:S68)/12","v":{"v":0,"d":"0 "}},{"$f":"SUM(H68:S68)","v":{"v":0,"d":"0 "}},{"$f":"SUM(T68:AE68)","v":{"v":0,"d":"0 "}},{"$f":"SUM(AF68:AQ68)","v":{"v":0,"d":"0 "}},null,null,{"$f":"+'datos de entrada'!C326","v":0},{"$f":"+'datos de entrada'!D326","v":0},{"$f":"+'datos de entrada'!E326","v":0},{"$f":"+'datos de entrada'!F326","v":0},{"$f":"+'datos de entrada'!G326","v":0},{"$f":"+'datos de entrada'!H326","v":0},{"$f":"+'datos de entrada'!I326","v":0},{"$f":"+'datos de entrada'!J326","v":0},{"$f":"+'datos de entrada'!K326","v":0},{"$f":"+'datos de entrada'!L326","v":0},{"$f":"+'datos de entrada'!M326","v":0},{"$f":"+'datos de entrada'!N326","v":0},{"$f":"(+'datos de entrada'!O326)*(1+$C$7)","v":0},{"$f":"(+'datos de entrada'!P326)*(1+$C$7)","v":0},{"$f":"(+'datos de entrada'!Q326)*(1+$C$7)","v":0},{"$f":"(+'datos de entrada'!R326)*(1+$C$7)","v":0},{"$f":"(+'datos de entrada'!S326)*(1+$C$7)","v":0},{"$f":"(+'datos de entrada'!T326)*(1+$C$7)","v":0},{"$f":"(+'datos de entrada'!U326)*(1+$C$7)","v":0},{"$f":"(+'datos de entrada'!V326)*(1+$C$7)","v":0},{"$f":"(+'datos de entrada'!W326)*(1+$C$7)","v":0},{"$f":"(+'datos de entrada'!X326)*(1+$C$7)","v":0},{"$f":"(+'datos de entrada'!Y326)*(1+$C$7)","v":0},{"$f":"(+'datos de entrada'!Z326)*(1+$C$7)","v":0},{"$f":"(+'datos de entrada'!AA326)*(1+$C$7)^2","v":0},{"$f":"(+'datos de entrada'!AB326)*(1+$C$7)^2","v":0},{"$f":"(+'datos de entrada'!AC326)*(1+$C$7)^2","v":0},{"$f":"(+'datos de entrada'!AD326)*(1+$C$7)^2","v":0},{"$f":"(+'datos de entrada'!AE326)*(1+$C$7)^2","v":0},{"$f":"(+'datos de entrada'!AF326)*(1+$C$7)^2","v":0},{"$f":"(+'datos de entrada'!AG326)*(1+$C$7)^2","v":0},{"$f":"(+'datos de entrada'!AH326)*(1+$C$7)^2","v":0},{"$f":"(+'datos de entrada'!AI326)*(1+$C$7)^2","v":0},{"$f":"(+'datos de entrada'!AJ326)*(1+$C$7)^2","v":0},{"$f":"(+'datos de entrada'!AK326)*(1+$C$7)^2","v":0},{"$f":"(+'datos de entrada'!AL326)*(1+$C$7)^2","v":0}]
[0,{"v":0,"d":"0 "},{"v":0,"d":"0 "},{"v":0,"d":"0 "},{"v":0,"d":"0 "},null,null,{"$f":"+'datos de entrada'!C327","v":0},{"$f":"+'datos de entrada'!D327","v":0},{"$f":"+'datos de entrada'!E327","v":0},{"$f":"+'datos de entrada'!F327","v":0},{"$f":"+'datos de entrada'!G327","v":0},{"$f":"+'datos de entrada'!H327","v":0},{"$f":"+'datos de entrada'!I327","v":0},{"$f":"+'datos de entrada'!J327","v":0},{"$f":"+'datos de entrada'!K327","v":0},{"$f":"+'datos de entrada'!L327","v":0},{"$f":"+'datos de entrada'!M327","v":0},{"$f":"+'datos de entrada'!N327","v":0},{"$f":"(+'datos de entrada'!O327)*(1+$C$7)","v":0},{"$f":"(+'datos de entrada'!P327)*(1+$C$7)","v":0},{"$f":"(+'datos de entrada'!Q327)*(1+$C$7)","v":0},{"$f":"(+'datos de entrada'!R327)*(1+$C$7)","v":0},{"$f":"(+'datos de entrada'!S327)*(1+$C$7)","v":0},{"$f":"(+'datos de entrada'!T327)*(1+$C$7)","v":0},{"$f":"(+'datos de entrada'!U327)*(1+$C$7)","v":0},{"$f":"(+'datos de entrada'!V327)*(1+$C$7)","v":0},{"$f":"(+'datos de entrada'!W327)*(1+$C$7)","v":0},{"$f":"(+'datos de entrada'!X327)*(1+$C$7)","v":0},{"$f":"(+'datos de entrada'!Y327)*(1+$C$7)","v":0},{"$f":"(+'datos de entrada'!Z327)*(1+$C$7)","v":0},{"$f":"(+'datos de entrada'!AA327)*(1+$C$7)^2","v":0},{"$f":"(+'datos de entrada'!AB327)*(1+$C$7)^2","v":0},{"$f":"(+'datos de entrada'!AC327)*(1+$C$7)^2","v":0},{"$f":"(+'datos de entrada'!AD327)*(1+$C$7)^2","v":0},{"$f":"(+'datos de entrada'!AE327)*(1+$C$7)^2","v":0},{"$f":"(+'datos de entrada'!AF327)*(1+$C$7)^2","v":0},{"$f":"(+'datos de entrada'!AG327)*(1+$C$7)^2","v":0},{"$f":"(+'datos de entrada'!AH327)*(1+$C$7)^2","v":0},{"$f":"(+'datos de entrada'!AI327)*(1+$C$7)^2","v":0},{"$f":"(+'datos de entrada'!AJ327)*(1+$C$7)^2","v":0},{"$f":"(+'datos de entrada'!AK327)*(1+$C$7)^2","v":0},{"$f":"(+'datos de entrada'!AL327)*(1+$C$7)^2","v":0}]
[0,{"v":0,"d":"0 "},{"v":0,"d":"0 "},{"v":0,"d":"0 "},{"v":0,"d":"0 "},null,null,{"$f":"+'datos de entrada'!C328","v":0},{"$f":"+'datos de entrada'!D328","v":0},{"$f":"+'datos de entrada'!E328","v":0},{"$f":"+'datos de entrada'!F328","v":0},{"$f":"+'datos de entrada'!G328","v":0},{"$f":"+'datos de entrada'!H328","v":0},{"$f":"+'datos de entrada'!I328","v":0},{"$f":"+'datos de entrada'!J328","v":0},{"$f":"+'datos de entrada'!K328","v":0},{"$f":"+'datos de entrada'!L328","v":0},{"$f":"+'datos de entrada'!M328","v":0},{"$f":"+'datos de entrada'!N328","v":0},{"$f":"(+'datos de entrada'!O328)*(1+$C$7)","v":0},{"$f":"(+'datos de entrada'!P328)*(1+$C$7)","v":0},{"$f":"(+'datos de entrada'!Q328)*(1+$C$7)","v":0},{"$f":"(+'datos de entrada'!R328)*(1+$C$7)","v":0},{"$f":"(+'datos de entrada'!S328)*(1+$C$7)","v":0},{"$f":"(+'datos de entrada'!T328)*(1+$C$7)","v":0},{"$f":"(+'datos de entrada'!U328)*(1+$C$7)","v":0},{"$f":"(+'datos de entrada'!V328)*(1+$C$7)","v":0},{"$f":"(+'datos de entrada'!W328)*(1+$C$7)","v":0},{"$f":"(+'datos de entrada'!X328)*(1+$C$7)","v":0},{"$f":"(+'datos de entrada'!Y328)*(1+$C$7)","v":0},{"$f":"(+'datos de entrada'!Z328)*(1+$C$7)","v":0},{"$f":"(+'datos de entrada'!AA328)*(1+$C$7)^2","v":0},{"$f":"(+'datos de entrada'!AB328)*(1+$C$7)^2","v":0},{"$f":"(+'datos de entrada'!AC328)*(1+$C$7)^2","v":0},{"$f":"(+'datos de entrada'!AD328)*(1+$C$7)^2","v":0},{"$f":"(+'datos de entrada'!AE328)*(1+$C$7)^2","v":0},{"$f":"(+'datos de entrada'!AF328)*(1+$C$7)^2","v":0},{"$f":"(+'datos de entrada'!AG328)*(1+$C$7)^2","v":0},{"$f":"(+'datos de entrada'!AH328)*(1+$C$7)^2","v":0},{"$f":"(+'datos de entrada'!AI328)*(1+$C$7)^2","v":0},{"$f":"(+'datos de entrada'!AJ328)*(1+$C$7)^2","v":0},{"$f":"(+'datos de entrada'!AK328)*(1+$C$7)^2","v":0},{"$f":"(+'datos de entrada'!AL328)*(1+$C$7)^2","v":0}]
[0,{"v":0,"d":"0 "},{"v":0,"d":"0 "},{"v":0,"d":"0 "},{"v":0,"d":"0 "},null,null,{"$f":"+'datos de entrada'!C329","v":0},{"$f":"+'datos de entrada'!D329","v":0},{"$f":"+'datos de entrada'!E329","v":0},{"$f":"+'datos de entrada'!F329","v":0},{"$f":"+'datos de entrada'!G329","v":0},{"$f":"+'datos de entrada'!H329","v":0},{"$f":"+'datos de entrada'!I329","v":0},{"$f":"+'datos de entrada'!J329","v":0},{"$f":"+'datos de entrada'!K329","v":0},{"$f":"+'datos de entrada'!L329","v":0},{"$f":"+'datos de entrada'!M329","v":0},{"$f":"+'datos de entrada'!N329","v":0},{"$f":"(+'datos de entrada'!O329)*(1+$C$7)","v":0},{"$f":"(+'datos de entrada'!P329)*(1+$C$7)","v":0},{"$f":"(+'datos de entrada'!Q329)*(1+$C$7)","v":0},{"$f":"(+'datos de entrada'!R329)*(1+$C$7)","v":0},{"$f":"(+'datos de entrada'!S329)*(1+$C$7)","v":0},{"$f":"(+'datos de entrada'!T329)*(1+$C$7)","v":0},{"$f":"(+'datos de entrada'!U329)*(1+$C$7)","v":0},{"$f":"(+'datos de entrada'!V329)*(1+$C$7)","v":0},{"$f":"(+'datos de entrada'!W329)*(1+$C$7)","v":0},{"$f":"(+'datos de entrada'!X329)*(1+$C$7)","v":0},{"$f":"(+'datos de entrada'!Y329)*(1+$C$7)","v":0},{"$f":"(+'datos de entrada'!Z329)*(1+$C$7)","v":0},{"$f":"(+'datos de entrada'!AA329)*(1+$C$7)^2","v":0},{"$f":"(+'datos de entrada'!AB329)*(1+$C$7)^2","v":0},{"$f":"(+'datos de entrada'!AC329)*(1+$C$7)^2","v":0},{"$f":"(+'datos de entrada'!AD329)*(1+$C$7)^2","v":0},{"$f":"(+'datos de entrada'!AE329)*(1+$C$7)^2","v":0},{"$f":"(+'datos de entrada'!AF329)*(1+$C$7)^2","v":0},{"$f":"(+'datos de entrada'!AG329)*(1+$C$7)^2","v":0},{"$f":"(+'datos de entrada'!AH329)*(1+$C$7)^2","v":0},{"$f":"(+'datos de entrada'!AI329)*(1+$C$7)^2","v":0},{"$f":"(+'datos de entrada'!AJ329)*(1+$C$7)^2","v":0},{"$f":"(+'datos de entrada'!AK329)*(1+$C$7)^2","v":0},{"$f":"(+'datos de entrada'!AL329)*(1+$C$7)^2","v":0}]
[0,{"v":0,"d":"0 "},{"v":0,"d":"0 "},{"v":0,"d":"0 "},{"v":0,"d":"0 "},null,null,{"$f":"+'datos de entrada'!C330","v":0},{"$f":"+'datos de entrada'!D330","v":0},{"$f":"+'datos de entrada'!E330","v":0},{"$f":"+'datos de entrada'!F330","v":0},{"$f":"+'datos de entrada'!G330","v":0},{"$f":"+'datos de entrada'!H330","v":0},{"$f":"+'datos de entrada'!I330","v":0},{"$f":"+'datos de entrada'!J330","v":0},{"$f":"+'datos de entrada'!K330","v":0},{"$f":"+'datos de entrada'!L330","v":0},{"$f":"+'datos de entrada'!M330","v":0},{"$f":"+'datos de entrada'!N330","v":0},{"$f":"(+'datos de entrada'!O330)*(1+$C$7)","v":0},{"$f":"(+'datos de entrada'!P330)*(1+$C$7)","v":0},{"$f":"(+'datos de entrada'!Q330)*(1+$C$7)","v":0},{"$f":"(+'datos de entrada'!R330)*(1+$C$7)","v":0},{"$f":"(+'datos de entrada'!S330)*(1+$C$7)","v":0},{"$f":"(+'datos de entrada'!T330)*(1+$C$7)","v":0},{"$f":"(+'datos de entrada'!U330)*(1+$C$7)","v":0},{"$f":"(+'datos de entrada'!V330)*(1+$C$7)","v":0},{"$f":"(+'datos de entrada'!W330)*(1+$C$7)","v":0},{"$f":"(+'datos de entrada'!X330)*(1+$C$7)","v":0},{"$f":"(+'datos de entrada'!Y330)*(1+$C$7)","v":0},{"$f":"(+'datos de entrada'!Z330)*(1+$C$7)","v":0},{"$f":"(+'datos de entrada'!AA330)*(1+$C$7)^2","v":0},{"$f":"(+'datos de entrada'!AB330)*(1+$C$7)^2","v":0},{"$f":"(+'datos de entrada'!AC330)*(1+$C$7)^2","v":0},{"$f":"(+'datos de entrada'!AD330)*(1+$C$7)^2","v":0},{"$f":"(+'datos de entrada'!AE330)*(1+$C$7)^2","v":0},{"$f":"(+'datos de entrada'!AF330)*(1+$C$7)^2","v":0},{"$f":"(+'datos de entrada'!AG330)*(1+$C$7)^2","v":0},{"$f":"(+'datos de entrada'!AH330)*(1+$C$7)^2","v":0},{"$f":"(+'datos de entrada'!AI330)*(1+$C$7)^2","v":0},{"$f":"(+'datos de entrada'!AJ330)*(1+$C$7)^2","v":0},{"$f":"(+'datos de entrada'!AK330)*(1+$C$7)^2","v":0},{"$f":"(+'datos de entrada'!AL330)*(1+$C$7)^2","v":0}]
[0,{"v":0,"d":"0 "},{"v":0,"d":"0 "},{"v":0,"d":"0 "},{"v":0,"d":"0 "},null,null,{"$f":"+'datos de entrada'!C331","v":0},{"$f":"+'datos de entrada'!D331","v":0},{"$f":"+'datos de entrada'!E331","v":0},{"$f":"+'datos de entrada'!F331","v":0},{"$f":"+'datos de entrada'!G331","v":0},{"$f":"+'datos de entrada'!H331","v":0},{"$f":"+'datos de entrada'!I331","v":0},{"$f":"+'datos de entrada'!J331","v":0},{"$f":"+'datos de entrada'!K331","v":0},{"$f":"+'datos de entrada'!L331","v":0},{"$f":"+'datos de entrada'!M331","v":0},{"$f":"+'datos de entrada'!N331","v":0},{"$f":"(+'datos de entrada'!O331)*(1+$C$7)","v":0},{"$f":"(+'datos de entrada'!P331)*(1+$C$7)","v":0},{"$f":"(+'datos de entrada'!Q331)*(1+$C$7)","v":0},{"$f":"(+'datos de entrada'!R331)*(1+$C$7)","v":0},{"$f":"(+'datos de entrada'!S331)*(1+$C$7)","v":0},{"$f":"(+'datos de entrada'!T331)*(1+$C$7)","v":0},{"$f":"(+'datos de entrada'!U331)*(1+$C$7)","v":0},{"$f":"(+'datos de entrada'!V331)*(1+$C$7)","v":0},{"$f":"(+'datos de entrada'!W331)*(1+$C$7)","v":0},{"$f":"(+'datos de entrada'!X331)*(1+$C$7)","v":0},{"$f":"(+'datos de entrada'!Y331)*(1+$C$7)","v":0},{"$f":"(+'datos de entrada'!Z331)*(1+$C$7)","v":0},{"$f":"(+'datos de entrada'!AA331)*(1+$C$7)^2","v":0},{"$f":"(+'datos de entrada'!AB331)*(1+$C$7)^2","v":0},{"$f":"(+'datos de entrada'!AC331)*(1+$C$7)^2","v":0},{"$f":"(+'datos de entrada'!AD331)*(1+$C$7)^2","v":0},{"$f":"(+'datos de entrada'!AE331)*(1+$C$7)^2","v":0},{"$f":"(+'datos de entrada'!AF331)*(1+$C$7)^2","v":0},{"$f":"(+'datos de entrada'!AG331)*(1+$C$7)^2","v":0},{"$f":"(+'datos de entrada'!AH331)*(1+$C$7)^2","v":0},{"$f":"(+'datos de entrada'!AI331)*(1+$C$7)^2","v":0},{"$f":"(+'datos de entrada'!AJ331)*(1+$C$7)^2","v":0},{"$f":"(+'datos de entrada'!AK331)*(1+$C$7)^2","v":0},{"$f":"(+'datos de entrada'!AL331)*(1+$C$7)^2","v":0}]
[0,{"v":0,"d":"0 "},{"v":0,"d":"0 "},{"v":0,"d":"0 "},{"v":0,"d":"0 "},null,null,{"$f":"+'datos de entrada'!C332","v":0},{"$f":"+'datos de entrada'!D332","v":0},{"$f":"+'datos de entrada'!E332","v":0},{"$f":"+'datos de entrada'!F332","v":0},{"$f":"+'datos de entrada'!G332","v":0},{"$f":"+'datos de entrada'!H332","v":0},{"$f":"+'datos de entrada'!I332","v":0},{"$f":"+'datos de entrada'!J332","v":0},{"$f":"+'datos de entrada'!K332","v":0},{"$f":"+'datos de entrada'!L332","v":0},{"$f":"+'datos de entrada'!M332","v":0},{"$f":"+'datos de entrada'!N332","v":0},{"$f":"(+'datos de entrada'!O332)*(1+$C$7)","v":0},{"$f":"(+'datos de entrada'!P332)*(1+$C$7)","v":0},{"$f":"(+'datos de entrada'!Q332)*(1+$C$7)","v":0},{"$f":"(+'datos de entrada'!R332)*(1+$C$7)","v":0},{"$f":"(+'datos de entrada'!S332)*(1+$C$7)","v":0},{"$f":"(+'datos de entrada'!T332)*(1+$C$7)","v":0},{"$f":"(+'datos de entrada'!U332)*(1+$C$7)","v":0},{"$f":"(+'datos de entrada'!V332)*(1+$C$7)","v":0},{"$f":"(+'datos de entrada'!W332)*(1+$C$7)","v":0},{"$f":"(+'datos de entrada'!X332)*(1+$C$7)","v":0},{"$f":"(+'datos de entrada'!Y332)*(1+$C$7)","v":0},{"$f":"(+'datos de entrada'!Z332)*(1+$C$7)","v":0},{"$f":"(+'datos de entrada'!AA332)*(1+$C$7)^2","v":0},{"$f":"(+'datos de entrada'!AB332)*(1+$C$7)^2","v":0},{"$f":"(+'datos de entrada'!AC332)*(1+$C$7)^2","v":0},{"$f":"(+'datos de entrada'!AD332)*(1+$C$7)^2","v":0},{"$f":"(+'datos de entrada'!AE332)*(1+$C$7)^2","v":0},{"$f":"(+'datos de entrada'!AF332)*(1+$C$7)^2","v":0},{"$f":"(+'datos de entrada'!AG332)*(1+$C$7)^2","v":0},{"$f":"(+'datos de entrada'!AH332)*(1+$C$7)^2","v":0},{"$f":"(+'datos de entrada'!AI332)*(1+$C$7)^2","v":0},{"$f":"(+'datos de entrada'!AJ332)*(1+$C$7)^2","v":0},{"$f":"(+'datos de entrada'!AK332)*(1+$C$7)^2","v":0},{"$f":"(+'datos de entrada'!AL332)*(1+$C$7)^2","v":0}]
["-","-","-","-","-"]
["SUBTOTAL",{"$nulls":6},{"$f":"SUM('datos de entrada'!B439:B446)","v":0},{"$f":"SUM('datos de entrada'!C439:C446)","v":0},{"$f":"SUM('datos de entrada'!D439:D446)","v":0},{"$f":"SUM('datos de entrada'!E439:E446)","v":0},{"$f":"SUM('datos de entrada'!F439:F446)","v":0},{"$f":"SUM('datos de entrada'!G439:G446)","v":0},{"$f":"SUM('datos de entrada'!H439:H446)","v":0},{"$f":"SUM('datos de entrada'!I439:I446)","v":0},{"$f":"SUM('datos de entrada'!J439:J446)","v":0},{"$f":"SUM('datos de entrada'!K439:K446)","v":0},{"$f":"SUM('datos de entrada'!L439:L446)","v":0},{"$f":"SUM('datos de entrada'!M439:M446)","v":0},{"$f":"SUM('datos de entrada'!N439:N446)","v":0},{"$f":"SUM('datos de entrada'!O439:O446)","v":0},{"$f":"SUM('datos de entrada'!P439:P446)","v":0},{"$f":"SUM('datos de entrada'!Q439:Q446)","v":0},{"$f":"SUM('datos de entrada'!R439:R446)","v":0},{"$f":"SUM('datos de entrada'!S439:S446)","v":0},{"$f":"SUM('datos de entrada'!T439:T446)","v":0},{"$f":"SUM('datos de entrada'!U439:U446)","v":0},{"$f":"SUM('datos de entrada'!V439:V446)","v":0},{"$f":"SUM('datos de entrada'!W439:W446)","v":0},{"$f":"SUM('datos de entrada'!X439:X446)","v":0},{"$f":"SUM('datos de entrada'!Y439:Y446)","v":0},{"$f":"SUM('datos de entrada'!Z439:Z446)","v":0},{"$f":"SUM('datos de entrada'!AA439:AA446)","v":0},{"$f":"SUM('datos de entrada'!AB439:AB446)","v":0},{"$f":"SUM('datos de entrada'!AC439:AC446)","v":0},{"$f":"SUM('datos de entrada'!AD439:AD446)","v":0},{"$f":"SUM('datos de entrada'!AE439:AE446)","v":0},{"$f":"SUM('datos de entrada'!AF439:AF446)","v":0},{"$f":"SUM('datos de entrada'!AG439:AG446)","v":0},{"$f":"SUM('datos de entrada'!AH439:AH446)","v":0},{"$f":"SUM('datos de entrada'!AI439:AI446)","v":0},{"$f":"SUM('datos de entrada'!AJ439:AJ446)","v":0},{"$f":"SUM('datos de entrada'!AK439:AK446)","v":0}]
["  PRESTACIONES ",{"$nulls":6},{"$f":"+SUM(H67:H74)-H76","v":0},0,0,0,0,0,0,0,0,0,0,0,0,0,0,0,0,0,0,0,0,0,0,0,{"$f":"+SUM(AF67:AF74)-AF76","v":0},0,0,0,0,0,0,0,0,0,0,0]
["TOTAL",{"$f":"SUM(B67:B74)","v":{"v":0,"d":"0 "}},{"$f":"SUM(C67:C74)","v":{"v":0,"d":"0 "}},{"$f":"SUM(D67:D74)","v":{"v":0,"d":"0 "}},{"$f":"SUM(E67:E74)","v":{"v":0,"d":"0 "}},null,null,{"$f":"+H76+H77","v":0},{"$f":"+I76+I77","v":0},0,0,0,0,0,0,0,0,0,0,{"$f":"+T76+T77","v":0},0,0,0,0,0,0,0,0,0,0,0,0,0,0,0,0,0,0,0,0,0,0,0]
["-","-","-","-","-","-","-"]
[]
[]
["COSTOS DE PRODUCCION"]
["-","-","-","-","-","-","-"]
["CONCEPTO","COSTO MENSUAL","ANO 1","ANO 2","ANO 3","ANO 4","ANO 5","mes1","mes2","mes3","mes4","mes5","mes6","mes7","mes8","mes9","mes10","mes11","mes12"]
["-","-","-","-","-","-","-"]
[{"$f":"+'datos de entrada'!A337","v":{"v":0,"d":"0 "}},{"$f":"+'datos de entrada'!B337/12","v":{"v":0,"d":"0 "}},{"$f":"12*B86","v":{"v":0,"d":"0 "}},{"$f":"S86*12*(1+$C$7)","v":{"v":0,"d":"0 "}},{"$f":"D86*(1+$C$7)","v":{"v":0,"d":"0 "}},0,0,{"$f":"+'datos de entrada'!C337","v":0},{"$f":"+'datos de entrada'!D337","v":0},{"$f":"+'datos de entrada'!E337","v":0},{"$f":"+'datos de entrada'!F337","v":0},{"$f":"+'datos de entrada'!G337","v":0},{"$f":"+'datos de entrada'!H337","v":0},{"$f":"+'datos de entrada'!I337","v":0},{"$f":"+'datos de entrada'!J337","v":0},{"$f":"+'datos de entrada'!K337","v":0},{"$f":"+'datos de entrada'!L337","v":0},{"$f":"+'datos de entrada'!M337","v":0},{"$f":"+'datos de entrada'!N337","v":0}]
[{"$f":"+'datos de entrada'!A338","v":{"v":0,"d":"0 "}},{"$f":"+'datos de entrada'!B338/12","v":{"v":0,"d":"0 "}},{"v":0,"d":"0 "},{"$f":"S87*12*(1+$C$7)","v":{"v":0,"d":"0 "}},{"v":0,"d":"0 "},0,0,{"$f":"+'datos de entrada'!C338","v":0},{"$f":"+'datos de entrada'!D338","v":0},{"$f":"+'datos de entrada'!E338","v":0},{"$f":"+'datos de entrada'!F338","v":0},{"$f":"+'datos de entrada'!G338","v":0},{"$f":"+'datos de entrada'!H338","v":0},{"$f":"+'datos de entrada'!I338","v":0},{"$f":"+'datos de entrada'!J338","v":0},{"$f":"+'datos de entrada'!K338","v":0},{"$f":"+'datos de entrada'!L338","v":0},{"$f":"+'datos de entrada'!M338","v":0},{"$f":"+'datos de entrada'!N338","v":0}]
[{"$f":"+'datos de entrada'!A339","v":{"v":0,"d":"0 "}},{"$f":"+'datos de entrada'!B339/12","v":{"v":0,"d":"0 "}},{"v":0,"d":"0 "},{"v":0,"d":"0 "},{"v":0,"d":"0 "},0,0,{"$f":"+'datos de entrada'!C339","v":0},{"$f":"+'datos de entrada'!D339","v":0},{"$f":"+'datos de entrada'!E339","v":0},{"$f":"+'datos de entrada'!F339","v":0},{"$f":"+'datos de entrada'!G339","v":0},{"$f":"+'datos de entrada'!H339","v":0},{"$f":"+'datos de entrada'!I339","v":0},{"$f":"+'datos de entrada'!J339","v":0},{"$f":"+'datos de entrada'!K339","v":0},{"$f":"+'datos de entrada'!L339","v":0},{"$f":"+'datos de entrada'!M339","v":0},{"$f":"+'datos de entrada'!N339","v":0}]
[{"$f":"+'datos de entrada'!A340","v":{"v":0,"d":"0 "}},{"$f":"+'datos de entrada'!B340/12","v":{"v":0,"d":"0 "}},{"v":0,"d":"0 "},{"v":0,"d":"0 "},{"v":0,"d":"0 "},0,0,{"$f":"+'datos de entrada'!C340","v":0},{"$f":"+'datos de entrada'!D340","v":0},{"$f":"+'datos de entrada'!E340","v":0},{"$f":"+'datos de entrada'!F340","v":0},{"$f":"+'datos de entrada'!G340","v":0},{"$f":"+'datos de entrada'!H340","v":0},{"$f":"+'datos de entrada'!I340","v":0},{"$f":"+'datos de entrada'!J340","v":0},{"$f":"+'datos de entrada'!K340","v":0},{"$f":"+'datos de entrada'!L340","v":0},{"$f":"+'datos de entrada'!M340","v":0},{"$f":"+'datos de entrada'!N340","v":0}]
[{"$f":"+'datos de entrada'!A341","v":{"v":0,"d":"0 "}},{"$f":"+'datos de entrada'!B341/12","v":{"v":0,"d":"0 "}},{"v":0,"d":"0 "},{"v":0,"d":"0 "},{"v":0,"d":"0 "},0,0,{"$f":"+'datos de entrada'!C341","v":0},{"$f":"+'datos de entrada'!D341","v":0},{"$f":"+'datos de entrada'!E341","v":0},{"$f":"+'datos de entrada'!F341","v":0},{"$f":"+'datos de entrada'!G341","v":0},{"$f":"+'datos de entrada'!H341","v":0},{"$f":"+'datos de entrada'!I341","v":0},{"$f":"+'datos de entrada'!J341","v":0},{"$f":"+'datos de entrada'!K341","v":0},{"$f":"+'datos de entrada'!L341","v":0},{"$f":"+'datos de entrada'!M341","v":0},{"$f":"+'datos de entrada'!N341","v":0}]
[{"$f":"+'datos de entrada'!A342","v":{"v":0,"d":"0 "}},{"$f":"+'datos de entrada'!B342/12","v":{"v":0,"d":"0 "}},{"v":0,"d":"0 "},{"v":0,"d":"0 "},{"v":0,"d":"0 "},0,0,{"$f":"+'datos de entrada'!C342","v":0},{"$f":"+'datos de entrada'!D342","v":0},{"$f":"+'datos de entrada'!E342","v":0},{"$f":"+'datos de entrada'!F342","v":0},{"$f":"+'datos de entrada'!G342","v":0},{"$f":"+'datos de entrada'!H342","v":0},{"$f":"+'datos de entrada'!I342","v":0},{"$f":"+'datos de entrada'!J342","v":0},{"$f":"+'datos de entrada'!K342","v":0},{"$f":"+'datos de entrada'!L342","v":0},{"$f":"+'datos de entrada'!M342","v":0},{"$f":"+'datos de entrada'!N342","v":0}]
[{"$f":"+'datos de entrada'!A343","v":{"v":0,"d":"0 "}},{"$f":"+'datos de entrada'!B343/12","v":{"v":0,"d":"0 "}},{"v":0,"d":"0 "},{"v":0,"d":"0 "},{"v":0,"d":"0 "},0,0,{"$f":"+'datos de entrada'!C343","v":0},{"$f":"+'datos de entrada'!D343","v":0},{"$f":"+'datos de entrada'!E343","v":0},{"$f":"+'datos de entrada'!F343","v":0},{"$f":"+'datos de entrada'!G343","v":0},{"$f":"+'datos de entrada'!H343","v":0},{"$f":"+'datos de entrada'!I343","v":0},{"$f":"+'datos de entrada'!J343","v":0},{"$f":"+'datos de entrada'!K343","v":0},{"$f":"+'datos de entrada'!L343","v":0},{"$f":"+'datos de entrada'!M343","v":0},{"$f":"+'datos de entrada'!N343","v":0}]
[{"$f":"+'datos de entrada'!A344","v":{"v":0,"d":"0 "}},{"$f":"+'datos de entrada'!B344/12","v":{"v":0,"d":"0 "}},{"v":0,"d":"0 "},{"v":0,"d":"0 "},{"v":0,"d":"0 "},0,0,{"$f":"+'datos de entrada'!C344","v":0},{"$f":"+'datos de entrada'!D344","v":0},{"$f":"+'datos de entrada'!E344","v":0},{"$f":"+'datos de entrada'!F344","v":0},{"$f":"+'datos de entrada'!G344","v":0},{"$f":"+'datos de entrada'!H344","v":0},{"$f":"+'datos de entrada'!I344","v":0},{"$f":"+'datos de entrada'!J344","v":0},{"$f":"+'datos de entrada'!K344","v":0},{"$f":"+'datos de entrada'!L344","v":0},{"$f":"+'datos de entrada'!M344","v":0},{"$f":"+'datos de entrada'!N344","v":0}]
["-","-","-","-","-","-","-"]
["TOTAL",{"$f":"SUM(B83:B93)","v":{"v":0,"d":"0 "}},{"v":0,"d":"0 "},{"v":0,"d":"0 "},{"v":0,"d":"0 "},0,0,{"$f":"SUM(H86:H93)","v":0},{"$f":"SUM(I86:I93)","v":0},0,0,0,0,0,0,0,0,0,0]
["-","-","-","-","-","-","-"]
[]
[]
["TOTAL COSTOS FIJOS"]
["-","-","-","-","-","-","-"]
["TIPO DE COSTO","COSTO MENSUAL","ANO 1","ANO 2","ANO 3","ANO 4","ANO 5","mes1","mes2","mes3","mes4","mes5","mes6","mes7","mes8","mes9","mes10","mes11","mes12"]
["-","-","-","-","-","-","-"]
["MANO DE OBRA",{"$f":"SUM(H103:S103)/12","v":{"v":0,"d":"0 "}},{"$f":"C78","v":{"v":0,"d":"0 "}},{"$f":"D78","v":{"v":0,"d":"0 "}},{"$f":"E78","v":{"v":0,"d":"0 "}},{"$f":"F78","v":0},{"$f":"G78","v":0},{"$f":"+H78","v":0},{"$f":"+I78","v":0},0,0,0,0,0,0,0,0,0,0]
["COSTOS DE PRODUCCION",{"$f":"SUM(H104:S104)/12","v":{"v":0,"d":"0 "}},{"$f":"C95","v":{"v":0,"d":"0 "}},{"$f":"D95","v":{"v":0,"d":"0 "}},{"$f":"E95","v":{"v":0,"d":"0 "}},{"$f":"F95","v":0},{"$f":"G95","v":0},{"$f":"+H95","v":0},{"$f":"+I95","v":0},0,0,0,0,0,0,0,0,0,0]
["GASTOS ADMINISTRATIVOS",{"$f":"SUM(H105:S105)/12","v":{"v":0,"d":"0 "}},{"$f":"D42","v":{"v":0,"d":"0 "}},{"$f":"E42","v":{"v":0,"d":"0 "}},{"$f":"F42","v":{"v":0,"d":"0 "}},{"$f":"G42","v":0},{"$f":"H42","v":0},{"$f":"+I42","v":{"v":0,"d":"0 "}},{"$f":"+J42","v":{"v":0,"d":"0 "}},{"v":0,"d":"0 "},{"v":0,"d":"0 "},{"v":0,"d":"0 "},{"v":0,"d":"0 "},{"v":0,"d":"0 "},{"v":0,"d":"0 "},{"v":0,"d":"0 "},{"v":0,"d":"0 "},{"v":0,"d":"0 "},{"v":0,"d":"0 "}]
["DEPRECIACION",{"$f":"SUM(H106:S106)/12","v":{"v":0,"d":"0 "}},{"$f":"SUM(H106:S106)","v":{"v":0,"d":"0 "}},{"$f":"+'inversion af'!D174","v":{"v":0,"d":"0 "}},{"$f":"+'inversion af'!E174","v":{"v":0,"d":"0 "}},"-","-",{"$f":"+'inversion af'!C184","v":0},{"$f":"+'inversion af'!D184","v":0},{"$f":"+'inversion af'!E184","v":0},{"$f":"+'inversion af'!F184","v":0},{"$f":"+'inversion af'!G184","v":0},{"$f":"+'inversion af'!H184","v":0},{"$f":"+'inversion af'!I184","v":0},{"$f":"+'inversion af'!J184","v":0},{"$f":"+'inversion af'!K184","v":0},{"$f":"+'inversion af'!L184","v":0},{"$f":"+'inversion af'!M184","v":0},{"$f":"+'inversion af'!N184","v":0}]
["TOTAL",{"$f":"SUM(B102:B106)","v":{"v":0,"d":"0 "}},{"$f":"SUM(C102:C106)","v":{"v":0,"d":"0 "}},{"$f":"SUM(D102:D106)","v":{"v":0,"d":"0 "}},{"$f":"SUM(E102:E106)","v":{"v":0,"d":"0 "}},0,0,{"$f":"SUM(H103:H106)","v":0},{"$f":"SUM(I103:I106)","v":0},0,0,0,0,0,0,0,0,0,0]
["-","-","-","-","-","-","-"]
[]
[{"$nulls":3}," AÑO 2"]
["GASTOS PREOPERATIVOS",null,null,"CV",{"v":12,"d":"1200%"},{"v":15,"d":"1500%"},{"v":218,"d":"21800%"}]
[{"$nulls":4},{"$f":"1+E111/100","v":1.12},{"$f":"1+F111/100","v":1.15},{"$f":"1+G111/100","v":3.18}]
["-","-"]
["CONCEPTO","GASTOS TOTALES"]
["-","-"]
[{"$f":"+'datos de entrada'!A398","v":{"v":0,"d":"0 "}},{"$f":"+'datos de entrada'!B398","v":{"v":0,"d":"0 "}},null,{"$f":"+VISUAL!A160","v":"VENTAS"},{"$f":"IF($D$110=\" año 1\",+VISUAL!C160,IF($D$110=\" año 2\",+VISUAL!D160,IF($D$110=\" año 3\",+VISUAL!E160,0)))","v":{"v":0,"d":"0 "}},{"$f":"IF($D$111=\"I\",+$E$116*$E$112,E116)","v":{"v":0,"d":"0 "}},{"$f":"IF($D$111=\"I\",+$E$116*$F$112,F116)","v":{"v":0,"d":"0 "}},{"$f":"IF($D$111=\"I\",+$E$116*$G$112,G116)","v":{"v":0,"d":"0 "}}]
[{"$f":"+'datos de entrada'!A399","v":{"v":0,"d":"0 "}},{"$f":"+'datos de entrada'!B399","v":{"v":0,"d":"0 "}},null,{"$f":"+VISUAL!A162&VISUAL!A166","v":"  + COMPRAS  + MANO DE OBRA VARIABLE"},{"$f":"IF($D$110=\" año 1\",+VISUAL!C162+VISUAL!C166,IF($D$110=\" año 2\",+VISUAL!D162+VISUAL!D166,IF($D$110=\" año 3\",+VISUAL!E162+VISUAL!E166,0)))","v":{"v":0,"d":"0 "}},{"$f":"IF($D$111=\"i\",+$E117*E$112,IF($D$111=\"CV\",$E117*E112,$E117))","v":{"v":0,"d":"0 "}},{"$f":"IF($D$111=\"i\",+$E$117*F$112,IF($D$111=\"CV\",$E$117*F112,$E$117))","v":{"v":0,"d":"0 "}},{"$f":"IF($D$111=\"i\",+$E$117*G$112,IF($D$111=\"CV\",$E$117*G112,$E$117))","v":{"v":0,"d":"0 "}}]
[{"$f":"+'datos de entrada'!A400","v":{"v":0,"d":"0 "}},{"$f":"+'datos de entrada'!B400","v":{"v":0,"d":"0 "}},null,{"$f":"+VISUAL!A165","v":"  + MANO DE OBRA FIJA"},{"$f":"IF($D$110=\" año 1\",+VISUAL!C165,IF($D$110=\" año 2\",+VISUAL!D165,IF($D$110=\" año 3\",+VISUAL!E165,0)))","v":{"v":0,"d":"0 "}},{"$f":"IF($D$111=\"CF\",$E118*E112,$E118)","v":{"v":0,"d":"0 "}},{"$f":"IF($D$111=\"CF\",$E$118*F112,$E$118)","v":{"v":0,"d":"0 "}},{"$f":"IF($D$111=\"CF\",$E$118*G112,$E$118)","v":{"v":0,"d":"0 "}}]
[{"$f":"+'datos de entrada'!A401","v":{"v":0,"d":"0 "}},{"$f":"+'datos de entrada'!B401","v":{"v":0,"d":"0 "}},null,{"$f":"+VISUAL!A167","v":"  + COSTOS FIJOS DE PRODUCCION"},{"$f":"IF($D$110=\" año 1\",+VISUAL!C167,IF($D$110=\" año 2\",+VISUAL!D167,IF($D$110=\" año 3\",+VISUAL!E167,0)))","v":{"v":0,"d":"0 "}},{"$f":"IF($D$111=\"CF\",$E119*E$112,$E119)","v":{"v":0,"d":"0 "}},{"$f":"IF($D$111=\"CF\",$E119*F112,$E119)","v":{"v":0,"d":"0 "}},{"$f":"IF($D$111=\"CF\",$E119*G112,$E119)","v":{"v":0,"d":"0 "}}]
[{"$f":"+'datos de entrada'!A402","v":{"v":0,"d":"0 "}},{"$f":"+'datos de entrada'!B402","v":{"v":0,"d":"0 "}},null,{"$f":"+VISUAL!A168","v":"  + DEPRECIACION Y DIFERIDOS"},{"$f":"IF($D$110=\" año 1\",+VISUAL!C168,IF($D$110=\" año 2\",+VISUAL!D168,IF($D$110=\" año 3\",+VISUAL!E168,0)))","v":{"v":0,"d":"0 "}},{"$f":"+$E$120","v":{"v":0,"d":"0 "}},{"$f":"+$E$120","v":{"v":0,"d":"0 "}},{"$f":"+$E$120","v":{"v":0,"d":"0 "}}]
[{"$f":"+'datos de entrada'!A403","v":{"v":0,"d":"0 "}},{"$f":"+'datos de entrada'!B403","v":{"v":0,"d":"0 "}},null,{"$f":"+VISUAL!A169","v":"TOTAL COSTO DE VENTAS"},{"$f":"+E117+E118+E119+E120","v":{"v":0,"d":"0 "}},{"$f":"+F117+F118+F119+F120","v":{"v":0,"d":"0 "}},{"$f":"+G117+G118+G119+G120","v":{"v":0,"d":"0 "}},{"$f":"+H117+H118+H119+H120","v":{"v":0,"d":"0 "}}]
[{"$f":"+'datos de entrada'!A404","v":{"v":0,"d":"0 "}},{"$f":"+'datos de entrada'!B404","v":{"v":0,"d":"0 "}},null,{"$f":"+VISUAL!A170","v":"UTILIDAD BRUTA (Ventas - costo de ventas)"},{"$f":"+E116-E121","v":{"v":0,"d":"0 "}},{"$f":"+F116-F121","v":{"v":0,"d":"0 "}},{"$f":"+G116-G121","v":{"v":0,"d":"0 "}},{"$f":"+H116-H121","v":{"v":0,"d":"0 "}}]
[{"$f":"+'datos de entrada'!A405","v":{"v":0,"d":"0 "}},{"$f":"+'datos de entrada'!B405","v":{"v":0,"d":"0 "}},null,{"$f":"+VISUAL!A171","v":"GASTOS ADMINISTRATIVOS"},{"$f":"IF($D$110=\" año 1\",+VISUAL!C171,IF($D$110=\" año 2\",+VISUAL!D171,IF($D$110=\" año 3\",+VISUAL!E171,0)))","v":{"v":0,"d":"0 "}},{"$f":"IF($D$111=\"CF\",$E123*E$112,$E123)","v":{"v":0,"d":"0 "}},{"$f":"IF($D$111=\"CF\",$E123*F$112,$E123)","v":{"v":0,"d":"0 "}},{"$f":"IF($D$111=\"CF\",$E123*G$112,$E123)","v":{"v":0,"d":"0 "}}]
[{"$f":"+'datos de entrada'!A406","v":{"v":0,"d":"0 "}},{"$f":"+'datos de entrada'!B406","v":{"v":0,"d":"0 "}},null,{"$f":"+VISUAL!A172","v":"GASTOS DE VENTAS"},{"$f":"IF($D$110=\" año 1\",+VISUAL!C172,IF($D$110=\" año 2\",+VISUAL!D172,IF($D$110=\" año 3\",+VISUAL!E172,0)))","v":{"v":0,"d":"0 "}},{"$f":"IF($D$111=\"i\",+$E124*E$112,IF($D$111=\"CV\",$E124*E112,$E124))","v":{"v":0,"d":"0 "}},{"$f":"IF($D$111=\"i\",+$E124*F$112,IF($D$111=\"CV\",$E124*F112,$E124))","v":{"v":0,"d":"0 "}},{"$f":"IF($D$111=\"i\",+$E124*G$112,IF($D$111=\"CV\",$E124*G112,$E124))","v":{"v":0,"d":"0 "}}]
["-",{"$f":"SUM(B116:B124)","v":0},null,{"$f":"+VISUAL!A173","v":"UTILIDAD OPERACIONAL (utilidad bruta- G.F.)"},{"$f":"+E122-E123-E124","v":{"v":0,"d":"0 "}},{"$f":"+F122-F123-F124","v":{"v":0,"d":"0 "}},{"$f":"+G122-G123-G124","v":{"v":0,"d":"0 "}},{"$f":"+H122-H123-H124","v":{"v":0,"d":"0 "}}]
["TOTAL ",{"$f":"IF(A127=0,SUM(B116:B124)/1,SUM(B116:B124)/A127)","v":{"v":0,"d":"0 "}},null,{"$f":"+VISUAL!A175","v":"    - GASTOS FINANCIEROS"},{"$f":"IF($D$110=\" año 1\",+VISUAL!C175,IF($D$110=\" año 2\",+VISUAL!D175,IF($D$110=\" año 3\",+VISUAL!E175,0)))","v":{"v":0,"d":"0 "}},{"$f":"+$E$126","v":{"v":0,"d":"0 "}},{"$f":"+$E$126","v":{"v":0,"d":"0 "}},{"$f":"+$E$126","v":{"v":0,"d":"0 "}}]
[{"$f":"+'datos de entrada'!C406","v":{"v":0,"d":"0 "}},{"$f":"+B126/(12)","v":0},null,{"$f":"+VISUAL!A176","v":"    - GASTOS PREOPERATIVOS"},{"$f":"IF($D$110=\" año 1\",+VISUAL!C176,IF($D$110=\" año 2\",+VISUAL!D176,IF($D$110=\" año 3\",+VISUAL!E176,0)))","v":{"v":0,"d":"0 "}},{"$f":"+$E$127","v":{"v":0,"d":"0 "}},{"$f":"+$E$127","v":{"v":0,"d":"0 "}},{"$f":"+$E$127","v":{"v":0,"d":"0 "}}]
[{"$f":"IF(A127>1,A127-1,0)","v":0},{"$f":"+$B$126*A128","v":0},null,{"$f":"+VISUAL!A177","v":"UTILIDAD ANTES DE IMPUESTOS (U.O. - Otr G.)"},{"$f":"+E125-E126-E127","v":{"v":0,"d":"0 "}},{"$f":"+F125-F126-F127","v":{"v":0,"d":"0 "}},{"$f":"+G125-G126-G127","v":{"v":0,"d":"0 "}},{"$f":"+H125-H126-H127","v":{"v":0,"d":"0 "}}]
[{"$f":"IF(A128>1,A128-1,0)","v":0},{"$f":"+$B$126*A129","v":0},null,{"$f":"+VISUAL!A178","v":"IMPUESTOS"},{"$f":"IF(E128<0,0,E128*0.35)","v":0},{"$f":"IF(F128<0,0,F128*0.35)","v":0},{"$f":"IF(G128<0,0,G128*0.35)","v":0},{"$f":"IF(H128<0,0,H128*0.35)","v":0}]
[{"$f":"IF(A129>1,A129-1,0)","v":0},{"$f":"+$B$126*A130","v":0},null,{"$f":"+VISUAL!A179","v":"UTILIDAD NETA"},{"$f":"+E128-E129","v":{"v":0,"d":"0 "}},{"$f":"+F128-F129","v":{"v":0,"d":"0 "}},{"$f":"+G128-G129","v":{"v":0,"d":"0 "}},{"$f":"+H128-H129","v":{"v":0,"d":"0 "}}]
[{"$f":"IF(A130>1,A130-1,0)","v":0},{"$f":"+$B$126*A131","v":0},null,"RENTABILIDAD/VENTAS",{"$f":"IF(E130=0,0,E130/E116)","v":{"v":0,"d":"0.00%"}},{"$f":"IF(F130=0,0,F130/F116)","v":{"v":0,"d":"0.00%"}},{"$f":"IF(G130=0,0,G130/G116)","v":{"v":0,"d":"0.00%"}},{"$f":"IF(H130=0,0,H130/H116)","v":{"v":0,"d":"0.00%"}}]
[{"$nulls":3},"RENTABILIDAD/INVERSIÓN",{"$f":"IF(E130=0,0,IF($D$110=\" AÑO 1\",E130/VISUAL!$C$324,IF($D$110=\" AÑO 2\",E130/VISUAL!$D$324,IF($D$110=\" AÑO 3\",E130/VISUAL!$E$324,0))))","v":{"v":0,"d":"0.00%"}},{"$f":"IF(F130=0,0,IF($D$110=\" AÑO 1\",F130/VISUAL!$C$324,IF($D$110=\" AÑO 2\",F130/VISUAL!$D$324,IF($D$110=\" AÑO 3\",F130/VISUAL!$E$324,0))))","v":{"v":0,"d":"0.00%"}},{"$f":"IF(G130=0,0,IF($D$110=\" AÑO 1\",G130/VISUAL!$C$324,IF($D$110=\" AÑO 2\",G130/VISUAL!$D$324,IF($D$110=\" AÑO 3\",G130/VISUAL!$E$324,0))))","v":{"v":0,"d":"0.00%"}},{"$f":"IF(H130=0,0,IF($D$110=\" AÑO 1\",H130/VISUAL!$C$324,IF($D$110=\" AÑO 2\",H130/VISUAL!$D$324,IF($D$110=\" AÑO 3\",H130/VISUAL!$E$324,0))))","v":{"v":0,"d":"0.00%"}}]
{"$rows_empty":220}
[{"$nulls":19},450000]
[{"$nulls":19},450000]
[{"$nulls":19},450000]
{"$rows_empty":16}
[{"$nulls":14},700000]

{"sheet":"TEXTOS IMP","index":9,"n_rows":51,"n_cols":4,"rows_kept":51,"hidden":true,"merged":[[0,0,0,3],[28,0,28,3],[29,0,29,3],[30,0,30,3],[31,0,31,3],[32,0,32,3],[33,0,33,3],[34,0,34,3],[35,0,35,3],[36,0,36,3],[37,0,37,3],[38,0,38,3],[39,0,39,3],[40,0,40,3],[41,0,41,3],[42,0,42,3],[43,0,43,3],[44,0,44,3],[45,0,45,3],[46,0,46,3],[47,0,47,3],[48,0,48,3],[49,0,49,3],[50,0,50,3]]}
["RESUMEN DE LA INFORMACION "]
[]
[null,"AÑO 1","AÑO 2","AÑO 3"]
[null,"VALOR","VALOR","VALOR"]
[{"$f":"+VISUAL!A160","v":"VENTAS"},{"$f":"+VISUAL!C160","v":{"v":0,"d":"$ 0"}},{"$f":"+VISUAL!D160","v":{"v":0,"d":"$ 0"}},{"$f":"+VISUAL!E160","v":{"v":0,"d":"$ 0"}}]
[{"$f":"+VISUAL!A169","v":"TOTAL COSTO DE VENTAS"},{"$f":"+VISUAL!C169","v":{"v":0,"d":"$ 0"}},{"$f":"+VISUAL!D169","v":{"v":0,"d":"$ 0"}},{"$f":"+VISUAL!E169","v":{"v":0,"d":"$ 0"}}]
[{"$f":"+VISUAL!A170","v":"UTILIDAD BRUTA (Ventas - costo de ventas)"},{"$f":"+VISUAL!C170","v":{"v":0,"d":"$ 0"}},{"$f":"+VISUAL!D170","v":{"v":0,"d":"$ 0"}},{"$f":"+VISUAL!E170","v":{"v":0,"d":"$ 0"}}]
[{"$f":"+VISUAL!A171","v":"GASTOS ADMINISTRATIVOS"},{"$f":"+VISUAL!C171","v":{"v":0,"d":"$ 0"}},{"$f":"+VISUAL!D171","v":{"v":0,"d":"$ 0"}},{"$f":"+VISUAL!E171","v":{"v":0,"d":"$ 0"}}]
[{"$f":"+VISUAL!A172","v":"GASTOS DE VENTAS"},{"$f":"+VISUAL!C172","v":{"v":0,"d":"$ 0"}},{"$f":"+VISUAL!D172","v":{"v":0,"d":"$ 0"}},{"$f":"+VISUAL!E172","v":{"v":0,"d":"$ 0"}}]
[{"$f":"+VISUAL!A173","v":"UTILIDAD OPERACIONAL (utilidad bruta- G.F.)"},{"$f":"+VISUAL!C173","v":{"v":0,"d":"$ 0"}},{"$f":"+VISUAL!D173","v":{"v":0,"d":"$ 0"}},{"$f":"+VISUAL!E173","v":{"v":0,"d":"$ 0"}}]
[{"$f":"+VISUAL!A177","v":"UTILIDAD ANTES DE IMPUESTOS (U.O. - Otr G.)"},{"$f":"+VISUAL!C177","v":{"v":0,"d":"$ 0"}},{"$f":"+VISUAL!D177","v":{"v":0,"d":"$ 0"}},{"$f":"+VISUAL!E177","v":{"v":0,"d":"$ 0"}}]
[{"$f":"+VISUAL!A178","v":"IMPUESTOS"},{"$f":"+VISUAL!C178","v":{"v":0,"d":"$ 0"}},{"$f":"+VISUAL!D178","v":{"v":0,"d":"$ 0"}},{"$f":"+VISUAL!E178","v":{"v":0,"d":"$ 0"}}]
[{"$f":"+VISUAL!A179","v":"UTILIDAD NETA"},{"$f":"+VISUAL!C179","v":{"v":0,"d":"$ 0"}},{"$f":"+VISUAL!D179","v":{"v":0,"d":"$ 0"}},{"$f":"+VISUAL!E179","v":{"v":0,"d":"$ 0"}}]
[]
["Flujo de efectivo",{"$f":"+VISUAL!B303","v":{"v":0,"d":"$ 0"}},{"$f":"+VISUAL!C303","v":{"v":0,"d":"$ 0"}},{"$f":"+VISUAL!D303","v":{"v":0,"d":"$ 0"}}]
["Inversiones",{"$f":"+'inversion af'!B201","v":{"v":0,"d":"$ 0"}},{"$f":"+'inversion af'!C201","v":{"v":0,"d":"$ 0"}},{"$f":"+'inversion af'!D201","v":{"v":0,"d":"$ 0"}}]
[]
["Rendimiento sobre la inversión",{"$f":"+VISUAL!C179/VISUAL!C324","v":{"$error":"#DIV/0!"}},{"$f":"+VISUAL!D179/VISUAL!D324","v":{"$error":"#DIV/0!"}},{"$f":"+VISUAL!E179/VISUAL!E324","v":{"$error":"#DIV/0!"}}]
["Rendimiento sobre el patrimonio",{"$f":"+VISUAL!C179/VISUAL!C335","v":{"$error":"#DIV/0!"}},{"$f":"+VISUAL!D179/VISUAL!D335","v":{"$error":"#DIV/0!"}},{"$f":"+VISUAL!E179/VISUAL!E335","v":{"$error":"#DIV/0!"}}]
["Rentabilidad sobre los ingresos",{"$f":"+B13/B5","v":{"$error":"#DIV/0!"}},{"$f":"+C13/C5","v":{"$error":"#DIV/0!"}},{"$f":"+D13/D5","v":{"$error":"#DIV/0!"}}]
["Nivel de endeudamiento inicial ",{"$f":"+VISUAL!B330/VISUAL!B324","v":{"$error":"#DIV/0!"}}]
["Punto de equilibrio anual",{"$f":"+VISUAL!E118","v":{"$error":"#DIV/0!"}}]
["Recuperación de la inversión",{"$f":"+ayuda!C193","v":"EN EL AÑO 4"}]
["TIR",{"$f":"+ayuda!B168","v":{"$error":"#NUM!"}}]
["VAN",{"$f":"+ayuda!B169","v":{"v":0,"d":"$ 0"}}]
["TASA DE INTERES DE OPORTUNIDAD",{"$f":"+ayuda!C169","v":{"v":0,"d":"0.00%"}}]
[]
[]
[{"$f":"+ayuda!A10","v":{"$error":"#DIV/0!"}}]
[{"$f":"+ayuda!A20","v":{"$error":"#N/A"}}]
[{"$f":"+ayuda!A29","v":{"$error":"#DIV/0!"}}]
[{"$f":"+ayuda!A38","v":{"$error":"#DIV/0!"}}]
[{"$f":"+ayuda!A48","v":"LOS COSTOS Y GASTOS FIJOS DEL PRIMER AÑO, ASCIENDEN A 0 €, NO SE PRESUPUESTA MANO DE OBRA, NO SE ESTABLECEN COSTOS DE PRODUCCION, NO SE CALCULAN GASTOS ADMINISTRATIVOS, NO SE ESTUDIAN CREDITOS. SE CONTABILIZAN PARA DEPRECIACION "}]
[{"$f":"+ayuda!A66","v":{"$error":"#DIV/0!"}}]
[{"$f":"+ayuda!A78","v":{"$error":"#DIV/0!"}}]
[{"$f":"+ayuda!A99","v":{"$error":"#DIV/0!"}}]
[{"$f":"+ayuda!A115","v":{"$error":"#DIV/0!"}}]
[{"$f":"+ayuda!A126","v":{"$error":"#DIV/0!"}}]
[{"$f":"+ayuda!A132","v":{"$error":"#DIV/0!"}}]
[{"$f":"+ayuda!A145","v":{"$error":"#DIV/0!"}}]
[{"$f":"+ayuda!A153","v":{"$error":"#DIV/0!"}}]
[{"$f":"+ayuda!A161","v":{"$error":"#DIV/0!"}}]
[{"$f":"+ayuda!A171","v":{"$error":"#NUM!"}}]
[{"$f":"+ayuda!A179","v":"EL SEGUNDO INDICADOR ES EL VALOR PRESENTE NETO, PARA SU CALCULO ES NECESARIO LA TASA DE DESCUENTO O TASA DE INTERES DE OPORTUNIDAD QUE SE SOLICITO EN LA ENTRADA DE DATOS, (OTROS PARAMETROS), DONDE USTED DIGITO EL 0%, EL VALOR ARROJADO DEL CALCULO ES 0 €. SE INTERPRETA COMO: EL PROYECTO ARROJA 0 MILLONES , ES INDIFERENTE INVERTIR LOS RECURSOS EN ESTE PROYECTO O EN CUALQUIERA QUE RENTE EL 0% ANUAL, PUEDE CONTINUAR O ABANDONAR."}]
[{"$f":"+ayuda!A188","v":"EL TERCER INDICADOR DE VIABILIDAD FINANCIERA ES EL PERIODO DE RECUPERACIÓN DE LA INVERSIÓN O PRI. SE CALCULA CON EL ESTADO DE RESULTADOS SUMANDO LAS UTILIDADES Y RESTANDO LA INVERSIÓN HASTA OBTENER CERO. LA INVERSIÓN ES DE 0 €. COMO LA SUMA DE LAS UTILIDADES DE LOS TRES AÑOS ES INFERIOR A ESTA CIFRA SE ASEVERA EL PROYECTO REQUIERE MAS DE TRES AÑOS PARA RECUPERAR LA INVERSIÓN,"}]
[{"$f":"+ayuda!A197","v":"EL BALANCE GENERAL PROYECTADO SE ANALIZA BASICAMENTE CON DOS INDICADORES, EL PRIMERO DE ELLOS ES LA RAZON DE LIQUIDEZ.  ESTE INDICADOR ES UNA BUENA MEDIDA DE LA CAPACIDAD DE PAGO DE LA EMPRESA EN EL CORTO PLAZO. ENTRE \"MÁS LÍQUIDO\" SEA EL ACTIVO CORRIENTE MÁS SIGNIFICATIVO ES SU RESULTADO. PARA SU ANÁLISIS DEBE TENERSE EN CUENTA LA CALIDAD Y EL CARÁCTER DE LOS ACTIVOS CORRIENTES, EN TÉRMINOS DE SU FACILIDAD DE CONVERSIÓN EN DINERO Y LAS FECHAS DE VENCIMIENTO DE LAS OBLIGACIONES EN EL PASIVO CORRIENTE. "}]
[{"$f":"+ayuda!A198","v":"AL TERMINAR EL PRIMER AÑO, PARA EL PROYECTO SE CONCLUYE QUE POR CADA PESO DE PASIVO CORRIENTE QUE DEBE, LA EMPRESA TIENE 0,00 € PESOS DE ACTIVO LÍQUIDO  CORRIENTE PARA CUBRIRLO.   SE CONSIDERA QUE UNA RAZÓN CORRIENTE IDEAL ES SUPERIOR A  2.5  A 1, ES DECIR, QUE POR CADA PESO QUE SE ADEUDA EN EL CORTO PLAZO SE TIENEN DOS Y MEDIO PESOS COMO RESPALDO. "}]
[{"$f":"+ayuda!A199","v":"EL SEGUNDO INDICADOR  AYUDA A DETERMINAR LA CAPACIDAD QUE TIENE LA EMPRESA PARA CUBRIR SUS OBLIGACIONES CON TERCEROS A CORTO Y LARGO PLAZO. SE LE DENOMINA NIVEL DE ENDEUDAMIENTO. ES IMPORTANTE CONOCER LA DISCRIMINACIÓN DEL PASIVO TOTAL. UNA EMPRESA PUEDE TENER UN ENDEUDAMIENTO ALTO, PERO SI LA MAYOR PARTE DE ÉSTE ES A LARGO PLAZO ELLA NO  TENDRÁ LAS DIFICULTADES QUE HA DE SUPONER UN INDICADOR ALTO. "}]
[{"$f":"+ayuda!A200","v":{"$error":"#DIV/0!"}}]
[{"$f":"+ayuda!A201","v":{"$error":"#DIV/0!"}}]
[{"$f":"+ayuda!A207","v":"EL PROYECTO SE FINANCIA 100% CON RECURSOS PROPIOS"}]

{"sheet":"VISUAL","index":10,"n_rows":405,"n_cols":14,"rows_kept":405,"hidden":true,"merged":[[0,1,0,6],[7,1,7,2],[7,3,7,4],[7,5,7,6],[7,7,7,8],[10,1,10,2],[10,3,10,4],[10,5,10,6],[10,7,10,8],[11,1,11,2],[11,3,11,4],[11,5,11,6],[11,7,11,8],[12,0,12,3],[13,0,14,0],[13,1,13,2],[28,0,28,4],[45,0,47,4],[50,3,51,3],[55,0,58,3],[61,0,62,0],[61,1,61,2],[61,3,61,4],[77,0,79,4],[89,0,93,2],[95,0,95,1],[96,6,96,7],[109,3,109,7],[110,0,113,5],[117,0,117,1],[133,0,137,4],[140,0,140,2],[152,0,155,5],[159,0,159,1],[168,0,168,1],[169,0,169,1],[172,0,172,1],[176,0,176,1],[178,0,178,1],[179,0,186,4],[195,0,197,3],[198,0,201,3],[212,0,214,2],[215,0,217,2],[260,0,263,4],[305,0,305,4],[306,0,306,4],[307,0,307,4],[336,0,336,4],[337,0,337,4],[338,0,338,4],[339,0,339,4],[340,0,340,4],[341,0,341,4],[352,0,352,4],[353,0,353,4]]}
[null,"RESULTADOS DEL ANALISIS "]
["PROYECTO:  ",{"$f":"+'datos de entrada'!$B$4","v":0},{"$nulls":5},{"$f":"CONCATENATE(A2,B2)","v":"PROYECTO:  0"}]
["SOCIOS:  ",{"$f":"+'datos de entrada'!B5","v":" /  / "},{"$nulls":5},{"$f":"CONCATENATE(A3,B3)","v":"SOCIOS:   /  / "}]
[]
[]
[]
["RESUMEN DE INVERSION Y FINANCIACION"]
[null,"RECURSOS PROPIOS",null,"CREDITO",null,"NO REEMBOLSABLES Y DONACIONES",null,"TOTAL"]
["ACTIVOS FIJOS",{"$f":"+'inver y financ'!B88","v":0},{"$f":"IF(B$11=0,0,B9/B$11)","v":{"v":0,"d":"0%"}},{"$f":"+'inver y financ'!D88","v":0},{"$f":"IF(D$11=0,0,D9/D$11)","v":{"v":0,"d":"0%"}},{"$f":"+'inver y financ'!F88","v":0},{"$f":"IF(F$11=0,0,+F9/F$11)","v":{"v":0,"d":"0%"}},{"$f":"B9+D9+F9","v":0},{"$f":"IF(H$11=0,0,H9/H$11)","v":{"v":0,"d":"0%"}}]
["CAPITAL DE TRABAJO",{"$f":"+'inver y financ'!D28","v":0},{"$f":"IF(B$11=0,0,B10/B$11)","v":{"v":0,"d":"0%"}},{"$f":"SUM('inver y financ'!D52:'inver y financ'!D54)","v":0},{"$f":"IF(D$11=0,0,D10/D$11)","v":{"v":0,"d":"0%"}},{"$f":"+'inver y financ'!F89","v":0},{"$f":"IF(F$11=0,0,+F10/F$11)","v":{"v":0,"d":"0%"}},{"$f":"B10+D10+F10","v":0},{"$f":"IF(H$11=0,0,H10/H$11)","v":{"v":0,"d":"0%"}}]
["Total general",{"$f":"B9+B10","v":0},null,{"$f":"D9+D10","v":0},null,{"$f":"F9+F10","v":0},null,{"$f":"H9+H10","v":0}]
["DISTRIBUCION INVERSION",{"$f":"B11/$H$11","v":{"$error":"#DIV/0!"}},null,{"$f":"D11/$H$11","v":{"$error":"#DIV/0!"}},null,{"$f":"F11/$H$11","v":{"$error":"#DIV/0!"}}]
["ACTIVOS FIJOS",{"$nulls":3},11]
["Periodo de inversión: ",{"$f":"VLOOKUP(E13,'inversion af'!F196:G204,2,FALSE)","v":"TOTAL"}]
[null,"APORTES","CRÉDITO","OTRAS FUENTES","TOTAL"]
["TERRENOS",{"$f":"VLOOKUP($A16,'inversion af'!$A$95:$K$103,$E$13,FALSE)","v":0},{"$f":"VLOOKUP($A16,'inversion af'!$A$106:$K$114,$E$13,FALSE)","v":0},{"$f":"VLOOKUP($A16,'inversion af'!$A$117:$K$125,$E$13,FALSE)","v":0},{"$f":"SUM(B16:D16)","v":0},{"$nulls":5},{"$f":"+H21","v":0}]
["EDIFICIOS",{"$f":"VLOOKUP($A17,'inversion af'!$A$95:$K$103,$E$13,FALSE)","v":0},{"$f":"VLOOKUP($A17,'inversion af'!$A$106:$K$114,$E$13,FALSE)","v":0},{"$f":"VLOOKUP($A17,'inversion af'!$A$117:$K$125,$E$13,FALSE)","v":0},{"$f":"SUM(B17:D17)","v":0}]
["MAQUINAS",{"$f":"VLOOKUP($A18,'inversion af'!$A$95:$K$103,$E$13,FALSE)","v":0},{"$f":"VLOOKUP($A18,'inversion af'!$A$106:$K$114,$E$13,FALSE)","v":0},{"$f":"VLOOKUP($A18,'inversion af'!$A$117:$K$125,$E$13,FALSE)","v":0},0]
["EQUIPOS",{"$f":"VLOOKUP($A19,'inversion af'!$A$95:$K$103,$E$13,FALSE)","v":0},{"$f":"VLOOKUP($A19,'inversion af'!$A$106:$K$114,$E$13,FALSE)","v":0},{"$f":"VLOOKUP($A19,'inversion af'!$A$117:$K$125,$E$13,FALSE)","v":0},0]
["VEHICULOS",{"$f":"VLOOKUP($A20,'inversion af'!$A$95:$K$103,$E$13,FALSE)","v":0},{"$f":"VLOOKUP($A20,'inversion af'!$A$106:$K$114,$E$13,FALSE)","v":0},{"$f":"VLOOKUP($A20,'inversion af'!$A$117:$K$125,$E$13,FALSE)","v":0},0]
["MUEBLES Y ENSERES",{"$f":"VLOOKUP($A21,'inversion af'!$A$95:$K$103,$E$13,FALSE)","v":0},{"$f":"VLOOKUP($A21,'inversion af'!$A$106:$K$114,$E$13,FALSE)","v":0},{"$f":"VLOOKUP($A21,'inversion af'!$A$117:$K$125,$E$13,FALSE)","v":0},0]
["HERRAMIENTAS",{"$f":"VLOOKUP($A22,'inversion af'!$A$95:$K$103,$E$13,FALSE)","v":0},{"$f":"VLOOKUP($A22,'inversion af'!$A$106:$K$114,$E$13,FALSE)","v":0},{"$f":"VLOOKUP($A22,'inversion af'!$A$117:$K$125,$E$13,FALSE)","v":0},0]
["COMPUTAD. PRODUC.",{"$f":"VLOOKUP($A23,'inversion af'!$A$95:$K$103,$E$13,FALSE)","v":0},{"$f":"VLOOKUP($A23,'inversion af'!$A$106:$K$114,$E$13,FALSE)","v":0},{"$f":"VLOOKUP($A23,'inversion af'!$A$117:$K$125,$E$13,FALSE)","v":0},0]
["COMPUTAD. ADMON.",{"$f":"VLOOKUP($A24,'inversion af'!$A$95:$K$103,$E$13,FALSE)","v":0},{"$f":"VLOOKUP($A24,'inversion af'!$A$106:$K$114,$E$13,FALSE)","v":0},{"$f":"VLOOKUP($A24,'inversion af'!$A$117:$K$125,$E$13,FALSE)","v":0},0]
["CAPITAL DE TRABAJO",{"$f":"VLOOKUP($B15,'inversion af'!$A$177:$K$177,$E$13,FALSE)","v":0},{"$f":"VLOOKUP($C15,'inversion af'!$A$178:$K$178,$E$13,FALSE)","v":0},{"$f":"VLOOKUP($D15,'inversion af'!$A$179:$K$179,$E$13,FALSE)","v":0},0]
["TOTAL",{"$f":"SUM(B16:B25)","v":0},{"$f":"SUM(C16:C25)","v":0},{"$f":"SUM(D16:D25)","v":0},{"$f":"SUM(E16:E25)","v":0}]
[]
[]
[{"$f":"+ayuda!A10","v":{"$error":"#DIV/0!"}}]
[]
["VENTAS  AÑO 1"]
["PERIODO","$","%"]
[{"$f":"+'datos de entrada'!B79","v":{"$error":"#N/A"}},{"$f":"+ventas!B42","v":{"v":0,"d":"0 "}},{"$f":"B33/$B$52","v":{"$error":"#DIV/0!"}},1]
[{"$f":"+'datos de entrada'!C79","v":{"$error":"#N/A"}},{"$f":"+ventas!C42","v":{"v":0,"d":"0 "}},{"$error":"#DIV/0!"},2]
[{"$f":"+'datos de entrada'!D79","v":{"$error":"#N/A"}},{"$f":"+ventas!D42","v":{"v":0,"d":"0 "}},{"$error":"#DIV/0!"},3]
[{"$f":"+'datos de entrada'!E79","v":{"$error":"#N/A"}},{"$f":"+ventas!E42","v":{"v":0,"d":"0 "}},{"$error":"#DIV/0!"},4]
[{"$f":"+'datos de entrada'!F79","v":{"$error":"#N/A"}},{"$f":"+ventas!F42","v":{"v":0,"d":"0 "}},{"$error":"#DIV/0!"},5]
[{"$f":"+'datos de entrada'!G79","v":{"$error":"#N/A"}},{"$f":"+ventas!G42","v":{"v":0,"d":"0 "}},{"$error":"#DIV/0!"},6]
[{"$f":"+'datos de entrada'!H79","v":{"$error":"#N/A"}},{"$f":"+ventas!H42","v":{"v":0,"d":"0 "}},{"$error":"#DIV/0!"},7]
[{"$f":"+'datos de entrada'!I79","v":{"$error":"#N/A"}},{"$f":"+ventas!I42","v":{"v":0,"d":"0 "}},{"$error":"#DIV/0!"},8]
[{"$f":"+'datos de entrada'!J79","v":{"$error":"#N/A"}},{"$f":"+ventas!J42","v":{"v":0,"d":"0 "}},{"$error":"#DIV/0!"},9]
[{"$f":"+'datos de entrada'!K79","v":{"$error":"#N/A"}},{"$f":"+ventas!K42","v":{"v":0,"d":"0 "}},{"$error":"#DIV/0!"},10]
[{"$f":"+'datos de entrada'!L79","v":{"$error":"#N/A"}},{"$f":"+ventas!L42","v":{"v":0,"d":"0 "}},{"$error":"#DIV/0!"},11]
[{"$f":"+'datos de entrada'!M79","v":{"$error":"#N/A"}},{"$f":"+ventas!M42","v":{"v":0,"d":"0 "}},{"$error":"#DIV/0!"},12]
[]
[{"$f":"+ayuda!A20","v":{"$error":"#N/A"}}]
[]
[]
[""]
["VENTAS PROYECTADAS AÑOS 2 Y 3 "]
["PERIODO","$","PROM.MES","CRECIMIENTO ANUAL"]
["AÑO 1",{"$f":"+ventas!B64","v":{"v":0,"d":"0 "}},{"$f":"B52/12","v":{"v":0,"d":"0 "}}]
["AÑO 2",{"$f":"+ventas!C64","v":{"v":0,"d":"0 "}},{"$f":"B53/12","v":{"v":0,"d":"0 "}},{"$f":"+B53/B52-1","v":{"$error":"#DIV/0!"}}]
["AÑO 3",{"$f":"+ventas!D64","v":{"v":0,"d":"0 "}},{"$f":"B54/12","v":{"v":0,"d":"0 "}},{"$f":"+B54/B53-1","v":{"$error":"#DIV/0!"}}]
[""]
[{"$f":"+ayuda!A29","v":{"$error":"#DIV/0!"}}]
[]
[]
[]
[]
["VENTAS TOTALES POR PRODUCTO"]
["PRODUCTO","EN PESOS",null,"EN UNIDADES"]
[null,"VENTAS AÑO","%","VENTAS AÑO","%"]
[{"$f":"A98","v":{"v":0,"d":"0 "}},{"$f":"+ventas!B50","v":{"v":0,"d":"0 "}},{"$f":"B64/$B$52","v":{"$error":"#DIV/0!"}},{"$f":"+ventas!B10","v":{"v":0,"d":"0 "}},{"$f":"D64/D$76","v":{"$error":"#DIV/0!"}},{"$f":"A64","v":0},{"$f":"MID(+A64,1,10)","v":"0"}]
[{"v":0,"d":"0 "},{"$f":"+ventas!B51","v":{"v":0,"d":"0 "}},{"$error":"#DIV/0!"},{"$f":"+ventas!B11","v":{"v":0,"d":"0 "}},{"$error":"#DIV/0!"},0,"0"]
[{"v":0,"d":"0 "},{"$f":"+ventas!B52","v":{"v":0,"d":"0 "}},{"$error":"#DIV/0!"},{"$f":"+ventas!B12","v":{"v":0,"d":"0 "}},{"$error":"#DIV/0!"},0,"0"]
[{"v":0,"d":"0 "},{"$f":"+ventas!B53","v":{"v":0,"d":"0 "}},{"$error":"#DIV/0!"},{"$f":"+ventas!B13","v":{"v":0,"d":"0 "}},{"$error":"#DIV/0!"},0,"0"]
[{"v":0,"d":"0 "},{"$f":"+ventas!B54","v":{"v":0,"d":"0 "}},{"$error":"#DIV/0!"},{"$f":"+ventas!B14","v":{"v":0,"d":"0 "}},{"$error":"#DIV/0!"},0,"0"]
[{"v":0,"d":"0 "},{"$f":"+ventas!B55","v":{"v":0,"d":"0 "}},{"$error":"#DIV/0!"},{"$f":"+ventas!B15","v":{"v":0,"d":"0 "}},{"$error":"#DIV/0!"},0,"0"]
[{"v":0,"d":"0 "},{"$f":"+ventas!B56","v":{"v":0,"d":"0 "}},{"$error":"#DIV/0!"},{"$f":"+ventas!B16","v":{"v":0,"d":"0 "}},{"$error":"#DIV/0!"},0,"0"]
[{"v":0,"d":"0 "},{"$f":"+ventas!B57","v":{"v":0,"d":"0 "}},{"$error":"#DIV/0!"},{"$f":"+ventas!B17","v":{"v":0,"d":"0 "}},{"$error":"#DIV/0!"},0,"0"]
[{"v":0,"d":"0 "},{"$f":"+ventas!B58","v":{"v":0,"d":"0 "}},{"$error":"#DIV/0!"},{"$f":"+ventas!B18","v":{"v":0,"d":"0 "}},{"$error":"#DIV/0!"},0,"0"]
[{"v":0,"d":"0 "},{"$f":"+ventas!B59","v":{"v":0,"d":"0 "}},{"$error":"#DIV/0!"},{"$f":"+ventas!B19","v":{"v":0,"d":"0 "}},{"$error":"#DIV/0!"},0,"0"]
[{"v":0,"d":"0 "},{"$f":"+ventas!B60","v":{"v":0,"d":"0 "}},{"$error":"#DIV/0!"},{"$f":"+ventas!B20","v":{"v":0,"d":"0 "}},{"$error":"#DIV/0!"},0,"0"]
[{"v":0,"d":"0 "},{"$f":"+ventas!B61","v":{"v":0,"d":"0 "}},{"$error":"#DIV/0!"},{"$f":"+ventas!B21","v":{"v":0,"d":"0 "}},{"$error":"#DIV/0!"},0,"0"]
["TOTAL",{"$f":"SUM(B64:B75)","v":{"v":0,"d":"0 "}},{"$f":"SUM(C64:C75)","v":{"$error":"#DIV/0!"}},{"$f":"SUM(D64:D75)","v":{"v":0,"d":"0 "}},{"$f":"SUM(E64:E75)","v":{"$error":"#DIV/0!"}}]
[]
[{"$f":"+ayuda!A38","v":{"$error":"#DIV/0!"}}]
[]
[]
[]
["COMPOSICION DE LOS COSTOS FIJOS"]
["TIPO DE COSTO","MENSUAL","ANUAL"]
[{"$f":"+'cost fijos'!A103","v":"MANO DE OBRA"},{"$f":"+'cost fijos'!B103","v":0},{"$f":"+'cost fijos'!C103","v":0}]
[{"$f":"+'cost fijos'!A104","v":"COSTOS DE PRODUCCION"},{"$f":"+'cost fijos'!B104","v":0},{"$f":"+'cost fijos'!C104","v":0}]
[{"$f":"+'cost fijos'!A105","v":"GASTOS ADMINISTRATIVOS"},{"$f":"+'cost fijos'!B105","v":0},{"$f":"+'cost fijos'!C105","v":0}]
["CREDITOS",{"$f":"MAX('inver y financ'!B250:B309)","v":0},{"$f":"B87*12","v":0}]
["DEPRECIACION",{"$f":"+'cost fijos'!B106","v":0},{"$f":"+'cost fijos'!C106","v":0}]
["TOTAL",{"$f":"SUM(B84:B87)","v":0},{"$f":"SUM(C84:C88)","v":0}]
[{"$f":"+ayuda!A48","v":"LOS COSTOS Y GASTOS FIJOS DEL PRIMER AÑO, ASCIENDEN A 0 €, NO SE PRESUPUESTA MANO DE OBRA, NO SE ESTABLECEN COSTOS DE PRODUCCION, NO SE CALCULAN GASTOS ADMINISTRATIVOS, NO SE ESTUDIAN CREDITOS. SE CONTABILIZAN PARA DEPRECIACION "}]
[]
[]
[]
[]
[]
["MARGEN DE CONTRIBUCION"]
["PRODUCTOS","PRECIO DE VENTA","MATERIA PRIMA","M.O. VARIABLE","GASTOS DE VENTA","TOTAL COSTOS VARIABLES","MARGEN DE CONTRIBUCION",null,"CONTRIBUCION A VENTAS","TOTAL"]
[{"$f":"+ventas!A10","v":0},{"$f":"'datos de entrada'!J14","v":{"v":0,"d":"0 "}},{"$f":"+'cost var'!B107","v":{"v":0,"d":"0 "}},{"$f":"+'cost var'!B485","v":{"v":0,"d":"0 "}},{"$f":"+('datos de entrada'!B31+'datos de entrada'!$B$328)*B98","v":{"v":0,"d":"0 "}},{"$f":"E98+D98+C98","v":{"v":0,"d":"0 "}},{"$f":"B98-F98","v":{"v":0,"d":"0 "}},{"$f":"IF(B98=0,0,G98/B98)","v":{"v":0,"d":"0.00%"}},{"$f":"+ventas!N29","v":{"$error":"#DIV/0!"}},{"$f":"I98*H98","v":{"$error":"#DIV/0!"}}]
[{"$f":"+ventas!A11","v":0},{"$f":"'datos de entrada'!J15","v":{"v":0,"d":"0 "}},{"$f":"+'cost var'!B108","v":{"v":0,"d":"0 "}},{"$f":"+'cost var'!B486","v":{"v":0,"d":"0 "}},{"$f":"+('datos de entrada'!B32+'datos de entrada'!$B$328)*B99","v":{"v":0,"d":"0 "}},{"v":0,"d":"0 "},{"v":0,"d":"0 "},{"v":0,"d":"0.00%"},{"$f":"+ventas!N30","v":{"$error":"#DIV/0!"}},{"$error":"#DIV/0!"}]
[{"$f":"+ventas!A12","v":0},{"$f":"'datos de entrada'!J16","v":{"v":0,"d":"0 "}},{"$f":"+'cost var'!B109","v":{"v":0,"d":"0 "}},{"$f":"+'cost var'!B487","v":{"v":0,"d":"0 "}},{"$f":"+('datos de entrada'!B33+'datos de entrada'!$B$328)*B100","v":{"v":0,"d":"0 "}},{"v":0,"d":"0 "},{"v":0,"d":"0 "},{"v":0,"d":"0.00%"},{"$f":"+ventas!N31","v":{"$error":"#DIV/0!"}},{"$error":"#DIV/0!"}]
[{"$f":"+ventas!A13","v":0},{"$f":"'datos de entrada'!J17","v":{"v":0,"d":"0 "}},{"$f":"+'cost var'!B110","v":{"v":0,"d":"0 "}},{"$f":"+'cost var'!B488","v":{"v":0,"d":"0 "}},{"$f":"+('datos de entrada'!B34+'datos de entrada'!$B$328)*B101","v":{"v":0,"d":"0 "}},{"v":0,"d":"0 "},{"v":0,"d":"0 "},{"v":0,"d":"0.00%"},{"$f":"+ventas!N32","v":{"$error":"#DIV/0!"}},{"$error":"#DIV/0!"}]
[{"$f":"+ventas!A14","v":0},{"$f":"'datos de entrada'!J18","v":{"v":0,"d":"0 "}},{"$f":"+'cost var'!B111","v":{"v":0,"d":"0 "}},{"$f":"+'cost var'!B489","v":{"v":0,"d":"0 "}},{"$f":"+('datos de entrada'!B35+'datos de entrada'!$B$328)*B102","v":{"v":0,"d":"0 "}},{"v":0,"d":"0 "},{"v":0,"d":"0 "},{"v":0,"d":"0.00%"},{"$f":"+ventas!N33","v":{"$error":"#DIV/0!"}},{"$error":"#DIV/0!"}]
[{"$f":"+ventas!A15","v":0},{"$f":"'datos de entrada'!J19","v":{"v":0,"d":"0 "}},{"$f":"+'cost var'!B112","v":{"v":0,"d":"0 "}},{"$f":"+'cost var'!B490","v":{"v":0,"d":"0 "}},{"$f":"+('datos de entrada'!B36+'datos de entrada'!$B$328)*B103","v":{"v":0,"d":"0 "}},{"v":0,"d":"0 "},{"v":0,"d":"0 "},{"v":0,"d":"0.00%"},{"$f":"+ventas!N34","v":{"$error":"#DIV/0!"}},{"$error":"#DIV/0!"}]
[{"$f":"+ventas!A16","v":0},{"$f":"'datos de entrada'!J20","v":{"v":0,"d":"0 "}},{"$f":"+'cost var'!B113","v":{"v":0,"d":"0 "}},{"$f":"+'cost var'!B491","v":{"v":0,"d":"0 "}},{"$f":"+('datos de entrada'!B37+'datos de entrada'!$B$328)*B104","v":{"v":0,"d":"0 "}},{"v":0,"d":"0 "},{"v":0,"d":"0 "},{"v":0,"d":"0.00%"},{"$f":"+ventas!N35","v":{"$error":"#DIV/0!"}},{"$error":"#DIV/0!"}]
[{"$f":"+ventas!A17","v":0},{"$f":"'datos de entrada'!J21","v":{"v":0,"d":"0 "}},{"$f":"+'cost var'!B114","v":{"v":0,"d":"0 "}},{"$f":"+'cost var'!B492","v":{"v":0,"d":"0 "}},{"$f":"+('datos de entrada'!B38+'datos de entrada'!$B$328)*B105","v":{"v":0,"d":"0 "}},{"v":0,"d":"0 "},{"v":0,"d":"0 "},{"v":0,"d":"0.00%"},{"$f":"+ventas!N36","v":{"$error":"#DIV/0!"}},{"$error":"#DIV/0!"}]
[{"$f":"+ventas!A18","v":0},{"$f":"'datos de entrada'!J22","v":{"v":0,"d":"0 "}},{"$f":"+'cost var'!B115","v":{"v":0,"d":"0 "}},{"$f":"+'cost var'!B493","v":{"v":0,"d":"0 "}},{"$f":"+('datos de entrada'!B39+'datos de entrada'!$B$328)*B106","v":{"v":0,"d":"0 "}},{"v":0,"d":"0 "},{"v":0,"d":"0 "},{"v":0,"d":"0.00%"},{"$f":"+ventas!N37","v":{"$error":"#DIV/0!"}},{"$error":"#DIV/0!"}]
[{"$f":"+ventas!A19","v":0},{"$f":"'datos de entrada'!J23","v":{"v":0,"d":"0 "}},{"$f":"+'cost var'!B116","v":{"v":0,"d":"0 "}},{"$f":"+'cost var'!B494","v":{"v":0,"d":"0 "}},{"$f":"+('datos de entrada'!B40+'datos de entrada'!$B$328)*B107","v":{"v":0,"d":"0 "}},{"v":0,"d":"0 "},{"v":0,"d":"0 "},{"v":0,"d":"0.00%"},{"$f":"+ventas!N38","v":{"$error":"#DIV/0!"}},{"$error":"#DIV/0!"}]
[{"$f":"+ventas!A20","v":0},{"$f":"'datos de entrada'!J24","v":{"v":0,"d":"0 "}},{"$f":"+'cost var'!B117","v":{"v":0,"d":"0 "}},{"$f":"+'cost var'!B495","v":{"v":0,"d":"0 "}},{"$f":"+('datos de entrada'!B41+'datos de entrada'!$B$328)*B108","v":{"v":0,"d":"0 "}},{"v":0,"d":"0 "},{"v":0,"d":"0 "},{"v":0,"d":"0.00%"},{"$f":"+ventas!N39","v":{"$error":"#DIV/0!"}},{"$error":"#DIV/0!"}]
[{"$f":"+ventas!A21","v":0},{"$f":"'datos de entrada'!J25","v":{"v":0,"d":"0 "}},{"$f":"+'cost var'!B118","v":{"v":0,"d":"0 "}},{"$f":"+'cost var'!B496","v":{"v":0,"d":"0 "}},{"$f":"+('datos de entrada'!B42+'datos de entrada'!$B$328)*B109","v":{"v":0,"d":"0 "}},{"v":0,"d":"0 "},{"v":0,"d":"0 "},{"v":0,"d":"0.00%"},{"$f":"+ventas!N40","v":{"$error":"#DIV/0!"}},{"$error":"#DIV/0!"}]
[{"$nulls":3}," AÑO 2",{"$nulls":4},{"$f":"SUM(I98:I109)","v":{"$error":"#DIV/0!"}},{"$f":"SUM(J98:J109)","v":{"$error":"#DIV/0!"}}]
[{"$f":"+ayuda!A66","v":{"$error":"#DIV/0!"}}]
[]
[]
[]
[]
[]
[]
["PUNTO DE EQUILIBRIO",null,"VENTAS TOTALES ANUALES:",null,{"$f":"IF(J110=0,0,C89/J110)","v":{"$error":"#DIV/0!"}}]
[]
["PRODUCTOS","VENTAS ANUALES","UNIDADES ANUALES","VENTAS MENSUALES","UNIDADES  MENSUALES"]
[{"$f":"A98","v":0},{"$f":"$E$118*I98","v":{"$error":"#DIV/0!"}},{"$f":"IF(B98=0,0,B121/B98)","v":{"v":0,"d":"0 "}},{"$f":"B121/12","v":{"$error":"#DIV/0!"}},{"$f":"C121/12","v":{"v":0,"d":"0.00"}}]
[0,{"$error":"#DIV/0!"},{"v":0,"d":"0 "},{"$error":"#DIV/0!"},{"v":0,"d":"0.00"}]
[0,{"$error":"#DIV/0!"},{"v":0,"d":"0 "},{"$error":"#DIV/0!"},{"v":0,"d":"0.00"}]
[0,{"$error":"#DIV/0!"},{"v":0,"d":"0 "},{"$error":"#DIV/0!"},{"v":0,"d":"0.00"}]
[0,{"$error":"#DIV/0!"},{"v":0,"d":"0 "},{"$error":"#DIV/0!"},{"v":0,"d":"0.00"}]
[0,{"$error":"#DIV/0!"},{"v":0,"d":"0 "},{"$error":"#DIV/0!"},{"v":0,"d":"0.00"}]
[0,{"$error":"#DIV/0!"},{"v":0,"d":"0 "},{"$error":"#DIV/0!"},{"v":0,"d":"0.00"}]
[0,{"$error":"#DIV/0!"},{"v":0,"d":"0 "},{"$error":"#DIV/0!"},{"v":0,"d":"0.00"}]
[0,{"$error":"#DIV/0!"},{"v":0,"d":"0 "},{"$error":"#DIV/0!"},{"v":0,"d":"0.00"}]
[0,{"$error":"#DIV/0!"},{"v":0,"d":"0 "},{"$error":"#DIV/0!"},{"v":0,"d":"0.00"}]
[0,{"$error":"#DIV/0!"},{"v":0,"d":"0 "},{"$error":"#DIV/0!"},{"v":0,"d":"0.00"}]
[0,{"$error":"#DIV/0!"},{"v":0,"d":"0 "},{"$error":"#DIV/0!"},{"v":0,"d":"0.00"}]
["TOTAL VENTAS ANUALES",{"$f":"SUM(B121:B132)","v":{"$error":"#DIV/0!"}},"VENTAS MENSUALES",{"$f":"SUM(D121:D132)","v":{"$error":"#DIV/0!"}}]
[{"$f":"+ayuda!A78","v":{"$error":"#DIV/0!"}}]
{"$rows_empty":7}
["ESTADO DE PERDIDAS Y GANANCIAS MENSUAL (PRIMER AÑO)"]
[null,"MES 1","MES 2","MES 3","MES 4","MES 5","MES 6","MES 7","MES 8","MES 9","MES 10","MES 11","MES 12"]
["VENTAS",{"$f":"+ventas!B42","v":0},{"$f":"+ventas!C42","v":0},{"$f":"+ventas!D42","v":0},{"$f":"+ventas!E42","v":0},{"$f":"+ventas!F42","v":0},{"$f":"+ventas!G42","v":0},{"$f":"+ventas!H42","v":0},{"$f":"+ventas!I42","v":0},{"$f":"+ventas!J42","v":0},{"$f":"+ventas!K42","v":0},{"$f":"+ventas!L42","v":0},{"$f":"+ventas!M42","v":0}]
["   - COSTO DE VENTAS",{"$f":"+'cost var'!B238+'cost var'!B516+'cost fijos'!H103+'cost fijos'!H104+'cost fijos'!H106","v":0},{"$f":"+'cost var'!C238+'cost var'!C516+'cost fijos'!I103+'cost fijos'!I104+'cost fijos'!I106","v":0},{"$f":"+'cost var'!D238+'cost var'!D516+'cost fijos'!J103+'cost fijos'!J104+'cost fijos'!J106","v":0},{"$f":"+'cost var'!E238+'cost var'!E516+'cost fijos'!K103+'cost fijos'!K104+'cost fijos'!K106","v":0},{"$f":"+'cost var'!F238+'cost var'!F516+'cost fijos'!L103+'cost fijos'!L104+'cost fijos'!L106","v":0},{"$f":"+'cost var'!G238+'cost var'!G516+'cost fijos'!M103+'cost fijos'!M104+'cost fijos'!M106","v":0},{"$f":"+'cost var'!H238+'cost var'!H516+'cost fijos'!N103+'cost fijos'!N104+'cost fijos'!N106","v":0},{"$f":"+'cost var'!I238+'cost var'!I516+'cost fijos'!O103+'cost fijos'!O104+'cost fijos'!O106","v":0},{"$f":"+'cost var'!J238+'cost var'!J516+'cost fijos'!P103+'cost fijos'!P104+'cost fijos'!P106","v":0},{"$f":"+'cost var'!K238+'cost var'!K516+'cost fijos'!Q103+'cost fijos'!Q104+'cost fijos'!Q106","v":0},{"$f":"+'cost var'!L238+'cost var'!L516+'cost fijos'!R103+'cost fijos'!R104+'cost fijos'!R106","v":0},{"$f":"+'cost var'!M238+'cost var'!M516+'cost fijos'!S103+'cost fijos'!S104+'cost fijos'!S106","v":0}]
["UTILIDAD BRUTA",{"$f":"+B144-B145","v":0},0,0,0,0,0,0,0,0,0,0,0]
["   - GASTOS ADMON.",{"$f":"+'cost fijos'!I41++'cost fijos'!I22","v":0},{"$f":"+'cost fijos'!J41++'cost fijos'!J22","v":0},{"$f":"+'cost fijos'!K41++'cost fijos'!K22","v":0},{"$f":"+'cost fijos'!L41++'cost fijos'!L22","v":0},{"$f":"+'cost fijos'!M41++'cost fijos'!M22","v":0},{"$f":"+'cost fijos'!N41++'cost fijos'!N22","v":0},{"$f":"+'cost fijos'!O41++'cost fijos'!O22","v":0},{"$f":"+'cost fijos'!P41++'cost fijos'!P22","v":0},{"$f":"+'cost fijos'!Q41++'cost fijos'!Q22","v":0},{"$f":"+'cost fijos'!R41++'cost fijos'!R22","v":0},{"$f":"+'cost fijos'!S41++'cost fijos'!S22","v":0},{"$f":"+'cost fijos'!T41++'cost fijos'!T22","v":0}]
["   - GASTOS DE VENTAS",{"$f":"+ventas!B298","v":0},{"$f":"+ventas!C298","v":0},{"$f":"+ventas!D298","v":0},{"$f":"+ventas!E298","v":0},{"$f":"+ventas!F298","v":0},{"$f":"+ventas!G298","v":0},{"$f":"+ventas!H298","v":0},{"$f":"+ventas!I298","v":0},{"$f":"+ventas!J298","v":0},{"$f":"+ventas!K298","v":0},{"$f":"+ventas!L298","v":0},{"$f":"+ventas!M298","v":0}]
["UTILIDAD OPERACIONAL",{"$f":"+B146-B147-B148","v":0},0,0,0,0,0,0,0,0,0,0,0]
["   - OTROS EGRESOS",{"$f":"+'inver y financ'!D119","v":0},{"$f":"+'inver y financ'!D120","v":0},{"$f":"+'inver y financ'!D121","v":0},{"$f":"+'inver y financ'!D122","v":0},{"$f":"+'inver y financ'!D123","v":0},{"$f":"+'inver y financ'!D124","v":0},{"$f":"+'inver y financ'!D125","v":0},{"$f":"+'inver y financ'!D126","v":0},{"$f":"+'inver y financ'!D127","v":0},{"$f":"+'inver y financ'!D128","v":0},{"$f":"+'inver y financ'!D129","v":0},{"$f":"+'inver y financ'!D130","v":0}]
["   - PREOPERATIVOS",{"$f":"+'cost fijos'!$B$127","v":0},{"$f":"+'cost fijos'!$B$127","v":0},{"$f":"+'cost fijos'!$B$127","v":0},{"$f":"+'cost fijos'!$B$127","v":0},{"$f":"+'cost fijos'!$B$127","v":0},{"$f":"+'cost fijos'!$B$127","v":0},{"$f":"+'cost fijos'!$B$127","v":0},{"$f":"+'cost fijos'!$B$127","v":0},{"$f":"+'cost fijos'!$B$127","v":0},{"$f":"+'cost fijos'!$B$127","v":0},{"$f":"+'cost fijos'!$B$127","v":0},{"$f":"+'cost fijos'!$B$127","v":0}]
["UTILIDAD A. DE IMP.",{"$f":"+B149-B150-B151","v":{"v":0,"d":"$ 0"}},{"v":0,"d":"$ 0"},{"v":0,"d":"$ 0"},{"v":0,"d":"$ 0"},{"v":0,"d":"$ 0"},{"v":0,"d":"$ 0"},{"v":0,"d":"$ 0"},{"v":0,"d":"$ 0"},{"v":0,"d":"$ 0"},{"v":0,"d":"$ 0"},{"v":0,"d":"$ 0"},{"v":0,"d":"$ 0"}]
[{"$f":"+ayuda!A99","v":{"$error":"#DIV/0!"}}]
[]
[]
[]
[]
["ESTADOS DE RESULTADOS PROYECTADO ANUAL"]
[null,null,"AÑO 1 ","AÑO 2 ","AÑO 3"]
["VENTAS",null,{"$f":"+ventas!B64","v":{"v":0,"d":"0 "}},{"$f":"+ventas!C64","v":{"v":0,"d":"0 "}},{"$f":"+ventas!D64","v":{"v":0,"d":"0 "}}]
["  INV. INICIAL",null,{"$f":"+'cost var'!D119","v":{"v":0,"d":"0 "}},{"$f":"+C163","v":{"v":0,"d":"0 "}},{"$f":"+D163","v":{"v":0,"d":"0 "}}]
["  + COMPRAS",null,{"$f":"+'cost var'!N238","v":{"v":0,"d":"0 "}},{"$f":"+'cost var'!O238","v":{"v":0,"d":"0 "}},{"$f":"+'cost var'!P238","v":{"v":0,"d":"0 "}}]
["  - INVENTARIO FINAL",null,{"$f":"+'cost var'!D119","v":{"v":0,"d":"0 "}},{"$f":"+C163","v":{"v":0,"d":"0 "}},{"$f":"+D163","v":{"v":0,"d":"0 "}}]
[" = COSTO INVENTARIO UTILIZADO",null,{"$f":"C161+C162-C163","v":{"v":0,"d":"0 "}},{"$f":"D161+D162-D163","v":{"v":0,"d":"0 "}},{"$f":"E161+E162-E163","v":{"v":0,"d":"0 "}}]
["  + MANO DE OBRA FIJA",null,{"$f":"+'cost fijos'!C78","v":{"v":0,"d":"0 "}},{"$f":"+'cost fijos'!D78","v":{"v":0,"d":"0 "}},{"$f":"+'cost fijos'!E78","v":{"v":0,"d":"0 "}}]
["  + MANO DE OBRA VARIABLE",null,{"$f":"+'cost var'!N516","v":{"v":0,"d":"0 "}},{"$f":"+'cost var'!O516","v":{"v":0,"d":"0 "}},{"$f":"+'cost var'!P516","v":{"v":0,"d":"0 "}}]
["  + COSTOS FIJOS DE PRODUCCION",null,{"$f":"+'cost fijos'!C95","v":{"v":0,"d":"0 "}},{"$f":"+'cost fijos'!D95","v":{"v":0,"d":"0 "}},{"$f":"+'cost fijos'!E95","v":{"v":0,"d":"0 "}}]
["  + DEPRECIACION Y DIFERIDOS",null,{"$f":"+'inver y financ'!C328","v":{"v":0,"d":"0 "}},{"$f":"+'inver y financ'!D328","v":{"v":0,"d":"0 "}},{"$f":"+'inver y financ'!E328","v":{"v":0,"d":"0 "}}]
["TOTAL COSTO DE VENTAS",null,{"$f":"C164+SUM(C165:C168)","v":{"v":0,"d":"0 "}},{"$f":"D164+SUM(D165:D168)","v":{"v":0,"d":"0 "}},{"$f":"E164+SUM(E165:E168)","v":{"v":0,"d":"0 "}}]
["UTILIDAD BRUTA (Ventas - costo de ventas)",null,{"$f":"C160-C169","v":{"v":0,"d":"0 "}},{"$f":"D160-D169","v":{"v":0,"d":"0 "}},{"$f":"E160-E169","v":{"v":0,"d":"0 "}}]
["GASTOS ADMINISTRATIVOS",null,{"$f":"+'cost fijos'!D42","v":{"v":0,"d":"0 "}},{"$f":"+'cost fijos'!E42","v":{"v":0,"d":"0 "}},{"$f":"+'cost fijos'!F42","v":{"v":0,"d":"0 "}}]
["GASTOS DE VENTAS",null,{"$f":"+ventas!B318","v":{"v":0,"d":"0 "}},{"$f":"+ventas!C318","v":{"v":0,"d":"0 "}},{"$f":"+ventas!D318","v":{"v":0,"d":"0 "}}]
["UTILIDAD OPERACIONAL (utilidad bruta- G.F.)",null,{"$f":"C170-C171-C172","v":{"v":0,"d":"0 "}},{"$f":"D170-D171-D172","v":{"v":0,"d":"0 "}},{"$f":"E170-E171-E172","v":{"v":0,"d":"0 "}}]
["    - OTROS EGRESOS"]
["    - GASTOS FINANCIEROS",null,{"$f":"+'inver y financ'!B319","v":{"v":0,"d":"0 "}},{"$f":"+'inver y financ'!C319","v":{"v":0,"d":"0 "}},{"$f":"+'inver y financ'!D319","v":{"v":0,"d":"0 "}}]
["    - GASTOS PREOPERATIVOS",null,{"$f":"IF('cost fijos'!$A$127>=1,+'cost fijos'!$B$126,0)","v":{"v":0,"d":"0 "}},{"$f":"IF('cost fijos'!$A$127>=2,+'cost fijos'!$B$126,0)","v":{"v":0,"d":"0 "}},{"$f":"IF('cost fijos'!$A$127>=3,+'cost fijos'!$B$126,0)","v":{"v":0,"d":"0 "}}]
["UTILIDAD ANTES DE IMPUESTOS (U.O. - Otr G.)",null,{"$f":"C173-C175-C176","v":{"v":0,"d":"0 "}},{"$f":"D173-D175-D176","v":{"v":0,"d":"0 "}},{"$f":"E173-E175-E176","v":{"v":0,"d":"0 "}}]
["IMPUESTOS",null,{"$f":"IF(C177<0,0,C177*'datos de entrada'!$G$409)","v":{"v":0,"d":"0 "}},{"$f":"IF(D177<0,0,D177*'datos de entrada'!$G$409)","v":{"v":0,"d":"0 "}},{"$f":"IF(E177<0,0,E177*'datos de entrada'!$G$409)","v":{"v":0,"d":"0 "}}]
["UTILIDAD NETA",null,{"$f":"C177-C178","v":{"v":0,"d":"$ 0"}},{"$f":"D177-D178","v":{"v":0,"d":"$ 0"}},{"$f":"E177-E178","v":{"v":0,"d":"$ 0"}}]
[{"$f":"+ayuda!A115","v":{"$error":"#DIV/0!"}}]
{"$rows_empty":8}
["CAMBIOS PORCENTUALES DEL PRIMER AÑO"]
[null,"AÑO 2 VS. 1","AÑO 3 VS. 2"]
["VENTAS",{"$f":"D160/C160-1","v":{"$error":"#DIV/0!"}},{"$f":"E160/D160-1","v":{"$error":"#DIV/0!"}}]
["COSTO DE VENTAS",{"$f":"D169/C169-1","v":{"$error":"#DIV/0!"}},{"$f":"E169/D169-1","v":{"$error":"#DIV/0!"}}]
["GASTOS ADMINISTRATIVOS",{"$f":"D171/C171-1","v":{"$error":"#DIV/0!"}},{"$f":"E171/D171-1","v":{"$error":"#DIV/0!"}}]
["UTILIDAD NETA",{"$f":"D179/C179-1","v":{"$error":"#DIV/0!"}},{"$f":"E179/D179-1","v":{"$error":"#DIV/0!"}}]
[]
[{"$f":"+ayuda!A126","v":{"$error":"#DIV/0!"}}]
[]
[]
[{"$f":"+ayuda!A132","v":{"$error":"#DIV/0!"}}]
[]
[]
[]
[]
[]
["COMPORTAMIENTO DE CARTERA Y PAGO A PROVEEDORES"]
["TIEMPO","CARTERA","PROVEEDORES"]
["CONTADO",{"$f":"+ventas!B338","v":{"$error":"#DIV/0!"}},{"$f":"+'cost var'!B537","v":{"v":0,"d":"0.00%"}}]
["30 DIAS",{"$f":"+ventas!C338","v":{"$error":"#DIV/0!"}},{"$f":"+'cost var'!C537","v":{"v":0,"d":"0.00%"}}]
["60 DIAS",{"$f":"+ventas!D338","v":{"$error":"#DIV/0!"}},{"$f":"+'cost var'!D537","v":{"v":0,"d":"0.00%"}}]
["90 DIAS",{"$f":"+ventas!E338","v":{"$error":"#DIV/0!"}},{"$f":"+'cost var'!E537","v":{"v":0,"d":"0.00%"}}]
["120 DIAS",{"$f":"+ventas!F338","v":{"$error":"#DIV/0!"}}]
["150 DIAS",{"$f":"+ventas!G338","v":{"$error":"#DIV/0!"}}]
[{"$f":"+ayuda!A145","v":{"$error":"#DIV/0!"}}]
[]
[]
[{"$f":"+ayuda!A153","v":{"$error":"#DIV/0!"}}]
[]
[]
[]
[]
["FLUJO DE FONDOS MENSUAL",{"$nulls":7},"(CONTINUACION)"]
["CONCEPTO","PREOPER.","MES 1","MES 2","MES 3","MES 4","MES 5","MES 6","MES 7","MES 8","MES 9","MES 10","MES 11","MES 12"]
["INGRESOS OPERATIVOS"]
["   VENTAS DE CONTADO",null,{"$f":"+ventas!B186","v":{"v":0,"d":"0 "}},{"$f":"+ventas!C186","v":{"v":0,"d":"0 "}},{"$f":"+ventas!D186","v":{"v":0,"d":"0 "}},{"$f":"+ventas!E186","v":{"v":0,"d":"0 "}},{"$f":"+ventas!F186","v":{"v":0,"d":"0 "}},{"$f":"+ventas!G186","v":{"v":0,"d":"0 "}},{"$f":"+ventas!H186","v":{"v":0,"d":"0 "}},{"$f":"+ventas!I186","v":{"v":0,"d":"0 "}},{"$f":"+ventas!J186","v":{"v":0,"d":"0 "}},{"$f":"+ventas!K186","v":{"v":0,"d":"0 "}},{"$f":"+ventas!L186","v":{"v":0,"d":"0 "}},{"$f":"+ventas!M186","v":{"v":0,"d":"0 "}}]
["   VENTAS A 30 DIAS",null,{"$f":"+ventas!B187","v":{"v":0,"d":"0 "}},{"$f":"+ventas!C187","v":{"v":0,"d":"0 "}},{"$f":"+ventas!D187","v":{"v":0,"d":"0 "}},{"$f":"+ventas!E187","v":{"v":0,"d":"0 "}},{"$f":"+ventas!F187","v":{"v":0,"d":"0 "}},{"$f":"+ventas!G187","v":{"v":0,"d":"0 "}},{"$f":"+ventas!H187","v":{"v":0,"d":"0 "}},{"$f":"+ventas!I187","v":{"v":0,"d":"0 "}},{"$f":"+ventas!J187","v":{"v":0,"d":"0 "}},{"$f":"+ventas!K187","v":{"v":0,"d":"0 "}},{"$f":"+ventas!L187","v":{"v":0,"d":"0 "}},{"$f":"+ventas!M187","v":{"v":0,"d":"0 "}}]
["   VENTAS A 60 DIAS",null,{"$f":"+ventas!B188","v":{"v":0,"d":"0 "}},{"$f":"+ventas!C188","v":{"v":0,"d":"0 "}},{"$f":"+ventas!D188","v":{"v":0,"d":"0 "}},{"$f":"+ventas!E188","v":{"v":0,"d":"0 "}},{"$f":"+ventas!F188","v":{"v":0,"d":"0 "}},{"$f":"+ventas!G188","v":{"v":0,"d":"0 "}},{"$f":"+ventas!H188","v":{"v":0,"d":"0 "}},{"$f":"+ventas!I188","v":{"v":0,"d":"0 "}},{"$f":"+ventas!J188","v":{"v":0,"d":"0 "}},{"$f":"+ventas!K188","v":{"v":0,"d":"0 "}},{"$f":"+ventas!L188","v":{"v":0,"d":"0 "}},{"$f":"+ventas!M188","v":{"v":0,"d":"0 "}}]
["   VENTAS A 90 DIAS",null,{"$f":"+ventas!B189","v":{"v":0,"d":"0 "}},{"$f":"+ventas!C189","v":{"v":0,"d":"0 "}},{"$f":"+ventas!D189","v":{"v":0,"d":"0 "}},{"$f":"+ventas!E189","v":{"v":0,"d":"0 "}},{"$f":"+ventas!F189","v":{"v":0,"d":"0 "}},{"$f":"+ventas!G189","v":{"v":0,"d":"0 "}},{"$f":"+ventas!H189","v":{"v":0,"d":"0 "}},{"$f":"+ventas!I189","v":{"v":0,"d":"0 "}},{"$f":"+ventas!J189","v":{"v":0,"d":"0 "}},{"$f":"+ventas!K189","v":{"v":0,"d":"0 "}},{"$f":"+ventas!L189","v":{"v":0,"d":"0 "}},{"$f":"+ventas!M189","v":{"v":0,"d":"0 "}}]
["   VENTAS A 120 DIAS",null,{"$f":"+ventas!B190","v":{"v":0,"d":"0 "}},{"$f":"+ventas!C190","v":{"v":0,"d":"0 "}},{"$f":"+ventas!D190","v":{"v":0,"d":"0 "}},{"$f":"+ventas!E190","v":{"v":0,"d":"0 "}},{"$f":"+ventas!F190","v":{"v":0,"d":"0 "}},{"$f":"+ventas!G190","v":{"v":0,"d":"0 "}},{"$f":"+ventas!H190","v":{"v":0,"d":"0 "}},{"$f":"+ventas!I190","v":{"v":0,"d":"0 "}},{"$f":"+ventas!J190","v":{"v":0,"d":"0 "}},{"$f":"+ventas!K190","v":{"v":0,"d":"0 "}},{"$f":"+ventas!L190","v":{"v":0,"d":"0 "}},{"$f":"+ventas!M190","v":{"v":0,"d":"0 "}}]
["   VENTAS A 150 DIAS",null,{"$f":"+ventas!B191","v":{"v":0,"d":"0 "}},{"$f":"+ventas!C191","v":{"v":0,"d":"0 "}},{"$f":"+ventas!D191","v":{"v":0,"d":"0 "}},{"$f":"+ventas!E191","v":{"v":0,"d":"0 "}},{"$f":"+ventas!F191","v":{"v":0,"d":"0 "}},{"$f":"+ventas!G191","v":{"v":0,"d":"0 "}},{"$f":"+ventas!H191","v":{"v":0,"d":"0 "}},{"$f":"+ventas!I191","v":{"v":0,"d":"0 "}},{"$f":"+ventas!J191","v":{"v":0,"d":"0 "}},{"$f":"+ventas!K191","v":{"v":0,"d":"0 "}},{"$f":"+ventas!L191","v":{"v":0,"d":"0 "}},{"$f":"+ventas!M191","v":{"v":0,"d":"0 "}}]
["TOTAL INGRESOS OPERATIVOS",{"$f":"SUM(B224:B229)","v":{"v":0,"d":"0 "}},{"v":0,"d":"0 "},{"v":0,"d":"0 "},{"v":0,"d":"0 "},{"v":0,"d":"0 "},{"v":0,"d":"0 "},{"v":0,"d":"0 "},{"v":0,"d":"0 "},{"v":0,"d":"0 "},{"v":0,"d":"0 "},{"v":0,"d":"0 "},{"v":0,"d":"0 "},{"v":0,"d":"0 "}]
["EGRESOS OPERATIVOS"]
["   MATERIA PRIMA",{"$f":"+C161","v":{"v":0,"d":"0 "}},{"$f":"+'cost var'!B357","v":{"v":0,"d":"0 "}},{"$f":"+'cost var'!C357","v":{"v":0,"d":"0 "}},{"$f":"+'cost var'!D357","v":{"v":0,"d":"0 "}},{"$f":"+'cost var'!E357","v":{"v":0,"d":"0 "}},{"$f":"+'cost var'!F357","v":{"v":0,"d":"0 "}},{"$f":"+'cost var'!G357","v":{"v":0,"d":"0 "}},{"$f":"+'cost var'!H357","v":{"v":0,"d":"0 "}},{"$f":"+'cost var'!I357","v":{"v":0,"d":"0 "}},{"$f":"+'cost var'!J357","v":{"v":0,"d":"0 "}},{"$f":"+'cost var'!K357","v":{"v":0,"d":"0 "}},{"$f":"+'cost var'!L357","v":{"v":0,"d":"0 "}},{"$f":"+'cost var'!M357","v":{"v":0,"d":"0 "}}]
["   GASTOS DE VENTA",null,{"$f":"+ventas!B298","v":{"v":0,"d":"0 "}},{"$f":"+ventas!C298","v":{"v":0,"d":"0 "}},{"$f":"+ventas!D298","v":{"v":0,"d":"0 "}},{"$f":"+ventas!E298","v":{"v":0,"d":"0 "}},{"$f":"+ventas!F298","v":{"v":0,"d":"0 "}},{"$f":"+ventas!G298","v":{"v":0,"d":"0 "}},{"$f":"+ventas!H298","v":{"v":0,"d":"0 "}},{"$f":"+ventas!I298","v":{"v":0,"d":"0 "}},{"$f":"+ventas!J298","v":{"v":0,"d":"0 "}},{"$f":"+ventas!K298","v":{"v":0,"d":"0 "}},{"$f":"+ventas!L298","v":{"v":0,"d":"0 "}},{"$f":"+ventas!M298","v":{"v":0,"d":"0 "}}]
["   MANO DE OBRA VARIABLE",null,{"$f":"+'cost var'!B516","v":{"v":0,"d":"0 "}},{"$f":"+'cost var'!C516","v":{"v":0,"d":"0 "}},{"$f":"+'cost var'!D516","v":{"v":0,"d":"0 "}},{"$f":"+'cost var'!E516","v":{"v":0,"d":"0 "}},{"$f":"+'cost var'!F516","v":{"v":0,"d":"0 "}},{"$f":"+'cost var'!G516","v":{"v":0,"d":"0 "}},{"$f":"+'cost var'!H516","v":{"v":0,"d":"0 "}},{"$f":"+'cost var'!I516","v":{"v":0,"d":"0 "}},{"$f":"+'cost var'!J516","v":{"v":0,"d":"0 "}},{"$f":"+'cost var'!K516","v":{"v":0,"d":"0 "}},{"$f":"+'cost var'!L516","v":{"v":0,"d":"0 "}},{"$f":"+'cost var'!M516","v":{"v":0,"d":"0 "}}]
["   MANO DE OBRA DIRECTA FIJA",null,{"$f":"+'cost fijos'!H78","v":{"v":0,"d":"0 "}},{"$f":"+'cost fijos'!I78","v":{"v":0,"d":"0 "}},{"$f":"+'cost fijos'!J78","v":{"v":0,"d":"0 "}},{"$f":"+'cost fijos'!K78","v":{"v":0,"d":"0 "}},{"$f":"+'cost fijos'!L78","v":{"v":0,"d":"0 "}},{"$f":"+'cost fijos'!M78","v":{"v":0,"d":"0 "}},{"$f":"+'cost fijos'!N78","v":{"v":0,"d":"0 "}},{"$f":"+'cost fijos'!O78","v":{"v":0,"d":"0 "}},{"$f":"+'cost fijos'!P78","v":{"v":0,"d":"0 "}},{"$f":"+'cost fijos'!Q78","v":{"v":0,"d":"0 "}},{"$f":"+'cost fijos'!R78","v":{"v":0,"d":"0 "}},{"$f":"+'cost fijos'!S78","v":{"v":0,"d":"0 "}}]
["   OTROS COSTOS DE PRODUCCION",null,{"$f":"+'cost fijos'!H$95","v":{"v":0,"d":"0 "}},{"$f":"+'cost fijos'!I$95","v":{"v":0,"d":"0 "}},{"$f":"+'cost fijos'!J$95","v":{"v":0,"d":"0 "}},{"$f":"+'cost fijos'!K$95","v":{"v":0,"d":"0 "}},{"$f":"+'cost fijos'!L$95","v":{"v":0,"d":"0 "}},{"$f":"+'cost fijos'!M$95","v":{"v":0,"d":"0 "}},{"$f":"+'cost fijos'!N$95","v":{"v":0,"d":"0 "}},{"$f":"+'cost fijos'!O$95","v":{"v":0,"d":"0 "}},{"$f":"+'cost fijos'!P$95","v":{"v":0,"d":"0 "}},{"$f":"+'cost fijos'!Q$95","v":{"v":0,"d":"0 "}},{"$f":"+'cost fijos'!R$95","v":{"v":0,"d":"0 "}},{"$f":"+'cost fijos'!S$95","v":{"v":0,"d":"0 "}}]
["   GASTOS ADMINISTRATIVOS",null,{"$f":"+'cost fijos'!I41+'cost fijos'!I22","v":{"v":0,"d":"0 "}},{"$f":"+'cost fijos'!J41+'cost fijos'!J22","v":{"v":0,"d":"0 "}},{"$f":"+'cost fijos'!K41+'cost fijos'!K22","v":{"v":0,"d":"0 "}},{"$f":"+'cost fijos'!L41+'cost fijos'!L22","v":{"v":0,"d":"0 "}},{"$f":"+'cost fijos'!M41+'cost fijos'!M22","v":{"v":0,"d":"0 "}},{"$f":"+'cost fijos'!N41+'cost fijos'!N22","v":{"v":0,"d":"0 "}},{"$f":"+'cost fijos'!O41+'cost fijos'!O22","v":{"v":0,"d":"0 "}},{"$f":"+'cost fijos'!P41+'cost fijos'!P22","v":{"v":0,"d":"0 "}},{"$f":"+'cost fijos'!Q41+'cost fijos'!Q22","v":{"v":0,"d":"0 "}},{"$f":"+'cost fijos'!R41+'cost fijos'!R22","v":{"v":0,"d":"0 "}},{"$f":"+'cost fijos'!S41+'cost fijos'!S22","v":{"v":0,"d":"0 "}},{"$f":"+'cost fijos'!T41+'cost fijos'!T22","v":{"v":0,"d":"0 "}}]
["TOTAL EGRESOS OPERATIVOS",{"$f":"SUM(B235:B237)+SUM(B232:B234)","v":{"v":0,"d":"0 "}},{"v":0,"d":"0 "},{"v":0,"d":"0 "},{"v":0,"d":"0 "},{"v":0,"d":"0 "},{"v":0,"d":"0 "},{"v":0,"d":"0 "},{"v":0,"d":"0 "},{"v":0,"d":"0 "},{"v":0,"d":"0 "},{"v":0,"d":"0 "},{"v":0,"d":"0 "},{"v":0,"d":"0 "}]
["FLUJO NETO OPERATIVO",{"$f":"B230-B238","v":{"v":0,"d":"0 "}},{"v":0,"d":"0 "},{"v":0,"d":"0 "},{"v":0,"d":"0 "},{"v":0,"d":"0 "},{"v":0,"d":"0 "},{"v":0,"d":"0 "},{"v":0,"d":"0 "},{"v":0,"d":"0 "},{"v":0,"d":"0 "},{"v":0,"d":"0 "},{"v":0,"d":"0 "},{"v":0,"d":"0 "}]
["INGRESOS NO OPERATIVOS"]
["  APORTES"]
["    ACTIVOS FIJOS",{"$f":"+'inversion af'!C104+'inversion af'!C126","v":{"v":0,"d":"0 "}},{"$nulls":3},{"$f":"+'inversion af'!D104+'inversion af'!D126","v":{"v":0,"d":"0 "}},null,null,{"$f":"+'inversion af'!E104+'inversion af'!E126","v":{"v":0,"d":"0 "}},null,null,{"$f":"+'inversion af'!F104+'inversion af'!F126","v":{"v":0,"d":"0 "}}]
["    CAPITAL DE TRABAJO",{"$f":"+'inversion af'!C177+'inversion af'!C179","v":{"v":0,"d":"0 "}},{"$nulls":3},{"$f":"+'inversion af'!D177+'inversion af'!D179","v":{"v":0,"d":"0 "}},null,null,{"$f":"+'inversion af'!E177+'inversion af'!E179","v":{"v":0,"d":"0 "}},null,null,{"$f":"+'inversion af'!F177+'inversion af'!F179","v":{"v":0,"d":"0 "}}]
["  FINANCIACION"]
["    ACTIVOS FIJOS",{"$f":"+'inversion af'!C115","v":{"v":0,"d":"0 "}},{"$nulls":3},{"$f":"+'inversion af'!D115","v":{"v":0,"d":"0 "}},null,null,{"$f":"+'inversion af'!E115","v":{"v":0,"d":"0 "}},null,null,{"$f":"+'inversion af'!F115","v":{"v":0,"d":"0 "}}]
["    CAPITAL DE TRABAJO",{"$f":"+'inversion af'!C178","v":{"v":0,"d":"0 "}},null,null,{"$f":"+'inversion af'!D178","v":{"v":0,"d":"0 "}},{"$nulls":3},{"$f":"+'inversion af'!E178","v":{"v":0,"d":"0 "}},null,null,{"$f":"+'inversion af'!F178","v":{"v":0,"d":"0 "}}]
["TOTAL INGRESOS NO OPERATIVOS",{"$f":"SUM(B242:B246)","v":{"v":0,"d":"0 "}},{"v":0,"d":"0 "},{"v":0,"d":"0 "},{"v":0,"d":"0 "},{"v":0,"d":"0 "},{"v":0,"d":"0 "},{"v":0,"d":"0 "},{"v":0,"d":"0 "},{"v":0,"d":"0 "},{"v":0,"d":"0 "},{"v":0,"d":"0 "},{"v":0,"d":"0 "},{"v":0,"d":"0 "}]
["EGRESOS NO OPERATIVOS"]
["    GASTOS PREOPERATIVOS",{"$f":"+'cost fijos'!B126*'cost fijos'!A127","v":{"v":0,"d":"0 "}}]
["    AMORTIZACIONES",null,{"$f":"+'inver y financ'!$C250","v":{"v":0,"d":"0 "}},{"$f":"+'inver y financ'!$C251","v":{"v":0,"d":"0 "}},{"$f":"+'inver y financ'!$C252","v":{"v":0,"d":"0 "}},{"$f":"+'inver y financ'!$C253","v":{"v":0,"d":"0 "}},{"$f":"+'inver y financ'!$C254","v":{"v":0,"d":"0 "}},{"$f":"+'inver y financ'!$C255","v":{"v":0,"d":"0 "}},{"$f":"+'inver y financ'!$C256","v":{"v":0,"d":"0 "}},{"$f":"+'inver y financ'!$C257","v":{"v":0,"d":"0 "}},{"$f":"+'inver y financ'!$C258","v":{"v":0,"d":"0 "}},{"$f":"+'inver y financ'!$C259","v":{"v":0,"d":"0 "}},{"$f":"+'inver y financ'!$C260","v":{"v":0,"d":"0 "}},{"$f":"+'inver y financ'!$C261","v":{"v":0,"d":"0 "}}]
["    GASTOS FINANCIEROS",null,{"$f":"+'inver y financ'!$G250","v":{"v":0,"d":"0 "}},{"$f":"+'inver y financ'!$G251","v":{"v":0,"d":"0 "}},{"$f":"+'inver y financ'!$G252","v":{"v":0,"d":"0 "}},{"$f":"+'inver y financ'!$G253","v":{"v":0,"d":"0 "}},{"$f":"+'inver y financ'!$G254","v":{"v":0,"d":"0 "}},{"$f":"+'inver y financ'!$G255","v":{"v":0,"d":"0 "}},{"$f":"+'inver y financ'!$G256","v":{"v":0,"d":"0 "}},{"$f":"+'inver y financ'!$G257","v":{"v":0,"d":"0 "}},{"$f":"+'inver y financ'!$G258","v":{"v":0,"d":"0 "}},{"$f":"+'inver y financ'!$G259","v":{"v":0,"d":"0 "}},{"$f":"+'inver y financ'!$G260","v":{"v":0,"d":"0 "}},{"$f":"+'inver y financ'!$G261","v":{"v":0,"d":"0 "}}]
["    IMPUESTOS"]
["    ACTIVOS DIFERIDOS"]
["    COMPRA DE ACTIVOS FIJOS",{"$f":"+'inversion af'!C104+'inversion af'!C126+'inversion af'!C115","v":{"v":0,"d":"0 "}},{"$nulls":3},{"$f":"+'inversion af'!D104+'inversion af'!D115+'inversion af'!D126","v":{"v":0,"d":"0 "}},null,null,{"$f":"+'inversion af'!E104+'inversion af'!E115+'inversion af'!E126","v":{"v":0,"d":"0 "}},null,null,{"$f":"+'inversion af'!F104+'inversion af'!F115+'inversion af'!F126","v":{"v":0,"d":"0 "}}]
["TOTAL EGRESOS NO OPERATIVOS",{"$f":"SUM(B249:B254)","v":{"v":0,"d":"0 "}},{"v":0,"d":"0 "},{"v":0,"d":"0 "},{"v":0,"d":"0 "},{"v":0,"d":"0 "},{"v":0,"d":"0 "},{"v":0,"d":"0 "},{"v":0,"d":"0 "},{"v":0,"d":"0 "},{"v":0,"d":"0 "},{"v":0,"d":"0 "},{"v":0,"d":"0 "},{"v":0,"d":"0 "}]
["FLUJO NETO NO OPERATIVO",{"$f":"B247-B255","v":{"v":0,"d":"0 "}},{"v":0,"d":"0 "},{"v":0,"d":"0 "},{"v":0,"d":"0 "},{"v":0,"d":"0 "},{"v":0,"d":"0 "},{"v":0,"d":"0 "},{"v":0,"d":"0 "},{"v":0,"d":"0 "},{"v":0,"d":"0 "},{"v":0,"d":"0 "},{"v":0,"d":"0 "},{"v":0,"d":"0 "}]
["FLUJO NETO",{"$f":"B239+B256","v":{"v":0,"d":"$ 0"}},{"v":0,"d":"$ 0"},{"v":0,"d":"$ 0"},{"v":0,"d":"$ 0"},{"v":0,"d":"$ 0"},{"v":0,"d":"$ 0"},{"v":0,"d":"$ 0"},{"v":0,"d":"$ 0"},{"v":0,"d":"$ 0"},{"v":0,"d":"$ 0"},{"v":0,"d":"$ 0"},{"v":0,"d":"$ 0"},{"v":0,"d":"$ 0"}]
["  + SALDO INICIAL",null,{"$f":"B259","v":{"v":0,"d":"$ 0"}},{"v":0,"d":"$ 0"},{"v":0,"d":"$ 0"},{"v":0,"d":"$ 0"},{"v":0,"d":"$ 0"},{"v":0,"d":"$ 0"},{"v":0,"d":"$ 0"},{"v":0,"d":"$ 0"},{"v":0,"d":"$ 0"},{"v":0,"d":"$ 0"},{"v":0,"d":"$ 0"},{"v":0,"d":"$ 0"}]
["SALDO FINAL ACUMULADO",{"$f":"B257","v":{"v":0,"d":"$ 0"}},{"$f":"C257+C258","v":{"v":0,"d":"$ 0"}},{"v":0,"d":"$ 0"},{"v":0,"d":"$ 0"},{"v":0,"d":"$ 0"},{"v":0,"d":"$ 0"},{"v":0,"d":"$ 0"},{"v":0,"d":"$ 0"},{"v":0,"d":"$ 0"},{"v":0,"d":"$ 0"},{"v":0,"d":"$ 0"},{"v":0,"d":"$ 0"},{"v":0,"d":"$ 0"}]
[]
[{"$f":"+ayuda!A161","v":{"$error":"#DIV/0!"}}]
[]
[]
[]
[]
[]
["FLUJO DE FONDOS ANUAL"]
["CONCEPTO","AÑO 1","AÑO 2","AÑO 3"]
["INGRESOS OPERATIVOS"]
["   VENTAS DE CONTADO",{"$f":"SUM(B224:N224)","v":{"v":0,"d":"0 "}},{"$f":"+ventas!O186","v":{"v":0,"d":"0 "}},{"$f":"+ventas!P186","v":{"v":0,"d":"0 "}}]
["   VENTAS A 30 DIAS",{"v":0,"d":"0 "},{"$f":"+ventas!O187","v":{"v":0,"d":"0 "}},{"$f":"+ventas!P187","v":{"v":0,"d":"0 "}}]
["   VENTAS A 60 DIAS",{"v":0,"d":"0 "},{"$f":"+ventas!O188","v":{"v":0,"d":"0 "}},{"$f":"+ventas!P188","v":{"v":0,"d":"0 "}}]
["   VENTAS A 90 DIAS",{"v":0,"d":"0 "},{"$f":"+ventas!O189","v":{"v":0,"d":"0 "}},{"$f":"+ventas!P189","v":{"v":0,"d":"0 "}}]
["   VENTAS A 120 DIAS",{"v":0,"d":"0 "},{"$f":"+ventas!O190","v":{"v":0,"d":"0 "}},{"$f":"+ventas!P190","v":{"v":0,"d":"0 "}}]
["   VENTAS A 150 DIAS",{"v":0,"d":"0 "},{"$f":"+ventas!O191","v":{"v":0,"d":"0 "}},{"$f":"+ventas!P191","v":{"v":0,"d":"0 "}}]
["TOTAL INGRESOS OPERATIVOS",{"$f":"SUM(B270:B275)","v":{"v":0,"d":"0 "}},{"$f":"SUM(C270:C275)","v":{"v":0,"d":"0 "}},{"$f":"SUM(D270:D275)","v":{"v":0,"d":"0 "}}]
["EGRESOS OPERATIVOS"]
["   MATERIA PRIMA",{"$f":"SUM(B232:N232)","v":{"v":0,"d":"0 "}},{"$f":"+'cost var'!O357","v":{"v":0,"d":"0 "}},{"$f":"+'cost var'!P357","v":{"v":0,"d":"0 "}}]
["   GASTOS DE VENTA",{"v":0,"d":"0 "},{"$f":"+ventas!C318","v":{"v":0,"d":"0 "}},{"$f":"+ventas!D318","v":{"v":0,"d":"0 "}}]
["   MANO DE OBRA VARIABLE",{"v":0,"d":"0 "},{"$f":"+'cost var'!O516","v":{"v":0,"d":"0 "}},{"$f":"+'cost var'!P516","v":{"v":0,"d":"0 "}}]
["   MANO DE OBRA DIRECTA FIJA",{"v":0,"d":"0 "},{"$f":"+'cost fijos'!D78","v":{"v":0,"d":"0 "}},{"$f":"+'cost fijos'!E78","v":{"v":0,"d":"0 "}}]
["   OTROS COSTOS DE PRODUCCION",{"v":0,"d":"0 "},{"$f":"+'cost fijos'!D95","v":{"v":0,"d":"0 "}},{"$f":"+'cost fijos'!E95","v":{"v":0,"d":"0 "}}]
["   GASTOS ADMINISTRATIVOS",{"v":0,"d":"0 "},{"$f":"+'cost fijos'!E42","v":{"v":0,"d":"0 "}},{"$f":"+'cost fijos'!F42","v":{"v":0,"d":"0 "}}]
["TOTAL EGRESOS OPERATIVOS",{"$f":"SUM(B281:B283)+SUM(B278:B280)","v":{"v":0,"d":"0 "}},{"$f":"SUM(C281:C283)+SUM(C278:C280)","v":{"v":0,"d":"0 "}},{"$f":"SUM(D281:D283)+SUM(D278:D280)","v":{"v":0,"d":"0 "}}]
["FLUJO NETO OPERATIVO",{"$f":"B276-B284","v":{"v":0,"d":"0 "}},{"$f":"C276-C284","v":{"v":0,"d":"0 "}},{"$f":"D276-D284","v":{"v":0,"d":"0 "}}]
["INGRESOS NO OPERATIVOS"]
["  APORTES"]
["    ACTIVOS FIJOS",{"$f":"SUM(B242:N242)","v":{"v":0,"d":"0 "}},{"$f":"+'inversion af'!G104+'inversion af'!G126+'inversion af'!H126+'inversion af'!H104","v":{"v":0,"d":"0 "}},{"$f":"+'inversion af'!I104+'inversion af'!I126+'inversion af'!J104+'inversion af'!J126","v":{"v":0,"d":"0 "}}]
["    CAPITAL DE TRABAJO",{"$f":"SUM(B243:N243)","v":{"v":0,"d":"0 "}},{"$f":"+'inversion af'!G177+'inversion af'!G179+'inversion af'!H177+'inversion af'!H179","v":{"v":0,"d":"0 "}},{"$f":"+'inversion af'!I177+'inversion af'!J177+'inversion af'!I179+'inversion af'!J179","v":{"v":0,"d":"0 "}}]
["  FINANCIACION"]
["    ACTIVOS FIJOS",{"$f":"SUM(B245:N245)","v":{"v":0,"d":"0 "}},{"$f":"+'inversion af'!G115+'inversion af'!H115","v":{"v":0,"d":"0 "}},{"$f":"+'inversion af'!I115+'inversion af'!J115","v":{"v":0,"d":"0 "}}]
["    CAPITAL DE TRABAJO",{"$f":"SUM(B246:N246)","v":{"v":0,"d":"0 "}},{"$f":"+'inversion af'!G178+'inversion af'!H178","v":{"v":0,"d":"0 "}},{"$f":"+'inversion af'!I178+'inversion af'!J178","v":{"v":0,"d":"0 "}}]
["TOTAL INGRESOS NO OPERATIVOS",{"$f":"SUM(B288:B292)","v":{"v":0,"d":"0 "}},{"$f":"SUM(C288:C292)","v":{"v":0,"d":"0 "}},{"$f":"SUM(D288:D292)","v":{"v":0,"d":"0 "}}]
["EGRESOS NO OPERATIVOS"]
["    GASTOS PREOPERATIVOS",{"$f":"SUM(B249:N249)","v":{"v":0,"d":"0 "}}]
["    AMORTIZACIONES",{"v":0,"d":"0 "},{"$f":"+'inver y financ'!C318","v":{"v":0,"d":"0 "}},{"$f":"+'inver y financ'!D318","v":{"v":0,"d":"0 "}}]
["    GASTOS FINANCIEROS",{"v":0,"d":"0 "},{"$f":"+'inver y financ'!C319","v":{"v":0,"d":"0 "}},{"$f":"+'inver y financ'!D319","v":{"v":0,"d":"0 "}}]
["    IMPUESTOS",{"v":0,"d":"0 "},{"$f":"C328","v":{"v":0,"d":"0 "}},{"$f":"D328","v":{"v":0,"d":"0 "}}]
["    ACTIVOS DIFERIDOS",{"v":0,"d":"0 "}]
["    COMPRA DE ACTIVOS FIJOS",{"v":0,"d":"0 "},{"$f":"+'inversion af'!G104+'inversion af'!G115+'inversion af'!G126+'inversion af'!H104+'inversion af'!H115+'inversion af'!H126","v":{"v":0,"d":"0 "}},{"$f":"+'inversion af'!I104+'inversion af'!J104+'inversion af'!I115+'inversion af'!J115+'inversion af'!I126+'inversion af'!J126","v":{"v":0,"d":"0 "}}]
["TOTAL EGRESOS NO OPERATIVOS",{"$f":"SUM(B295:B300)","v":{"v":0,"d":"$ 0"}},{"$f":"SUM(C295:C300)","v":{"v":0,"d":"$ 0"}},{"$f":"SUM(D295:D300)","v":{"v":0,"d":"$ 0"}}]
["FLUJO NETO NO OPERATIVO",{"$f":"B293-B301","v":{"v":0,"d":"$ 0"}},{"$f":"C293-C301","v":{"v":0,"d":"$ 0"}},{"$f":"D293-D301","v":{"v":0,"d":"$ 0"}}]
["FLUJO NETO",{"$f":"B285+B302","v":{"v":0,"d":"$ 0"}},{"$f":"C285+C302","v":{"v":0,"d":"$ 0"}},{"$f":"D285+D302","v":{"v":0,"d":"$ 0"}}]
["  + SALDO INICIAL",{"$f":"C258","v":{"v":0,"d":"$ 0"}},{"$f":"B305","v":{"v":0,"d":"$ 0"}},{"$f":"C305","v":{"v":0,"d":"$ 0"}}]
["SALDO FINAL ACUMULADO",{"$f":"B303","v":{"v":0,"d":"$ 0"}},{"$f":"C303+C304","v":{"v":0,"d":"$ 0"}},{"$f":"D303+D304","v":{"v":0,"d":"$ 0"}}]
[{"$f":"IF(ISERROR(+ayuda!A171)=TRUE,\"\",+ayuda!A171)","v":""}]
[{"$f":"IF(ISERROR(+ayuda!A179)=TRUE,\"\",+ayuda!A179)","v":"EL SEGUNDO INDICADOR ES EL VALOR PRESENTE NETO, PARA SU CALCULO ES NECESARIO LA TASA DE DESCUENTO O TASA DE INTERES DE OPORTUNIDAD QUE SE SOLICITO EN LA ENTRADA DE DATOS, (OTROS PARAMETROS), DONDE USTED DIGITO EL 0%, EL VALOR ARROJADO DEL CALCULO ES 0 €. SE INTERPRETA COMO: EL PROYECTO ARROJA 0 MILLONES , ES INDIFERENTE INVERTIR LOS RECURSOS EN ESTE PROYECTO O EN CUALQUIERA QUE RENTE EL 0% ANUAL, PUEDE CONTINUAR O ABANDONAR."}]
[{"$f":"+ayuda!A188","v":"EL TERCER INDICADOR DE VIABILIDAD FINANCIERA ES EL PERIODO DE RECUPERACIÓN DE LA INVERSIÓN O PRI. SE CALCULA CON EL ESTADO DE RESULTADOS SUMANDO LAS UTILIDADES Y RESTANDO LA INVERSIÓN HASTA OBTENER CERO. LA INVERSIÓN ES DE 0 €. COMO LA SUMA DE LAS UTILIDADES DE LOS TRES AÑOS ES INFERIOR A ESTA CIFRA SE ASEVERA EL PROYECTO REQUIERE MAS DE TRES AÑOS PARA RECUPERAR LA INVERSIÓN,"}]
[]
[]
[]
[]
["BALANCE GENERAL PROYECTADO"]
[]
["ACTIVO","INICIAL","AÑO 1 ","AÑO 2 ","AÑO 3"]
["  CAJA",{"$f":"+'inversion af'!C180-'cost fijos'!B125-'cost var'!D119","v":{"v":0,"d":"0 "}},{"$f":"B305","v":{"v":0,"d":"0 "}},{"$f":"C305","v":{"v":0,"d":"0 "}},{"$f":"D305","v":{"v":0,"d":"0 "}}]
["  CUENTAS POR COBRAR",{"v":0,"d":"0 "},{"$f":"+ventas!N246","v":{"v":0,"d":"0 "}},{"$f":"+ventas!N253","v":{"v":0,"d":"0 "}},{"$f":"+ventas!N260","v":{"v":0,"d":"0 "}}]
["  INVENTARIOS",{"$f":"+B232","v":{"v":0,"d":"0 "}},{"$f":"C163","v":{"v":0,"d":"0 "}},{"$f":"D163","v":{"v":0,"d":"0 "}},{"$f":"E163","v":{"v":0,"d":"0 "}}]
["TOTAL ACTIVO CORRIENTE",{"$f":"B318+B317+B316","v":{"v":0,"d":"0 "}},{"$f":"C318+C317+C316","v":{"v":0,"d":"0 "}},{"$f":"D318+D317+D316","v":{"v":0,"d":"0 "}},{"$f":"E318+E317+E316","v":{"v":0,"d":"0 "}}]
["  ACTIVOS SIN DEPRECIACION",{"$f":"+'inversion af'!C154","v":{"v":0,"d":"0 "}},{"$f":"+B320+SUM(C254:N254)","v":{"v":0,"d":"0 "}},{"$f":"+C320+C300","v":{"v":0,"d":"0 "}},{"$f":"+D320+D300","v":{"v":0,"d":"0 "}}]
["  DEPRECIACION",null,{"$f":"C168","v":{"v":0,"d":"0 "}},{"$f":"D168+C321","v":{"v":0,"d":"0 "}},{"$f":"E168+D321","v":{"v":0,"d":"0 "}}]
["TOTAL ACTIVO FIJO NETO",{"$f":"+B320-B321","v":{"v":0,"d":"0 "}},{"$f":"C320-C321","v":{"v":0,"d":"0 "}},{"$f":"D320-D321","v":{"v":0,"d":"0 "}},{"$f":"E320-E321","v":{"v":0,"d":"0 "}}]
["OTROS ACTIVOS",{"$f":"+'cost fijos'!B125","v":{"v":0,"d":"0 "}},{"$f":"+'cost fijos'!B128","v":{"v":0,"d":"0 "}},{"$f":"+'cost fijos'!B129","v":{"v":0,"d":"0 "}},{"$f":"+'cost fijos'!B130","v":{"v":0,"d":"0 "}}]
["TOTAL ACTIVOS",{"$f":"B319+B322+B323","v":{"v":0,"d":"0 "}},{"$f":"C319+C322+C323","v":{"v":0,"d":"0 "}},{"$f":"D319+D322+D323","v":{"v":0,"d":"0 "}},{"$f":"E319+E322+E323","v":{"v":0,"d":"0 "}}]
["PASIVO"]
["  CUENTAS POR PAGAR",null,{"$f":"+'cost var'!B477","v":{"v":0,"d":"0 "}},{"$f":"+'cost var'!C477","v":{"v":0,"d":"0 "}},{"$f":"+'cost var'!D477","v":{"v":0,"d":"0 "}}]
["  PRESTAMOS",{"$f":"+'inversion af'!C178+'inversion af'!C115","v":{"v":0,"d":"0 "}},{"$f":"+'inver y financ'!B317","v":{"v":0,"d":"0 "}},{"$f":"+'inver y financ'!C317","v":{"v":0,"d":"0 "}},{"$f":"+'inver y financ'!D317","v":{"v":0,"d":"0 "}}]
["  IMPUESTOS POR PAGAR",null,{"$f":"C178","v":{"v":0,"d":"0 "}},{"$f":"D178","v":{"v":0,"d":"0 "}},{"$f":"E178","v":{"v":0,"d":"0 "}}]
["  PRESTACIONES SOCIALES"]
["TOTAL PASIVO",{"$f":"SUM(B326:B329)","v":{"v":0,"d":"0 "}},{"$f":"SUM(C326:C329)","v":{"v":0,"d":"0 "}},{"$f":"SUM(D326:D329)","v":{"v":0,"d":"0 "}},{"$f":"SUM(E326:E329)","v":{"v":0,"d":"0 "}}]
["PATRIMONIO"]
["  CAPITAL",{"$f":"+'inversion af'!C104+'inversion af'!C126+'inversion af'!C177+'inversion af'!C179","v":{"v":0,"d":"0 "}},{"$f":"+SUM('inversion af'!C177:F177)+SUM('inversion af'!C179:F179)+SUM('inversion af'!C104:F104)+SUM('inversion af'!C126:F126)","v":{"v":0,"d":"0 "}},{"$f":"+C332+'inversion af'!G104+'inversion af'!H104+'inversion af'!G126+'inversion af'!H126+'inversion af'!G177+'inversion af'!G179+'inversion af'!H177+'inversion af'!H179","v":{"v":0,"d":"0 "}},{"$f":"D332+'inversion af'!I104+'inversion af'!J104+'inversion af'!I126+'inversion af'!J126+'inversion af'!I177+'inversion af'!J177+'inversion af'!I179+'inversion af'!J179","v":{"v":0,"d":"0 "}}]
["  UTILIDADES RETENIDAS",null,{"$f":"B333","v":{"v":0,"d":"0 "}},{"$f":"C333+C334","v":{"v":0,"d":"0 "}},{"$f":"D333+D334","v":{"v":0,"d":"0 "}}]
["  UTILIDADES DEL EJERCICIO",null,{"$f":"C179","v":{"v":0,"d":"0 "}},{"$f":"D179","v":{"v":0,"d":"0 "}},{"$f":"E179","v":{"v":0,"d":"0 "}}]
["TOTAL PATRIMONIO",{"$f":"SUM(B332:B334)","v":{"v":0,"d":"0 "}},{"$f":"SUM(C332:C334)","v":{"v":0,"d":"0 "}},{"$f":"SUM(D332:D334)","v":{"v":0,"d":"0 "}},{"$f":"SUM(E332:E334)","v":{"v":0,"d":"0 "}}]
["TOTAL PASIVO Y PATRIMONIO",{"$f":"B335+B330","v":{"v":0,"d":"0 "}},{"$f":"C335+C330","v":{"v":0,"d":"0 "}},{"$f":"D335+D330","v":{"v":0,"d":"0 "}},{"$f":"E335+E330","v":{"v":0,"d":"0 "}}]
[{"$f":"+ayuda!A197","v":"EL BALANCE GENERAL PROYECTADO SE ANALIZA BASICAMENTE CON DOS INDICADORES, EL PRIMERO DE ELLOS ES LA RAZON DE LIQUIDEZ.  ESTE INDICADOR ES UNA BUENA MEDIDA DE LA CAPACIDAD DE PAGO DE LA EMPRESA EN EL CORTO PLAZO. ENTRE \"MÁS LÍQUIDO\" SEA EL ACTIVO CORRIENTE MÁS SIGNIFICATIVO ES SU RESULTADO. PARA SU ANÁLISIS DEBE TENERSE EN CUENTA LA CALIDAD Y EL CARÁCTER DE LOS ACTIVOS CORRIENTES, EN TÉRMINOS DE SU FACILIDAD DE CONVERSIÓN EN DINERO Y LAS FECHAS DE VENCIMIENTO DE LAS OBLIGACIONES EN EL PASIVO CORRIENTE. "}]
[{"$f":"+ayuda!A198","v":"AL TERMINAR EL PRIMER AÑO, PARA EL PROYECTO SE CONCLUYE QUE POR CADA PESO DE PASIVO CORRIENTE QUE DEBE, LA EMPRESA TIENE 0,00 € PESOS DE ACTIVO LÍQUIDO  CORRIENTE PARA CUBRIRLO.   SE CONSIDERA QUE UNA RAZÓN CORRIENTE IDEAL ES SUPERIOR A  2.5  A 1, ES DECIR, QUE POR CADA PESO QUE SE ADEUDA EN EL CORTO PLAZO SE TIENEN DOS Y MEDIO PESOS COMO RESPALDO. "}]
[{"$f":"+ayuda!A199","v":"EL SEGUNDO INDICADOR  AYUDA A DETERMINAR LA CAPACIDAD QUE TIENE LA EMPRESA PARA CUBRIR SUS OBLIGACIONES CON TERCEROS A CORTO Y LARGO PLAZO. SE LE DENOMINA NIVEL DE ENDEUDAMIENTO. ES IMPORTANTE CONOCER LA DISCRIMINACIÓN DEL PASIVO TOTAL. UNA EMPRESA PUEDE TENER UN ENDEUDAMIENTO ALTO, PERO SI LA MAYOR PARTE DE ÉSTE ES A LARGO PLAZO ELLA NO  TENDRÁ LAS DIFICULTADES QUE HA DE SUPONER UN INDICADOR ALTO. "}]
[{"$f":"+ayuda!A200","v":{"$error":"#DIV/0!"}}]
[{"$f":"+ayuda!A201","v":{"$error":"#DIV/0!"}}]
[{"$f":"+ayuda!A202","v":"EN LAS GRAFICAS SE PUEDE VISUALIZAR LA EVOLUCION DE LOS DOS INDICADORES, LO IDEAL ES QUE LA RAZON CORRIENTE SUBA, Y EL NIVEL DE ENDEUDAMIENTO DISMINUYA. "}]
[{"$f":"+ayuda!A324","v":{"v":0,"d":"0.00"}}]
["CONDICIONES DE LA FINANCIACION"]
[null,"ACT.FIJOS","CAP.TRABAJO"]
["MONTO: (cuota fija)",{"$f":"+'inversion af'!L115","v":{"v":0,"d":"0 "}},{"$f":"+'inversion af'!K178","v":{"v":0,"d":"0 "}}]
["PLAZO:",{"$f":"+'inver y financ'!B105","v":{"v":0,"d":"0 "}},{"$f":"+'inver y financ'!C105","v":{"v":0,"d":"0 "}}]
["PERIODO DE GRACIA:",{"$f":"+'inver y financ'!B106","v":{"v":0,"d":"0 "}},{"$f":"+'inver y financ'!C106","v":{"v":0,"d":"0 "}}]
["INTERES T.A.",{"$f":"+'inver y financ'!B107","v":{"v":0,"d":"0.00%"}},{"$f":"+'inver y financ'!C107","v":{"v":0,"d":"0.00%"}}]
["INTERES EFECTIVO:",{"$f":"+'inver y financ'!B108","v":{"v":0,"d":"0.00%"}},{"$f":"+'inver y financ'!C108","v":{"v":0,"d":"0.00%"}}]
["INTERES MES VENCIDO:",{"$f":"+'inver y financ'!B109","v":{"v":0,"d":"0.00%"}},{"$f":"+'inver y financ'!C109","v":{"v":0,"d":"0.00%"}}]
[]
[{"$f":"+ayuda!A207","v":"EL PROYECTO SE FINANCIA 100% CON RECURSOS PROPIOS"}]
[""]
[]
["RESUMEN DE LA FINANCIACION",null,"CREDITO: ",{"$f":"D11","v":0}]
[]
[null,"AÑO 1","AÑO 2","AÑO 3"]
["SALDO",{"$f":"+'inver y financ'!B317","v":{"v":0,"d":"0 "}},{"$f":"+'inver y financ'!C317","v":{"v":0,"d":"0 "}},{"$f":"+'inver y financ'!D317","v":{"v":0,"d":"0 "}}]
["AMORTIZACION",{"$f":"+'inver y financ'!B318","v":{"v":0,"d":"0 "}},{"$f":"+'inver y financ'!C318","v":{"v":0,"d":"0 "}},{"$f":"+'inver y financ'!D318","v":{"v":0,"d":"0 "}}]
["INTERES",{"$f":"+'inver y financ'!B319","v":{"v":0,"d":"0 "}},{"$f":"+'inver y financ'!C319","v":{"v":0,"d":"0 "}},{"$f":"+'inver y financ'!D319","v":{"v":0,"d":"0 "}}]
["TOTAL PAGO DEUDA",{"$f":"B361+B360","v":{"v":0,"d":"0 "}},{"$f":"C361+C360","v":{"v":0,"d":"0 "}},{"$f":"D361+D360","v":{"v":0,"d":"0 "}}]
[]
[]
[]
[]
[]
[{"$f":"+ayuda!A13","v":"NO SE PRESENTA TABLA DE AMORTIZACION PORQUE NO HAY CREDITOS"},{"$nulls":4},{"$f":"+ayuda!C12","v":{"v":0,"d":"0.00"}}]
["PERIODO","CUOTA","AMORTIZACION","INTERES","SALDO"]
[1,{"$f":"+'inver y financ'!B250","v":{"v":0,"d":"$ 0"}},{"$f":"+'inver y financ'!C250","v":{"v":0,"d":"$ 0"}},{"$f":"+'inver y financ'!D250","v":{"v":0,"d":"$ 0"}},{"$f":"+'inver y financ'!F250","v":{"v":0,"d":"$ 0"}}]
[2,{"$f":"+'inver y financ'!B251","v":{"v":0,"d":"$ 0"}},{"$f":"+'inver y financ'!C251","v":{"v":0,"d":"$ 0"}},{"$f":"+'inver y financ'!D251","v":{"v":0,"d":"$ 0"}},{"$f":"+'inver y financ'!F251","v":{"v":0,"d":"$ 0"}}]
[3,{"$f":"+'inver y financ'!B252","v":{"v":0,"d":"$ 0"}},{"$f":"+'inver y financ'!C252","v":{"v":0,"d":"$ 0"}},{"$f":"+'inver y financ'!D252","v":{"v":0,"d":"$ 0"}},{"$f":"+'inver y financ'!F252","v":{"v":0,"d":"$ 0"}}]
[4,{"$f":"+'inver y financ'!B253","v":{"v":0,"d":"$ 0"}},{"$f":"+'inver y financ'!C253","v":{"v":0,"d":"$ 0"}},{"$f":"+'inver y financ'!D253","v":{"v":0,"d":"$ 0"}},{"$f":"+'inver y financ'!F253","v":{"v":0,"d":"$ 0"}}]
[5,{"$f":"+'inver y financ'!B254","v":{"v":0,"d":"$ 0"}},{"$f":"+'inver y financ'!C254","v":{"v":0,"d":"$ 0"}},{"$f":"+'inver y financ'!D254","v":{"v":0,"d":"$ 0"}},{"$f":"+'inver y financ'!F254","v":{"v":0,"d":"$ 0"}}]
[6,{"$f":"+'inver y financ'!B255","v":{"v":0,"d":"$ 0"}},{"$f":"+'inver y financ'!C255","v":{"v":0,"d":"$ 0"}},{"$f":"+'inver y financ'!D255","v":{"v":0,"d":"$ 0"}},{"$f":"+'inver y financ'!F255","v":{"v":0,"d":"$ 0"}}]
[7,{"$f":"+'inver y financ'!B256","v":{"v":0,"d":"$ 0"}},{"$f":"+'inver y financ'!C256","v":{"v":0,"d":"$ 0"}},{"$f":"+'inver y financ'!D256","v":{"v":0,"d":"$ 0"}},{"$f":"+'inver y financ'!F256","v":{"v":0,"d":"$ 0"}}]
[8,{"$f":"+'inver y financ'!B257","v":{"v":0,"d":"$ 0"}},{"$f":"+'inver y financ'!C257","v":{"v":0,"d":"$ 0"}},{"$f":"+'inver y financ'!D257","v":{"v":0,"d":"$ 0"}},{"$f":"+'inver y financ'!F257","v":{"v":0,"d":"$ 0"}}]
[9,{"$f":"+'inver y financ'!B258","v":{"v":0,"d":"$ 0"}},{"$f":"+'inver y financ'!C258","v":{"v":0,"d":"$ 0"}},{"$f":"+'inver y financ'!D258","v":{"v":0,"d":"$ 0"}},{"$f":"+'inver y financ'!F258","v":{"v":0,"d":"$ 0"}}]
[10,{"$f":"+'inver y financ'!B259","v":{"v":0,"d":"$ 0"}},{"$f":"+'inver y financ'!C259","v":{"v":0,"d":"$ 0"}},{"$f":"+'inver y financ'!D259","v":{"v":0,"d":"$ 0"}},{"$f":"+'inver y financ'!F259","v":{"v":0,"d":"$ 0"}}]
[11,{"$f":"+'inver y financ'!B260","v":{"v":0,"d":"$ 0"}},{"$f":"+'inver y financ'!C260","v":{"v":0,"d":"$ 0"}},{"$f":"+'inver y financ'!D260","v":{"v":0,"d":"$ 0"}},{"$f":"+'inver y financ'!F260","v":{"v":0,"d":"$ 0"}}]
[12,{"$f":"+'inver y financ'!B261","v":{"v":0,"d":"$ 0"}},{"$f":"+'inver y financ'!C261","v":{"v":0,"d":"$ 0"}},{"$f":"+'inver y financ'!D261","v":{"v":0,"d":"$ 0"}},{"$f":"+'inver y financ'!F261","v":{"v":0,"d":"$ 0"}}]
[13,{"$f":"+'inver y financ'!B262","v":{"v":0,"d":"$ 0"}},{"$f":"+'inver y financ'!C262","v":{"v":0,"d":"$ 0"}},{"$f":"+'inver y financ'!D262","v":{"v":0,"d":"$ 0"}},{"$f":"+'inver y financ'!F262","v":{"v":0,"d":"$ 0"}}]
[14,{"$f":"+'inver y financ'!B263","v":{"v":0,"d":"$ 0"}},{"$f":"+'inver y financ'!C263","v":{"v":0,"d":"$ 0"}},{"$f":"+'inver y financ'!D263","v":{"v":0,"d":"$ 0"}},{"$f":"+'inver y financ'!F263","v":{"v":0,"d":"$ 0"}}]
[15,{"$f":"+'inver y financ'!B264","v":{"v":0,"d":"$ 0"}},{"$f":"+'inver y financ'!C264","v":{"v":0,"d":"$ 0"}},{"$f":"+'inver y financ'!D264","v":{"v":0,"d":"$ 0"}},{"$f":"+'inver y financ'!F264","v":{"v":0,"d":"$ 0"}}]
[16,{"$f":"+'inver y financ'!B265","v":{"v":0,"d":"$ 0"}},{"$f":"+'inver y financ'!C265","v":{"v":0,"d":"$ 0"}},{"$f":"+'inver y financ'!D265","v":{"v":0,"d":"$ 0"}},{"$f":"+'inver y financ'!F265","v":{"v":0,"d":"$ 0"}}]
[17,{"$f":"+'inver y financ'!B266","v":{"v":0,"d":"$ 0"}},{"$f":"+'inver y financ'!C266","v":{"v":0,"d":"$ 0"}},{"$f":"+'inver y financ'!D266","v":{"v":0,"d":"$ 0"}},{"$f":"+'inver y financ'!F266","v":{"v":0,"d":"$ 0"}}]
[18,{"$f":"+'inver y financ'!B267","v":{"v":0,"d":"$ 0"}},{"$f":"+'inver y financ'!C267","v":{"v":0,"d":"$ 0"}},{"$f":"+'inver y financ'!D267","v":{"v":0,"d":"$ 0"}},{"$f":"+'inver y financ'!F267","v":{"v":0,"d":"$ 0"}}]
[19,{"$f":"+'inver y financ'!B268","v":{"v":0,"d":"$ 0"}},{"$f":"+'inver y financ'!C268","v":{"v":0,"d":"$ 0"}},{"$f":"+'inver y financ'!D268","v":{"v":0,"d":"$ 0"}},{"$f":"+'inver y financ'!F268","v":{"v":0,"d":"$ 0"}}]
[20,{"$f":"+'inver y financ'!B269","v":{"v":0,"d":"$ 0"}},{"$f":"+'inver y financ'!C269","v":{"v":0,"d":"$ 0"}},{"$f":"+'inver y financ'!D269","v":{"v":0,"d":"$ 0"}},{"$f":"+'inver y financ'!F269","v":{"v":0,"d":"$ 0"}}]
[21,{"$f":"+'inver y financ'!B270","v":{"v":0,"d":"$ 0"}},{"$f":"+'inver y financ'!C270","v":{"v":0,"d":"$ 0"}},{"$f":"+'inver y financ'!D270","v":{"v":0,"d":"$ 0"}},{"$f":"+'inver y financ'!F270","v":{"v":0,"d":"$ 0"}}]
[22,{"$f":"+'inver y financ'!B271","v":{"v":0,"d":"$ 0"}},{"$f":"+'inver y financ'!C271","v":{"v":0,"d":"$ 0"}},{"$f":"+'inver y financ'!D271","v":{"v":0,"d":"$ 0"}},{"$f":"+'inver y financ'!F271","v":{"v":0,"d":"$ 0"}}]
[23,{"$f":"+'inver y financ'!B272","v":{"v":0,"d":"$ 0"}},{"$f":"+'inver y financ'!C272","v":{"v":0,"d":"$ 0"}},{"$f":"+'inver y financ'!D272","v":{"v":0,"d":"$ 0"}},{"$f":"+'inver y financ'!F272","v":{"v":0,"d":"$ 0"}}]
[24,{"$f":"+'inver y financ'!B273","v":{"v":0,"d":"$ 0"}},{"$f":"+'inver y financ'!C273","v":{"v":0,"d":"$ 0"}},{"$f":"+'inver y financ'!D273","v":{"v":0,"d":"$ 0"}},{"$f":"+'inver y financ'!F273","v":{"v":0,"d":"$ 0"}}]
[25,{"$f":"+'inver y financ'!B274","v":{"v":0,"d":"$ 0"}},{"$f":"+'inver y financ'!C274","v":{"v":0,"d":"$ 0"}},{"$f":"+'inver y financ'!D274","v":{"v":0,"d":"$ 0"}},{"$f":"+'inver y financ'!F274","v":{"v":0,"d":"$ 0"}}]
[26,{"$f":"+'inver y financ'!B275","v":{"v":0,"d":"$ 0"}},{"$f":"+'inver y financ'!C275","v":{"v":0,"d":"$ 0"}},{"$f":"+'inver y financ'!D275","v":{"v":0,"d":"$ 0"}},{"$f":"+'inver y financ'!F275","v":{"v":0,"d":"$ 0"}}]
[27,{"$f":"+'inver y financ'!B276","v":{"v":0,"d":"$ 0"}},{"$f":"+'inver y financ'!C276","v":{"v":0,"d":"$ 0"}},{"$f":"+'inver y financ'!D276","v":{"v":0,"d":"$ 0"}},{"$f":"+'inver y financ'!F276","v":{"v":0,"d":"$ 0"}}]
[28,{"$f":"+'inver y financ'!B277","v":{"v":0,"d":"$ 0"}},{"$f":"+'inver y financ'!C277","v":{"v":0,"d":"$ 0"}},{"$f":"+'inver y financ'!D277","v":{"v":0,"d":"$ 0"}},{"$f":"+'inver y financ'!F277","v":{"v":0,"d":"$ 0"}}]
[29,{"$f":"+'inver y financ'!B278","v":{"v":0,"d":"$ 0"}},{"$f":"+'inver y financ'!C278","v":{"v":0,"d":"$ 0"}},{"$f":"+'inver y financ'!D278","v":{"v":0,"d":"$ 0"}},{"$f":"+'inver y financ'!F278","v":{"v":0,"d":"$ 0"}}]
[30,{"$f":"+'inver y financ'!B279","v":{"v":0,"d":"$ 0"}},{"$f":"+'inver y financ'!C279","v":{"v":0,"d":"$ 0"}},{"$f":"+'inver y financ'!D279","v":{"v":0,"d":"$ 0"}},{"$f":"+'inver y financ'!F279","v":{"v":0,"d":"$ 0"}}]
[31,{"$f":"+'inver y financ'!B280","v":{"v":0,"d":"$ 0"}},{"$f":"+'inver y financ'!C280","v":{"v":0,"d":"$ 0"}},{"$f":"+'inver y financ'!D280","v":{"v":0,"d":"$ 0"}},{"$f":"+'inver y financ'!F280","v":{"v":0,"d":"$ 0"}}]
[32,{"$f":"+'inver y financ'!B281","v":{"v":0,"d":"$ 0"}},{"$f":"+'inver y financ'!C281","v":{"v":0,"d":"$ 0"}},{"$f":"+'inver y financ'!D281","v":{"v":0,"d":"$ 0"}},{"$f":"+'inver y financ'!F281","v":{"v":0,"d":"$ 0"}}]
[33,{"$f":"+'inver y financ'!B282","v":{"v":0,"d":"$ 0"}},{"$f":"+'inver y financ'!C282","v":{"v":0,"d":"$ 0"}},{"$f":"+'inver y financ'!D282","v":{"v":0,"d":"$ 0"}},{"$f":"+'inver y financ'!F282","v":{"v":0,"d":"$ 0"}}]
[34,{"$f":"+'inver y financ'!B283","v":{"v":0,"d":"$ 0"}},{"$f":"+'inver y financ'!C283","v":{"v":0,"d":"$ 0"}},{"$f":"+'inver y financ'!D283","v":{"v":0,"d":"$ 0"}},{"$f":"+'inver y financ'!F283","v":{"v":0,"d":"$ 0"}}]
[35,{"$f":"+'inver y financ'!B284","v":{"v":0,"d":"$ 0"}},{"$f":"+'inver y financ'!C284","v":{"v":0,"d":"$ 0"}},{"$f":"+'inver y financ'!D284","v":{"v":0,"d":"$ 0"}},{"$f":"+'inver y financ'!F284","v":{"v":0,"d":"$ 0"}}]
[36,{"$f":"+'inver y financ'!B285","v":{"v":0,"d":"$ 0"}},{"$f":"+'inver y financ'!C285","v":{"v":0,"d":"$ 0"}},{"$f":"+'inver y financ'!D285","v":{"v":0,"d":"$ 0"}},{"$f":"+'inver y financ'!F285","v":{"v":0,"d":"$ 0"}}]

{"sheet":"textos","index":11,"n_rows":408,"n_cols":4,"rows_kept":408,"hidden":true}
["Introducción","Este manual fue diseñado con base en el plan de empresa de Bogota Emprende, intentando emular su presentación y aplicación, se debe tener en cuenta que a medida que se avanza en el plan escrito es conveniente ir alimentando el plan financiero, ya que el único objetivo de este, es tomar las cifras numéricas que, a medida que se avanza en la investigación, el plan va solicitando,  \n\nEl plan financiero resume la información del plan de empresa y lo complementa pero no lo sustituye. \n\nLa herramienta esta elaborada en MS EXCEL XP, conociendo que esta opera perfectamente en MS EXCEL 2000, MS EXCEL 2003 y MS EXCEL VISTA, (en este ultimo es conveniente leer la literatura con respecto al funcionamiento de aplicaciones con macros. \n\nNOTA: No se garantiza el óptimo funcionamiento en MS EXCEL 97 ya que la librería VB de MS OFFICE, tiene cambios sustanciales.  \n\nLas macros están firmadas digitalmente y son indispensables para que el programa opere satisfactoriamente.\n\nRecuerde: en este tipo de aplicaciones \n• NO se pueden agregar filas, columnas o celdas, \n• NO copie información para posteriormente pegarla en otra ubicación, \n• Por ningún motivo corte datos para pegarlos en otro lado.\n \n\n\nCAMARA DE COMERCIO DE BOGOTA.\nTODOS LOS DERECHOS RESERVADOS"]
["Conceptos básicos: ","El aplicativo esta diseñado bajo los siguientes conceptos:\nIntroducción de datos:\nSe debe hacer exclusivamente a través de los formularios, que a medida que se avanza, van apareciendo en la pantalla bloqueando la posible introducción de datos directamente.\n\nEs posible introducir los datos directamente, pero no es seguro ni confiable en el sentido que la hoja de entrada de datos tiene referencias absolutas, esto quiere decir,  que desde la programación en VB se realizó la adjudicación de la celda que debe contener el dato, se realizaron cálculos antes de introducirlo o introdujo los datos a otras hojas. \nOperación resultados:\nSe verifican los hallazgos, de la investigación del plan de empresa, resumiendo los datos a través de cuadros y graficas, asegurando de esta forma, una fácil interpretación de los datos que el usuario ha ingresado al programa. \nSe reitera que los resultados del plan financiero NO REEMPLAZA LA INFORMACION QUE DEBE CONTENER EL PLAN DE EMPRESA, la complementa. \nOperación: \nEl plan financiero abrirá siempre en la hoja de inicio,  a la cual se le ha dado un área de escritura determinada, siempre presentara centrado el logo de Bogota Emprende, el cual es la macro inicial del aplicativo.\nAl seleccionar el logo en cualquier parte iniciara la aplicación: \nEl primer formulario que se encuentra es el maestro y direccionador de la aplicación: \nEn el cual solo hay tres opciones inicialmente:\nINTRODUCIR DATOS\nRESULTADOS\nGRABAR Y SALIR.",null,"Tenga en cuenta las siguientes instrucciones:\n\n- PARA EL MANEJO ADECUADO DE LA HERRAMIENTA ES FUNDAMENTAL E IMPRESCINDIBLE QUE LEAS ATENTAMENTE LAS INSTRUCCIONES EN CADA UNO DE LOS FORMULARIOS Y EN LOS TEXTOS QUE APARECERÁN EN ALGUNOS FORMULARIOS EN EL CENTRO DE LA PANTALLA\n\n- Es conveniente que guarde la información periódicamente, a través del guardar, presente en este formulario.  \n\n- Esta herramienta está diseñada para incorporar los datos numéricos de la investigación realizada para su Plan de Empresa en Línea. Por lo tanto es determinante que cuente con toda la información requerida para poder digitarla, de lo contrario la herramienta no tendrá una aplicación eficiente en la estructuración de tu plan de empresa.\n\n- La información se inserta solamente a través de los formularios. \n\n- Una vez introduzcas la información en los respectivos formularios, se requiere calificar dicha información que consiste en si la información está completa o se debe revisar posteriormente. Escoja la opción de acuerdo al avance que tenga en la introducción de los datos.\n\n- Se recomienda no intentar desproteger las respectivas hojas de calculo, la herramienta está debidamente protegida para conservar la integridad de la formulación y por ende la calidad de los resultados. \n\n\n"]
["Precios de venta","En la estipulación de precios es algo en que el empresario no invierte mucho tiempo. Las decisiones respecto a los precios se toman basadas en la competencia o mediante el uso de una fórmula constante de aumento del valor original que se usa en forma rutinaria. \nNo obstante es importante que se tengan en cuenta los siguientes aspectos. \nCosto: se hace el análisis de costos, haciendo un desglose de los costos directos de todos los componentes, materiales, trabajo, costos de operación y de administración\nPercepción de los Clientes: se refiere a la percepción de valor de los productos y/o servicios que pueden tener sus clientes, con respecto a la necesidad cubierta\nCompetidores: es necesario que analice la competencia dentro del contexto global de la operación de su negocio y el ambiente en el cual estará operando.\n","PLAN DE MERCADOS","La información obtenida a través de la investigación de mercado  se utiliza como guía para el desarrollo de las estrategias empresariales. \n\nLos resultados te ayudan a diseñar una campaña efectiva de mercadeo, que establezca las características de tu producto para posicionarlo en la mente de los potenciales clientes.\n \nPara ello, las cifras del plan de mercadeo deben responder las siguientes preguntas: \n¿Hay diferenciación de productos?\n¿Se posee un precio competitivo?\n¿Cuánto invertirá en medios de comunicación eficaces?\n¿Cuánto costará la estrategia de distribución acorde al producto?\n \nEn la localización geográfica  existe competencia, e identificaste una oportunidad, la cual debes cuantificar para determinar la capacidad de venta anualmente, y el crecimiento que podrás tener en los años futuros, ampliando el área o cubrimiento. La investigación determina sus metas y los objetivos de venta que se propone al iniciar el negocio. "]
["Distribución","“Los clientes compran con sus pasos y sus pesos”, de modo que no solo hay que llegar hasta donde está el cliente sino permitirle encontrarnos; no es solo el flujo del producto hacia el mercado sino del mercado hacia el producto (de ahí pueden resultar otras estrategias de ampliación y diversificación).\n“Aquí y ya”. El mercadeo de hoy no da espera, no solo debe estar todo al alcance de la mano sino que el empresario debe tener una rápida capacidad de respuesta.  No solo deben fluir los productos, además las experiencias de compra deben ser placenteras y llenas de valores; entonces deben ser fáciles de llevar, de abrir, de encontrar, de pagar, de usar, de recordar, etc. y también de reclamar.\nEn el conocimiento popular dicen que “Si va a cazar un ratón debe ponerle la trampa por los caminos donde suele pasar”; como emprendedor, usted debe saber donde están sus clientes, y debe permitirle a la gente que lo encuentren fácilmente. \n","PLAN DE MERCADOS"]
["Comunicación","Estas políticas de comunicación son los “cinco sentidos” del negocio, la comunicación entra por los sentidos de modo que la “envoltura” de percepción es tan importante como la respuesta a la satisfacción de la necesidad que ofrece el producto.\nEl mercadeo es una batalla de percepciones, en donde el campo de batalla no es el producto sino la mente del cliente; el cliente compra lo que él cree que es mejor. Esto es conocido como argumentos únicos de venta. Por ejemplo, la estrategia más conveniente para una empresa nueva es una comunicación “boca a boca” (recomendaciones de otros consumidores). \nLas políticas de comunicación buscan ordenar el campo de batalla competitivo para que los clientes vean los argumentos y los beneficios antes que el producto. \nEl verdadero “departamento de control de calidad” de una empresa es el cliente, él es quien realmente usa y compara lo que compró. Esos son los argumentos válidos para establecer políticas de comunicación.\n","PLAN DE MERCADOS"]
["Proyección de ventas","La investigación de mercado arroja la proyección de ventas de cada uno de los productos/servicios, digite la CIFRA EN PESOS de lo que proyecta vender en el primer año de cada uno de ellos.\n\nEstablezca el crecimiento anual de cada uno de los productos y digite la cifra nuevamente en pesos para los años 2 y 3 de la proyección. \n\nUna apreciación que realiza generalmente el emprendedor con respecto a las proyecciones de venta es cuanto se puede vender, considerando que es muy difícil de predecir el comportamiento de las ventas en el futuro, pero estas apreciaciones se establecen a través de las metas de venta que el emprendedor se traza para que la empresa sea auto sostenible en el tiempo. recuerde son METAS DE VENTA.  ","PLAN DE MERCADOS"]
["Inversión","Los recursos requeridos para la cumplir con la proyección de ventas están sujetos a varios aspectos, el primero de ellos es la capacidad instalada de producción y comercialización de los productos/servicios, es por esta razón que se requiere del tiempo empleado en producir y vender una unidad de producción*. \n\n*UNIDAD DE PRODUCCION: se refiere a la cantidad mínima de producto/servicio que se produce, o se vende. así por ejemplo en la confección, se establece como una unidad de producción la serie o tallaje, en la panadería, un moje de X libras, en la zapatería una docena y en los servicios una unidad. \n\nLa inversion se distribuye en tres partes importantes","OPERACIÓN Y CALIDAD","La infraestructura requerida para la creación de la nueva unidad de negocios está determinada por el tamaño de las ventas, y en especial por tu plan de mercadeo. Para poder llevarlas a cabo este capítulo responde las siguientes preguntas:\n\n   ¿Dónde operara la empresa?\n   ¿Cuántas máquinas o equipos requiere para poder desarrollar la producción?\n   ¿Has considerado los costos de los servicios públicos?\n   ¿Dónde trabajarán tus empleados de administración?  \n   ¿Qué elementos requieren para desarrollar su trabajo?\n   ¿Requieres adquirir procesos de fabricación?\n   ¿Requieres licencias de operación y funcionamiento?\n   ¿Cuánto dinero has invertido en la investigación del plan de empresa?\n   ¿Cuánto costará las adecuaciones de planta?\n   ¿Qué Trámites debes realizar para abrir tu empresa y cuánto cuestan? \n   ¿Cuánto cuesta producir cada unidad de producto?\n   ¿Cuánto cuesta vender esta unidad?\n   ¿Tienes recursos suficientes para iniciar tu empresa?\n   ¿Hasta cuánto te prestan para montar una empresa?\n  ¿Para el crecimiento de la empresa contemplas nuevas inversiones?"]
["Inversión fija","Cuando se trata este tema generalmente se expone la adquisición de bienes e inmuebles, paro aquí también se debe contemplar un activo que muy raras veces se evalúa y es el know how, el conocimiento técnico ya que este es generalmente el motor de la idea del proyecto.\n\nEs así que se debe separar en dos partes:\n\nActivo Tangible o fijo: Bienes que adquiere la empresa o que son aportados por los gestores del proyecto y que se transfieren en propiedad a esta.  El activo fijo es necesario para la actividad económica, tanto de producción, administración y ventas.\n\nActivo Intangible: La empresa para iniciar su funcionamiento requiere poseer un proceso productivo el cual debe adquirir a través de un patente, el uso de una marca, emplear diseños establecidos, emplear nombres comerciales o industriales, en muchos casos estos son apartados por uno o varios de los socios, es conveniente valorizar este activo y que la empresa lo adquiera como aporte o como compra directa.\n\nDentro de los intangibles están también los gastos preoperativos tales como:\n\n• Estudios de factibilidad y pre-factibilidad\n• Gastos notariales y constitución de la empresa\n• Asistencia técnica o asesoría\n• Instalaciones de servicios públicos como acometidas eléctricas e hidráulicas, líneas de teléfono, cableado estructurado de redes  telefónicas  y de sistemas.\n• Gastos de salarios, capacitación de personal antes de la puesta en marcha de la planta.\n• Si al adquirir la maquinaria esta no es entregada instalada y funcionando es conveniente asumir este costo de fletes montaje y puesta en marcha.\nEstos se deben amortizar en un periodo determinado recuperando la inversión, se asimila  a una cuenta de depreciación ya que también es virtual el desembolso. \n"]
["Cronograma de inversión:","Generalmente los proyectos deben desarrollarse en etapas así mismo la inversión debe realizarse en el momento que esta sea productiva, hay que tener en cuenta que la adquisición de maquinaria y equipo debe esta sujeta al plan de inversión, teniendo en cuenta los tiempos de entrega, de instalación y puesta en marcha de la misma.\n\nEs aconsejable desarrollar un plan de adquisición y desembolso de recursos, para los dos primeros años se puede proyectar mes a mes, de allí en adelante se realizará anualmente.  Así mismo para los bienes que tienen vidas útiles cortas como son las herramientas (tanto físicas como de informática) los computadores y los vehículos, se debe tener en cuenta la reposición de estos al llegar el fin de su Vida útil.\n"]
["Depreciación","La Depreciación como Costo y Gasto Fijo\nEl objeto de realizar la depreciación es el de lograr la recuperación de la inversión fija realizada. Este costo se denomina virtual ya que el dinero que periódicamente se contabiliza como costo  (o gasto) realmente no sale de la empresa sino que va a aumentar el capital de trabajo, tributariamente es beneficioso para la empresa porque al ser un egreso, disminuye la utilidad sobre la que se genera el impuesto de renta.\nHay varios métodos para determinar la depreciación. Uno de los más comunes es el sistema de línea recta, que consiste en tomar el costo del activo fijo y dividirlo por la vida útil. La vida útil es un parámetro tributario que no se puede modificar. Estos parámetros son los siguientes: \nCLASIFICACIÓN DEL ACTIVO FIJO DEPRECIADOS  EN\nTerrenos                                                 No se deprecian\nEdificios                                                       20 años\nVehículos                                                       5 años\nEquipos                                                          5 años\nMaquinas                                                       10 años\nMuebles y Enseres                                         10 años\nComputadores                                                3 años\nHerramientas                                                  1 año\nPor ejemplo, un vehiculo que tenga un costo de $25.000.000, al aplicarle la depreciación se recuperarían $5.000.000 anuales o lo que es lo mismo se presupuestaria recuperar  $417.000 mensuales.\n                                       DLR  =   costo de adquisicion / vida util \nEste costo se involucra en los presupuestos de costos y gastos de la empresa. \n","Administración","Una de las particularidades que poseen las nuevas empresas y los emprendedores es la generación de empleo, es más muchos casos de grandes emprendimientos han iniciado como una necesidad de buscar mejores remuneraciones a las actividades que un equipo emprendedor hace muy bien. \n\nPor esta razón en el plan de negocio se establece la planeación de la fuerza laboral como una de las mayores fortalezas para la nueva empresa. \nEn necesario que aquí se consigne cómo va la empresa a convertirse en generador de empleo, logrando de esta forma su principal objetivo social. \n\nEs necesario responder a estas preguntas. \n¿Cuánto ganará el emprendedor por su trabajo?\n¿Has considerado cuántas personas requieres en el área técnica?\n¿Quién llevará las cuentas de la empresa?\n¿La correspondencia quién la elaborara?\n¿Cómo contratará a su personal?\n¿La empresa considera que puedes expandirte de un año a otro?\n¿Las nuevas sucursales cuántas personas requieren?\n¿Pagarás prestaciones sociales?\n¿A quiénes podrás contratar por destajo?\n¿La fuerza de ventas cómo la contratas?\n¿Cuánto cuesta un vendedor?"]
["Capital de trabajo","Es al dinero con que la organización debe contar para la iniciación de la actividad económica.  Se debe contar con dinero para la compra del primer inventario, la mano de obra directa, indirecta y administrativa, otorgar crédito a los clientes, los gastos de servicios, papelerías y elementos de aseo, arrendamientos y en general los gastos de la empresa cotidianos.\n\nEste Activo denominado Circulante por su característica móvil esta compuesto por:\n\nCaja,  Bancos, inventarios y cuentas por cobrar: Observe que el dinero en caja y bancos rápidamente puede convertirse en inventarios y estos a la vez en por cobrar y/o en caja y estas ultiman en efectivo el cual se consigna, hay una circulación permanente.\n\nEl dinero en caja y/o bancos:  Se emplea para los gastos inmediatos y para la reposición de inventarios, es conveniente calcular este valor a través de requerimientos de liquides a través del flujo de caja, un valor mínimo para imprevistos (caja menor) se puede establecer sobre un porcentaje de la suma de las cuentas por cobrar y los inventarios, entre un 10% a 20% es recomendable.\n\nInventarios: Calcular que cantidad de inventario es necesario, esta sujeto a una serie de factores que están cambiando constantemente dependiendo de:\n Temporadas,\n Proveedores,\n Importaciones, etc.\n\nCuentas por cobrar:  Al iniciar operaciones la empresa habitualmente requiere conceder crédito a sus clientes, esto significa que deberá poseer un capital adicional mientras se recupera o ingresa este valor por ventas, así mismo generalmente la producción está ligada a la penetración de mercados a mayor tiempo, mayor serán las ventas y la producción, mayor será el capital necesario para financiar a los clientes.\n\nPara establecer el monto necesario es conveniente observar el comportamiento de la proyección de ventas que generalmente tiene un comportamiento ascensional  (posteriormente se estabilizaría) es conveniente calcular con un promedio ponderado el valor de la cartera o financiar periódicamente. \n\nGeneralmente el flujo de efectivo arroja las necesidades de capital de trabajo (sin incluir los inventarios) se sugiere que inicialmente se establezca el valor de los inventarios y que posteriormente al poseer la función financiera se regrese y se ajuste el valor de capital de trabajo.\n"]
["Costo unitario","Costeo variable unitario\nUno de los aspectos básicos del conocimiento que debe poseer el emprendedor con respecto al proceso es la composición del producto o servicio. En él debe involucrar las materias primas, insumos y mercancías adquiridas que se verán comprometidas, ya sea en la transformación a nuevos\nNota: Materias primas son todos los elementos que se involucran, adicionan y para algunos productos se transforman para generar un nuevo producto. \nInsumos. Son elementos necesarios en la transformación del producto o la prestación de un servicio pero no quedan dentro del producto. \nMercancía: son elementos adquiridos para su comercialización sin ningún tipo de cambio. \n Así por ejemplo. En la fabricación de muebles se emplean maderas, tornillos, puntillas, pegamentos, como materias primas. Se emplea lija y lubricantes para las maquinas y estos son insumos. El fabricante vende al comercializador, que no le hace ningún tipo de transformación para venderlo al consumidor final, el mueble se convierte en mercancía. \nEn los servicios el mayor costo es la mano de obra del operario que desarrolla el servicio y los elementos empleados en el proceso servuctivo generalmente son insumos. \n\nAl costeo unitario se le denomina explosión de productos, lo que quiere decir que el producto se reduce en fracciones de cada uno de sus componentes; determinando: la materia prima, la unidad de compra de ese componente, la cantidad empleada, se establece el costo de adquisición. La multiplicación de la cantidad por el costo es el valor total del insumo empleado. \nLa sumatoria de los costos es el costo variable unitario. \nSi se emplean insumos estos deben involucrarse dentro del costeo siempre y cuando se pueda determinar por una unidad. \nLa mano de obra pagada por actividad o destajo también hace parte del costo variable unitario, así como las comisiones por venta. Los impuestos directos a las ventas, como el ICA y el 4X1000 \n\n1. Producto o servicio a costear: Descripción y nombre del producto, se puede agregar la referencia para su diferenciación perfecta.\n2. Materia prima o insumo: Se refiere al nombre de la materia prima como generalmente se le conoce, o a los insumos empleados en el proceso de elaboración del bien o el servicio.\n3. Costo de la unidad: Describe al costo de la unidad mínima de compra.\n4. Cantidad utilizada: Cantidad empleada de la unidad de costo que va involucrada en el proceso.\n5. Condiciones comerciales: se refiere a la forma al plazo que se tiene para poder pagar la materia prima. \nEsta realmente es la receta del producto. Si hay elementos tecnológicos únicos y que no se desea expresar, se puede utilizar referentes como elemento X con su unidad de compra, costo de la unidad y cantidad dentro del producto terminado.\n\nPara el caso de comercialización se emplea una tabla más sencilla en donde se describe el bien, su precio de compra y su precio de venta:\nProducto                Precio de compra                          Precio de venta\n  \n",null,"Ya se han considerado en buena medida los aspectos del plan de empresa. Solo faltan unos cuantos aspectos: \n\nLas preguntas a responder son: \n\n¿La empresa está obligada a pagar impuestos?\n¿Qué régimen de impuestos como afecta la proyección?\n¿Cómo afecta a la proyección financiera la actividad económica?\nManejar el dinero en el banco acarrea un costo ¿cómo se lleva a las proyecciones?\nEl dinero pierde valor año a año, ¿se debe considerar el incremento de costos y precios?\n¿Qué tasas de interés cobran los bancos por los créditos?\n¿Qué plazo se espera obtener para pagar?\n¿Qué es un período de gracia? \n¿El banco me concederá períodos de gracia? \n¿Contra qué comparo mi empresa para poder determinar si es o no buena inversión?  "]
["Costos  y Gastos Fijos","Como definición se tiene que son las erogaciones que se producen y no deben verse afectadas por el nivel de producción. \n\nPara determinar los costos fijos es necesario establecer un parámetro de tiempo ya que estos varían según el nivel de inflación de la economía de un país. \n\nEl periodo que se recomienda es el mes, suponiendo que los costos no se incrementaran en los siguientes doce meses (calculando la inflación anual y suponiendo que hay un solo incremento en este lapso).\n\nLos costos fijos están reflejados en la producción, en la administración, en los costos de ventas y en los costos financieros, aunque este ultimo tiene variaciones por ser calculado sobre los saldos insolutos de las obligaciones. \n\nDentro de los rublos fijos de producción están:\n\n• La mano de obra directa, cuando se pagan por sueldo mensual independiente del nivel de producción acusado por el operario.\n• Los costos de arrendamientos de la planta, en muchas oportunidades la planta y el espacio empleado para la administración y ventas es el mismo, se recomienda prorratear dependiendo de las áreas empleadas.\n• Los servicios públicos:  empleados en la actividad económica,  es así que en producción se debe establecer con que tipo de energía  operan las maquinas (Eléctricas, hidráulicas o gásicas) y determinar el consumo en el periodo de tiempo, en algunas actividades es posible calcular el costo del consumo por unidad de producción en este caso el costo se convierte en variable, pero hay generalmente un tiempo en el cual las maquinas u otros elementos empleados en el proceso permanecen encendidos sin producción como es el caso de lámparas, computadores, refrigeradores entre otros.\nEs importante acotar que el aseo se caracterizo como gasto administrativo por no estar estandarizado el consumo de agua por los empleados para este objetivo.\n• Arrendamiento de elementos de producción: si la empresa evalúa la opción de arrendar maquinas, equipos o herramientas para disminuir inversión inicial.\n• La depreciación de activos fijos.\n\n• Todos los gastos generales de administrar y mantener la oficina son considerados fijos.  \n"]
["Régimen de impuestos:","QUIENES PERTENECEN AL REGIMEN SIMPLIFICADO\nAl régimen simplificado del impuesto sobre las ventas pertenecen las personas naturales comerciantes y los artesanos, que sean minoristas o detallistas; los agricultores y los ganaderos, que realicen operaciones gravadas, así como quienes presten servicios gravados, siempre y cuando cumplan la totalidad de las condiciones\nPara profundizar en las condiciones vea la ley 1111 de diciembre 27 de 2006 articulo 499\nQUIENES PERTENECEN AL REGIMEN COMUN\nPertenecen al régimen común del Impuesto al Valor Agregado (IVA) todos los comerciantes que NO CUMPLAN CON LAS 8 CONDICIONES mencionadas en la ley\nEstos comerciantes tienen que facturar, presentar declaración cada dos meses, cobrar el IVA y pagarlo a la Dirección de Impuestos Nacionales\n","Régimen","Régimen de impuestos\n\n\nLa nueva empresa puede optar por constituirse como una persona natural o una persona  jurídica, en caso de seleccionar la segunda opción tienes que asimilar la normatividad del régimen común, en caso de seleccionar la primera, tienes la elección de ser régimen simplificado, siempre y cuando reúnas los requisitos, estos fueron expuestos en el plan de empresa. \nPara diligenciar el formulario:\nPaso 1. Seleccione el régimen de impuestos. \n\nRégimen común:\n\nPaso 2. Digita los valores de impuestos para Renta (generalmente 35%), ICA, dependiendo de la actividad económica, y si has considerado manejar recursos a través de una entidad financiera digita el impuesto de las transacciones financieras (4X1.000).\n\nRégimen simplificado:\n\nPaso 2.  Digita los valores de impuestos de ICA, dependiendo de la actividad económica, y si ha considerado manejar recursos a través de una entidad financiera digite el impuesto a las transacciones financieras (4X1.000).\nNota si seleccionas un régimen y digitas la información, y pos"]
["Tipos de proyección","Parámetros para Incrementar Costos y Precios de Venta a Partir del Año 2 de la Proyección. \nHay dos tipos de proyección:\nEN TERMINOS CONSTANTES. Supone que no hay inflación y los valores se tratan para todos los años con el valor inicialmente aportado por la investigación de mercados.\nEN TERMINOS CORRIENTES: La proyección a partir del año 2 tendrá incrementos en costos de mano de obra, costos de operación  y gastos fijos y ajustará los precios de ventas en los porcentajes que aquí se anexen. Generalmente es el valor de la inflación o Índice de precios al consumidor (IPC).","tipos","Tipo de proyección\nSe refiere a los parámetros para Incrementar costos y precios de venta para los años dos y tres de la proyección.\nLa proyección se puede realizar de dos distintas formas:\nEN TERMINOS CONSTANTES. Supone que no hay inflación y los valores se tratan para todos los años con el valor inicialmente aportado por la investigación de mercados.\nEN TERMINOS CORRIENTES: La proyección a partir del año 2 tendrá incrementos en costos de mano de obra, costos de operación  y gastos fijos y ajustará los precios de ventas en los porcentajes que aquí se anexen. Generalmente es el valor de la inflación o Índice de Precios al Consumidor (IPC). \nPaso 1. Seleccione el tipo de proyección.\nPaso 2a. Selecciono TERMINOS CONSTANTES no se incrementan precios, ni costos durante los tres años. Califique la información.\nPaso 2b. Selecciono TERMINOS CORRIENTES, digite los porcentajes en que se incrementan  los precios de venta, los costos y la mano de obra. Anualmente. (Aplica para los dos años)\nPaso 3.  Acepte los datos\nPaso 4.  Califique la información."]
["Condiciones comerciales de los créditos","Las condiciones comerciales de los créditos se refiere a los parámetros fijados por las entidades financieras para otorgar los prestamos a los emprendedores.\nPuede acontecer que los créditos tengan diferentes condiciones dependiendo del uso que se le va otorgar por tal motivo se fijan los dos posibles empleos dentro de la empresa.\nLa investigación realizada debe suministrar esta información.\n\nPeriodo de gracia: periodo en el cual las cuotas mensuales no tienen abono a capital y por tal motivo son mas bajas dando de esta forma un alivio al empresario","condiciones","Condiciones comerciales para los créditos:\n\nLas condiciones comerciales de los créditos se refieren a los parámetros fijados por las entidades financieras para otorgar los préstamos a los emprendedores. Puede acontecer que los créditos tengan diferentes condiciones dependiendo del uso que se le va otorgar, por tal motivo se fijan los dos posibles empleos dentro de la empresa. La investigación realizada debe suministrar esta información\n\nPaso 1     Digita la tasa teniendo en cuenta emplear coma si hay valores decimales, digita el plazo en meses  y por ultimo digita los meses de plazo de gracia (periodo en el cual las cuotas mensuales no tienen abono a capital y por tal motivo son mas bajas dando de esta forma un alivio al empresario). Si no se han considerado digita 0 (cero)\n\nPaso 2 Acepta. \n\nPaso 3.  Califique la información."]
["Tasa de Interés de Oportunidad","Los flujos de fondos son valores futuros que el proyecto arrojaria si se cumplieran todos los supuestos, para realizar un calculo eficiente estos se deben descontar a una tasa real para el inversionista a la que se denomina (T.I.O.) como para cada inversionista este valor es diferente y refleja el riesgo que esté esta corriendo, la denominare MI T.I.O., (mi tasa de oportunidad y mi premio al riesgo).\nPara calcularla se deben tener en cuanta las fuentes de los fondos. \nGeneralmente se dice que los recursos de los inversionistas son más costosos que los recursos de crédito. Y es así, ya que los fondos aportados por el inversionista deben rendir más que lo que se paga por créditos.\nPara determinar el valor de la T.I.O. se deben tener en cuenta los siguientes elementos.\na. Establecer el monto total de la inversión.\nb. Distribuir la inversión entre aporte y créditos\nc. Determinar la tasa a la cual se reciben los créditos\nd. Estimar cual es la renta que la inversión propia, debe aportar como premio al riesgo. \nEjemplo:\n Se requiere  una inversión de 70 millones para la puesta en marcha de una empresa. \n Los emprendedores establecen que su aporte será de 40 MM y se solicita un crédito de 30 MM.\n El crédito solicitado tiene una tasa del 18% N.A.\n Se desea un premio al riesgo de 20% (Como inversionista se podrían esperar tasas superiores al 20% o duplicar el capital en un año, pero se debe ser consonante con el mercado financiero, evaluando depósitos a término fijo,  fondos de inversión, o ahorros en monedas extranjeras los cuales tienen riesgos moderados.)\nAsí: los 40 Millones corresponden a 57% de la inversión y esta debe rentar el 20%\nLos 30 Millones corresponden al 43% y deben absorber como mínimo los intereses.\nSe multiplican los porcentajes correspondientes y luego se suman. \nAportes    57% X 20% = 11.40%\nCrédito  43% X 18% =  7.74%\nTasa atractiva de descuento = 19.14% esta es la T.I.O. con la que se deben evaluar los flujos de caja. \n Así los fondos son traídos a valor presente disminuyendo el 19.14% anual. \n","tasa","Tasa de interés de oportunidad. \nLos flujos de fondos son valores futuros que el proyecto arrojara si se cumplieran todos los supuestos, para realizar un calculo eficiente estos se deben descontar a una tasa real para el inversionista a la que se denomina (T.I.O.) como para cada inversionista este valor es diferente y refleja el riesgo que esté esta corriendo, la denominare MI T.I.O., (mi tasa de oportunidad y mi premio al riesgo)\nPaso 1.  Digite la tasa de interés de oportunidad. (Obligatorio)\nPaso 2. Acepte.\nPaso 3. Califique la información.\n\nVAYA A CONCEPTOS PARA AMPLIAR LA INFORMACIÓN."]
{"$rows_empty":339}
["CONDUCTOR"]
{"$rows_empty":50}
[null,null,12]

{"sheet":"ayuda","index":12,"n_rows":221,"n_cols":13,"rows_kept":221,"hidden":true,"merged":[[9,0,11,0],[19,0,21,0],[28,0,30,0],[37,0,39,0],[47,0,50,0],[65,0,68,0],[77,0,80,0],[98,0,104,0],[114,0,119,0],[125,0,130,0],[131,0,136,0]]}
["LA INVERSIÓN TOTAL PARA A LA REALIZACIÓN DEL PROYECTO ES DE  ",{"$f":"+VISUAL!H11","v":{"v":0,"d":"0.00"}},{"$f":"IF(VISUAL!B16=\"(todas)\",\"TOTAL\",IF(VISUAL!B16=\"AÑO1, TRIM2\",\"EN EL AÑO 1, SEGUNDO TRIMESTRE\",0))","v":{"v":0,"d":"0.00"}}]
[". SE APORTA EL ",null,"%"]
[" CON RECURSOS PROPIOS",{"$f":"+VISUAL!B12","v":{"$error":"#DIV/0!"}}]
[". SE ESPERA CONSEGUIR CRÉDITOS POR EL ",{"$f":"+VISUAL!D12","v":{"$error":"#DIV/0!"}},{"$f":"IF(B4=0,\"\",CONCATENATE(A4,ROUND(B4*100,2),$C$2))","v":{"$error":"#DIV/0!"}}]
[", Y SE OBTENDRÍAN RECURSOS DE DONACIONES O SUBVENCIONES POR EL ",{"$f":"+VISUAL!F12","v":{"$error":"#DIV/0!"}},{"$f":"IF(B5=0,\"\",CONCATENATE(A5,ROUND(B5*100,2),$C$2))","v":{"$error":"#DIV/0!"}}]
[". DE LA INVERSIÓN SE DESTINA "]
[" EL"]
[" PARA CAPITAL DE TRABAJO EL ",{"$f":"+VISUAL!I10","v":{"v":0,"d":"0.00"}},{"$f":"IF(B8=0,\"\",CONCATENATE(A8,ROUND(B8*100,2),$C$2))","v":""}]
[" Y PARA ACTIVOS FIJOS EL ",{"$f":"+VISUAL!I9","v":{"v":0,"d":"0.00"}},{"$f":"IF(B9=0,\"\",CONCATENATE(A9,ROUND(B9*100,2),$C$2))","v":""}]
[{"$f":"CONCATENATE(A1,DOLLAR(B1,0),A2,ROUND(B3*100,2),C2,A3,C4,C5,\nA6,C8,C9)","v":{"$error":"#DIV/0!"}}]
[]
[null,"NO SE PRESENTA TABLA DE AMORTIZACION PORQUE NO HAY CREDITOS",{"$f":"IF('inver y financ'!$F$249=0,0,1)","v":{"v":0,"d":"0.00"}}]
[{"$f":"IF(C12=1,B13,B12)","v":"NO SE PRESENTA TABLA DE AMORTIZACION PORQUE NO HAY CREDITOS"},"TABLA RESUMEN DE PAGOS DE LA FINANCIACION"]
["LAS VENTAS INICIAN EN EL MES ",{"$f":"+VISUAL!A33","v":{"$error":"#N/A"}},{"$f":"MONTH(B14)","v":{"$error":"#N/A"}}," DEL ",{"$f":"YEAR(B14)","v":{"$error":"#N/A"}}]
[]
[". EN EL PRIMER AÑO SE ESPERA VENDER ",{"$f":"TRUNC(SUM(VISUAL!B33:B44)/1000000,2)","v":{"v":0,"d":"0.00"}}," MILLONES DE PESOS. "]
["SE CONFÍA TENER LA MAYOR VENTA EN EL MES ",{"$f":"VLOOKUP(B18,VISUAL!B33:D44,3,FALSE)","v":{"v":1,"d":"1.00"}}," DE LA PROYECCIÓN,"]
[" POR VALOR DE ",{"$f":"MAX(VISUAL!B33:B44)","v":{"v":0,"d":"0.00"}},{"$f":"ROUND(+B18/1000000,2)","v":{"v":0,"d":"0.00"}}]
[]
[{"$f":"CONCATENATE(A14,C14,D14,E14,A16,B16,C16,A17,B17,,C17,A18,C18,C16)","v":{"$error":"#N/A"}}]
[]
[]
[]
["EN EL SEGUNDO AÑO SE PRESUPUESTA INCREMENTAN LAS VENTAS EN UN ",{"$f":"+ROUND(VISUAL!D53*100,2)","v":{"$error":"#DIV/0!"}},"% "]
["TENIENDO VENTAS PROMEDIO MENSUALES DE ",{"$f":"ROUND(+VISUAL!C53/1000000,2)","v":{"v":0,"d":"0.00"}}," MILLONES DE PESOS. "]
["PARA EL TERCER AÑO SE ESPERA TENER VENTAS POR ",{"$f":"ROUND(+VISUAL!B54/1000000,2)","v":{"v":0,"d":"0.00"}}," MILLONES DE PESOS. ",null,null,{"$f":"+VISUAL!C64","v":{"$error":"#DIV/0!"}},{"$f":"IF(F26=0,\"\",F26)","v":{"$error":"#DIV/0!"}}]
["CORRESPONDIENTE A UN CRECIMIENTO DEL ",{"$f":"ROUND(+VISUAL!D54*100,2)","v":{"$error":"#DIV/0!"}}," CON RESPECTO AL AÑO ANTERIOR",null,null,{"$f":"+VISUAL!C65","v":{"$error":"#DIV/0!"}},{"$f":"IF(F27=0,\"\",F27)","v":{"$error":"#DIV/0!"}}]
[{"$nulls":5},{"$f":"+VISUAL!C66","v":{"$error":"#DIV/0!"}},{"$error":"#DIV/0!"}]
[{"$f":"CONCATENATE(A24,B24,C24,A25,B25,C25,A26,B26,C26,A27,B27,C24,C27)","v":{"$error":"#DIV/0!"}},{"$nulls":4},{"$f":"+VISUAL!C67","v":{"$error":"#DIV/0!"}},{"$error":"#DIV/0!"}]
[{"$nulls":5},{"$f":"+VISUAL!C68","v":{"$error":"#DIV/0!"}},{"$error":"#DIV/0!"}]
[{"$nulls":5},{"$f":"+VISUAL!C69","v":{"$error":"#DIV/0!"}},{"$error":"#DIV/0!"}]
[null,null,"%",null,null,{"$f":"+VISUAL!C70","v":{"$error":"#DIV/0!"}},{"$error":"#DIV/0!"}]
["EL PRODUCTO DE MAYOR VENTA EN EL AÑO 1 ES ",{"$f":"UPPER(VLOOKUP(C33,VISUAL!$C$64:$F$75,4,FALSE))","v":{"$error":"#DIV/0!"}},{"$f":"MAX(VISUAL!C64:C75)","v":{"$error":"#DIV/0!"}},null,null,{"$f":"+VISUAL!C71","v":{"$error":"#DIV/0!"}},{"$error":"#DIV/0!"}]
[" EL CUAL PARTICIPA CON UN ",{"$f":"ROUND(MAX(VISUAL!C64:C75)*100,2)","v":{"$error":"#DIV/0!"}}," DE LA VENTA TOTAL. ",null,null,{"$f":"+VISUAL!C72","v":{"$error":"#DIV/0!"}},{"$error":"#DIV/0!"}]
[". EL PRODUCTO DE MENOR PARTICIPACIÓN EN EL PORTAFOLIO ES ",{"$f":"UPPER(VLOOKUP(C35,VISUAL!$C$64:$F$75,4,FALSE))","v":{"$error":"#DIV/0!"}},{"$f":"MIN(G26:G37)","v":{"$error":"#DIV/0!"}},null,null,{"$f":"+VISUAL!C73","v":{"$error":"#DIV/0!"}},{"$error":"#DIV/0!"}]
["CON UN ",{"$f":"ROUND(MIN(G26:G37)*100,2)","v":{"$error":"#DIV/0!"}},{"$nulls":3},{"$f":"+VISUAL!C74","v":{"$error":"#DIV/0!"}},{"$error":"#DIV/0!"}]
[" CON UNA CONTRIBUCIÓN DE SOLO EL ",{"$nulls":4},{"$f":"+VISUAL!C75","v":{"$error":"#DIV/0!"}},{"$error":"#DIV/0!"}]
[{"$f":"CONCATENATE(A33,B33,A34,B34,C32,A35,B35,A37,B36,C32)","v":{"$error":"#DIV/0!"}},null,null,{"$f":"+VISUAL!C84","v":{"v":0,"d":"0.00"}},{"$f":"+VISUAL!A84","v":"MANO DE OBRA"},{"$f":"+D38/$B$42","v":{"$error":"#DIV/0!"}},{"$error":"#DIV/0!"},{"$f":"+E38","v":"MANO DE OBRA"}]
[{"$nulls":3},{"$f":"+VISUAL!C85","v":{"v":0,"d":"0.00"}},{"$f":"+VISUAL!A85","v":"COSTOS DE PRODUCCION"},{"$f":"+D39/$B$42","v":{"$error":"#DIV/0!"}},{"$error":"#DIV/0!"},{"$f":"+E39","v":"COSTOS DE PRODUCCION"}]
[{"$nulls":3},{"$f":"+VISUAL!C86","v":{"v":0,"d":"0.00"}},{"$f":"+VISUAL!A86","v":"GASTOS ADMINISTRATIVOS"},{"$f":"+D40/$B$42","v":{"$error":"#DIV/0!"}},{"$error":"#DIV/0!"},{"$f":"+E40","v":"GASTOS ADMINISTRATIVOS"}]
[{"$nulls":3},{"$f":"+VISUAL!C87","v":{"v":0,"d":"0.00"}},{"$f":"+VISUAL!A87","v":"CREDITOS"},{"$f":"+D41/$B$42","v":{"$error":"#DIV/0!"}},{"$error":"#DIV/0!"},{"$f":"+E41","v":"CREDITOS"}]
["LOS COSTOS Y GASTOS FIJOS DEL PRIMER AÑO, ASCIENDEN A ",{"$f":"SUM(D38:D42)","v":{"v":0,"d":"0.00"}},null,{"$f":"+VISUAL!C88","v":{"v":0,"d":"0.00"}},{"$f":"+VISUAL!A88","v":"DEPRECIACION"}]
[{"$f":"IF(D38>0,\", SE DESTINAN \",\", NO SE PRESUPUESTA \")","v":", NO SE PRESUPUESTA "},{"$f":"IF(D38=0,\"\",D38/1000000)","v":""},{"$f":"IF(D38=0,\"\",\" MILLONES DE PESOS \")","v":""},{"$f":"IF(D38=0,\"\",\"PARA \")","v":""},{"$f":"+E38","v":"MANO DE OBRA"}]
[{"$f":"IF(D39>0,\", SE ESTABLECEN \",\", NO SE ESTABLECEN \")","v":", NO SE ESTABLECEN "},{"$f":"IF(D39=0,\"\",D39/1000000)","v":""},{"$f":"IF(D39=0,\"\",\" MILLONES DE PESOS \")","v":""},{"$f":"IF(D39=0,\"\",\"EN \")","v":""},{"$f":"+E39","v":"COSTOS DE PRODUCCION"}]
[{"$f":"IF(D40>0,\", SE CALCULAN \",\", NO SE CALCULAN \")","v":", NO SE CALCULAN "},{"$f":"IF(D40=0,\"\",D40/1000000)","v":""},{"$f":"IF(D40=0,\"\",\" MILLONES DE PESOS \")","v":""},{"$f":"IF(D40=0,\"\",\"PARA \")","v":""},{"$f":"+E40","v":"GASTOS ADMINISTRATIVOS"}]
[{"$f":"IF(D41>0,\", SE DETERMINAN \",\", NO SE ESTUDIAN \")","v":", NO SE ESTUDIAN "},{"$f":"IF(D41=0,\"\",D41/1000000)","v":""},{"$f":"IF(D41=0,\"\",\" MILLONES DE PESOS \")","v":""},{"$f":"IF(D41=0,\"\",\"PARA \")","v":""},{"$f":"+E41","v":"CREDITOS"},{"$f":"IF(D41>0,\". SE REFIEREN EXCLUSIVAMENTE A LOS INTERESES DE LOS CREDITOS OBTENIDOS; NO SE PRESUPUESTA LA CUOTA DE AMORTIZACION\",\"\")","v":""}]
[". SE CONTABILIZAN ",{"$f":"IF(D42=0,\"\",D42/1000000)","v":""},{"$f":"IF(D42=0,\"\",\" MILLONES DE PESOS \")","v":""}]
[{"$f":"CONCATENATE(A42,DOLLAR(B42,0),A43,B43,C43,,D43,E43,A44,B44,C44,D44,E44,A45,B45,C45,D45,E45,A46,B46,C46,D46,E46,F46,A47,B47,C47,A52)","v":"LOS COSTOS Y GASTOS FIJOS DEL PRIMER AÑO, ASCIENDEN A 0 €, NO SE PRESUPUESTA MANO DE OBRA, NO SE ESTABLECEN COSTOS DE PRODUCCION, NO SE CALCULAN GASTOS ADMINISTRATIVOS, NO SE ESTUDIAN CREDITOS. SE CONTABILIZAN PARA DEPRECIACION "}]
[]
[]
[]
["PARA DEPRECIACION "]
[]
[]
[]
[]
[]
["PARA HALLAR EL PUNTO DE EQUILIBRIO SE DEBE DIVIDIR LA SUMATORIA DE LOS COSTOS Y GASTOS FIJOS ENTRE EL MARGEN DE CONTRIBUCIÓN. "]
[]
[{"$nulls":3},{"$f":"IF(E60=\"\",\"\",+VISUAL!H98)","v":""},{"$f":"IF(VISUAL!A98=0,\"\",UPPER(+VISUAL!A98))","v":""}]
["EL MARGEN DE CONTRIBUCIÓN DE LA EMPRESA ES ",{"$f":"ROUND(+VISUAL!J110*100,2)","v":{"$error":"#DIV/0!"}},"% ",{"$f":"IF(E61=\"\",\"\",+VISUAL!H99)","v":""},{"$f":"IF(VISUAL!A99=0,\"\",UPPER(+VISUAL!A99))","v":""}]
["LO CUAL SE INTERPRETA ASÍ: POR CADA PESO QUE VENDA LA EMPRESA SE OBTIENEN ",{"$f":"ROUND(+B61,0)","v":{"$error":"#DIV/0!"}},null,{"$f":"IF(E62=\"\",\"\",+VISUAL!H100)","v":""},{"$f":"IF(VISUAL!A100=0,\"\",UPPER(+VISUAL!A100))","v":""}]
[" CENTAVOS PARA CUBRIR LOS COSTOS Y GASTOS FIJOS DE LA EMPRESA Y GENERAR UTILIDAD. ",", ",null,{"$f":"IF(E63=\"\",\"\",+VISUAL!H101)","v":""},{"$f":"IF(VISUAL!A101=0,\"\",UPPER(+VISUAL!A101))","v":""}]
["EL PRODUCTO CON MAYOR MARGEN DE CONTRIBUCIÓN ES ",{"$f":"MAX(D60:D71)","v":{"v":0,"d":"0.00"}},{"$f":"VLOOKUP(B64,$D$60:$E$71,2,FALSE)","v":{"$error":"#N/A"}},{"$f":"IF(E64=\"\",\"\",+VISUAL!H102)","v":""},{"$f":"IF(VISUAL!A102=0,\"\",UPPER(+VISUAL!A102))","v":""}]
[" ES EL PRODUCTO DE MENOR MARGEN DE CONTRIBUCIÓN.  ",{"$f":"MIN(D60:D71)","v":{"v":0,"d":"0.00"}},{"$f":"VLOOKUP(B65,$D$60:$E$71,2,FALSE)","v":{"$error":"#N/A"}},{"$f":"IF(E65=\"\",\"\",+VISUAL!H103)","v":""},{"$f":"IF(VISUAL!A103=0,\"\",UPPER(+VISUAL!A103))","v":""}]
[{"$f":"CONCATENATE(A61,B61,C61,A62,B62,A63,A64,C64,B63,C65,A65)","v":{"$error":"#DIV/0!"}}," ",null,{"$f":"IF(E66=\"\",\"\",+VISUAL!H104)","v":""},{"$f":"IF(VISUAL!A104=0,\"\",UPPER(+VISUAL!A104))","v":""}]
[{"$nulls":3},{"$f":"IF(E67=\"\",\"\",+VISUAL!H105)","v":""},{"$f":"IF(VISUAL!A105=0,\"\",UPPER(+VISUAL!A105))","v":""}]
[{"$nulls":3},{"$f":"IF(E68=\"\",\"\",+VISUAL!H106)","v":""},{"$f":"IF(VISUAL!A106=0,\"\",UPPER(+VISUAL!A106))","v":""}]
[{"$nulls":3},{"$f":"IF(E69=\"\",\"\",+VISUAL!H107)","v":""},{"$f":"IF(VISUAL!A107=0,\"\",UPPER(+VISUAL!A107))","v":""}]
[{"$nulls":3},{"$f":"IF(E70=\"\",\"\",+VISUAL!H108)","v":""},{"$f":"IF(VISUAL!A108=0,\"\",UPPER(+VISUAL!A108))","v":""}]
["TENIENDO EN CUENTA LA ESTRUCTURA DE COSTOS Y GASTOS FIJOS Y EL MARGEN DE CONTRIBUCIÓN DE LA EMPRESA, SE LLEGA  A LA CONCLUSIÓN QUE LA ORGANIZACIÓN REQUIERE VENDER ",{"$f":"+VISUAL!B133","v":{"$error":"#DIV/0!"}},null,{"$f":"IF(E71=\"\",\"\",+VISUAL!H109)","v":""},{"$f":"IF(VISUAL!A109=0,\"\",UPPER(+VISUAL!A109))","v":""}]
[" AL AÑO PARA NO PERDER NI GANAR DINERO. "]
["SE REQUIEREN VENTAS MENSUALES PROMEDIO DE ",{"$f":"+VISUAL!D133","v":{"$error":"#DIV/0!"}},{"$f":"ROUND(+B73/1000000,1)","v":{"$error":"#DIV/0!"}}," MILLONES DE PESOS. "]
["AL ANALIZAR LAS PROYECCIONES DE VENTAS SE DETERMINA QUE LA EMPRESA, ",{"$f":"+VISUAL!B52","v":{"v":0,"d":"0.00"}},{"$f":"IF(B75>0,C75,IF(B76>0,C76,IF(B77>0,C77,\"NO\")))","v":{"$error":"#DIV/0!"}},{"$f":"IF(C74=\"NO\", \" SE RECOMIENDA REVISAR LOS COSTOS FIJOS, LAS PROYECCIONES DE VENTA Y/O LOS PRECIOS DE LOS PRODUCTOS\",\"\")","v":{"$error":"#DIV/0!"}},"VENTAS PROYECTADAS","PUNTO DE EQUILIBRIO"]
[" ALCANZA EL PUNTO DE EQUILIBRIO.",{"$f":"+VISUAL!B52-ayuda!$B$71","v":{"$error":"#DIV/0!"}},"EN EL PRIMER AÑO,",{"$f":"+VISUAL!A33","v":{"$error":"#N/A"}},{"$f":"+VISUAL!B33","v":{"v":0,"d":"0.00"}},{"$f":"+$B$73","v":{"$error":"#DIV/0!"}}]
[null,{"$f":"+VISUAL!B53-ayuda!$B$71","v":{"$error":"#DIV/0!"}},"EN EL SEGUNDO AÑO,",{"$f":"+VISUAL!A34","v":{"$error":"#N/A"}},{"$f":"+VISUAL!B34","v":{"v":0,"d":"0.00"}},{"$f":"+$B$73","v":{"$error":"#DIV/0!"}}]
[null,{"v":-1090706.0236,"d":"-1,090,706.02"},"EN EL TERCER AÑO,",{"$f":"+VISUAL!A35","v":{"$error":"#N/A"}},{"$f":"+VISUAL!B35","v":{"v":0,"d":"0.00"}},{"$error":"#DIV/0!"}]
[{"$f":"CONCATENATE(A71,DOLLAR(B71,0),A72,A73,C73,D73,A74,C74,A75,D74)","v":{"$error":"#DIV/0!"}},null,null,{"$f":"+VISUAL!A36","v":{"$error":"#N/A"}},{"$f":"+VISUAL!B36","v":{"v":0,"d":"0.00"}},{"$error":"#DIV/0!"}]
[{"$nulls":3},{"$f":"+VISUAL!A37","v":{"$error":"#N/A"}},{"$f":"+VISUAL!B37","v":{"v":0,"d":"0.00"}},{"$error":"#DIV/0!"}]
[{"$nulls":3},{"$f":"+VISUAL!A38","v":{"$error":"#N/A"}},{"$f":"+VISUAL!B38","v":{"v":0,"d":"0.00"}},{"$error":"#DIV/0!"}]
[{"$nulls":3},{"$f":"+VISUAL!A39","v":{"$error":"#N/A"}},{"$f":"+VISUAL!B39","v":{"v":0,"d":"0.00"}},{"$error":"#DIV/0!"}]
[{"$nulls":3},{"$f":"+VISUAL!A40","v":{"$error":"#N/A"}},{"$f":"+VISUAL!B40","v":{"v":0,"d":"0.00"}},{"$error":"#DIV/0!"}]
[{"$nulls":3},{"$f":"+VISUAL!A41","v":{"$error":"#N/A"}},{"$f":"+VISUAL!B41","v":{"v":0,"d":"0.00"}},{"$error":"#DIV/0!"}]
["EL ESTADO DE PERDIDAS Y GANANCIAS PROYECTADO PARA EL PRIMER AÑO, MUESTRA QUE ",null,null,{"$f":"+VISUAL!A42","v":{"$error":"#N/A"}},{"$f":"+VISUAL!B42","v":{"v":0,"d":"0.00"}},{"$error":"#DIV/0!"}]
["LAS METAS DE VENTAS ",null,null,{"$f":"+VISUAL!A43","v":{"$error":"#N/A"}},{"$f":"+VISUAL!B43","v":{"v":0,"d":"0.00"}},{"$error":"#DIV/0!"}]
[{"$nulls":3},{"$f":"+VISUAL!A44","v":{"$error":"#N/A"}},{"$f":"+VISUAL!B44","v":{"v":0,"d":"0.00"}},{"$error":"#DIV/0!"}]
[{"$nulls":3},"AÑO1",{"$f":"+VISUAL!B52","v":{"v":0,"d":"0.00"}},{"$f":"+$B$71","v":{"$error":"#DIV/0!"}}]
[{"$nulls":3},"AÑO2",{"$f":"+VISUAL!B53","v":{"v":0,"d":"0.00"}},{"$f":"+$B$71","v":{"$error":"#DIV/0!"}}]
[" SON SUFICIENTES PARA CUBRIR LOS COSTOS Y GASTOS TOTALES. ",null,null,"AÑO3",{"$f":"+VISUAL!B54","v":{"v":0,"d":"0.00"}},{"$f":"+$B$71","v":{"$error":"#DIV/0!"}}]
[]
[null,{"$f":"IF(B92<0,1,0)","v":{"v":0,"d":"0.00"}},{"v":0,"d":"0.00"},{"v":0,"d":"0.00"},{"v":0,"d":"0.00"},{"v":0,"d":"0.00"},{"v":0,"d":"0.00"},{"v":0,"d":"0.00"},{"v":0,"d":"0.00"},{"v":0,"d":"0.00"},{"v":0,"d":"0.00"},{"v":0,"d":"0.00"},{"v":0,"d":"0.00"}]
["ES INSUFICIENTE PARA CUBRIR EL COSTO DE ESTAS;",{"$f":"+VISUAL!B146","v":{"v":0,"d":"0.00"}},{"$f":"+VISUAL!C146","v":{"v":0,"d":"0.00"}},{"$f":"+VISUAL!D146","v":{"v":0,"d":"0.00"}},{"$f":"+VISUAL!E146","v":{"v":0,"d":"0.00"}},{"$f":"+VISUAL!F146","v":{"v":0,"d":"0.00"}},{"$f":"+VISUAL!G146","v":{"v":0,"d":"0.00"}},{"$f":"+VISUAL!H146","v":{"v":0,"d":"0.00"}},{"$f":"+VISUAL!I146","v":{"v":0,"d":"0.00"}},{"$f":"+VISUAL!J146","v":{"v":0,"d":"0.00"}},{"$f":"+VISUAL!K146","v":{"v":0,"d":"0.00"}},{"$f":"+VISUAL!L146","v":{"v":0,"d":"0.00"}},{"$f":"+VISUAL!M146","v":{"v":0,"d":"0.00"}}]
[" POR LO TANTO LAS PERDIDAS DEL PROYECTO SE DEBEN A VENTAS MUY BAJAS LAS CUALES  DEBEN SER REVISAR CON DETENIMIENTO. ",{"$f":"IF(B94<0,1,0)","v":{"v":0,"d":"0.00"}},{"v":0,"d":"0.00"},{"v":0,"d":"0.00"},{"v":0,"d":"0.00"},{"v":0,"d":"0.00"},{"v":0,"d":"0.00"},{"v":0,"d":"0.00"},{"v":0,"d":"0.00"},{"v":0,"d":"0.00"},{"v":0,"d":"0.00"},{"v":0,"d":"0.00"},{"v":0,"d":"0.00"}]
["ES INSUFICIENTE PARA CUBRIR EL COSTO DE OPERACIÓN",{"$f":"+VISUAL!B149","v":{"v":0,"d":"0.00"}},{"$f":"+VISUAL!C149","v":{"v":0,"d":"0.00"}},{"$f":"+VISUAL!D149","v":{"v":0,"d":"0.00"}},{"$f":"+VISUAL!E149","v":{"v":0,"d":"0.00"}},{"$f":"+VISUAL!F149","v":{"v":0,"d":"0.00"}},{"$f":"+VISUAL!G149","v":{"v":0,"d":"0.00"}},{"$f":"+VISUAL!H149","v":{"v":0,"d":"0.00"}},{"$f":"+VISUAL!I149","v":{"v":0,"d":"0.00"}},{"$f":"+VISUAL!J149","v":{"v":0,"d":"0.00"}},{"$f":"+VISUAL!K149","v":{"v":0,"d":"0.00"}},{"$f":"+VISUAL!L149","v":{"v":0,"d":"0.00"}},{"$f":"+VISUAL!M149","v":{"v":0,"d":"0.00"}}]
[" POR LO TANTO LAS PERDIDAS DEL PROYECTO PUEDEN ESTAR GENERADAS EN LOS ALTOS COSTOS FIJOS QUE SE PRESUPUESTA PARA LA ACTIVIDAD DE LA EMPRESA. ",{"$f":"IF(B96<0,1,0)","v":{"v":0,"d":"0.00"}},{"v":0,"d":"0.00"},{"v":0,"d":"0.00"},{"v":0,"d":"0.00"},{"v":0,"d":"0.00"},{"v":0,"d":"0.00"},{"v":0,"d":"0.00"},{"v":0,"d":"0.00"},{"v":0,"d":"0.00"},{"v":0,"d":"0.00"},{"v":0,"d":"0.00"},{"v":0,"d":"0.00"}]
["ES INSUFICIENTE PARA CUBRIR EL COSTO TOTAL ",{"$f":"+VISUAL!B152","v":{"v":0,"d":"0.00"}},{"$f":"+VISUAL!C152","v":{"v":0,"d":"0.00"}},{"$f":"+VISUAL!D152","v":{"v":0,"d":"0.00"}},{"$f":"+VISUAL!E152","v":{"v":0,"d":"0.00"}},{"$f":"+VISUAL!F152","v":{"v":0,"d":"0.00"}},{"$f":"+VISUAL!G152","v":{"v":0,"d":"0.00"}},{"$f":"+VISUAL!H152","v":{"v":0,"d":"0.00"}},{"$f":"+VISUAL!I152","v":{"v":0,"d":"0.00"}},{"$f":"+VISUAL!J152","v":{"v":0,"d":"0.00"}},{"$f":"+VISUAL!K152","v":{"v":0,"d":"0.00"}},{"$f":"+VISUAL!L152","v":{"v":0,"d":"0.00"}},{"$f":"+VISUAL!M152","v":{"v":0,"d":"0.00"}}]
["POR LO TANTO LAS PERDIDAS ESTÁN RELACIONADAS CON EL ALTO COSTO FINANCIERO PRESUPUESTADO Y/O LA RECUPERACIÓN EN MUY CORTO PLAZO DE LOS GASTOS PREOPERATIVOS. ",{"$f":"IF(SUM(B92:M92)>0,1,0)","v":{"v":0,"d":"0.00"}},{"$f":"IF(B97=0,CONCATENATE(A92,A93,A98),IF(B98=0,CONCATENATE(A94,A95,A98),IF(B99=0,CONCATENATE(A96,A97,A98),CONCATENATE(A89,A98))))","v":"ES INSUFICIENTE PARA CUBRIR EL COSTO DE ESTAS; POR LO TANTO LAS PERDIDAS DEL PROYECTO SE DEBEN A VENTAS MUY BAJAS LAS CUALES  DEBEN SER REVISAR CON DETENIMIENTO. LA RENTABILIDAD SOBRE VENTAS DEL PROYECTO ES DE "}]
["LA RENTABILIDAD SOBRE VENTAS DEL PROYECTO ES DE ",{"$f":"IF(SUM(B94:M94)>0,1,0)","v":{"v":0,"d":"0.00"}}]
[{"$f":"CONCATENATE(A84,A85,C97,B103,C103)","v":{"$error":"#DIV/0!"}},{"$f":"IF(SUM(B96:M96)>0,1,0)","v":{"v":0,"d":"0.00"}}]
[null,{"$f":"SUM(B94:M94)","v":{"v":0,"d":"0.00"}}]
[null,{"$f":"SUM(B94:M94)","v":{"v":0,"d":"0.00"}}]
[null,{"$f":"SUM(B96:M96)","v":{"v":0,"d":"0.00"}}]
[null,{"$f":"ROUND(+B102/B74/12*100,2)","v":{"$error":"#DIV/0!"}},"% MENSUAL",{"$nulls":5},"SUGERIR"]
[{"$nulls":8},"INSINUAR"]
[{"$nulls":4},"AÑO1","AÑO2","AÑO2",null,"ACONSEJA"]
[null,{"$f":"+VISUAL!C160","v":{"v":0,"d":"0.00"}},{"$f":"+VISUAL!D160","v":{"v":0,"d":"0.00"}},{"$f":"+VISUAL!E160","v":{"v":0,"d":"0.00"}},{"$nulls":4},"PROPONE"]
["EL ESTADO DE RESULTADOS EN EL PRIMER AÑO, MUESTRA UNA ",{"$f":"+VISUAL!C169","v":{"v":0,"d":"0.00"}},{"$f":"+VISUAL!D169","v":{"v":0,"d":"0.00"}},{"$f":"+VISUAL!E169","v":{"v":0,"d":"0.00"}},{"$nulls":3},{"$f":"UPPER(IF(B111>0,\"utilidad\",\"perdida\"))","v":"PERDIDA"}]
[" POR ",{"$f":"+VISUAL!C170","v":{"v":0,"d":"0.00"}},{"$f":"+VISUAL!D170","v":{"v":0,"d":"0.00"}},{"$f":"+VISUAL!E170","v":{"v":0,"d":"0.00"}},{"$f":"ROUND((+B108/B$106)*100,2)","v":{"$error":"#DIV/0!"}},{"$f":"ROUND((+C108/C$106)*100,2)","v":{"$error":"#DIV/0!"}},{"$f":"ROUND((+D108/D$106)*100,2)","v":{"$error":"#DIV/0!"}},{"$f":"IF(E108>6600%,1,IF(E108>4500%,2,IF(E108<3500%,3,4)))","v":{"$error":"#DIV/0!"}},null,{"$f":"IF(E108<5500%,\"SE ACONSEJA REVISAR CON DETENIMIENTO LOS PRECIOS DE VENTA, LA PROYECCION DE VENTA Y LOS COSTOS VARIABLES\",\"LA CUAL ESTA DENTRO DE LOS PARAMETROS DE LA INDUSTRIA \")","v":{"$error":"#DIV/0!"}}]
[". LA RENTABILIDAD BRUTA ES DEL ",{"$f":"+VISUAL!C173","v":{"v":0,"d":"0.00"}},{"$f":"+VISUAL!D173","v":{"v":0,"d":"0.00"}},{"$f":"+VISUAL!E173","v":{"v":0,"d":"0.00"}},{"$f":"ROUND((+B109/B$106)*100,2)","v":{"$error":"#DIV/0!"}},{"$error":"#DIV/0!"},{"$error":"#DIV/0!"},{"$f":"IF(E109>5000%,1,IF(E109>4000%,2,IF(E109<2500%,3,4)))","v":{"$error":"#DIV/0!"}},null,{"$f":"IF(E109<2500%,\"SE SUGIERE REPASAR LA ESTRUCTURA DE COSTOS Y GASTOS FIJOS\",\"LA CUAL SE CONSIDERA ACEPTABLE\")","v":{"$error":"#DIV/0!"}}]
[". LA RENTABILIDAD OPERACIONAL ES DEL ",{"$f":"+VISUAL!C177","v":{"v":0,"d":"0.00"}},{"$f":"+VISUAL!D177","v":{"v":0,"d":"0.00"}},{"$f":"+VISUAL!E177","v":{"v":0,"d":"0.00"}},{"$error":"#DIV/0!"},{"$error":"#DIV/0!"},{"$error":"#DIV/0!"},null,null,{"$f":"IF(E110<2000%,\"SE PROPONE REVISAR CON DETENIMIENTO  LOS COSTOS FINANCIEROS Y LA RECUPERACION DE CAPITAL DE LOS COSTOS PREOPERATIVOS.\",\"LA CUAL SE CONSIDERA ACEPTABLE\")","v":{"$error":"#DIV/0!"}}]
[". LA RENTABILIDAD SOBRE VENTAS ES DE ",{"$f":"+VISUAL!C179","v":{"v":0,"d":"0.00"}},{"$f":"+VISUAL!D179","v":{"v":0,"d":"0.00"}},{"$f":"+VISUAL!E179","v":{"v":0,"d":"0.00"}},{"$error":"#DIV/0!"},{"$error":"#DIV/0!"},{"$error":"#DIV/0!"},{"$f":"IF(E110>3000%,1,IF(E110>1200%,2,IF(E110<500%,3,4)))","v":{"$error":"#DIV/0!"}}]
[{"$nulls":7},{"$f":"ROUND(IF(B111>0,B111/1000000,-B111/1000000),2)","v":{"v":0,"d":"0.00"}},{"$f":"ROUND(IF(C111>0,C111/1000000,-C111/1000000),2)","v":{"v":0,"d":"0.00"}},{"$f":"ROUND(IF(D111>0,D111/1000000,-D111/1000000),2)","v":{"v":0,"d":"0.00"}}]
[{"$nulls":7}," MILLONES DE PESOS"]
[{"$nulls":7},"% ANUAL. "]
[{"$f":"CONCATENATE(A107,H107,A108,H112,H113,A109,E108,H114,K109,J108,A110,E109,H114,J109,A111,E111,H114,J110)","v":{"$error":"#DIV/0!"}},{"$nulls":6},{"v":1,"d":"1.00"},"SE CONSIDERA MUY ALTA, SE SUGIERE REVISAR LOS COSTOS VARIABLES Y LOS COSTOS FIJOS DE OPERACION"]
[{"$nulls":7},{"v":2,"d":"2.00"},"SE CONSIDERA ESTA DENTRO DE LOS PARAMETROS DE LA INDUSTRIA"]
[{"$nulls":7},{"v":3,"d":"3.00"},"SE ESTABLECE QUE ESTA MUY BAJA ES CONVENIENTE REVISAR LOS COSTOS DIRECTOS DE OPERACIÓN "]
[{"$nulls":7},{"v":4,"d":"4.00"},"LOS DATOS NO CONCUERDAN POR FAVOR REVISAR LA INFORMACION "]
[{"$nulls":7},{"v":1,"d":"1.00"},"SE CONSIDERA MUY ALTA, SE SUGIERE REVISAR LOS GASTOS ADMINISTRATIVOS Y DE VENTAS"]
[{"$nulls":7},{"v":2,"d":"2.00"},"SE CONSIDERA ESTA DENTRO DE LOS PARAMETROS DE LA INDUSTRIA"]
["PARA EL SEGUNDO AÑO LAS VENTAS ",{"$f":"ROUND(+VISUAL!B191*100,2)","v":{"$error":"#DIV/0!"}},{"$f":"IF(B121>0,\"CRECEN UN \",\"BAJAN UN \")","v":{"$error":"#DIV/0!"}},{"$f":"IF(B121<0,B121*-1,B121)","v":{"$error":"#DIV/0!"}},"% ",null,null,{"v":3,"d":"3.00"},"SE ESTABLECE QUE ESTA MUY BAJA ES CONVENIENTE REVISAR LOS COSTOS DIRECTOS DE OPERACIÓN "]
["Y LOS COSTOS DE VENTAS ",{"$f":"ROUND(VISUAL!B192*100,2)","v":{"$error":"#DIV/0!"}},{"$f":"IF(B122>0,\"SUBEN UN \",\"DESCIENDEN UN \")","v":{"$error":"#DIV/0!"}},{"$f":"IF(B122<0,B122*-1,B122)","v":{"$error":"#DIV/0!"}},{"$nulls":3},{"v":4,"d":"4.00"},"LOS DATOS NO CONCUERDAN POR FAVOR REVISAR LA INFORMACION "]
[" LOS GASTOS ADMINISTRATIVOS ",{"$f":"+B121-B122","v":{"$error":"#DIV/0!"}}]
["EN EL TERCER AÑO LOS COSTOS DE VENTAS ",{"$f":"ROUND(VISUAL!B193*100,2)","v":{"$error":"#DIV/0!"}},{"$f":"IF(B124>0,\"SE INCREMENTAN EN UN \",\"SE REDUCEN EN UN \")","v":{"$error":"#DIV/0!"}},{"$f":"IF(B124<0,B124*-1,B124)","v":{"$error":"#DIV/0!"}}]
[null,{"$f":"IF(B123>=C125,D125,IF(B123>=C126,D126,IF(B123>=C127,D127,IF(B123<=C128,D128,\"\"))))","v":{"$error":"#DIV/0!"}},{"v":12,"d":"12.00"},"ES CONVENIENTE REVISAR LAS CIFRAS YA QUE LOS COSTOS DIRECTOS DESCIENDEN EN GRAN MEDIDA CON RESPECTO AL CRECIMIENTO EN VENTAS."]
[{"$f":"CONCATENATE(A121,C121,D121,E121,A122,C122,D122,E121,B125,A123,C124,D124,E121)","v":{"$error":"#DIV/0!"}},null,{"v":7,"d":"7.00"},"LA EMPRESA DENOTA EFICIENCIA OPERATIVA ALTA"]
[null,null,{"v":1,"d":"1.00"},"LA EMPRESA DENOTA EFICIENCIA OPERATIVA MUY BAJA"]
[null,{"$f":"+B121-B124","v":{"$error":"#DIV/0!"}},{"v":0,"d":"0.00"},"SE HACE IMPRESCINDIBLE VERIFICAR LOS COSTOS DIRECTOS YA QUE ESTOS SE INCREMENTA POR ENCIMA DEL INCREMENTO EN VENTAS"]
[null,{"$f":"+VISUAL!C191","v":{"$error":"#DIV/0!"}},"SE INCREMENTAN EN UN ",{"v":12,"d":"12.00"},"ES CONVENIENTE REVISAR LAS CIFRAS YA QUE LOS COSTOS DIRECTOS DESCIENDEN EN GRAN MEDIDA CON RESPECTO AL CRECIMIENTO EN VENTAS."]
[null,{"$f":"+VISUAL!C192","v":{"$error":"#DIV/0!"}},"ASCIENDE UN ",{"v":7,"d":"7.00"},"LA EMPRESA DENOTA EFICIENCIA OPERATIVA ALTA"]
[null,null,{"$f":"IF(B131>0,C129,C133)","v":"DECRECEN UN"},{"v":1,"d":"1.00"},"LA EMPRESA DENOTA EFICIENCIA OPERATIVA BAJA"]
[{"$f":"CONCATENATE(A124,B135,ROUND(B130*100,2),F133,E133,B136,ROUND(B129*100,2),F133,B138)","v":{"$error":"#DIV/0!"}},{"$f":"+VISUAL!C193","v":{"$error":"#DIV/0!"}},{"$f":"IF(B132>0,\"SUBEN UN \",\"DESCIENDEN UN \")","v":{"$error":"#DIV/0!"}},{"v":0,"d":"0.00"},"SE HACE IMPRESCINDIBLE VERIFICAR LOS COSTOS DIRECTOS YA QUE ESTOS SE INCREMENTA POR ENCIMA DEL CRECIMIENTO EN VENTAS"]
[null,null,"DECRECEN UN",null,"MIENTRAS QUE LAS VENTAS ","%. "]
[null,null,"BAJAN UN"]
[null,{"$f":"IF(B130>0,C129,C131)","v":{"$error":"#DIV/0!"}}]
[null,{"$f":"IF(B129>0,C130,C132)","v":{"$error":"#DIV/0!"}}]
[null,{"$f":"+(B129-B130)*100","v":{"$error":"#DIV/0!"}}]
["LA EMPRESA VENDE",{"$f":"IF(B137>=D129,E129,IF(B137>=D130,E130,IF(B137>=D131,E131,IF(B137<=D132,E132,\"\"))))","v":{"$error":"#DIV/0!"}}]
[{"$f":"IF(E139=\"\",\"\",\" EL \")","v":{"$error":"#DIV/0!"}},{"$f":"IF(C139=0,\"\",\" DE CONTADO,\")","v":{"$error":"#DIV/0!"}},{"$f":"ROUND(+VISUAL!B207,2)","v":{"$error":"#DIV/0!"}},null,{"$f":"IF(C139=0,\"\",C139*100)","v":{"$error":"#DIV/0!"}},{"$f":"IF(C139=0,\"\",C139*100)","v":{"$error":"#DIV/0!"}},{"$f":"IF(C139=0,\"\",\"% \" )","v":{"$error":"#DIV/0!"}}]
[{"$f":"IF(E140=\"\",\"\",\" EL \")","v":{"$error":"#DIV/0!"}},{"$f":"IF(C140=0,\"\",\" A 30 DIAS\")","v":{"$error":"#DIV/0!"}},{"$f":"ROUND(+VISUAL!B208,2)","v":{"$error":"#DIV/0!"}},null,{"$f":"IF(C140=0,\"\",C140*100)","v":{"$error":"#DIV/0!"}},{"$f":"IF(C140=0,\"\",C140*100)","v":{"$error":"#DIV/0!"}},{"$error":"#DIV/0!"}]
[{"$f":"IF(E141=\"\",\"\",\", EL \")","v":{"$error":"#DIV/0!"}},{"$f":"IF(C141=0,\"\",\" A 60 DIAS\")","v":{"$error":"#DIV/0!"}},{"$f":"ROUND(+VISUAL!B209,2)","v":{"$error":"#DIV/0!"}},null,{"$f":"IF(C141=0,\"\",C141*100)","v":{"$error":"#DIV/0!"}},{"$f":"IF(C141=0,\"\",C141*100)","v":{"$error":"#DIV/0!"}},{"$error":"#DIV/0!"}]
[{"$f":"IF(E142=\"\",\"\",\" EL \")","v":{"$error":"#DIV/0!"}},{"$f":"IF(C142=0,\"\",\", A 90 DIAS\")","v":{"$error":"#DIV/0!"}},{"$f":"ROUND(+VISUAL!B210,2)","v":{"$error":"#DIV/0!"}},null,{"$f":"IF(C142=0,\"\",C142*100)","v":{"$error":"#DIV/0!"}},{"$f":"IF(C142=0,\"\",C142*100)","v":{"$error":"#DIV/0!"}},{"$error":"#DIV/0!"}]
[{"$f":"IF(E143=\"\",\"\",\". SE DEBE PRESTAR ESPECIAL CUIDADO CON EL \")","v":{"$error":"#DIV/0!"}},{"$f":"IF(C143=0,\"\",\" A 120 DIAS\")","v":{"$error":"#DIV/0!"}},{"$f":"ROUND(+VISUAL!B211,2)","v":{"$error":"#DIV/0!"}},null,{"$f":"IF((C143+C144)=0,\"\",C143*100+C144*100)","v":{"$error":"#DIV/0!"}},null,{"$error":"#DIV/0!"}]
[{"$f":"IF(E143=\"\",\"\",\". QUE SE FINANCIA A MAS DE 120 DIAS\")","v":{"$error":"#DIV/0!"}},{"$f":"IF(C144=0,\"\",\" A 150 DIAS\")","v":{"$error":"#DIV/0!"}},{"$f":"ROUND(+VISUAL!B212,2)","v":{"$error":"#DIV/0!"}},{"$nulls":3},{"$error":"#DIV/0!"}]
[{"$f":"CONCATENATE(A138,A139,E139,G139,B139,B140,A140,E140,G140,A141,E141,G141,B141,B142,A142,E142,G142,A143,E143,G143,A144)","v":{"$error":"#DIV/0!"}},null,{"$f":"ROUND(+VISUAL!B213,2)","v":{"v":0,"d":"0.00"}}]
["LA EMPRESA COMPRA",{"$nulls":4},{"$f":"IF(C153=0,\"\",C153*100)","v":""}]
[{"$f":"IF(E147=\"\",\"\",\" EL \")","v":""},{"$f":"IF(C147=0,\"\",\" DE CONTADO,\")","v":""},{"$f":"ROUND(+VISUAL!C207,2)","v":{"v":0,"d":"0.00"}},{"$f":"IF(C139>C147,\"LA EMPRESA SE VE BENEFICIADA AL TENER MAYOR LIQUIDEZ\",\"LA EMPRESA DEBE TENER PRESENTE LA CARTERA PARA QUE EL FLUJO DE EFECTIVO NO SE AFECTE\")","v":{"$error":"#DIV/0!"}},{"$f":"IF(C147=0,\"\",C147*100)","v":""},{"$f":"IF(C154=0,\"\",C154*100)","v":""},{"$f":"IF(C147=0,\"\",\"% \" )","v":""}]
[{"$f":"IF(E148=\"\",\"\",\" EL \")","v":""},{"$f":"IF(C148=0,\"\",\" A 30 DIAS\")","v":""},{"$f":"ROUND(+VISUAL!C208,2)","v":{"v":0,"d":"0.00"}},null,{"$f":"IF(C148=0,\"\",C148*100)","v":""},{"$f":"IF(C155=0,\"\",C155*100)","v":""},{"$f":"IF(C148=0,\"\",\"% \" )","v":""}]
[{"$f":"IF(E149=\"\",\"\",\", EL \")","v":""},{"$f":"IF(C149=0,\"\",\" A 60 DIAS\")","v":""},{"$f":"ROUND(+VISUAL!C209,2)","v":{"v":0,"d":"0.00"}},null,{"$f":"IF(C149=0,\"\",C149*100)","v":""},{"$f":"IF(C156=0,\"\",C156*100)","v":{"v":1300,"d":"1,300.00"}},{"$f":"IF(C149=0,\"\",\"% \" )","v":""}]
[{"$f":"IF(E150=\"\",\"\",\" EL \")","v":""},{"$f":"IF(C150=0,\"\",\", Y A 90 DIAS\")","v":""},{"$f":"ROUND(+VISUAL!C210,2)","v":{"v":0,"d":"0.00"}},null,{"$f":"IF((C150+C151)=0,\"\",C150*100+C151*100)","v":""},null,{"$f":"IF(C150=0,\"\",\"% \" )","v":""}]
[null,{"$f":"IF(C151=0,\"\",\" A 120 DIAS\")","v":""}]
[null,{"$f":"IF(C152=0,\"\",\" A 150 DIAS\")","v":""}]
[{"$f":"CONCATENATE(A146,A147,E147,G147,B147,B148,A148,E148,G148,A149,E149,G149,B149,B150,A150,E150,G150,D147)","v":{"$error":"#DIV/0!"}}]
["EL PROYECTO PRESENTA SU ",{"$f":"+MIN(VISUAL!B259:N259)","v":{"v":0,"d":"0.00"}},{"$f":"MAX(VISUAL!B259:N259)","v":{"v":0,"d":"0.00"}}]
[{"$f":"UPPER(IF(B154>0,\"menor superavit \",\"mayor deficit \"))","v":"MAYOR DEFICIT "}," EN EL MES ",{"$f":"+B156-1","v":{"v":0,"d":"0.00"}}]
[". EL CUAL SE RECOMIENDA SE AJUSTE DESDE LA INVERSIÓN INICIAL.",{"$f":"MATCH(B154,VISUAL!B259:N259,-1)","v":{"v":1,"d":"1.00"}},{"$f":"MATCH(C154,VISUAL!B259:O259,1)","v":{"v":13,"d":"13.00"}}]
[" POR VALOR DE "]
[", ES NECESARIO QUE SE DESCUENTE DEL VALOR DE LOS INVENTARIOS, EN CASO DE SER REQUERIDOS. "]
["CON ESTE VALOR EL PROYECTO ",{"$f":"IF(B156=1,\"AL INICIO DEL PROYECTO \",CONCATENATE(B155,C155))","v":"AL INICIO DEL PROYECTO "}]
[{"$f":"UPPER(IF(B154<0,\" no posee viabilidad \",\"es viable.\"))","v":"ES VIABLE."}]
[{"$f":"CONCATENATE(A154,A155,B159,A157,DOLLAR(B154,0),A158,A159,A160,C161)","v":{"$error":"#DIV/0!"}},{"$f":"+B154/B1*100","v":{"$error":"#DIV/0!"}},{"$f":"IF(B161>7,\" PERO SE CONSIDERA QUE EL VALOR EN CAJA ES EXCESIVO, SE SUGIERE REDUCIR LA INVERSIÓN INICIAL DE CAPITAL DE TRABAJO\",IF(B161<2,\" ES CONVENIENTE QUE SE ESTIME UN POCO MAS DE CAPITAL DE TRABAJO PARA CUBRIR EVENTUALIDADES\",\"\"))","v":{"$error":"#DIV/0!"}}]
[]
["DETERMINACION DE LA VIABILIDAD FINANCIERA DEL PROYECTO: "]
["EL PROYECTO POSEE UNA INVERSIÓN DE ",{"$f":"-C164","v":{"v":0,"d":"0.00"}},{"$f":"+VISUAL!B293","v":{"v":0,"d":"0.00"}}]
[". AL PRIMER AÑO DE OPERACIÓN ARROJA UN FLUJO DE EFECTIVO DE ",{"$f":"+VISUAL!B303","v":{"v":0,"d":"0.00"}},{"$f":"ROUND(+B165/1000000,2)","v":{"v":0,"d":"0.00"}}," MILLONES, "]
["PARA EL SEGUNDO AÑO, EL VALOR ES DE ",{"$f":"+VISUAL!C303","v":{"v":0,"d":"0.00"}},{"$f":"ROUND(+B166/1000000,2)","v":{"v":0,"d":"0.00"}}," MM "]
["Y PARA EL TERCERO DE ",{"$f":"+VISUAL!D303","v":{"v":0,"d":"0.00"}},{"$f":"ROUND(+B167/1000000,2)","v":{"v":0,"d":"0.00"}}," MM. "]
["LA VIABILIDAD FINANCIERA SE DETERMINA A TRAVÉS DE TRES INDICADORES, EL PRIMERO DE ELLOS ES LA TASA INTERNA DE RETORNO O TIR LA CUAL ES DE ",{"$f":"IRR(B164:B167)","v":{"$error":"#NUM!"}},{"$f":"+B168*100","v":{"$error":"#NUM!"}},{"$f":"IF(C168>100,1,IF(C168>30,2,IF(C168>12,3,4)))","v":{"$error":"#NUM!"}},{"v":1,"d":"1.00"},"ESTA RENTABILIDAD SE CONSIDERA MUY ALTA, SE RECOMIENDA QUE SE REVISEN LAS CIFRAS DE VENTAS Y COSTOS, O SE JUSTIFIQUE SU VALOR."]
[". SE INTERPRETA COMO: EL PROYECTO ARROJA UNA RENTABILIDAD DEL ",{"$f":"NPV(C169,B165:B167)-C164","v":{"v":0,"d":"0.00"}},{"$f":"+'datos de entrada'!C408","v":{"v":0,"d":"0.00"}},null,{"v":2,"d":"2.00"},"SE CONSIDERA ALTA, ES CONVENIENTE JUSTIFICARLA."]
["PROMEDIO ANUAL. ",{"$f":"ROUND(+B169/1000000,0)","v":{"v":0,"d":"0.00"}}," MILLONES",null,{"v":3,"d":"3.00"},"ESTA DENTRO DE LOS PARAMETROS DE LOS PROYECTOS."]
[{"$f":"CONCATENATE(A164,DOLLAR(C164,0),A165,C165,D165,A166,C166,D166,A167,C167,D167,A168,ROUND(C168,2),G139,A169,ROUND(C168,2),G139,A170,VLOOKUP(D168,E168:F171,2,FALSE))","v":{"$error":"#NUM!"}},{"$nulls":3},{"v":4,"d":"4.00"},"SE CONSIDERA MUY BAJA, POR LO QUE SE SUGIERE REVISAR LAS PROYECCIONES DE VENTA"]
["EL SEGUNDO INDICADOR ES EL VALOR PRESENTE NETO, PARA SU CALCULO ES NECESARIO LA TASA DE DESCUENTO O TASA DE INTERES DE OPORTUNIDAD QUE SE SOLICITO EN LA ENTRADA DE DATOS, (OTROS PARAMETROS), DONDE USTED DIGITO EL ",{"$f":"+C169*100","v":{"v":0,"d":"0.00"}},"%",null,{"v":1,"d":"1.00"}," ADICIONALES AL INVERTIR LOS RECURSOS EN ESTE PROYECTO QUE EN UNO QUE RENTE, EL ",", POR LO TANTO SE SUGIERE CONTINUAR CON EL PROYECTO."]
[", EL VALOR ARROJADO DEL CALCULO ES ",null,{"$f":"IF(B170>1,1,IF(B170=0,2,IF(B170<1,3,\"\")))","v":{"v":2,"d":"2.00"}},null,{"v":2,"d":"2.00"}," , ES INDIFERENTE INVERTIR LOS RECURSOS EN ESTE PROYECTO O EN CUALQUIERA QUE RENTE EL ",", PUEDE CONTINUAR O ABANDONAR."]
[". SE INTERPRETA COMO: EL PROYECTO ARROJA ",{"$nulls":3},{"v":3,"d":"3.00"}," MENOS AL INVERTIR LOS RECURSOS EN ESTE PROYECTO QUE EN UNO QUE RENTE EL ",", POR LO TANTO SE SUGIERE ABANDONAR EL PROYECTO."]
[{"$f":"VLOOKUP(C173,E172:F174,2,FALSE)","v":" , ES INDIFERENTE INVERTIR LOS RECURSOS EN ESTE PROYECTO O EN CUALQUIERA QUE RENTE EL "}]
[" ANUAL"]
[{"$f":"VLOOKUP(C173,E172:G174,3,FALSE)","v":", PUEDE CONTINUAR O ABANDONAR."}]
[]
[{"$f":"CONCATENATE(A172,B172,C172,A173,DOLLAR(B169,0),A174,ROUND(B169/1000000,0),C170,A175,B172,C172,A176,A177)","v":"EL SEGUNDO INDICADOR ES EL VALOR PRESENTE NETO, PARA SU CALCULO ES NECESARIO LA TASA DE DESCUENTO O TASA DE INTERES DE OPORTUNIDAD QUE SE SOLICITO EN LA ENTRADA DE DATOS, (OTROS PARAMETROS), DONDE USTED DIGITO EL 0%, EL VALOR ARROJADO DEL CALCULO ES 0 €. SE INTERPRETA COMO: EL PROYECTO ARROJA 0 MILLONES , ES INDIFERENTE INVERTIR LOS RECURSOS EN ESTE PROYECTO O EN CUALQUIERA QUE RENTE EL 0% ANUAL, PUEDE CONTINUAR O ABANDONAR."}]
[]
["EL TERCER INDICADOR DE VIABILIDAD FINANCIERA ES EL PERIODO DE RECUPERACIÓN DE LA INVERSIÓN O PRI. "]
["SE CALCULA CON EL ESTADO DE RESULTADOS SUMANDO LAS UTILIDADES Y RESTANDO LA INVERSIÓN HASTA OBTENER CERO. "]
["LA INVERSIÓN ES DE ",{"$f":"+C164","v":{"v":0,"d":"0.00"}}]
[". LA UTILIDAD DEL PRIMER PERIODO ES DE ",{"$f":"+VISUAL!C179","v":{"v":0,"d":"0.00"}},{"$f":"IF(B184-B183>0,\"SUPERIOR\",\"INFERIOR\")","v":"INFERIOR"},{"v":1,"d":"1.00"}," LA INVERSIÓN SE RECUPERA EN EL PRIMER AÑO.",". COMO LA UTILIDAD DEL PRIMER PERIODO ES SUPERIOR,  SE PUEDE AFIRMAR QUE "]
["LA DIFERENCIA ES ",{"$f":"+VISUAL!D179","v":{"v":0,"d":"0.00"}},{"$f":"IF(B185+B184-B183>0,\"SUPERIOR\",\"INFERIOR\")","v":"INFERIOR"},{"v":2,"d":"2.00"}," LA INVERSIÓN SE RECUPERA EN EL SEGUNDO AÑO.",". COMO LA SUMA DE LAS UTILIDADES DEL PRIMER Y SEGUNDO PERIODO ES SUPERIOR, SE PUEDE DECIR QUE "]
[null,{"$f":"+VISUAL!E179","v":{"v":0,"d":"0.00"}},{"$f":"IF(B186+B185+B184-B183>0,\"superior\",\"inferior\")","v":"inferior"},{"v":3,"d":"3.00"}," LA INVERSIÓN SE RECUPERA EN EL TERCER AÑO.",". COMO LA SUMA DE LAS UTILIDADES DE LOS TRES AÑOS ES SUPERIOR SE AFIRMA QUE "]
[null,null,{"$f":"IF(C184=\"superior\",1,IF(C185=\"superior\",2,IF(C186=\"superior\",3,4)))","v":{"v":4,"d":"4.00"}},{"v":4,"d":"4.00"}," EL PROYECTO REQUIERE MAS DE TRES AÑOS PARA RECUPERAR LA INVERSIÓN,",". COMO LA SUMA DE LAS UTILIDADES DE LOS TRES AÑOS ES INFERIOR A ESTA CIFRA SE ASEVERA"]
[{"$f":"CONCATENATE(A181,A182,A183,DOLLAR(B183,0),VLOOKUP(C187,D184:F187,3,FALSE),VLOOKUP(C187,D184:E187,2,FALSE))","v":"EL TERCER INDICADOR DE VIABILIDAD FINANCIERA ES EL PERIODO DE RECUPERACIÓN DE LA INVERSIÓN O PRI. SE CALCULA CON EL ESTADO DE RESULTADOS SUMANDO LAS UTILIDADES Y RESTANDO LA INVERSIÓN HASTA OBTENER CERO. LA INVERSIÓN ES DE 0 €. COMO LA SUMA DE LAS UTILIDADES DE LOS TRES AÑOS ES INFERIOR A ESTA CIFRA SE ASEVERA EL PROYECTO REQUIERE MAS DE TRES AÑOS PARA RECUPERAR LA INVERSIÓN,"}]
[]
["El balance general proyectado se analiza basicamente con dos indicadores, el primero de ellos es la razon de liquidez.  Este indicador es una buena medida de la capacidad de pago de la empresa en el corto plazo. Entre \"más líquido\" sea el Activo Corriente más significativo es su resultado. Para su análisis debe tenerse en cuenta la calidad y el carácter de los Activos Corrientes, en términos de su facilidad de conversión en dinero y las fechas de vencimiento de las obligaciones en el pasivo corriente. ",null,"AÑO 0","AÑO 1","AÑO 2","AÑO 3"]
["al terminar el primer año, para el proyecto se concluye que por cada peso de pasivo corriente que debe, la empresa tiene ","razon corriente",{"$f":"IF(VISUAL!B330=0,0,+VISUAL!B319/VISUAL!B330)","v":{"v":0,"d":"0.00"}},{"$f":"IF(VISUAL!C330=0,0,+VISUAL!C319/VISUAL!C330)","v":{"v":0,"d":"0.00"}},{"$f":"IF(VISUAL!D330=0,0,+VISUAL!D319/VISUAL!D330)","v":{"v":0,"d":"0.00"}},{"$f":"IF(VISUAL!E330=0,0,+VISUAL!E319/VISUAL!E330)","v":{"v":0,"d":"0.00"}}]
[" pesos de activo líquido  corriente para cubrirlo.   Se considera que una razón corriente ideal es superior a  2.5  a 1, es decir, que por cada peso que se adeuda en el corto plazo se tienen dos y medio pesos como respaldo. ","Nivel de endeudamiento",{"$f":"+VISUAL!B330/VISUAL!B324","v":{"$error":"#DIV/0!"}},{"$f":"+VISUAL!C330/VISUAL!C324","v":{"$error":"#DIV/0!"}},{"$f":"+VISUAL!D330/VISUAL!D324","v":{"$error":"#DIV/0!"}},{"$f":"+VISUAL!E330/VISUAL!E324","v":{"$error":"#DIV/0!"}}]
["el segundo indicador  ayuda a determinar la capacidad que tiene la empresa para cubrir sus obligaciones con terceros a corto y largo plazo. se le denomina nivel de endeudamiento. Es importante conocer la discriminación del pasivo total. Una empresa puede tener un endeudamiento alto, pero si la mayor parte de éste es a largo plazo ella no  tendrá las dificultades que ha de suponer un indicador alto. ",null,{"$f":"CONCATENATE(\"EN EL AÑO \",C187)","v":"EN EL AÑO 4"}]
["Una empresa que tenga una buena rotación de sus activos  corrientes puede tolerar un endeudamiento mayor que otra cuya rotación sea menor. "]
[" El "]
[" de los activos están respaldados  con recursos de los acreedores, Se considera que un nivel de endeudamiento del 60% es manejable, un endeudamiento menor muestra una empresa en capacidad de contraer más obligaciones, mientras que un endeudamiento mayor muestra una empresa a la que se le puede dificultar la consecución de más financiamiento. "]
[{"$f":"UPPER(A190)","v":"EL BALANCE GENERAL PROYECTADO SE ANALIZA BASICAMENTE CON DOS INDICADORES, EL PRIMERO DE ELLOS ES LA RAZON DE LIQUIDEZ.  ESTE INDICADOR ES UNA BUENA MEDIDA DE LA CAPACIDAD DE PAGO DE LA EMPRESA EN EL CORTO PLAZO. ENTRE \"MÁS LÍQUIDO\" SEA EL ACTIVO CORRIENTE MÁS SIGNIFICATIVO ES SU RESULTADO. PARA SU ANÁLISIS DEBE TENERSE EN CUENTA LA CALIDAD Y EL CARÁCTER DE LOS ACTIVOS CORRIENTES, EN TÉRMINOS DE SU FACILIDAD DE CONVERSIÓN EN DINERO Y LAS FECHAS DE VENCIMIENTO DE LAS OBLIGACIONES EN EL PASIVO CORRIENTE. "},null,{"v":1,"d":"1.00"},"UN NIVEL DE ENDEUDAMIENTO ALTO ","LO CUAL SE CONSIDERA DESFAVORABLE PARA SU OPERACIÓN Y VIABILIDAD",{"v":0.6,"d":"0.60"}]
[{"$f":"UPPER(CONCATENATE(A191,DOLLAR(D191,2),A192))","v":"AL TERMINAR EL PRIMER AÑO, PARA EL PROYECTO SE CONCLUYE QUE POR CADA PESO DE PASIVO CORRIENTE QUE DEBE, LA EMPRESA TIENE 0,00 € PESOS DE ACTIVO LÍQUIDO  CORRIENTE PARA CUBRIRLO.   SE CONSIDERA QUE UNA RAZÓN CORRIENTE IDEAL ES SUPERIOR A  2.5  A 1, ES DECIR, QUE POR CADA PESO QUE SE ADEUDA EN EL CORTO PLAZO SE TIENEN DOS Y MEDIO PESOS COMO RESPALDO. "},{"$f":"IF(C192>F197,1,IF(C192>F198,2,IF(C192>F199,3,IF(C192>F200,3,IF(C192=F200,4,\"\")))))","v":{"$error":"#DIV/0!"}},{"v":2,"d":"2.00"},"UN NIVEL DE ENDEUDAMIENTO ACEPTABLE ","LO CUAL SE CONSIDERA FAVORABLE PARA SU OPERACIÓN Y VIABILIDAD",{"v":0.5,"d":"0.50"}]
[{"$f":"UPPER(A193)","v":"EL SEGUNDO INDICADOR  AYUDA A DETERMINAR LA CAPACIDAD QUE TIENE LA EMPRESA PARA CUBRIR SUS OBLIGACIONES CON TERCEROS A CORTO Y LARGO PLAZO. SE LE DENOMINA NIVEL DE ENDEUDAMIENTO. ES IMPORTANTE CONOCER LA DISCRIMINACIÓN DEL PASIVO TOTAL. UNA EMPRESA PUEDE TENER UN ENDEUDAMIENTO ALTO, PERO SI LA MAYOR PARTE DE ÉSTE ES A LARGO PLAZO ELLA NO  TENDRÁ LAS DIFICULTADES QUE HA DE SUPONER UN INDICADOR ALTO. "},null,{"v":3,"d":"3.00"},"UN NIVEL DE ENDEUDAMIENTO BAJO ","LO CUAL SE CONSIDERA MUY FAVORABLE PARA SU OPERACIÓN Y VIABILIDAD",{"v":0.3,"d":"0.30"}]
[{"$f":"CONCATENATE(A203,VLOOKUP(B198,C197:E200,2,FALSE),VLOOKUP(B198,C197:E200,3,FALSE))","v":{"$error":"#DIV/0!"}},null,{"v":4,"d":"4.00"}," QUE NO POSEE NIVEL DE ENDEUDAMIENTO ","LO CUAL SE CONSIDERA FAVORABLE PARA SU OPERACIÓN Y VIABILIDAD",{"v":0,"d":"0.00"}]
[{"$f":"UPPER(CONCATENATE(\"al terminar el primer año, \",A195,ROUND(D192*100,2),\"% \",A196))","v":{"$error":"#DIV/0!"}}]
[{"$f":"UPPER(A204)","v":"EN LAS GRAFICAS SE PUEDE VISUALIZAR LA EVOLUCION DE LOS DOS INDICADORES, LO IDEAL ES QUE LA RAZON CORRIENTE SUBA, Y EL NIVEL DE ENDEUDAMIENTO DISMINUYA. "}]
["EN EL MOMENTO DE ARRANQUE DE LA EMPRESA SE OBSERVA "]
["en las graficas se puede visualizar la evolucion de los dos indicadores, lo ideal es que la razon corriente suba, y el nivel de endeudamiento disminuya. "]
[{"$nulls":4},{"v":1,"d":"1.00"},"EL PROYECTO SE FINANCIA 100% CON RECURSOS PROPIOS"]
[{"$nulls":4},{"v":2,"d":"2.00"},"SE ADQUIEREN CREDITOS POR VALOR DE "]
[{"$f":"IF($C$207=0,B207,CONCATENATE(B207,B208,VLOOKUP(D209,E207:F209,2,FALSE)))","v":"EL PROYECTO SE FINANCIA 100% CON RECURSOS PROPIOS"},{"$f":"IF(C207=0,F205,F206)","v":"EL PROYECTO SE FINANCIA 100% CON RECURSOS PROPIOS"},{"$f":"+VISUAL!B327","v":{"v":0,"d":"0.00"}},"100% AF",{"v":3,"d":"3.00"},{"$f":"IF($B$209=1,\" SE DESTINA EL 100% DE LOS RECURSOS EXTERNOS PARA ADQUISICION DE ACTIVOS FIJOS\", \"\")","v":{"$error":"#DIV/0!"}},{"$f":"IF($B$209=1,CONCATENATE(\" A UNA TASA DEL \",ROUND(B211*100,2),\"% ANUAL \"),\"\")","v":{"$error":"#DIV/0!"}},{"$f":"IF($B$209=1,CONCATENATE(\" Y UN PLAZO DE \",C210,\" MESES\"),\"\")","v":{"$error":"#DIV/0!"}}]
[null,{"$f":"IF(C207>0,DOLLAR(C207,0),\"\")","v":""},{"$f":"+VISUAL!B346","v":{"v":0,"d":"0.00"}},"100 KW",{"v":4,"d":"4.00"},{"$f":"IF($B$210=1,\" SE DESTINA EL 100% DE LOS RECURSOS EXTERNOS PARA FINANCIAR EL CAPITAL DE TRABAJO\", \"\")","v":{"$error":"#DIV/0!"}},{"$f":"IF($B$210=1,CONCATENATE(\" A UNA TASA DEL \",ROUND(B212*100,2),\"% ANUAL \",\"\"))","v":{"$error":"#DIV/0!"}},{"$f":"IF($B$210=1,CONCATENATE(\" Y UN PLAZO DE \",C212,\" MESES\"),\"\")","v":{"$error":"#DIV/0!"}}]
[null,{"$f":"+C208/C207","v":{"$error":"#DIV/0!"}},{"$f":"+VISUAL!C346","v":{"v":0,"d":"0.00"}},{"$f":"IF(B209=1,3,IF(B210=1,4,5))","v":{"$error":"#DIV/0!"}},{"v":5,"d":"5.00"},{"$f":"CONCATENATE(F211,G211,H211,I211)","v":{"$error":"#DIV/0!"}},{"$f":"CONCATENATE(F212,G212,H212,I212,J212)","v":"A TASAS DEL 0% Y DEL 0% RESPECTIVAMENTE"},{"$f":"CONCATENATE(F213,G213,H213,I213,J213)","v":" Y PLAZOS DE 0 MESES PARA ACTIVOS FIJOS Y 0 MESES PARA CAPITAL DE TRABAJO"}]
[null,{"$f":"+C209/C207","v":{"$error":"#DIV/0!"}},{"$nulls":3},"PARA CAPITAL DE TRABAJO"]
[{"$f":"IF($C$207=0,\"\",CONCATENATE(VLOOKUP(D209,E207:H209,3,FALSE),VLOOKUP(D209,E207:H209,4,FALSE)))","v":""},{"$f":"+VISUAL!B349","v":{"v":0,"d":"0.00"}},{"$f":"+VISUAL!B347","v":{"v":0,"d":"0.00"}},null,null," PARA ADQUISICION DE ACTIVOS FIJOS SE DESTINA EL ",{"$f":"CONCATENATE(+ROUND(B209*100,2),\"%\")","v":{"$error":"#DIV/0!"}}," Y PARA CAPITAL DE TRABAJO EL ",{"$f":"CONCATENATE(+ROUND(B210*100,2),\"%\")","v":{"$error":"#DIV/0!"}}]
[null,{"$f":"+VISUAL!C349","v":{"v":0,"d":"0.00"}},{"$f":"+VISUAL!C347","v":{"v":0,"d":"0.00"}},null,null,"A TASAS DEL ",{"$f":"CONCATENATE(+ROUND(B211*100,2),\"%\")","v":"0%"}," Y DEL ",{"$f":"CONCATENATE(+ROUND(B212*100,2),\"%\")","v":"0%"}," RESPECTIVAMENTE"]
[{"$nulls":5}," Y PLAZOS DE ",{"$f":"CONCATENATE(C211,\" MESES\")","v":"0 MESES"}," PARA ACTIVOS FIJOS Y ",{"$f":"CONCATENATE(C212,\" MESES\")","v":"0 MESES"}," PARA CAPITAL DE TRABAJO"]
[]
[]
[]
[]
[]
[null,null,"=+VISUAL!B327"]
[null,null,"=+VISUAL!B346"]
[null,null,"=+VISUAL!C346"]